{"text_format":"1","workbook":"xlsx","n_sheets":9,"sheets":["mode utilisation","resultat","tirage","22 eq","16_40 eq","42_64 eq","66_128 eq","tableau","copie_tira"],"not_rendered":{"charts":0,"images":1,"macros":1,"external_links":0,"defined_names":3,"comments":0,"pivot_tables":0},"unopened":[],"bounds":{"document_bytes":16777216,"sheet_cells":100000,"rows_first":2000,"rows_last":500,"rows_between":2000,"halvings":0,"cell_chars":16384,"cell_head_chars":4096},"cells_cut":0,"cells_raw":0,"read":"whole","date_system":"1900"}

{"sheet":"mode utilisation","index":0,"n_rows":29,"n_cols":8,"rows_kept":29,"cut":false,"hidden":false,"merged":[]}
[]
[]
[]
[]
[]
[]
[]
[]
[]
[]
[]
[]
[]
[]
[]
[]
[]
[]
[]
[]
[]
[]
[]
[]
[]
[]
[]
[]
[null,null,null,null,null,null,null,"Veuillez patienter  pendant   la copie des résultats  vers  le  tableau  final "]

{"sheet":"resultat","index":1,"n_rows":300,"n_cols":54,"rows_kept":300,"cut":false,"hidden":false,"merged":[[0,25,0,29]]}
[null,1,"Julot",6,13,null,null,null,null,null,null,null,null,null,null,{"$f":"(D1+F1+H1+J1+L1+N1)-(E1+G1+I1+K1+M1+O1)","v":-7},{"$f":"COUNTIF(D1,13)+COUNTIF(F1,13)+COUNTIF(H1,13)+COUNTIF(J1,13)+COUNTIF(L1,13)+COUNTIF(N1,13)","v":0},{"$f":"P130","v":0},null,null,null,null,null,null,null,"CLASSEMENT FINAL",null,null,null,null,null,null,null,null,"Nb eq 1er tableau",null,null,1,"Julot",null,null,null,null,null,null,null,null,null,null,1,4,"Denise",1,3]
[null,{"$f":"B1+1","v":2},"Francis",6,13,null,null,null,null,null,null,null,null,null,null,-7,0,null,null,null,null,null,null,null,null,null,"N° eq","Nom équipes","Parties gagnées","Goal average",null,null,{"$f":"tirage!G4","v":40},null,128,null,null,2,"Francis",null,null,null,null,null,null,null,null,null,null,2,5,"yvon",1,3]
[null,{"$f":"B2+1","v":3},"marco",13,6,null,null,null,null,null,null,null,null,null,null,7,1,null,null,null,null,null,null,null,null,1,1,{"$f":"INDIRECT(\"c1\")","v":"Julot"},{"$f":"INDIRECT(\"q1\")","v":0},{"$f":"INDIRECT(\"p1\")","v":-7},null,null,null,null,"Nb eq 2è tableau",null,null,3,"marco",null,null,null,null,null,null,null,null,null,null,3,6,"jacques",1,3]
[null,4,"Denise",13,6,null,null,null,null,null,null,null,null,null,null,7,1,null,null,null,null,null,null,null,null,2,2,{"$f":"INDIRECT(\"c2\")","v":"Francis"},{"$f":"INDIRECT(\"q2\")","v":0},{"$f":"INDIRECT(\"p2\")","v":-7},null,null,null,null,128,null,null,4,"Denise",null,null,null,null,null,null,null,null,null,null,4,8,"Marcel",1,3]
[null,5,"yvon",6,13,null,null,null,null,null,null,null,null,null,null,-7,0,null,null,null,null,null,null,null,null,3,3,{"$f":"INDIRECT(\"c3\")","v":"marco"},{"$f":"INDIRECT(\"q3\")","v":1},{"$f":"INDIRECT(\"p3\")","v":7},null,null,null,null,{"$f":"AI2+AI4","v":256},null,null,5,"yvon",null,null,null,null,null,null,null,null,null,null,5,9,"Sébastien",1,3]
[null,6,"jacques",13,6,null,null,null,null,null,null,null,null,null,null,7,1,null,null,null,null,null,null,null,null,4,4,{"$f":"INDIRECT(\"c4\")","v":"Denise"},{"$f":"INDIRECT(\"q4\")","v":1},{"$f":"INDIRECT(\"p4\")","v":7},null,null,null,null,null,null,null,6,"jacques",null,null,null,null,null,null,null,null,null,null,6,10,"Florian",1,3]
[null,7,"Pierre",13,6,null,null,null,null,null,null,null,null,null,null,7,1,null,null,null,null,null,null,null,null,5,5,{"$f":"INDIRECT(\"c5\")","v":"yvon"},{"$f":"INDIRECT(\"q5\")","v":0},{"$f":"INDIRECT(\"p5\")","v":-7},null,null,null,null,null,null,null,7,"Pierre",null,null,null,null,null,null,null,null,null,null,7,11,"Eric / Yvonnick",1,3]
[null,8,"Marcel",13,6,null,null,null,null,null,null,null,null,null,null,7,1,{"$f":"D130","v":40},null,null,null,null,null,null,null,6,6,{"$f":"INDIRECT(\"c6\")","v":"jacques"},{"$f":"INDIRECT(\"q6\")","v":1},{"$f":"INDIRECT(\"p6\")","v":7},null,null,null,null,null,null,null,8,"Marcel",null,null,null,null,null,null,null,null,null,null,8,13,"L'archi / Jean-Pierre",1,3]
[null,9,"Sébastien",6,13,null,null,null,null,null,null,null,null,null,null,-7,0,null,null,null,null,null,null,null,null,7,7,{"$f":"INDIRECT(\"c7\")","v":"Pierre"},{"$f":"INDIRECT(\"q7\")","v":1},{"$f":"INDIRECT(\"p7\")","v":7},null,null,null,null,null,null,null,9,"Sébastien",null,null,null,null,null,null,null,null,null,null,9,20,"Fanfan / Jonathan",1,3]
[null,10,"Florian",13,6,null,null,null,null,null,null,null,null,null,null,7,1,null,null,null,null,null,null,null,null,8,8,{"$f":"INDIRECT(\"c8\")","v":"Marcel"},{"$f":"INDIRECT(\"q8\")","v":1},{"$f":"INDIRECT(\"p8\")","v":7},null,null,null,null,null,null,null,10,"Florian",null,null,null,null,null,null,null,null,null,null,10,22,"Landry / Martial",0,0]
[null,11,"Eric / Yvonnick",13,6,null,null,null,null,null,null,null,null,null,null,7,1,null,null,null,null,null,null,null,null,9,9,{"$f":"INDIRECT(\"c9\")","v":"Sébastien"},{"$f":"INDIRECT(\"q9\")","v":0},{"$f":"INDIRECT(\"p9\")","v":-7},null,null,null,null,null,null,null,11,"Eric / Yvonnick",null,null,null,null,null,null,null,null,null,null,11,23,"Mickaël / Freddy",0,0]
[null,12,"Alain / Joël",13,6,null,null,null,null,null,null,null,null,null,null,7,1,null,null,null,null,null,null,null,null,10,10,{"$f":"INDIRECT(\"c10\")","v":"Florian"},{"$f":"INDIRECT(\"q10\")","v":1},{"$f":"INDIRECT(\"p10\")","v":7},null,null,null,null,null,null,null,12,"Alain / Joël",null,null,null,null,null,null,null,null,null,null,12,24,"Jacques / Michel",0,0]
[null,13,"L'archi / Jean-Pierre",13,6,null,null,null,null,null,null,null,null,null,null,7,1,null,null,null,null,null,null,null,null,11,11,{"$f":"INDIRECT(\"c11\")","v":"Eric / Yvonnick"},{"$f":"INDIRECT(\"q11\")","v":1},{"$f":"INDIRECT(\"p11\")","v":7},null,null,null,null,null,null,null,13,"L'archi / Jean-Pierre",null,null,null,null,null,null,null,null,null,null,13,25,"Aurélien / Didier",0,0]
[null,14,"Alain / Christophe",13,6,null,null,null,null,null,null,null,null,null,null,7,1,null,null,null,null,null,null,null,null,12,12,{"$f":"INDIRECT(\"c12\")","v":"Alain / Joël"},{"$f":"INDIRECT(\"q12\")","v":1},{"$f":"INDIRECT(\"p12\")","v":7},null,null,null,null,null,null,null,14,"Alain / Christophe",null,null,null,null,null,null,null,null,null,null,14,26,"Thierry / Damien",0,0]
[null,15,"Ben / Jimmy",13,6,null,null,null,null,null,null,null,null,null,null,7,1,null,null,null,null,null,null,null,null,13,13,{"$f":"INDIRECT(\"c13\")","v":"L'archi / Jean-Pierre"},{"$f":"INDIRECT(\"q13\")","v":1},{"$f":"INDIRECT(\"p13\")","v":7},null,null,null,null,null,null,null,15,"Ben / Jimmy",null,null,null,null,null,null,null,null,null,null,15,27,"Phillipe / Michel",0,0]
[null,16,"Le Suisse / Yoyo",13,6,null,null,null,null,null,null,null,null,null,null,7,1,null,null,null,null,null,null,null,null,14,14,{"$f":"INDIRECT(\"c14\")","v":"Alain / Christophe"},{"$f":"INDIRECT(\"q14\")","v":1},{"$f":"INDIRECT(\"p14\")","v":7},null,null,null,null,null,null,null,16,"Le Suisse / Yoyo",null,null,null,null,null,null,null,null,null,null,16,28,"René / Robert",0,0]
[null,17,"Laurent / Mickaël",13,6,null,null,null,null,null,null,null,null,null,null,7,1,null,null,null,null,null,null,null,null,15,15,{"$f":"INDIRECT(\"c15\")","v":"Ben / Jimmy"},{"$f":"INDIRECT(\"q15\")","v":1},{"$f":"INDIRECT(\"p15\")","v":7},null,null,null,null," ",null,null,17,"Laurent / Mickaël",null,null,null,null,null,null,null,null,null,null,17,29,"Yoann / Christian",0,0]
[null,18,"Charles/ Nénesse",6,13,null,null,null,null,null,null,null,null,null,null,-7,0,null,null,null,null,null,null,null,null,16,16,{"$f":"INDIRECT(\"c16\")","v":"Le Suisse / Yoyo"},{"$f":"INDIRECT(\"q16\")","v":1},{"$f":"INDIRECT(\"p16\")","v":7},null,null,null,null,null,null,null,18,"Charles/ Nénesse",null,null,null,null,null,null,null,null,null,null,18,30,"Patrick / Roger",0,0]
[null,19,"Sylvain / Julien",6,13,null,null,null,null,null,null,null,null,null,null,-7,0,null,null,null,null,null,null,null,null,17,17,{"$f":"INDIRECT(\"c17\")","v":"Laurent / Mickaël"},{"$f":"INDIRECT(\"q17\")","v":1},{"$f":"INDIRECT(\"p17\")","v":7},null,null,null,null,null,null,null,19,"Sylvain / Julien",null,null,null,null,null,null,null,null,null,null,19,31,"Gérard / Edouard",0,0]
[null,20,"Fanfan / Jonathan",13,6,null,null,null,null,null,null,null,null,null,null,7,1,null,null,null,null,null,null,null,null,18,18,{"$f":"INDIRECT(\"c18\")","v":"Charles/ Nénesse"},{"$f":"INDIRECT(\"q18\")","v":0},{"$f":"INDIRECT(\"p18\")","v":-7},null,null,null,null,null,null,null,20,"Fanfan / Jonathan",null,null,null,null,null,null,null,null,null,null,20,32,"Adeline / Mathieu",0,0]
[null,21,"Gégé / Eric",6,13,null,null,null,null,null,null,null,null,null,null,-7,0,null,null,null,null,null,null,null,null,19,19,{"$f":"INDIRECT(\"c19\")","v":"Sylvain / Julien"},{"$f":"INDIRECT(\"q19\")","v":0},{"$f":"INDIRECT(\"p19\")","v":-7},null,null,null,null,null,null,null,21,"Gégé / Eric",null,null,null,null,null,null,null,null,null,null,21,1,"Julot",0,-3]
[null,22,"Landry / Martial",13,6,null,null,null,null,null,null,null,null,null,null,7,1,null,null,null,null,null,null,null,null,20,20,{"$f":"INDIRECT(\"C20\")","v":"Fanfan / Jonathan"},{"$f":"INDIRECT(\"q20\")","v":1},{"$f":"INDIRECT(\"p20\")","v":7},null,null,null,null,null,null,null,22,"Landry / Martial",null,null,null,null,null,null,null,null,null,null,22,2,"Francis",0,-3]
[null,23,"Mickaël / Freddy",6,13,null,null,null,null,null,null,null,null,null,null,-7,0,null,null,null,null,null,null,null,null,21,21,{"$f":"INDIRECT(\"C21\")","v":"Gégé / Eric"},{"$f":"INDIRECT(\"q21\")","v":0},{"$f":"INDIRECT(\"p21\")","v":-7},null,null,null,null,null,null,null,23,"Mickaël / Freddy",null,null,null,null,null,null,null,null,null,null,23,3,"marco",0,-3]
[null,24,"Jacques / Michel",6,13,null,null,null,null,null,null,null,null,null,null,-7,0,null,null,null,null,null,null,null,null,22,22,{"$f":"INDIRECT(\"C22\")","v":"Landry / Martial"},{"$f":"INDIRECT(\"q22\")","v":1},{"$f":"INDIRECT(\"p22\")","v":7},null,null,null,null,null,null,null,24,"Jacques / Michel",null,null,null,null,null,null,null,null,null,null,24,7,"Pierre",0,-3]
[null,25,"Aurélien / Didier",6,13,null,null,null,null,null,null,null,null,null,null,-7,0,null,null,null,null,null,null,null,null,23,23,{"$f":"INDIRECT(\"C23\")","v":"Mickaël / Freddy"},{"$f":"INDIRECT(\"q23\")","v":0},{"$f":"INDIRECT(\"p23\")","v":-7},null,null,null,null,null,null,null,25,"Aurélien / Didier",null,null,null,null,null,null,null,null,null,null,25,12,"Alain / Joël",0,-3]
[null,26,"Thierry / Damien",6,13,null,null,null,null,null,null,null,null,null,null,-7,0,null,null,null,null,null,null,null,null,24,24,{"$f":"INDIRECT(\"C24\")","v":"Jacques / Michel"},{"$f":"INDIRECT(\"q24\")","v":0},{"$f":"INDIRECT(\"p24\")","v":-7},null,null,null,null,null,null,null,26,"Thierry / Damien",null,null,null,null,null,null,null,null,null,null,26,14,"Alain / Christophe",0,-3]
[null,27,"Phillipe / Michel",13,6,null,null,null,null,null,null,null,null,null,null,7,1,null,null,null,null,null,null,null,null,25,25,{"$f":"INDIRECT(\"C25\")","v":"Aurélien / Didier"},{"$f":"INDIRECT(\"q25\")","v":0},{"$f":"INDIRECT(\"p25\")","v":-7},null,null,null,null,null,null,null,27,"Phillipe / Michel",null,null,null,null,null,null,null,null,null,null,27,15,"Ben / Jimmy",0,-3]
[null,28,"René / Robert",6,13,null,null,null,null,null,null,null,null,null,null,-7,0,null,null,null,null,null,null,null,null,26,26,{"$f":"INDIRECT(\"C26\")","v":"Thierry / Damien"},{"$f":"INDIRECT(\"q26\")","v":0},{"$f":"INDIRECT(\"p26\")","v":-7},null,null,null,null,null,null,null,28,"René / Robert",null,null,null,null,null,null,null,null,null,null,28,16,"Le Suisse / Yoyo",0,-3]
[null,29,"Yoann / Christian",6,13,null,null,null,null,null,null,null,null,null,null,-7,0,null,null,null,null,null,null,null,null,27,27,{"$f":"INDIRECT(\"c27\")","v":"Phillipe / Michel"},{"$f":"INDIRECT(\"q27\")","v":1},{"$f":"INDIRECT(\"p27\")","v":7},null,null,null,null,null,null,null,29,"Yoann / Christian",null,null,null,null,null,null,null,null,null,null,29,17,"Laurent / Mickaël",0,-3]
[null,30,"Patrick / Roger",6,13,null,null,null,null,null,null,null,null,null,null,-7,0,null,null,null,null,null,null,null,null,28,28,{"$f":"INDIRECT(\"c28\")","v":"René / Robert"},{"$f":"INDIRECT(\"q28\")","v":0},{"$f":"INDIRECT(\"p28\")","v":-7},null,null,null,null,null,null,null,30,"Patrick / Roger",null,null,null,null,null,null,null,null,null,null,30,18,"Charles/ Nénesse",0,-3]
[null,31,"Gérard / Edouard",13,6,null,null,null,null,null,null,null,null,null,null,7,1,null,null,null,null,null,null,null,null,29,29,{"$f":"INDIRECT(\"c29\")","v":"Yoann / Christian"},{"$f":"INDIRECT(\"q29\")","v":0},{"$f":"INDIRECT(\"p29\")","v":-7},null,null,null,null,null,null,null,31,"Gérard / Edouard",null,null,null,null,null,null,null,null,null,null,31,19,"Sylvain / Julien",0,-3]
[null,32,"Adeline / Mathieu",13,6,null,null,null,null,null,null,null,null,null,null,7,1,null,null,null,null,null,null,null,null,30,30,{"$f":"INDIRECT(\"c30\")","v":"Patrick / Roger"},{"$f":"INDIRECT(\"q30\")","v":0},{"$f":"INDIRECT(\"p30\")","v":-7},null,null,null,null,null,null,null,32,"Adeline / Mathieu",null,null,null,null,null,null,null,null,null,null,32,21,"Gégé / Eric",0,-3]
[null,33,"Bruno/Philippe",6,13,null,null,null,null,null,null,null,null,null,null,-7,0,null,null,null,null,null,null,null,null,31,31,{"$f":"INDIRECT(\"c31\")","v":"Gérard / Edouard"},{"$f":"INDIRECT(\"q31\")","v":1},{"$f":"INDIRECT(\"p31\")","v":7},null,null,null,null,null,null,null,33,"Bruno/Philippe"]
[null,34,"Joe/Geo",6,13,null,null,null,null,null,null,null,null,null,null,-7,0,null,null,null,null,null,null,null,null,32,32,{"$f":"INDIRECT(\"c32\")","v":"Adeline / Mathieu"},{"$f":"INDIRECT(\"q32\")","v":1},{"$f":"INDIRECT(\"p32\")","v":7},null,null,null,null,null,null,null,34,"Joe/Geo"]
[null,35,"Frères MARTIN",13,6,null,null,null,null,null,null,null,null,null,null,7,1,null,null,null,null,null,null,null,null,33,33,{"$f":"INDIRECT(\"c33\")","v":"Bruno/Philippe"},{"$f":"INDIRECT(\"q33\")","v":0},{"$f":"INDIRECT(\"p33\")","v":-7},null,null,null,null,null,null,null,35,"Frères MARTIN"]
[null,36,"Alcide/ Henri",6,13,null,null,null,null,null,null,null,null,null,null,-7,0,null,null,null,null,null,null,null,null,34,34,{"$f":"INDIRECT(\"c34\")","v":"Joe/Geo"},{"$f":"INDIRECT(\"q34\")","v":0},{"$f":"INDIRECT(\"p34\")","v":-7},null,null,null,null,null,null,null,36,"Alcide/ Henri"]
[null,37,"Clément/Charles",6,13,null,null,null,null,null,null,null,null,null,null,-7,0,null,null,null,null,null,null,null,null,35,35,{"$f":"INDIRECT(\"c35\")","v":"Frères MARTIN"},{"$f":"INDIRECT(\"q35\")","v":1},{"$f":"INDIRECT(\"p35\")","v":7},null,null,null,null,null,null,null,37,"Clément/Charles"]
[null,38,"Romain/Florian",13,6,null,null,null,null,null,null,null,null,null,null,7,1,null,null,null,null,null,null,null,null,36,36,{"$f":"INDIRECT(\"c36\")","v":"Alcide/ Henri"},{"$f":"INDIRECT(\"q36\")","v":0},{"$f":"INDIRECT(\"p36\")","v":-7},null,null,null,null,null,null,null,38,"Romain/Florian"]
[null,39,"Philippe/Nico",6,13,null,null,null,null,null,null,null,null,null,null,-7,0,null,null,null,null,null,null,null,null,37,37,{"$f":"INDIRECT(\"c37\")","v":"Clément/Charles"},{"$f":"INDIRECT(\"q37\")","v":0},{"$f":"INDIRECT(\"p37\")","v":-7},null,null,null,null,null,null,null,39,"Philippe/Nico"]
[null,40,"Vincent/François",6,13,null,null,null,null,null,null,null,null,null,null,-7,0,null,null,null,null,null,null,null,null,38,38,{"$f":"INDIRECT(\"c38\")","v":"Romain/Florian"},{"$f":"INDIRECT(\"q38\")","v":1},{"$f":"INDIRECT(\"p38\")","v":7},null,null,null,null,null,null,null,40,"Vincent/François"]
[null,41,"Jean/Etienne",null,null,null,null,null,null,null,null,null,null,null,null,0,0,null,null,null,null,null,null,null,null,39,39,{"$f":"INDIRECT(\"c39\")","v":"Philippe/Nico"},{"$f":"INDIRECT(\"q39\")","v":0},{"$f":"INDIRECT(\"p39\")","v":-7},null,null,null,null,null,null,null,41,"Jean/Etienne"]
[null,42,"Freddy/Benoit",null,null,null,null,null,null,null,null,null,null,null,null,0,0,null,null,null,null,null,null,null,null,40,40,{"$f":"INDIRECT(\"c40\")","v":"Vincent/François"},{"$f":"INDIRECT(\"q40\")","v":0},{"$f":"INDIRECT(\"p40\")","v":-7},null,null,null,null,null,null,null,42,"Freddy/Benoit"]
[null,43,"Frères ALLAIRE",null,null,null,null,null,null,null,null,null,null,null,null,0,0,null,null,null,null,null,null,null,null,41,41,{"$f":"INDIRECT(\"c41\")","v":"Jean/Etienne"},{"$f":"INDIRECT(\"q41\")","v":0},{"$f":"INDIRECT(\"p41\")","v":0},null,null,null,null,null,null,null,43,"Frères ALLAIRE"]
[null,44,"Guy/Jean BARREAU",null,null,null,null,null,null,null,null,null,null,null,null,0,0,null,null,null,null,null,null,null,null,42,42,{"$f":"INDIRECT(\"c42\")","v":"Freddy/Benoit"},{"$f":"INDIRECT(\"q42\")","v":0},{"$f":"INDIRECT(\"p42\")","v":0},null,null,null,null,null,null,null,44,"Guy/Jean BARREAU"]
[null,45,"Carl/Edouard",null,null,null,null,null,null,null,null,null,null,null,null,0,0,null,null,null,null,null,null,null,null,43,43,{"$f":"INDIRECT(\"c43\")","v":"Frères ALLAIRE"},{"$f":"INDIRECT(\"q43\")","v":0},{"$f":"INDIRECT(\"p43\")","v":0},null,null,null,null,null,null,null,45,"Carl/Edouard"]
[null,46,"Serge/Philippe",null,null,null,null,null,null,null,null,null,null,null,null,0,0,null,null,null,null,null,null,null,null,44,44,{"$f":"INDIRECT(\"c44\")","v":"Guy/Jean BARREAU"},{"$f":"INDIRECT(\"q44\")","v":0},{"$f":"INDIRECT(\"p44\")","v":0},null,null,null,null,null,null,null,46,"Serge/Philippe"]
[null,47,"Boubou",null,null,null,null,null,null,null,null,null,null,null,null,0,0,null,null,null,null,null,null,null,null,45,45,{"$f":"INDIRECT(\"c45\")","v":"Carl/Edouard"},{"$f":"INDIRECT(\"q45\")","v":0},{"$f":"INDIRECT(\"p45\")","v":0},null,null,null,null,null,null,null,47,"Boubou"]
[null,48,"Luc",null,null,null,null,null,null,null,null,null,null,null,null,0,0,null,null,null,null,null,null,null,null,46,46,{"$f":"INDIRECT(\"c46\")","v":"Serge/Philippe"},{"$f":"INDIRECT(\"q46\")","v":0},{"$f":"INDIRECT(\"p46\")","v":0},null,null,null,null,null,null,null,48,"Luc"]
[null,49,"Jacky/Olivier",null,null,null,null,null,null,null,null,null,null,null,null,0,0,null,null,null,null,null,null,null,null,47,47,{"$f":"INDIRECT(\"c47\")","v":"Boubou"},{"$f":"INDIRECT(\"q47\")","v":0},{"$f":"INDIRECT(\"p47\")","v":0},null,null,null,null,null,null,null,49,"Jacky/Olivier"]
[null,50,"Adeline / Mathieu",null,null,null,null,null,null,null,null,null,null,null,null,0,0,null,null,null,null,null,null,null,null,48,48,{"$f":"INDIRECT(\"c48\")","v":"Luc"},{"$f":"INDIRECT(\"q48\")","v":0},{"$f":"INDIRECT(\"p48\")","v":0},null,null,null,null,null,null,null,50,"Adeline / Mathieu"]
[null,51,"Mickaël / Freddy",null,null,null,null,null,null,null,null,null,null,null,null,0,0,null,null,null,null,null,null,null,null,49,49,{"$f":"INDIRECT(\"c49\")","v":"Jacky/Olivier"},{"$f":"INDIRECT(\"q49\")","v":0},{"$f":"INDIRECT(\"p49\")","v":0},null,null,null,null,null,null,null,51,"Mickaël / Freddy"]
[null,52,"Jacques / Michel",null,null,null,null,null,null,null,null,null,null,null,null,0,0,null,null,null,null,null,null,null,null,50,50,{"$f":"INDIRECT(\"c50\")","v":"Adeline / Mathieu"},{"$f":"INDIRECT(\"q50\")","v":0},{"$f":"INDIRECT(\"p50\")","v":0},null,null,null,null,null,null,null,52,"Jacques / Michel"]
[null,53,"Aurélien / Didier",null,null,null,null,null,null,null,null,null,null,null,null,0,0,null,null,null,null,null,null,null,null,51,51,{"$f":"INDIRECT(\"c51\")","v":"Mickaël / Freddy"},{"$f":"INDIRECT(\"q51\")","v":0},{"$f":"INDIRECT(\"p51\")","v":0},null,null,null,null,null,null,null,53,"Aurélien / Didier"]
[null,54,"Thierry / Damien",null,null,null,null,null,null,null,null,null,null,null,null,0,0,null,null,null,null,null,null,null,null,52,52,{"$f":"INDIRECT(\"c52\")","v":"Jacques / Michel"},{"$f":"INDIRECT(\"q52\")","v":0},{"$f":"INDIRECT(\"p52\")","v":0},null,null,null,null,null,null,null,54,"Thierry / Damien"]
[null,55,"Phillipe / Michel",null,null,null,null,null,null,null,null,null,null,null,null,0,0,null,null,null,null,null,null,null,null,53,53,{"$f":"INDIRECT(\"c53\")","v":"Aurélien / Didier"},{"$f":"INDIRECT(\"q53\")","v":0},{"$f":"INDIRECT(\"p53\")","v":0},null,null,null,null,null,null,null,55,"Phillipe / Michel"]
[null,56,"René / Robert",null,null,null,null,null,null,null,null,null,null,null,null,0,0,null,null,null,null,null,null,null,null,54,54,{"$f":"INDIRECT(\"c54\")","v":"Thierry / Damien"},{"$f":"INDIRECT(\"q54\")","v":0},{"$f":"INDIRECT(\"p54\")","v":0},null,null,null,null,null,null,null,56,"René / Robert"]
[null,57,"Julot",null,null,null,null,null,null,null,null,null,null,null,null,0,0,null,null,null,null,null,null,null,null,55,55,{"$f":"INDIRECT(\"c55\")","v":"Phillipe / Michel"},{"$f":"INDIRECT(\"q55\")","v":0},{"$f":"INDIRECT(\"p55\")","v":0},null,null,null,null,null,null,null,57,"Julot"]
[null,58,"Francis",null,null,null,null,null,null,null,null,null,null,null,null,0,0,null,null,null,null,null,null,null,null,56,56,{"$f":"INDIRECT(\"c56\")","v":"René / Robert"},{"$f":"INDIRECT(\"q56\")","v":0},{"$f":"INDIRECT(\"p56\")","v":0},null,null,null,null,null,null,null,58,"Francis"]
[null,59,"marco",null,null,null,null,null,null,null,null,null,null,null,null,0,0,null,null,null,null,null,null,null,null,57,57,{"$f":"INDIRECT(\"c57\")","v":"Julot"},{"$f":"INDIRECT(\"q57\")","v":0},{"$f":"INDIRECT(\"p57\")","v":0},null,null,null,null,null,null,null,59,"marco"]
[null,60,"Denise",null,null,null,null,null,null,null,null,null,null,null,null,0,0,null,null,null,null,null,null,null,null,58,58,{"$f":"INDIRECT(\"c58\")","v":"Francis"},{"$f":"INDIRECT(\"q58\")","v":0},{"$f":"INDIRECT(\"p58\")","v":0},null,null,null,null,null,null,null,60,"Denise"]
[null,61,"yvon",null,null,null,null,null,null,null,null,null,null,null,null,0,0,null,null,null,null,null,null,null,null,59,59,{"$f":"INDIRECT(\"c59\")","v":"marco"},{"$f":"INDIRECT(\"q59\")","v":0},{"$f":"INDIRECT(\"p59\")","v":0},null,null,null,null,null,null,null,61,"yvon"]
[null,62,"jacques",null,null,null,null,null,null,null,null,null,null,null,null,0,0,null,null,null,null,null,null,null,null,60,60,{"$f":"INDIRECT(\"c60\")","v":"Denise"},{"$f":"INDIRECT(\"q60\")","v":0},{"$f":"INDIRECT(\"p60\")","v":0},null,null,null,null,null,null,null,62,"jacques"]
[null,63,"Pierre",null,null,null,null,null,null,null,null,null,null,null,null,0,0,null,null,null,null,null,null,null,null,61,61,{"$f":"INDIRECT(\"C61\")","v":"yvon"},{"$f":"INDIRECT(\"q61\")","v":0},{"$f":"INDIRECT(\"p61\")","v":0},null,null,null,null,null,null,null,63,"Pierre"]
[null,64,"Marcel",null,null,null,null,null,null,null,null,null,null,null,null,0,0,null,null,null,null,null,null,null,null,62,62,{"$f":"INDIRECT(\"C62\")","v":"jacques"},{"$f":"INDIRECT(\"q62\")","v":0},{"$f":"INDIRECT(\"p62\")","v":0},null,null,null,null,null,null,null,64,"Marcel"]
[null,65,"Sébastien",null,null,null,null,null,null,null,null,null,null,null,null,{"$f":"(D65+F65+H65+J65+L65+N65)-(E65+G65+I65+K65+M65+O65)","v":0},{"$f":"COUNTIF(D65,13)+COUNTIF(F65,13)+COUNTIF(H65,13)+COUNTIF(J65,13)+COUNTIF(L65,13)+COUNTIF(N65,13)","v":0},null,null,null,null,null,null,null,null,63,63,{"$f":"INDIRECT(\"C63\")","v":"Pierre"},{"$f":"INDIRECT(\"q63\")","v":0},{"$f":"INDIRECT(\"p63\")","v":0},null,null,null,null,null,null,null,65,"Sébastien"]
[null,66,"Florian",null,null,null,null,null,null,null,null,null,null,null,null,0,0,null,null,null,null,null,null,null,null,64,64,{"$f":"INDIRECT(\"C64\")","v":"Marcel"},{"$f":"INDIRECT(\"q64\")","v":0},{"$f":"INDIRECT(\"p64\")","v":0},null,null,null,null,null,null,null,66,"Florian"]
[null,{"$f":"B66+1","v":67},"Eric / Yvonnick",null,null,null,null,null,null,null,null,null,null,null,null,0,0,null,null,null,null,null,null,null,null,65,65,{"$f":"INDIRECT(\"C65\")","v":"Sébastien"},{"$f":"INDIRECT(\"q65\")","v":0},{"$f":"INDIRECT(\"p65\")","v":0},null,null,null,null,null,null,null,67,"Eric / Yvonnick"]
[null,68,"Alain / Joël",null,null,null,null,null,null,null,null,null,null,null,null,0,0,null,null,null,null,null,null,null,null,66,66,{"$f":"INDIRECT(\"C66\")","v":"Florian"},{"$f":"INDIRECT(\"q66\")","v":0},{"$f":"INDIRECT(\"p66\")","v":0},null,null,null,null,null,null,null,68,"Alain / Joël"]
[null,69,"L'archi / Jean-Pierre",null,null,null,null,null,null,null,null,null,null,null,null,0,0,null,null,null,null,null,null,null,null,67,67,{"$f":"INDIRECT(\"C67\")","v":"Eric / Yvonnick"},{"$f":"INDIRECT(\"q67\")","v":0},{"$f":"INDIRECT(\"p67\")","v":0},null,null,null,null,null,null,null,69,"L'archi / Jean-Pierre"]
[null,70,"Alain / Christophe",null,null,null,null,null,null,null,null,null,null,null,null,0,0,null,null,null,null,null,null,null,null,68,68,{"$f":"INDIRECT(\"C68\")","v":"Alain / Joël"},{"$f":"INDIRECT(\"q68\")","v":0},{"$f":"INDIRECT(\"p68\")","v":0},null,null,null,null,null,null,null,70,"Alain / Christophe"]
[null,71,"Ben / Jimmy",null,null,null,null,null,null,null,null,null,null,null,null,0,0,null,null,null,null,null,null,null,null,69,69,{"$f":"INDIRECT(\"C69\")","v":"L'archi / Jean-Pierre"},{"$f":"INDIRECT(\"q69\")","v":0},{"$f":"INDIRECT(\"p69\")","v":0},null,null,null,null,null,null,null,71,"Ben / Jimmy"]
[null,72,"Le Suisse / Yoyo",null,null,null,null,null,null,null,null,null,null,null,null,0,0,null,null,null,null,null,null,null,null,70,70,{"$f":"INDIRECT(\"C70\")","v":"Alain / Christophe"},{"$f":"INDIRECT(\"q70\")","v":0},{"$f":"INDIRECT(\"p70\")","v":0},null,null,null,null,null,null,null,72,"Le Suisse / Yoyo"]
[null,73,"Laurent / Mickaël",null,null,null,null,null,null,null,null,null,null,null,null,0,0,null,null,null,null,null,null,null,null,71,71,{"$f":"INDIRECT(\"C71\")","v":"Ben / Jimmy"},{"$f":"INDIRECT(\"q71\")","v":0},{"$f":"INDIRECT(\"p71\")","v":0},null,null,null,null,null,null,null,73,"Laurent / Mickaël"]
[null,74,"Charles/ Nénesse",null,null,null,null,null,null,null,null,null,null,null,null,0,0,null,null,null,null,null,null,null,null,72,72,{"$f":"INDIRECT(\"C72\")","v":"Le Suisse / Yoyo"},{"$f":"INDIRECT(\"q72\")","v":0},{"$f":"INDIRECT(\"p72\")","v":0},null,null,null,null,null,null,null,74,"Charles/ Nénesse"]
[null,75,"Sylvain / Julien",null,null,null,null,null,null,null,null,null,null,null,null,0,0,null,null,null,null,null,null,null,null,73,73,{"$f":"INDIRECT(\"C73\")","v":"Laurent / Mickaël"},{"$f":"INDIRECT(\"q73\")","v":0},{"$f":"INDIRECT(\"p73\")","v":0},null,null,null,null,null,null,null,75,"Sylvain / Julien"]
[null,76,"Fanfan / Jonathan",null,null,null,null,null,null,null,null,null,null,null,null,0,0,null,null,null,null,null,null,null,null,74,74,{"$f":"INDIRECT(\"C74\")","v":"Charles/ Nénesse"},{"$f":"INDIRECT(\"q74\")","v":0},{"$f":"INDIRECT(\"p74\")","v":0},null,null,null,null,null,null,null,76,"Fanfan / Jonathan"]
[null,77,"Gégé / Eric",null,null,null,null,null,null,null,null,null,null,null,null,0,0,null,null,null,null,null,null,null,null,75,75,{"$f":"INDIRECT(\"C75\")","v":"Sylvain / Julien"},{"$f":"INDIRECT(\"q75\")","v":0},{"$f":"INDIRECT(\"p75\")","v":0},null,null,null,null,null,null,null,77,"Gégé / Eric"]
[null,78,"Landry / Martial",null,null,null,null,null,null,null,null,null,null,null,null,0,0,null,null,null,null,null,null,null,null,76,76,{"$f":"INDIRECT(\"C76\")","v":"Fanfan / Jonathan"},{"$f":"INDIRECT(\"q76\")","v":0},{"$f":"INDIRECT(\"p76\")","v":0},null,null,null,null,null,null,null,78,"Landry / Martial"]
[null,79,"Mickaël / Freddy",null,null,null,null,null,null,null,null,null,null,null,null,0,0,null,null,null,null,null,null,null,null,77,77,{"$f":"INDIRECT(\"C77\")","v":"Gégé / Eric"},{"$f":"INDIRECT(\"q77\")","v":0},{"$f":"INDIRECT(\"p77\")","v":0},null,null,null,null,null,null,null,79,"Mickaël / Freddy"]
[null,80,"Jacques / Michel",null,null,null,null,null,null,null,null,null,null,null,null,0,0,null,null,null,null,null,null,null,null,78,78,{"$f":"INDIRECT(\"C78\")","v":"Landry / Martial"},{"$f":"INDIRECT(\"q78\")","v":0},{"$f":"INDIRECT(\"p78\")","v":0},null,null,null,null,null,null,null,80,"Jacques / Michel"]
[null,81,"Aurélien / Didier",null,null,null,null,null,null,null,null,null,null,null,null,0,0,null,null,null,null,null,null,null,null,79,79,{"$f":"INDIRECT(\"C79\")","v":"Mickaël / Freddy"},{"$f":"INDIRECT(\"q79\")","v":0},{"$f":"INDIRECT(\"p79\")","v":0},null,null,null,null,null,null,null,81,"Aurélien / Didier"]
[null,82,"Thierry / Damien",null,null,null,null,null,null,null,null,null,null,null,null,0,0,null,null,null,null,null,null,null,null,80,80,{"$f":"INDIRECT(\"C80\")","v":"Jacques / Michel"},{"$f":"INDIRECT(\"q80\")","v":0},{"$f":"INDIRECT(\"p80\")","v":0},null,null,null,null,null,null,null,82,"Thierry / Damien"]
[null,83,"Phillipe / Michel",null,null,null,null,null,null,null,null,null,null,null,null,0,0,null,null,null,null,null,null,null,null,81,81,{"$f":"INDIRECT(\"C81\")","v":"Aurélien / Didier"},{"$f":"INDIRECT(\"q81\")","v":0},{"$f":"INDIRECT(\"p81\")","v":0},null,null,null,null,null,null,null,83,"Phillipe / Michel"]
[null,84,"René / Robert",null,null,null,null,null,null,null,null,null,null,null,null,0,0,null,null,null,null,null,null,null,null,82,82,{"$f":"INDIRECT(\"C82\")","v":"Thierry / Damien"},{"$f":"INDIRECT(\"q82\")","v":0},{"$f":"INDIRECT(\"p82\")","v":0},null,null,null,null,null,null,null,84,"René / Robert"]
[null,85,"Yoann / Christian",null,null,null,null,null,null,null,null,null,null,null,null,0,0,null,null,null,null,null,null,null,null,83,83,{"$f":"INDIRECT(\"C83\")","v":"Phillipe / Michel"},{"$f":"INDIRECT(\"q83\")","v":0},{"$f":"INDIRECT(\"p83\")","v":0},null,null,null,null,null,null,null,85,"Yoann / Christian"]
[null,86,"Patrick / Roger",null,null,null,null,null,null,null,null,null,null,null,null,0,0,null,null,null,null,null,null,null,null,84,84,{"$f":"INDIRECT(\"C84\")","v":"René / Robert"},{"$f":"INDIRECT(\"q84\")","v":0},{"$f":"INDIRECT(\"p84\")","v":0},null,null,null,null,null,null,null,86,"Patrick / Roger"]
[null,87,"Gérard / Edouard",null,null,null,null,null,null,null,null,null,null,null,null,0,0,null,null,null,null,null,null,null,null,85,85,{"$f":"INDIRECT(\"C85\")","v":"Yoann / Christian"},{"$f":"INDIRECT(\"q85\")","v":0},{"$f":"INDIRECT(\"p85\")","v":0},null,null,null,null,null,null,null,87,"Gérard / Edouard"]
[null,88,"Adeline / Mathieu",null,null,null,null,null,null,null,null,null,null,null,null,0,0,null,null,null,null,null,null,null,null,86,86,{"$f":"INDIRECT(\"C86\")","v":"Patrick / Roger"},{"$f":"INDIRECT(\"q86\")","v":0},{"$f":"INDIRECT(\"p86\")","v":0},null,null,null,null,null,null,null,88,"Adeline / Mathieu"]
[null,89,"Bruno/Philippe",null,null,null,null,null,null,null,null,null,null,null,null,0,0,null,null,null,null,null,null,null,null,87,87,{"$f":"INDIRECT(\"C87\")","v":"Gérard / Edouard"},{"$f":"INDIRECT(\"q87\")","v":0},{"$f":"INDIRECT(\"p87\")","v":0},null,null,null,null,null,null,null,89,"Bruno/Philippe"]
[null,90,"Joe/Geo",null,null,null,null,null,null,null,null,null,null,null,null,0,0,null,null,null,null,null,null,null,null,88,88,{"$f":"INDIRECT(\"C88\")","v":"Adeline / Mathieu"},{"$f":"INDIRECT(\"q88\")","v":0},{"$f":"INDIRECT(\"p88\")","v":0},null,null,null,null,null,null,null,90,"Joe/Geo"]
[null,91,"Frères MARTIN",null,null,null,null,null,null,null,null,null,null,null,null,0,0,null,null,null,null,null,null,null,null,89,89,{"$f":"INDIRECT(\"C89\")","v":"Bruno/Philippe"},{"$f":"INDIRECT(\"q89\")","v":0},{"$f":"INDIRECT(\"p89\")","v":0},null,null,null,null,null,null,null,91,"Frères MARTIN"]
[null,92,"Alcide/ Henri",null,null,null,null,null,null,null,null,null,null,null,null,0,0,null,null,null,null,null,null,null,null,90,90,{"$f":"INDIRECT(\"C90\")","v":"Joe/Geo"},{"$f":"INDIRECT(\"q90\")","v":0},{"$f":"INDIRECT(\"p90\")","v":0},null,null,null,null,null,null,null,92,"Alcide/ Henri"]
[null,93,"Clément/Charles",null,null,null,null,null,null,null,null,null,null,null,null,0,0,null,null,null,null,null,null,null,null,91,91,{"$f":"INDIRECT(\"C91\")","v":"Frères MARTIN"},{"$f":"INDIRECT(\"q91\")","v":0},{"$f":"INDIRECT(\"p91\")","v":0},null,null,null,null,null,null,null,93,"Clément/Charles"]
[null,94,"Romain/Florian",null,null,null,null,null,null,null,null,null,null,null,null,0,0,null,null,null,null,null,null,null,null,92,92,{"$f":"INDIRECT(\"C92\")","v":"Alcide/ Henri"},{"$f":"INDIRECT(\"q92\")","v":0},{"$f":"INDIRECT(\"p92\")","v":0},null,null,null,null,null,null,null,94,"Romain/Florian"]
[null,95,"Philippe/Nico",null,null,null,null,null,null,null,null,null,null,null,null,{"$f":"(D95+F95+H95+J95+L95+N95)-(E95+G95+I95+K95+M95+O95)","v":0},0,null,null,null,null,null,null,null,null,93,93,{"$f":"INDIRECT(\"C93\")","v":"Clément/Charles"},{"$f":"INDIRECT(\"q93\")","v":0},{"$f":"INDIRECT(\"p93\")","v":0},null,null,null,null,null,null,null,95,"Philippe/Nico"]
[null,96,"Vincent/François",null,null,null,null,null,null,null,null,null,null,null,null,0,0,null,null,null,null,null,null,null,null,94,94,{"$f":"INDIRECT(\"C94\")","v":"Romain/Florian"},{"$f":"INDIRECT(\"q94\")","v":0},{"$f":"INDIRECT(\"p94\")","v":0},null,null,null,null,null,null,null,96,"Vincent/François"]
[null,97,"Jean/Etienne",null,null,null,null,null,null,null,null,null,null,null,null,0,0,null,null,null,null,null,null,null,null,95,95,{"$f":"INDIRECT(\"C95\")","v":"Philippe/Nico"},{"$f":"INDIRECT(\"q95\")","v":0},{"$f":"INDIRECT(\"p95\")","v":0},null,null,null,null,null,null,null,97,"Jean/Etienne"]
[null,98,"Freddy/Benoit",null,null,null,null,null,null,null,null,null,null,null,null,0,0,null,null,null,null,null,null,null,null,96,96,{"$f":"INDIRECT(\"C96\")","v":"Vincent/François"},{"$f":"INDIRECT(\"q96\")","v":0},{"$f":"INDIRECT(\"p96\")","v":0},null,null,null,null,null,null,null,98,"Freddy/Benoit"]
[null,99,"Frères ALLAIRE",null,null,null,null,null,null,null,null,null,null,null,null,0,0,null,null,null,null,null,null,null,null,97,97,{"$f":"INDIRECT(\"C97\")","v":"Jean/Etienne"},{"$f":"INDIRECT(\"q97\")","v":0},{"$f":"INDIRECT(\"p97\")","v":0},null,null,null,null,null,null,null,99,"Frères ALLAIRE"]
[null,100,"Guy/Jean BARREAU",null,null,null,null,null,null,null,null,null,null,null,null,0,0,null,null,null,null,null,null,null,null,98,98,{"$f":"INDIRECT(\"C98\")","v":"Freddy/Benoit"},{"$f":"INDIRECT(\"q98\")","v":0},{"$f":"INDIRECT(\"p98\")","v":0},null,null,null,null,null,null,null,100,"Guy/Jean BARREAU"]
[null,101,"Carl/Edouard",null,null,null,null,null,null,null,null,null,null,null,null,0,0,null,null,null,null,null,null,null,null,99,99,{"$f":"INDIRECT(\"C99\")","v":"Frères ALLAIRE"},{"$f":"INDIRECT(\"q99\")","v":0},{"$f":"INDIRECT(\"p99\")","v":0},null,null,null,null,null,null,null,101,"Carl/Edouard"]
[null,102,"Serge/Philippe",null,null,null,null,null,null,null,null,null,null,null,null,0,0,null,null,null,null,null,null,null,null,100,100,{"$f":"INDIRECT(\"C100\")","v":"Guy/Jean BARREAU"},{"$f":"INDIRECT(\"q100\")","v":0},{"$f":"INDIRECT(\"p100\")","v":0},null,null,null,null,null,null,null,102,"Serge/Philippe"]
[null,103,"Boubou",null,null,null,null,null,null,null,null,null,null,null,null,{"$f":"(D103+F103+H103+J103+L103+N103)-(E103+G103+I103+K103+M103+O103)","v":0},0,null,null,null,null,null,null,null,null,101,101,{"$f":"INDIRECT(\"C101\")","v":"Carl/Edouard"},{"$f":"INDIRECT(\"q101\")","v":0},{"$f":"INDIRECT(\"p101\")","v":0},null,null,null,null,null,null,null,103,"Boubou"]
[null,104,"Luc",null,null,null,null,null,null,null,null,null,null,null,null,0,0,null,null,null,null,null,null,null,null,102,102,{"$f":"INDIRECT(\"C102\")","v":"Serge/Philippe"},{"$f":"INDIRECT(\"q102\")","v":0},{"$f":"INDIRECT(\"p102\")","v":0},null,null,null,null,null,null,null,104,"Luc"]
[null,105,"Jacky/Olivier",null,null,null,null,null,null,null,null,null,null,null,null,0,0,null,null,null,null,null,null,null,null,103,103,{"$f":"INDIRECT(\"C103\")","v":"Boubou"},{"$f":"INDIRECT(\"q103\")","v":0},{"$f":"INDIRECT(\"p103\")","v":0},null,null,null,null,null,null,null,105,"Jacky/Olivier"]
[null,106,"Adeline / Mathieu",null,null,null,null,null,null,null,null,null,null,null,null,0,0,null,null,null,null,null,null,null,null,104,104,{"$f":"INDIRECT(\"C104\")","v":"Luc"},{"$f":"INDIRECT(\"q104\")","v":0},{"$f":"INDIRECT(\"p104\")","v":0},null,null,null,null,null,null,null,106,"Adeline / Mathieu"]
[null,107,"Julot",null,null,null,null,null,null,null,null,null,null,null,null,0,0,null,null,null,null,null,null,null,null,105,105,{"$f":"INDIRECT(\"C105\")","v":"Jacky/Olivier"},{"$f":"INDIRECT(\"q105\")","v":0},{"$f":"INDIRECT(\"p105\")","v":0},null,null,null,null,null,null,null,107,"Julot"]
[null,108,"Francis",null,null,null,null,null,null,null,null,null,null,null,null,0,0,null,null,null,null,null,null,null,null,106,106,{"$f":"INDIRECT(\"C106\")","v":"Adeline / Mathieu"},{"$f":"INDIRECT(\"q106\")","v":0},{"$f":"INDIRECT(\"p106\")","v":0},null,null,null,null,null,null,null,108,"Francis"]
[null,109,"marco",null,null,null,null,null,null,null,null,null,null,null,null,0,0,null,null,null,null,null,null,null,null,107,107,{"$f":"INDIRECT(\"C107\")","v":"Julot"},{"$f":"INDIRECT(\"q107\")","v":0},{"$f":"INDIRECT(\"p107\")","v":0},null,null,null,null,null,null,null,109,"marco"]
[null,110,"Denise",null,null,null,null,null,null,null,null,null,null,null,null,0,0,null,null,null,null,null,null,null,null,108,108,{"$f":"INDIRECT(\"C108\")","v":"Francis"},{"$f":"INDIRECT(\"q108\")","v":0},{"$f":"INDIRECT(\"p108\")","v":0},null,null,null,null,null,null,null,110,"Denise"]
[null,111,"yvon",null,null,null,null,null,null,null,null,null,null,null,null,{"$f":"(D111+F111+H111+J111+L111+N111)-(E111+G111+I111+K111+M111+O111)","v":0},0,null,null,null,null,null,null,null,null,109,109,{"$f":"INDIRECT(\"C109\")","v":"marco"},{"$f":"INDIRECT(\"q109\")","v":0},{"$f":"INDIRECT(\"p109\")","v":0},null,null,null,null,null,null,null,111,"yvon"]
[null,112,"jacques",null,null,null,null,null,null,null,null,null,null,null,null,0,0,null,null,null,null,null,null,null,null,110,110,{"$f":"INDIRECT(\"C110\")","v":"Denise"},{"$f":"INDIRECT(\"q110\")","v":0},{"$f":"INDIRECT(\"p110\")","v":0},null,null,null,null,null,null,null,112,"jacques"]
[null,113,"Pierre",null,null,null,null,null,null,null,null,null,null,null,null,0,0,null,null,null,null,null,null,null,null,111,111,{"$f":"INDIRECT(\"C111\")","v":"yvon"},{"$f":"INDIRECT(\"q111\")","v":0},{"$f":"INDIRECT(\"p111\")","v":0},null,null,null,null,null,null,null,113,"Pierre"]
[null,114,"Marcel",null,null,null,null,null,null,null,null,null,null,null,null,0,0,null,null,null,null,null,null,null,null,112,112,{"$f":"INDIRECT(\"C112\")","v":"jacques"},{"$f":"INDIRECT(\"q112\")","v":0},{"$f":"INDIRECT(\"p112\")","v":0},null,null,null,null,null,null,null,114,"Marcel"]
[null,115,"Sébastien",null,null,null,null,null,null,null,null,null,null,null,null,0,0,null,null,null,null,null,null,null,null,113,113,{"$f":"INDIRECT(\"C113\")","v":"Pierre"},{"$f":"INDIRECT(\"q113\")","v":0},{"$f":"INDIRECT(\"p113\")","v":0},null,null,null,null,null,null,null,115,"Sébastien"]
[null,116,"Florian",null,null,null,null,null,null,null,null,null,null,null,null,0,0,null,null,null,null,null,null,null,null,114,114,{"$f":"INDIRECT(\"C114\")","v":"Marcel"},{"$f":"INDIRECT(\"q114\")","v":0},{"$f":"INDIRECT(\"p114\")","v":0},null,null,null,null,null,null,null,116,"Florian"]
[null,117,"Eric / Yvonnick",null,null,null,null,null,null,null,null,null,null,null,null,0,0,null,null,null,null,null,null,null,null,115,115,{"$f":"INDIRECT(\"C115\")","v":"Sébastien"},{"$f":"INDIRECT(\"q115\")","v":0},{"$f":"INDIRECT(\"p115\")","v":0},null,null,null,null,null,null,null,117,"Eric / Yvonnick"]
[null,118,"Alain / Joël",null,null,null,null,null,null,null,null,null,null,null,null,0,0,null,null,null,null,null,null,null,null,116,116,{"$f":"INDIRECT(\"C116\")","v":"Florian"},{"$f":"INDIRECT(\"q116\")","v":0},{"$f":"INDIRECT(\"p116\")","v":0},null,null,null,null,null,null,null,118,"Alain / Joël"]
[null,119,"L'archi / Jean-Pierre",null,null,null,null,null,null,null,null,null,null,null,null,0,0,null,null,null,null,null,null,null,null,117,117,{"$f":"INDIRECT(\"C117\")","v":"Eric / Yvonnick"},{"$f":"INDIRECT(\"q117\")","v":0},{"$f":"INDIRECT(\"p117\")","v":0},null,null,null,null,null,null,null,119,"L'archi / Jean-Pierre"]
[null,120,"Alain / Christophe",null,null,null,null,null,null,null,null,null,null,null,null,0,0,null,null,null,null,null,null,null,null,118,118,{"$f":"INDIRECT(\"C118\")","v":"Alain / Joël"},{"$f":"INDIRECT(\"q118\")","v":0},{"$f":"INDIRECT(\"p118\")","v":0},null,null,null,null,null,null,null,120,"Alain / Christophe"]
[null,121,"Ben / Jimmy",null,null,null,null,null,null,null,null,null,null,null,null,0,0,null,null,null,null,null,null,null,null,119,119,{"$f":"INDIRECT(\"C119\")","v":"L'archi / Jean-Pierre"},{"$f":"INDIRECT(\"q119\")","v":0},{"$f":"INDIRECT(\"p119\")","v":0},null,null,null,null,null,null,null,121,"Ben / Jimmy"]
[null,122,"Le Suisse / Yoyo",null,null,null,null,null,null,null,null,null,null,null,null,0,0,null,null,null,null,null,null,null,null,120,120,{"$f":"INDIRECT(\"C120\")","v":"Alain / Christophe"},{"$f":"INDIRECT(\"q120\")","v":0},{"$f":"INDIRECT(\"p120\")","v":0},null,null,null,null,null,null,null,122,"Le Suisse / Yoyo"]
[null,123,"Laurent / Mickaël",null,null,null,null,null,null,null,null,null,null,null,null,0,0,null,null,null,null,null,null,null,null,121,121,{"$f":"INDIRECT(\"C121\")","v":"Ben / Jimmy"},{"$f":"INDIRECT(\"q121\")","v":0},{"$f":"INDIRECT(\"p121\")","v":0},null,null,null,null,null,null,null,123,"Laurent / Mickaël"]
[null,124,"Charles/ Nénesse",null,null,null,null,null,null,null,null,null,null,null,null,0,0,null,null,null,null,null,null,null,null,122,122,{"$f":"INDIRECT(\"C122\")","v":"Le Suisse / Yoyo"},{"$f":"INDIRECT(\"q122\")","v":0},{"$f":"INDIRECT(\"p122\")","v":0},null,null,null,null,null,null,null,124,"Charles/ Nénesse"]
[null,125,"Sylvain / Julien",null,null,null,null,null,null,null,null,null,null,null,null,0,0,null,null,null,null,null,null,null,null,123,123,{"$f":"INDIRECT(\"C123\")","v":"Laurent / Mickaël"},{"$f":"INDIRECT(\"q123\")","v":0},{"$f":"INDIRECT(\"p123\")","v":0},null,null,null,null,null,null,null,125,"Sylvain / Julien"]
[null,126,"Fanfan / Jonathan",null,null,null,null,null,null,null,null,null,null,null,null,0,0,null,null,null,null,null,null,null,null,124,124,{"$f":"INDIRECT(\"C124\")","v":"Charles/ Nénesse"},{"$f":"INDIRECT(\"q124\")","v":0},{"$f":"INDIRECT(\"p124\")","v":0},null,null,null,null,null,null,null,126,"Fanfan / Jonathan"]
[null,127,"Gégé / Eric",null,null,null,null,null,null,null,null,null,null,null,null,0,0,null,null,null,null,null,null,null,null,125,125,{"$f":"INDIRECT(\"C125\")","v":"Sylvain / Julien"},{"$f":"INDIRECT(\"q125\")","v":0},{"$f":"INDIRECT(\"p125\")","v":0},null,null,null,null,null,null,null,127,"Gégé / Eric"]
[null,128,"Landry / Martial",null,null,null,null,null,null,null,null,null,null,null,null,0,0,null,null,null,null,null,null,null,null,126,126,{"$f":"INDIRECT(\"C126\")","v":"Fanfan / Jonathan"},{"$f":"INDIRECT(\"q126\")","v":0},{"$f":"INDIRECT(\"p126\")","v":0},null,null,null,null,null,null,null,128,"Landry / Martial"]
[null,129,"julie",null,null,null,null,null,null,null,null,null,null,null,null,null,null,null,null,null,null,null,null,null,null,127,127,{"$f":"INDIRECT(\"C127\")","v":"Gégé / Eric"},{"$f":"INDIRECT(\"q127\")","v":0},{"$f":"INDIRECT(\"p127\")","v":0}]
[null,130,"Francis",{"$f":"COUNTIF((D1:D128),13)+COUNTIF((E1:E128),13)","v":40},null,{"$f":"COUNTIF((F1:F128),13)+COUNTIF((G1:G128),13)","v":0},null,{"$f":"COUNTIF((H1:H128),13)+COUNTIF((I1:I128),13)","v":0},null,{"$f":"COUNTIF((J1:J128),13)+COUNTIF((K1:K128),13)","v":0},null,{"$f":"COUNTIF((L1:L128),13)+COUNTIF((M1:M128),13)","v":0},null,{"$f":"COUNTIF((N1:N128),13)+COUNTIF((O1:O128),13)","v":0},null,{"$f":"SUM(P1:P128)","v":0},null,null,null,null,null,null,null,null,null,128,128,{"$f":"INDIRECT(\"c148\")","v":"Fanfan / Jonathan"},{"$f":"INDIRECT(\"q128\")","v":0},{"$f":"INDIRECT(\"p128\")","v":0}]
[null,{"$f":"B130+1","v":131},"marco",{"$f":"COUNTIF((D1:D128),10)+COUNTIF((E1:E128),10)","v":0},null,{"$f":"COUNTIF((F1:F128),10)+COUNTIF((G1:G128),10)","v":0},null,{"$f":"COUNTIF((H1:H128),10)+COUNTIF((I1:I128),10)","v":0},null,{"$f":"COUNTIF((J1:J128),10)+COUNTIF((K1:K128),10)","v":0},null,{"$f":"COUNTIF((L1:L128),10)+COUNTIF((M1:M128),10)","v":0},null,{"$f":"COUNTIF((N1:N128),10)+COUNTIF((O1:O128),10)","v":0},null,null,null,null,null,null,null,null,null,null,null,{"$f":"Z130+1","v":129},129,{"$f":"INDIRECT(\"C129\")","v":"julie"},{"$f":"INDIRECT(\"q129\")","v":0},{"$f":"INDIRECT(\"p129\")","v":0}]
[null,132,"Denise",{"$f":"COUNTIF((D1:D128),7)+COUNTIF((E1:E128),7)","v":0},null,{"$f":"COUNTIF((F1:F128),7)+COUNTIF((G1:G128),7)","v":0},null,{"$f":"COUNTIF((H1:H128),7)+COUNTIF((I1:I128),7)","v":0},null,{"$f":"COUNTIF((J1:J128),7)+COUNTIF((K1:K128),7)","v":0},null,{"$f":"COUNTIF((L1:L128),7)+COUNTIF((M1:M128),7)","v":0},null,{"$f":"COUNTIF((N1:N128),7)+COUNTIF((O1:O128),7)","v":0},null,null,null,null,null,null,null,null,null,null,null,{"$f":"Z131+1","v":130},130,{"$f":"INDIRECT(\"c130\")","v":"Francis"},{"$f":"INDIRECT(\"q130\")","v":0},{"$f":"INDIRECT(\"p130\")","v":0}]
[null,133,"yvon",{"$f":"COUNTIF((D1:D128),5)+COUNTIF((E1:E128),5)","v":0},null,{"$f":"COUNTIF((F1:F128),5)+COUNTIF((G1:G128),5)","v":0},null,{"$f":"COUNTIF((H1:H128),5)+COUNTIF((I1:I128),5)","v":0},null,{"$f":"COUNTIF((J1:J128),5)+COUNTIF((K1:K128),5)","v":0},null,{"$f":"COUNTIF((L1:L128),5)+COUNTIF((M1:M128),5)","v":0},null,{"$f":"COUNTIF((N1:N128),5)+COUNTIF((O1:O128),5)","v":0},null,null,null,null,null,null,null,null,null,null,null,131,131,{"$f":"INDIRECT(\"c131\")","v":"marco"},{"$f":"INDIRECT(\"q131\")","v":0},{"$f":"INDIRECT(\"p131\")","v":0}]
[null,134,"jacques",{"$f":"COUNTIF((D1:D128),3)+COUNTIF((E1:E128),3)","v":0},null,{"$f":"COUNTIF((F1:F128),3)+COUNTIF((G1:G128),3)","v":0},null,{"$f":"COUNTIF((H1:H128),3)+COUNTIF((I1:I128),3)","v":0},null,{"$f":"COUNTIF((J1:J128),3)+COUNTIF((K1:K128),3)","v":0},null,{"$f":"COUNTIF((L1:L128),3)+COUNTIF((M1:M128),3)","v":0},null,{"$f":"COUNTIF((N1:N128),3)+COUNTIF((O1:O128),3)","v":0},null,null,null,null,null,null,null,null,null,null,null,132,132,{"$f":"INDIRECT(\"c132\")","v":"Denise"},{"$f":"INDIRECT(\"q132\")","v":0},{"$f":"INDIRECT(\"p132\")","v":0}]
[null,135,"Pierre",{"$f":"SUM(D131:D134)","v":0},null,{"$f":"SUM(F131:F134)","v":0},null,{"$f":"SUM(H131:H134)","v":0},null,{"$f":"SUM(J131:J134)","v":0},null,{"$f":"SUM(L131:L134)","v":0},null,{"$f":"SUM(N131:N134)","v":0},null,null,null,null,null,null,null,null,null,null,null,133,133,{"$f":"INDIRECT(\"c133\")","v":"yvon"},{"$f":"INDIRECT(\"q133\")","v":0},{"$f":"INDIRECT(\"p133\")","v":0}]
[null,136,"Marcel",null,null,null,null,null,null,null,null,null,null,null,null,null,null,null,null,null,null,null,null,null,null,134,134,{"$f":"INDIRECT(\"c134\")","v":"jacques"},{"$f":"INDIRECT(\"q134\")","v":0},{"$f":"INDIRECT(\"p134\")","v":0}]
[null,137,"Sébastien",13,7,13,7,null,null,null,null,null,null,null,null,{"$f":"(D137+F137+H137+J137+L137+N137)-(E137+G137+I137+K137+M137+O137)","v":12},{"$f":"COUNTIF(D137,13)+COUNTIF(F137,13)+COUNTIF(H137,13)+COUNTIF(J137,13)+COUNTIF(L137,13)+COUNTIF(N137,13)","v":2},null,null,null,null,null,null,null,null,135,135,{"$f":"INDIRECT(\"c135\")","v":"Pierre"},{"$f":"INDIRECT(\"q135\")","v":0},{"$f":"INDIRECT(\"p135\")","v":0}]
[null,138,"Florian",null,null,null,null,null,null,null,null,null,null,null,null,null,null,null,null,null,null,null,null,null,null,136,136,{"$f":"INDIRECT(\"c136\")","v":"Marcel"},{"$f":"INDIRECT(\"q136\")","v":0},{"$f":"INDIRECT(\"p136\")","v":0}]
[null,139,"Eric / Yvonnick",null,null,null,null,null,null,null,null,null,null,null,null,null,null,null,null,null,null,null,null,null,null,137,137,{"$f":"INDIRECT(\"c137\")","v":"Sébastien"},{"$f":"INDIRECT(\"q137\")","v":2},{"$f":"INDIRECT(\"p137\")","v":12}]
[null,140,"Alain / Joël",null,null,null,null,null,null,null,null,null,null,null,null,null,null,null,null,null,null,null,null,null,null,138,138,{"$f":"INDIRECT(\"c138\")","v":"Florian"},{"$f":"INDIRECT(\"q138\")","v":0},{"$f":"INDIRECT(\"p138\")","v":0}]
[null,141,"L'archi / Jean-Pierre",null,null,null,null,null,null,null,null,null,null,null,null,null,null,null,null,null,null,null,null,null,null,139,139,{"$f":"INDIRECT(\"c139\")","v":"Eric / Yvonnick"},{"$f":"INDIRECT(\"q139\")","v":0},{"$f":"INDIRECT(\"p139\")","v":0}]
[null,142,"Alain / Christophe",null,null,null,null,null,null,null,null,null,null,null,null,null,null,null,null,null,null,null,null,null,null,140,140,{"$f":"INDIRECT(\"c140\")","v":"Alain / Joël"},{"$f":"INDIRECT(\"q140\")","v":0},{"$f":"INDIRECT(\"p140\")","v":0}]
[null,143,"Ben / Jimmy",null,null,null,null,null,null,null,null,null,null,null,null,null,null,null,null,null,null,null,null,null,null,141,141,{"$f":"INDIRECT(\"c141\")","v":"L'archi / Jean-Pierre"},{"$f":"INDIRECT(\"q141\")","v":0},{"$f":"INDIRECT(\"p141\")","v":0}]
[null,144,"Le Suisse / Yoyo",null,null,null,null,null,null,null,null,null,null,null,null,null,null,null,null,null,null,null,null,null,null,142,142,{"$f":"INDIRECT(\"c142\")","v":"Alain / Christophe"},{"$f":"INDIRECT(\"q142\")","v":0},{"$f":"INDIRECT(\"p142\")","v":0}]
[null,145,"Laurent / Mickaël",null,null,null,null,null,null,null,null,null,null,null,null,null,null,null,null,null,null,null,null,null,null,143,143,{"$f":"INDIRECT(\"c143\")","v":"Ben / Jimmy"},{"$f":"INDIRECT(\"q143\")","v":0},{"$f":"INDIRECT(\"p143\")","v":0}]
[null,146,"Charles/ Nénesse",null,null,null,null,null,null,null,null,null,null,null,null,null,null,null,null,null,null,null,null,null,null,144,144,{"$f":"INDIRECT(\"c144\")","v":"Le Suisse / Yoyo"},{"$f":"INDIRECT(\"q128\")","v":0},{"$f":"INDIRECT(\"p128\")","v":0}]
[null,147,"Sylvain / Julien",null,null,null,null,null,null,null,null,null,null,null,null,null,null,null,null,null,null,null,null,null,null,145,145,{"$f":"INDIRECT(\"c145\")","v":"Laurent / Mickaël"},0,0]
[null,148,"Fanfan / Jonathan",null,null,null,null,null,null,null,null,null,null,null,null,null,null,null,null,null,null,null,null,null,null,146,146,{"$f":"INDIRECT(\"c146\")","v":"Charles/ Nénesse"},0,0]
[null,149,"Gégé / Eric",null,null,null,null,null,null,null,null,null,null,null,null,null,null,null,null,null,null,null,null,null,null,147,147,{"$f":"INDIRECT(\"c147\")","v":"Sylvain / Julien"},0,0]
[null,150,"Landry / Martial",null,null,null,null,null,null,null,null,null,null,null,null,null,null,null,null,null,null,null,null,null,null,148,148,{"$f":"INDIRECT(\"c148\")","v":"Fanfan / Jonathan"},0,0]
[null,151,"Mickaël / Freddy",null,null,null,null,null,null,null,null,null,null,null,null,null,null,null,null,null,null,null,null,null,null,149,149,"Fanfan / Jonathan",0,0]
[null,152,"Jacques / Michel",null,null,null,null,null,null,null,null,null,null,null,null,null,null,null,null,null,null,null,null,null,null,150,150,"Fanfan / Jonathan",0,0]
[null,153,"Aurélien / Didier",null,null,null,null,null,null,null,null,null,null,null,null,null,null,null,null,null,null,null,null,null,null,151,151,"Fanfan / Jonathan",0,0]
[null,154,"Thierry / Damien",null,null,null,null,null,null,null,null,null,null,null,null,null,null,null,null,null,null,null,null,null,null,152,152,"Fanfan / Jonathan",0,0]
[null,155,"Phillipe / Michel",null,null,null,null,null,null,null,null,null,null,null,null,null,null,null,null,null,null,null,null,null,null,153,153,"Fanfan / Jonathan",0,0]
[null,156,"René / Robert",null,null,null,null,null,null,null,null,null,null,null,null,null,null,null,null,null,null,null,null,null,null,154,154,"Fanfan / Jonathan",0,0]
[null,157,"Yoann / Christian",null,null,null,null,null,null,null,null,null,null,null,null,null,null,null,null,null,null,null,null,null,null,155,155,"Fanfan / Jonathan",0,0]
[null,158,"Patrick / Roger",null,null,null,null,null,null,null,null,null,null,null,null,null,null,null,null,null,null,null,null,null,null,156,156]
[null,159,"Gérard / Edouard",null,null,null,null,null,null,null,null,null,null,null,null,null,null,null,null,null,null,null,null,null,null,157,157]
[null,160,"Adeline / Mathieu",null,null,null,null,null,null,null,null,null,null,null,null,null,null,null,null,null,null,null,null,null,null,158,158]
[null,161,"Bruno/Philippe",null,null,null,null,null,null,null,null,null,null,null,null,null,null,null,null,null,null,null,null,null,null,159,159]
[null,162,"Joe/Geo",null,null,null,null,null,null,null,null,null,null,null,null,null,null,null,null,null,null,null,null,null,null,160,160]
[null,163,"Frères MARTIN",null,null,null,null,null,null,null,null,null,null,null,null,null,null,null,null,null,null,null,null,null,null,161,161]
[null,164,"Alcide/ Henri",null,null,null,null,null,null,null,null,null,null,null,null,null,null,null,null,null,null,null,null,null,null,162,162]
[null,165,"Clément/Charles",null,null,null,null,null,null,null,null,null,null,null,null,null,null,null,null,null,null,null,null,null,null,163,163]
[null,166,"Romain/Florian",null,null,null,null,null,null,null,null,null,null,null,null,null,null,null,null,null,null,null,null,null,null,164,164]
[null,167,"Philippe/Nico",null,null,null,null,null,null,null,null,null,null,null,null,null,null,null,null,null,null,null,null,null,null,165,165]
[null,168,"Vincent/François",null,null,null,null,null,null,null,null,null,null,null,null,null,null,null,null,null,null,null,null,null,null,166,166]
[null,169,"Jean/Etienne",null,null,null,null,null,null,null,null,null,null,null,null,null,null,null,null,null,null,null,null,null,null,167,167]
[null,170,"Freddy/Benoit",null,null,null,null,null,null,null,null,null,null,null,null,null,null,null,null,null,null,null,null,null,null,168,168]
[null,171,"Frères ALLAIRE",null,null,null,null,null,null,null,null,null,null,null,null,null,null,null,null,null,null,null,null,null,null,169,169]
[null,172,"Guy/Jean BARREAU",null,null,null,null,null,null,null,null,null,null,null,null,null,null,null,null,null,null,null,null,null,null,170,170]
[null,173,"Carl/Edouard",null,null,null,null,null,null,null,null,null,null,null,null,null,null,null,null,null,null,null,null,null,null,171,171]
[null,174,"Serge/Philippe",null,null,null,null,null,null,null,null,null,null,null,null,null,null,null,null,null,null,null,null,null,null,172,172]
[null,175,"Boubou",null,null,null,null,null,null,null,null,null,null,null,null,null,null,null,null,null,null,null,null,null,null,173,173]
[null,176,"Luc",null,null,null,null,null,null,null,null,null,null,null,null,null,null,null,null,null,null,null,null,null,null,174,174]
[null,177,"Jacky/Olivier",null,null,null,null,null,null,null,null,null,null,null,null,null,null,null,null,null,null,null,null,null,null,175,175]
[null,178,"Adeline / Mathieu",null,null,null,null,null,null,null,null,null,null,null,null,null,null,null,null,null,null,null,null,null,null,176,176]
[null,179,"Mickaël / Freddy",null,null,null,null,null,null,null,null,null,null,null,null,null,null,null,null,null,null,null,null,null,null,177,177]
[null,180,"Jacques / Michel",null,null,null,null,null,null,null,null,null,null,null,null,null,null,null,null,null,null,null,null,null,null,178,178]
[null,181,"Aurélien / Didier",null,null,null,null,null,null,null,null,null,null,null,null,null,null,null,null,null,null,null,null,null,null,179,179]
[null,182,"Thierry / Damien",null,null,null,null,null,null,null,null,null,null,null,null,null,null,null,null,null,null,null,null,null,null,180,180]
[null,183,"Phillipe / Michel",null,null,null,null,null,null,null,null,null,null,null,null,null,null,null,null,null,null,null,null,null,null,181,181]
[null,184,"René / Robert",null,null,null,null,null,null,null,null,null,null,null,null,null,null,null,null,null,null,null,null,null,null,182,182]
[null,185,"Julot",null,null,null,null,null,null,null,null,null,null,null,null,null,null,null,null,null,null,null,null,null,null,183,183]
[null,186,"Francis",null,null,null,null,null,null,null,null,null,null,null,null,null,null,null,null,null,null,null,null,null,null,184,184]
[null,187,"marco",null,null,null,null,null,null,null,null,null,null,null,null,null,null,null,null,null,null,null,null,null,null,185,185]
[null,188,"Denise",null,null,null,null,null,null,null,null,null,null,null,null,null,null,null,null,null,null,null,null,null,null,186,186]
[null,189,"yvon",null,null,null,null,null,null,null,null,null,null,null,null,null,null,null,null,null,null,null,null,null,null,187,187]
[null,190,"jacques",null,null,null,null,null,null,null,null,null,null,null,null,null,null,null,null,null,null,null,null,null,null,188,188]
[null,191,"Pierre",null,null,null,null,null,null,null,null,null,null,null,null,null,null,null,null,null,null,null,null,null,null,189,189]
[null,192,"Marcel",null,null,null,null,null,null,null,null,null,null,null,null,null,null,null,null,null,null,null,null,null,null,190,190]
[null,193,"Sébastien",null,null,null,null,null,null,null,null,null,null,null,null,null,null,null,null,null,null,null,null,null,null,191,191]
[null,194,"Florian",null,null,null,null,null,null,null,null,null,null,null,null,null,null,null,null,null,null,null,null,null,null,192,192]
[null,{"$f":"B194+1","v":195},"Eric / Yvonnick",null,null,null,null,null,null,null,null,null,null,null,null,null,null,null,null,null,null,null,null,null,null,193,193]
[null,196,"Alain / Joël",null,null,null,null,null,null,null,null,null,null,null,null,null,null,null,null,null,null,null,null,null,null,{"$f":"Z195+1","v":194},194]
[null,197,"L'archi / Jean-Pierre",null,null,null,null,null,null,null,null,null,null,null,null,null,null,null,null,null,null,null,null,null,null,195,195]
[null,198,"Alain / Christophe",null,null,null,null,null,null,null,null,null,null,null,null,null,null,null,null,null,null,null,null,null,null,196,196]
[null,199,"Ben / Jimmy",null,null,null,null,null,null,null,null,null,null,null,null,null,null,null,null,null,null,null,null,null,null,197,197]
[null,200,"Le Suisse / Yoyo",null,null,null,null,null,null,null,null,null,null,null,null,null,null,null,null,null,null,null,null,null,null,198,198]
[null,201,"Laurent / Mickaël",null,null,null,null,null,null,null,null,null,null,null,null,null,null,null,null,null,null,null,null,null,null,199,199]
[null,202,"Charles/ Nénesse",null,null,null,null,null,null,null,null,null,null,null,null,null,null,null,null,null,null,null,null,null,null,200,200]
[null,203,"Sylvain / Julien",null,null,null,null,null,null,null,null,null,null,null,null,null,null,null,null,null,null,null,null,null,null,201,201]
[null,204,"Fanfan / Jonathan",null,null,null,null,null,null,null,null,null,null,null,null,null,null,null,null,null,null,null,null,null,null,202,202]
[null,205,"Gégé / Eric",null,null,null,null,null,null,null,null,null,null,null,null,null,null,null,null,null,null,null,null,null,null,203,203]
[null,206,"Landry / Martial",null,null,null,null,null,null,null,null,null,null,null,null,null,null,null,null,null,null,null,null,null,null,204,204]
[null,207,"Mickaël / Freddy",null,null,null,null,null,null,null,null,null,null,null,null,null,null,null,null,null,null,null,null,null,null,205,205]
[null,208,"Jacques / Michel",null,null,null,null,null,null,null,null,null,null,null,null,null,null,null,null,null,null,null,null,null,null,206,206]
[null,209,"Aurélien / Didier",null,null,null,null,null,null,null,null,null,null,null,null,null,null,null,null,null,null,null,null,null,null,207,207]
[null,210,"Thierry / Damien",null,null,null,null,null,null,null,null,null,null,null,null,null,null,null,null,null,null,null,null,null,null,208,208]
[null,211,"Phillipe / Michel",null,null,null,null,null,null,null,null,null,null,null,null,null,null,null,null,null,null,null,null,null,null,209,209]
[null,212,"René / Robert",null,null,null,null,null,null,null,null,null,null,null,null,null,null,null,null,null,null,null,null,null,null,210,210]
[null,213,"Yoann / Christian",null,null,null,null,null,null,null,null,null,null,null,null,null,null,null,null,null,null,null,null,null,null,211,211]
[null,214,"Patrick / Roger",null,null,null,null,null,null,null,null,null,null,null,null,null,null,null,null,null,null,null,null,null,null,212,212]
[null,215,"Gérard / Edouard",null,null,null,null,null,null,null,null,null,null,null,null,null,null,null,null,null,null,null,null,null,null,213,213]
[null,216,"Adeline / Mathieu",null,null,null,null,null,null,null,null,null,null,null,null,null,null,null,null,null,null,null,null,null,null,214,214]
[null,217,"Bruno/Philippe",null,null,null,null,null,null,null,null,null,null,null,null,null,null,null,null,null,null,null,null,null,null,215,215]
[null,218,"Joe/Geo",null,null,null,null,null,null,null,null,null,null,null,null,null,null,null,null,null,null,null,null,null,null,216,216]
[null,219,"Frères MARTIN",null,null,null,null,null,null,null,null,null,null,null,null,null,null,null,null,null,null,null,null,null,null,217,217]
[null,220,"Alcide/ Henri",null,null,null,null,null,null,null,null,null,null,null,null,null,null,null,null,null,null,null,null,null,null,218,218]
[null,221,"Clément/Charles",null,null,null,null,null,null,null,null,null,null,null,null,null,null,null,null,null,null,null,null,null,null,219,219]
[null,222,"Romain/Florian",null,null,null,null,null,null,null,null,null,null,null,null,null,null,null,null,null,null,null,null,null,null,220,220]
[null,223,"Philippe/Nico",null,null,null,null,null,null,null,null,null,null,null,null,null,null,null,null,null,null,null,null,null,null,221,221]
[null,224,"Vincent/François",null,null,null,null,null,null,null,null,null,null,null,null,null,null,null,null,null,null,null,null,null,null,222,222]
[null,225,"Jean/Etienne",null,null,null,null,null,null,null,null,null,null,null,null,null,null,null,null,null,null,null,null,null,null,223,223]
[null,226,"Freddy/Benoit",null,null,null,null,null,null,null,null,null,null,null,null,null,null,null,null,null,null,null,null,null,null,224,224]
[null,227,"Frères ALLAIRE",null,null,null,null,null,null,null,null,null,null,null,null,null,null,null,null,null,null,null,null,null,null,225,225]
[null,228,"Guy/Jean BARREAU",null,null,null,null,null,null,null,null,null,null,null,null,null,null,null,null,null,null,null,null,null,null,226,226]
[null,229,"Carl/Edouard",null,null,null,null,null,null,null,null,null,null,null,null,null,null,null,null,null,null,null,null,null,null,227,227]
[null,230,"Serge/Philippe",null,null,null,null,null,null,null,null,null,null,null,null,null,null,null,null,null,null,null,null,null,null,228,228]
[null,231,"Boubou",null,null,null,null,null,null,null,null,null,null,null,null,null,null,null,null,null,null,null,null,null,null,229,229]
[null,232,"Luc",null,null,null,null,null,null,null,null,null,null,null,null,null,null,null,null,null,null,null,null,null,null,230,230]
[null,233,"Jacky/Olivier",null,null,null,null,null,null,null,null,null,null,null,null,null,null,null,null,null,null,null,null,null,null,231,231]
[null,234,"Adeline / Mathieu",null,null,null,null,null,null,null,null,null,null,null,null,null,null,null,null,null,null,null,null,null,null,232,232]
[null,235,"Julot",null,null,null,null,null,null,null,null,null,null,null,null,null,null,null,null,null,null,null,null,null,null,233,233]
[null,236,"Francis",null,null,null,null,null,null,null,null,null,null,null,null,null,null,null,null,null,null,null,null,null,null,234,234]
[null,237,"marco",null,null,null,null,null,null,null,null,null,null,null,null,null,null,null,null,null,null,null,null,null,null,235,235]
[null,238,"Denise",null,null,null,null,null,null,null,null,null,null,null,null,null,null,null,null,null,null,null,null,null,null,236,236]
[null,239,"yvon",null,null,null,null,null,null,null,null,null,null,null,null,null,null,null,null,null,null,null,null,null,null,237,237]
[null,240,"jacques",null,null,null,null,null,null,null,null,null,null,null,null,null,null,null,null,null,null,null,null,null,null,238,238]
[null,241,"Pierre",null,null,null,null,null,null,null,null,null,null,null,null,null,null,null,null,null,null,null,null,null,null,239,239]
[null,242,"Marcel",null,null,null,null,null,null,null,null,null,null,null,null,null,null,null,null,null,null,null,null,null,null,240,240]
[null,243,"Sébastien",null,null,null,null,null,null,null,null,null,null,null,null,null,null,null,null,null,null,null,null,null,null,241,241]
[null,244,"Florian",null,null,null,null,null,null,null,null,null,null,null,null,null,null,null,null,null,null,null,null,null,null,242,242]
[null,245,"Eric / Yvonnick",null,null,null,null,null,null,null,null,null,null,null,null,null,null,null,null,null,null,null,null,null,null,243,243]
[null,246,"Alain / Joël",null,null,null,null,null,null,null,null,null,null,null,null,null,null,null,null,null,null,null,null,null,null,244,244]
[null,247,"L'archi / Jean-Pierre",null,null,null,null,null,null,null,null,null,null,null,null,null,null,null,null,null,null,null,null,null,null,245,245]
[null,248,"Alain / Christophe",null,null,null,null,null,null,null,null,null,null,null,null,null,null,null,null,null,null,null,null,null,null,246,246]
[null,249,"Ben / Jimmy",null,null,null,null,null,null,null,null,null,null,null,null,null,null,null,null,null,null,null,null,null,null,247,247]
[null,250,"Le Suisse / Yoyo",null,null,null,null,null,null,null,null,null,null,null,null,null,null,null,null,null,null,null,null,null,null,248,248]
[null,251,"Laurent / Mickaël",null,null,null,null,null,null,null,null,null,null,null,null,null,null,null,null,null,null,null,null,null,null,249,249]
[null,252,"Charles/ Nénesse",null,null,null,null,null,null,null,null,null,null,null,null,null,null,null,null,null,null,null,null,null,null,250,250]
[null,253,"Sylvain / Julien",null,null,null,null,null,null,null,null,null,null,null,null,null,null,null,null,null,null,null,null,null,null,251,251]
[null,254,"Fanfan / Jonathan",null,null,null,null,null,null,null,null,null,null,null,null,null,null,null,null,null,null,null,null,null,null,252,252]
[null,255,"Gégé / Eric",null,null,null,null,null,null,null,null,null,null,null,null,null,null,null,null,null,null,null,null,null,null,253,253]
[null,256,"Landry / Martial",null,null,null,null,null,null,null,null,null,null,null,null,null,null,null,null,null,null,null,null,null,null,254,254]
[null,null,null,null,null,null,null,null,null,null,null,null,null,null,null,null,null,null,null,null,null,null,null,null,null,255,255]
[null,null,null,null,null,null,null,null,null,null,null,null,null,null,null,null,null,null,null,null,null,null,null,null,null,256,256]
[]
[]
[]
[]
[]
[]
[]
[]
[]
[]
[]
[]
[]
[]
[]
[]
[]
[]
[]
[]
[]
[]
[]
[]
[]
[]
[]
[]
[]
[]
[]
[]
[]
[]
[]
[]
[]
[]
[]
[]
[null,null,null,null,null,null,null,null,null,null,null,null,null,null,null,null,null,null,null,null,null,null,null,null,null,null,null,null,null,null,null,null,null,null,null,null,null,null,null,null,null,null,0]
[null,null,null,null,null,null,null,null,null,null,null,null,null,null,null,null,null,null,null,null,null,null,null,null,null,null,null,null,null,null,null,null,null,null,null,null,null,null,null,null,null,null,21]

{"sheet":"tirage","index":2,"n_rows":26,"n_cols":12,"rows_kept":26,"cut":false,"hidden":false,"merged":[[1,3,1,8],[5,8,5,9],[5,10,5,11],[5,0,5,1],[5,4,5,5],[5,6,5,7],[5,2,5,3]]}
[]
[null,null,null,"Tirages aléatoires des tours "]
[]
[null,null,null,null,null,"NB Equipes",40]
[]
["1er tour",null,"2ème tour",null,"3ème tour",null,"4ème tour",null,"5ème tour",null,"6ème tour"]
[31,24,31,8,21,1,27,22,30,31,21,26]
[27,25,6,39,24,30,28,11,38,6,37,19]
[22,34,12,37,3,22,9,14,12,10,8,23]
[14,26,20,33,27,36,7,20,34,11,25,2]
[3,33,14,7,31,10,29,18,16,40,10,34]
[15,9,25,1,19,6,15,31,22,36,15,32]
[11,29,5,29,18,8,8,4,35,24,12,40]
[32,39,38,28,35,33,33,10,9,4,7,1]
[38,19,27,16,38,12,21,25,21,23,3,18]
[7,30,36,3,29,28,3,13,28,39,29,9]
[16,23,4,15,13,14,39,35,32,8,4,31]
[12,2,13,34,39,17,34,36,25,18,33,24]
[4,21,32,23,15,40,16,6,15,17,22,30]
[8,5,17,9,7,16,17,19,33,19,35,14]
[10,40,19,21,2,37,12,23,26,20,20,6]
[35,37,18,2,5,11,38,26,1,5,28,27]
[6,36,22,24,23,20,30,5,13,2,17,13]
[20,28,30,26,26,9,40,1,14,29,39,5]
[17,18,11,40,4,34,24,37,7,27,38,11]
[13,1,10,35,32,25,2,32,37,3,16,36]

{"sheet":"22 eq","index":3,"n_rows":23,"n_cols":19,"rows_kept":23,"cut":false,"hidden":true,"merged":[[22,2,22,3],[22,4,22,5],[22,6,22,7],[22,8,22,9],[4,10,4,11],[4,12,4,13],[4,2,4,3],[4,4,4,5],[4,6,4,7],[4,8,4,9]]}
[null,null,null,null,null,null,null,null,null,null,null,null,null,null,null,null,"Eq 01  : .","Charles- Casimir",{"$f":"CONCATENATE(Q1,R1)","v":"Eq 01  : .Charles- Casimir"}]
[null,null,null,null,null,null,null,null,null,null,null,null,null,null,null,null,"Eq 02  : .","Norbert",{"$f":"CONCATENATE(Q2,R2)","v":"Eq 02  : .Norbert"}]
[null,null,null,null,null,null,null,null,null,null,null,null,null,null,null,null,"Eq 03  : .","Père & Fils","Eq 03  : .Père & Fils"]
[null,null,null,null,null,null,null,null,null,null,null,null,null,null,null,null,"Eq 04  : .","Vivien- Rose","Eq 04  : .Vivien- Rose"]
[null,null,"1er tour",null,"2ème tour",null,"3ème tour",null,"4ème tour",null,"5ème tour",null,"6ème tour",null,null,null,"Eq 05  : .","Alban - Audrey","Eq 05  : .Alban - Audrey"]
["Terrain  ",1,9,19,4,19,10,6,10,20,22,19,12,2,null,null,"Eq 06  : .","Gilbert- Médard","Eq 06  : .Gilbert- Médard"]
["Terrain  ",2,15,20,2,7,8,18,13,7,12,21,19,16,null,null,"Eq 07  : .","Nestor","Eq 07  : .Nestor"]
["Terrain  ",3,11,13,6,5,12,20,18,15,5,17,22,5,null,null,"Eq 08  : .","Durand - Dupont","Eq 08  : .Durand - Dupont"]
["Terrain  ",4,1,18,10,11,19,1,21,3,6,2,21,13,null,null,"Eq 09  : .","Alexis - Claude","Eq 09  : .Alexis - Claude"]
["Terrain  ",5,22,8,3,8,2,5,8,6,4,1,8,17,null,null,"Eq 10  : .","Edouard- Odilon","Eq 10  : .Edouard- Odilon"]
["Terrain  ",6,7,6,14,16,14,21,16,5,20,14,9,3,null,null,"Eq 11 : .","Marcel- Rémi","Eq 11 : .Marcel- Rémi"]
["Terrain  ",7,4,12,9,20,16,11,22,11,18,11,10,1,null,null,"Eq 12 : .","Marius","Eq 12 : .Marius"]
["Terrain  ",8,16,2,18,13,13,17,14,9,15,7,7,20,null,null,"Eq 13  : .","Vincent","Eq 13  : .Vincent"]
["Terrain  ",9,3,14,12,15,7,22,12,1,13,16,6,18,null,null,"Eq 14  : .","Gildas- Martine","Eq 14  : .Gildas- Martine"]
["Terrain  ",10,10,5,17,1,9,15,19,2,3,10,4,14,null,null,"Eq 15  : .","Hugues - Sandrine","Eq 15  : .Hugues - Sandrine"]
["Terrain  ",11,17,21,22,21,3,4,17,4,8,9,11,15,null,null,"Eq 16  : .","Achille","Eq 16  : .Achille"]
[null,null,null,null,null,null,null,null,null,null,null,null,null,null,null,null,"Eq 17  : .","Roland","Eq 17  : .Roland"]
[null,null,null,null,null,null,null,null,null,null,null,null,null,null,null,null,"Eq 18  : .","Durand - Dupont","Eq 18  : .Durand - Dupont"]
[null,null,null,null,null,null,null,null,null,null,null,null,null,null,null,null,"Eq 19  : .","Durand - Dupont","Eq 19  : .Durand - Dupont"]
[null,null,null,null,null,null,null,null,null,null,null,null,null,null,null,null,"Eq 20  : .","Durand - Dupont","Eq 20  : .Durand - Dupont"]
[null,null,null,null,null,null,null,null,null,null,null,null,null,null,null,null,"Eq 21 : .","Durand - Dupont","Eq 21 : .Durand - Dupont"]
[null,null,null,null,null,null,null,null,null,null,null,null,null,null,null,null,"Eq 22 : .","Durand - Dupont","Eq 22 : .Durand - Dupont"]
[null,null,"e pensez à remettre le score..                                      ...Bonne partie à tous   &  A la fin de la parti",null,"e pensez à remettre le score..                                      ...Bonne partie à tous   &  A la fin de la parti",null,"e pensez à remettre le score..                                      ...Bonne partie à tous   &  A la fin de la parti",null,"e pensez à remettre le score..                                      ...Bonne partie à tous   &  A la fin de la parti"]

{"sheet":"16_40 eq","index":4,"n_rows":335,"n_cols":76,"rows_kept":335,"cut":false,"hidden":false,"merged":[[26,12,26,19],[26,22,26,29],[26,32,26,39],[26,42,26,49],[26,52,26,59],[26,2,26,9],[4,52,4,61],[178,70,178,73],[178,74,178,75],[4,2,4,11],[4,12,4,21],[4,22,4,31],[4,32,4,41],[4,42,4,51],[149,70,149,73],[149,74,149,75],[26,10,26,11],[27,10,27,11],[28,10,28,11],[70,10,70,11],[71,10,71,11],[72,10,72,11],[340,70,340,73],[340,74,340,75],[100,10,100,11],[101,10,101,11],[102,10,102,11],[217,70,217,73],[246,70,246,73],[285,70,285,73],[314,70,314,73]]}
[null,null,null,0,null,null,null,null,null,null,null,null,null,null,null,null,null,null,null,null,null,null,null,null,null,null,null,null,null,null,null,null,null,null,null,null,null,null,null,null,null,null,null,null,null,null,null,null,null,null,null,null,null,null,null,null,null,null,null,null,null,null,null,{"$f":"resultat!AI2","v":128},{"$f":"resultat!AL1","v":1},{"$f":"resultat!AM1","v":"Julot"}]
[null,null,null,null,null,null,null,null,null,null,null,null,null,null,null,null,null,null,null,null,null,null,null,null,null,null,null,null,null,null,null,null,null,null,null,null,null,null,null,null,null,null,null,null,null,null,null,null,null,null,null,null,null,null,null,null,null,null,null,null,null,null,null,2,{"$f":"resultat!AL2","v":2},{"$f":"resultat!AM2","v":"Francis"}]
[null,null,null,null,null,null,null,null,null,null,null,null,null,null,null,null,null,null,null,null,null,null,null,null,null,null,null,null,null,null,null,null,null,null,null,null,null,null,null,null,null,null,null,null,null,null,null,null,null,null,null,null,null,null,null,null,null,null,null,null,null,null,null,{"$f":"BL1/BL2","v":64},{"$f":"resultat!AL3","v":3},{"$f":"resultat!AM3","v":"marco"}]
[null,null,null,null,null,null,null,null,null,null,null,null,null,null,null,null,null,null,null,null,null,null,null,null,null,null,null,null,null,null,null,null,null,null,null,null,null,null,null,null,null,null,null,null,null,null,null,null,null,null,null,null,null,null,null,null,null,null,null,null,null,null,null,0,{"$f":"resultat!AL4","v":4},{"$f":"resultat!AM4","v":"Denise"}]
["2017-09-11",42989.87568287037,"                                                 1er tour                                                   résultat",null,null,null,null,null,null,null,null,null,"                                                2è tour                                                       résultat",null,null,null,null,null,null,null,null,null,"                                                3 è tour                                                      résultat",null,null,null,null,null,null,null,null,null,"                                             4è tour                                                         résultat",null,null,null,null,null,null,null,null,null,"                                                 5 è tour                                                      résultat",null,null,null,null,null,null,null,null,null,"                                                 6 è tour                                                  résultat",null,null,null,null,null,null,null,null,null,null,99,{"$f":"resultat!AL5","v":5},{"$f":"resultat!AM5","v":"yvon"}]
["Terrain",1,"Equ",{"$f":"F101","v":31},null,{"$f":"IF((F101)=1,$BN$1,\"\")&IF((F101)=2,$BN$2,\"\")&IF((F101)=3,$BN$3,\"\")&IF((F101)=4,$BN$4,\"\")&IF((F101)=5,$BN$5,\"\")&IF((F101)=6,$BN$6,\"\")&IF((F101)=7,$BN$7,\"\")&IF((F101)=8,$BN$8,\"\")&IF((F101)=9,$BN$9,\"\")&IF((F101)=10,$BN$10,\"\")&IF((F101)=11,$BN$11,\"\")&IF((F101)=12,$BN$12,\"\")&IF((F101)=13,$BN$13,\"\")&IF((F101)=14,$BN$14,\"\")&IF((F101)=15,$BN$15,\"\")&IF((F101)=16,$BN$16,\"\")&IF((F101)=17,$BN$17,\"\")&IF((F101)=18,$BN$18,\"\")&IF((F101)=19,$BN$19,\"\")&IF((F101)=20,$BN$20,\"\")&IF((F101)=21,$BN$21,\"\")&IF((F101)=22,$BN$22,\"\")&IF((F101)=23,$BN$23,\"\")&IF((F101)=24,$BN$24,\"\")&IF((F101)=25,$BN$25,\"\")&IF((F101)=26,$BN$26,\"\")&IF((F101)=27,$BN$27,\"\")&IF((F101)=28,$BN$28,\"\")&IF((F101)=29,$BN$29,\"\")&IF((F101)=30,$BN$30,\"\")&IF((F101)=31,$BN$31,\"\")&IF((F101)=32,$BN$32,\"\")&IF((F101)=33,$BN$33,\"\")&IF((F101)=34,$BN$34,\"\")&IF((F101)=35,$BN$35,\"\")&IF((F101)=36,$BN$36,\"\")&IF((F101)=37,$BN$37,\"\")&IF((F101)=38,$BN$38,\"\")&IF((F101)=39,$BN$39,\"\")&IF((F101)=40,$BN$40,\"\")&IF((F101)=41,$BN$41,\"\")&IF((F101)=42,$BN$42,\"\")&IF((F101)=43,$BN$43,\"\")&IF((F101)=44,$BN$44,\"\")&IF((F101)=45,$BN$45,\"\")&IF((F101)=46,$BN$46,\"\")&IF((F101)=47,$BN$47,\"\")&IF((F101)=48,$BN$48,\"\")&IF((F101)=49,$BN$49,\"\")&IF((F101)=50,$BN$50,\"\")&IF((F101)=51,$BN$51,\"\")&IF((F101)=52,$BN$52,\"\")&IF((F101)=53,$BN$53,\"\")&IF((F101)=54,$BN$54,\"\")&IF((F101)=55,$BN$55,\"\")&IF((F101)=56,$BN$56,\"\")&IF((F101)=57,$BN$57,\"\")&IF((F101)=58,$BN$58,\"\")&IF((F101)=59,$BN$59,\"\")&IF((F101)=60,$BN$60,\"\")&IF((F101)=61,$BN$61,\"\")&IF((F101)=62,$BN$62,\"\")&IF((F101)=63,$BN$63,\"\")&IF((F101)=64,$BN$64,\"\")&IF((F101)=65,$BN$65,\"\")&IF((F101)=66,$BN$66,\"\")&IF((F101)=67,$BN$67,\"\")&IF((F101)=68,$BN$68,\"\")&IF((F101)=69,$BN$69,\"\")&IF((F101)=70,$BN$70,\"\")&IF((F101)=71,$BN$71,\"\")&IF((F101)=72,$BN$72,\"\")&IF((F101)=73,$BN$73,\"\")&IF((F101)=74,$BN$74,\"\")&IF((F101)=75,$BN$75,\"\")&IF((F101)=76,$BN$76,\"\")&IF((F101)=77,$BN$77,\"\")&IF((F101)=78,$BN$78,\"\")&IF((F101)=79,$BN$79,\"\")&IF((F101)=80,$BN$80,\"\")&IF((F101)=81,$BN$81,\"\")&IF((F101)=82,$BN$82,\"\")&IF((F101)=83,$BN$83,\"\")&IF((F101)=84,$BN$84,\"\")&IF((F101)=85,$BN$85,\"\")&IF((F101)=86,$BN$86,\"\")&IF((F101)=87,$BN$87,\"\")&IF((F101)=88,$BN$88,\"\")&IF((F101)=89,$BN$89,\"\")&IF((F101)=90,$BN$90,\"\")&IF((F101)=91,$BN$91,\"\")&IF((F101)=92,$BN$92,\"\")&IF((F101)=93,$BN$93,\"\")&IF((F101)=94,$BN$94,\"\")&IF((F101)=95,$BN$95,\"\")&IF((F101)=96,$BN$96,\"\")&IF((F101)=97,$BN$97,\"\")&IF((F101)=98,$BN$98,\"\")&IF((F101)=99,$BN$99,\"\")&IF((F101)=100,$BN$100,\"\")&IF((F101)=101,$BN$101,\"\")&IF((F101)=102,$BN$102,\"\")&IF((F101)=103,$BN$103,\"\")&IF((F101)=104,$BN$104,\"\")&IF((F101)=105,$BN$105,\"\")&IF((F101)=106,$BN$106,\"\")&IF((F101)=107,$BN$107,\"\")&IF((F101)=108,$BN$108,\"\")&IF((F101)=109,$BN$109,\"\")&IF((F101)=110,$BN$110,\"\")&IF((F101)=111,$BN$111,\"\")&IF((F101)=112,$BN$112,\"\")&IF((F101)=113,$BN$113,\"\")&IF((F101)=114,$BN$114,\"\")&IF((F101)=115,$BN$115,\"\")&IF((F101)=116,$BN$116,\"\")&IF((F101)=117,$BN$117,\"\")&IF((F101)=118,$BN$118,\"\")&IF((F101)=119,$BN$119,\"\")&IF((F101)=120,$BN$120,\"\")&IF((F101)=121,$BN$121,\"\")&IF((F101)=122,$BN$122,\"\")&IF((F101)=123,$BN$123,\"\")&IF((F101)=124,$BN$124,\"\")&IF((F101)=125,$BN$125,\"\")&IF((F101)=126,$BN$126,\"\")&IF((F101)=127,$BN$127,\"\")&IF((F101)=128,$BN$128,\"\")","v":"Gérard / Edouard"},"Equ",{"$f":"J101","v":24},null,{"$f":"IF((J101)=1,$BN$1,\"\")&IF((J101)=2,$BN$2,\"\")&IF((J101)=3,$BN$3,\"\")&IF((J101)=4,$BN$4,\"\")&IF((J101)=5,$BN$5,\"\")&IF((J101)=6,$BN$6,\"\")&IF((J101)=7,$BN$7,\"\")&IF((J101)=8,$BN$8,\"\")&IF((J101)=9,$BN$9,\"\")&IF((J101)=10,$BN$10,\"\")&IF((J101)=11,$BN$11,\"\")&IF((J101)=12,$BN$12,\"\")&IF((J101)=13,$BN$13,\"\")&IF((J101)=14,$BN$14,\"\")&IF((J101)=15,$BN$15,\"\")&IF((J101)=16,$BN$16,\"\")&IF((J101)=17,$BN$17,\"\")&IF((J101)=18,$BN$18,\"\")&IF((J101)=19,$BN$19,\"\")&IF((J101)=20,$BN$20,\"\")&IF((J101)=21,$BN$21,\"\")&IF((J101)=22,$BN$22,\"\")&IF((J101)=23,$BN$23,\"\")&IF((J101)=24,$BN$24,\"\")&IF((J101)=25,$BN$25,\"\")&IF((J101)=26,$BN$26,\"\")&IF((J101)=27,$BN$27,\"\")&IF((J101)=28,$BN$28,\"\")&IF((J101)=29,$BN$29,\"\")&IF((J101)=30,$BN$30,\"\")&IF((J101)=31,$BN$31,\"\")&IF((J101)=32,$BN$32,\"\")&IF((J101)=33,$BN$33,\"\")&IF((J101)=34,$BN$34,\"\")&IF((J101)=35,$BN$35,\"\")&IF((J101)=36,$BN$36,\"\")&IF((J101)=37,$BN$37,\"\")&IF((J101)=38,$BN$38,\"\")&IF((J101)=39,$BN$39,\"\")&IF((J101)=40,$BN$40,\"\")&IF((J101)=41,$BN$41,\"\")&IF((J101)=42,$BN$42,\"\")&IF((J101)=43,$BN$43,\"\")&IF((J101)=44,$BN$44,\"\")&IF((J101)=45,$BN$45,\"\")&IF((J101)=46,$BN$46,\"\")&IF((J101)=47,$BN$47,\"\")&IF((J101)=48,$BN$48,\"\")&IF((J101)=49,$BN$49,\"\")&IF((J101)=50,$BN$50,\"\")&IF((J101)=51,$BN$51,\"\")&IF((J101)=52,$BN$52,\"\")&IF((J101)=53,$BN$53,\"\")&IF((J101)=54,$BN$54,\"\")&IF((J101)=55,$BN$55,\"\")&IF((J101)=56,$BN$56,\"\")&IF((J101)=57,$BN$57,\"\")&IF((J101)=58,$BN$58,\"\")&IF((J101)=59,$BN$59,\"\")&IF((J101)=60,$BN$60,\"\")&IF((J101)=61,$BN$61,\"\")&IF((J101)=62,$BN$62,\"\")&IF((J101)=63,$BN$63,\"\")&IF((J101)=64,$BN$64,\"\")&IF((J101)=65,$BN$65,\"\")&IF((J101)=66,$BN$66,\"\")&IF((J101)=67,$BN$67,\"\")&IF((J101)=68,$BN$68,\"\")&IF((J101)=69,$BN$69,\"\")&IF((J101)=70,$BN$70,\"\")&IF((J101)=71,$BN$71,\"\")&IF((J101)=72,$BN$72,\"\")&IF((J101)=73,$BN$73,\"\")&IF((J101)=74,$BN$74,\"\")&IF((J101)=75,$BN$75,\"\")&IF((J101)=76,$BN$76,\"\")&IF((J101)=77,$BN$77,\"\")&IF((J101)=78,$BN$78,\"\")&IF((J101)=79,$BN$79,\"\")&IF((J101)=80,$BN$80,\"\")&IF((J101)=81,$BN$81,\"\")&IF((J101)=82,$BN$82,\"\")&IF((J101)=83,$BN$83,\"\")&IF((J101)=84,$BN$84,\"\")&IF((J101)=85,$BN$85,\"\")&IF((J101)=86,$BN$86,\"\")&IF((J101)=87,$BN$87,\"\")&IF((J101)=88,$BN$88,\"\")&IF((J101)=89,$BN$89,\"\")&IF((J101)=90,$BN$90,\"\")&IF((J101)=91,$BN$91,\"\")&IF((J101)=92,$BN$92,\"\")&IF((J101)=93,$BN$93,\"\")&IF((J101)=94,$BN$94,\"\")&IF((J101)=95,$BN$95,\"\")&IF((J101)=96,$BN$96,\"\")&IF((J101)=97,$BN$97,\"\")&IF((J101)=98,$BN$98,\"\")&IF((J101)=99,$BN$99,\"\")&IF((J101)=100,$BN$100,\"\")&IF((J101)=101,$BN$101,\"\")&IF((J101)=102,$BN$102,\"\")&IF((J101)=103,$BN$103,\"\")&IF((J101)=104,$BN$104,\"\")&IF((J101)=105,$BN$105,\"\")&IF((J101)=106,$BN$106,\"\")&IF((J101)=107,$BN$107,\"\")&IF((J101)=108,$BN$108,\"\")&IF((J101)=109,$BN$109,\"\")&IF((J101)=110,$BN$110,\"\")&IF((J101)=111,$BN$111,\"\")&IF((J101)=112,$BN$112,\"\")&IF((J101)=113,$BN$113,\"\")&IF((J101)=114,$BN$114,\"\")&IF((J101)=115,$BN$115,\"\")&IF((J101)=116,$BN$116,\"\")&IF((J101)=117,$BN$117,\"\")&IF((J101)=118,$BN$118,\"\")&IF((J101)=119,$BN$119,\"\")&IF((J101)=120,$BN$120,\"\")&IF((J101)=121,$BN$121,\"\")&IF((J101)=122,$BN$122,\"\")&IF((J101)=123,$BN$123,\"\")&IF((J101)=124,$BN$124,\"\")&IF((J101)=125,$BN$125,\"\")&IF((J101)=126,$BN$126,\"\")&IF((J101)=127,$BN$127,\"\")&IF((J101)=128,$BN$128,\"\")","v":"Jacques / Michel"},13,6,"Equ",{"$f":"P101","v":31},null,{"$f":"IF((P101)=1,$BN$1,\"\")&IF((P101)=2,$BN$2,\"\")&IF((P101)=3,$BN$3,\"\")&IF((P101)=4,$BN$4,\"\")&IF((P101)=5,$BN$5,\"\")&IF((P101)=6,$BN$6,\"\")&IF((P101)=7,$BN$7,\"\")&IF((P101)=8,$BN$8,\"\")&IF((P101)=9,$BN$9,\"\")&IF((P101)=10,$BN$10,\"\")&IF((P101)=11,$BN$11,\"\")&IF((P101)=12,$BN$12,\"\")&IF((P101)=13,$BN$13,\"\")&IF((P101)=14,$BN$14,\"\")&IF((P101)=15,$BN$15,\"\")&IF((P101)=16,$BN$16,\"\")&IF((P101)=17,$BN$17,\"\")&IF((P101)=18,$BN$18,\"\")&IF((P101)=19,$BN$19,\"\")&IF((P101)=20,$BN$20,\"\")&IF((P101)=21,$BN$21,\"\")&IF((P101)=22,$BN$22,\"\")&IF((P101)=23,$BN$23,\"\")&IF((P101)=24,$BN$24,\"\")&IF((P101)=25,$BN$25,\"\")&IF((P101)=26,$BN$26,\"\")&IF((P101)=27,$BN$27,\"\")&IF((P101)=28,$BN$28,\"\")&IF((P101)=29,$BN$29,\"\")&IF((P101)=30,$BN$30,\"\")&IF((P101)=31,$BN$31,\"\")&IF((P101)=32,$BN$32,\"\")&IF((P101)=33,$BN$33,\"\")&IF((P101)=34,$BN$34,\"\")&IF((P101)=35,$BN$35,\"\")&IF((P101)=36,$BN$36,\"\")&IF((P101)=37,$BN$37,\"\")&IF((P101)=38,$BN$38,\"\")&IF((P101)=39,$BN$39,\"\")&IF((P101)=40,$BN$40,\"\")&IF((P101)=41,$BN$41,\"\")&IF((P101)=42,$BN$42,\"\")&IF((P101)=43,$BN$43,\"\")&IF((P101)=44,$BN$44,\"\")&IF((P101)=45,$BN$45,\"\")&IF((P101)=46,$BN$46,\"\")&IF((P101)=47,$BN$47,\"\")&IF((P101)=48,$BN$48,\"\")&IF((P101)=49,$BN$49,\"\")&IF((P101)=50,$BN$50,\"\")&IF((P101)=51,$BN$51,\"\")&IF((P101)=52,$BN$52,\"\")&IF((P101)=53,$BN$53,\"\")&IF((P101)=54,$BN$54,\"\")&IF((P101)=55,$BN$55,\"\")&IF((P101)=56,$BN$56,\"\")&IF((P101)=57,$BN$57,\"\")&IF((P101)=58,$BN$58,\"\")&IF((P101)=59,$BN$59,\"\")&IF((P101)=60,$BN$60,\"\")&IF((P101)=61,$BN$61,\"\")&IF((P101)=62,$BN$62,\"\")&IF((P101)=63,$BN$63,\"\")&IF((P101)=64,$BN$64,\"\")&IF((P101)=65,$BN$65,\"\")&IF((P101)=66,$BN$66,\"\")&IF((P101)=67,$BN$67,\"\")&IF((P101)=68,$BN$68,\"\")&IF((P101)=69,$BN$69,\"\")&IF((P101)=70,$BN$70,\"\")&IF((P101)=71,$BN$71,\"\")&IF((P101)=72,$BN$72,\"\")&IF((P101)=73,$BN$73,\"\")&IF((P101)=74,$BN$74,\"\")&IF((P101)=75,$BN$75,\"\")&IF((P101)=76,$BN$76,\"\")&IF((P101)=77,$BN$77,\"\")&IF((P101)=78,$BN$78,\"\")&IF((P101)=79,$BN$79,\"\")&IF((P101)=80,$BN$80,\"\")&IF((P101)=81,$BN$81,\"\")&IF((P101)=82,$BN$82,\"\")&IF((P101)=83,$BN$83,\"\")&IF((P101)=84,$BN$84,\"\")&IF((P101)=85,$BN$85,\"\")&IF((P101)=86,$BN$86,\"\")&IF((P101)=87,$BN$87,\"\")&IF((P101)=88,$BN$88,\"\")&IF((P101)=89,$BN$89,\"\")&IF((P101)=90,$BN$90,\"\")&IF((P101)=91,$BN$91,\"\")&IF((P101)=92,$BN$92,\"\")&IF((P101)=93,$BN$93,\"\")&IF((P101)=94,$BN$94,\"\")&IF((P101)=95,$BN$95,\"\")&IF((P101)=96,$BN$96,\"\")&IF((P101)=97,$BN$97,\"\")&IF((P101)=98,$BN$98,\"\")&IF((P101)=99,$BN$99,\"\")&IF((P101)=100,$BN$100,\"\")&IF((P101)=101,$BN$101,\"\")&IF((P101)=102,$BN$102,\"\")&IF((P101)=103,$BN$103,\"\")&IF((P101)=104,$BN$104,\"\")&IF((P101)=105,$BN$105,\"\")&IF((P101)=106,$BN$106,\"\")&IF((P101)=107,$BN$107,\"\")&IF((P101)=108,$BN$108,\"\")&IF((P101)=109,$BN$109,\"\")&IF((P101)=110,$BN$110,\"\")&IF((P101)=111,$BN$111,\"\")&IF((P101)=112,$BN$112,\"\")&IF((P101)=113,$BN$113,\"\")&IF((P101)=114,$BN$114,\"\")&IF((P101)=115,$BN$115,\"\")&IF((P101)=116,$BN$116,\"\")&IF((P101)=117,$BN$117,\"\")&IF((P101)=118,$BN$118,\"\")&IF((P101)=119,$BN$119,\"\")&IF((P101)=120,$BN$120,\"\")&IF((P101)=121,$BN$121,\"\")&IF((P101)=122,$BN$122,\"\")&IF((P101)=123,$BN$123,\"\")&IF((P101)=124,$BN$124,\"\")&IF((P101)=125,$BN$125,\"\")&IF((P101)=126,$BN$126,\"\")&IF((P101)=127,$BN$127,\"\")&IF((P101)=128,$BN$128,\"\")","v":"Gérard / Edouard"},"Equ",{"$f":"T101","v":8},null,{"$f":"IF((T101)=1,$BN$1,\"\")&IF((T101)=2,$BN$2,\"\")&IF((T101)=3,$BN$3,\"\")&IF((T101)=4,$BN$4,\"\")&IF((T101)=5,$BN$5,\"\")&IF((T101)=6,$BN$6,\"\")&IF((T101)=7,$BN$7,\"\")&IF((T101)=8,$BN$8,\"\")&IF((T101)=9,$BN$9,\"\")&IF((T101)=10,$BN$10,\"\")&IF((T101)=11,$BN$11,\"\")&IF((T101)=12,$BN$12,\"\")&IF((T101)=13,$BN$13,\"\")&IF((T101)=14,$BN$14,\"\")&IF((T101)=15,$BN$15,\"\")&IF((T101)=16,$BN$16,\"\")&IF((T101)=17,$BN$17,\"\")&IF((T101)=18,$BN$18,\"\")&IF((T101)=19,$BN$19,\"\")&IF((T101)=20,$BN$20,\"\")&IF((T101)=21,$BN$21,\"\")&IF((T101)=22,$BN$22,\"\")&IF((T101)=23,$BN$23,\"\")&IF((T101)=24,$BN$24,\"\")&IF((T101)=25,$BN$25,\"\")&IF((T101)=26,$BN$26,\"\")&IF((T101)=27,$BN$27,\"\")&IF((T101)=28,$BN$28,\"\")&IF((T101)=29,$BN$29,\"\")&IF((T101)=30,$BN$30,\"\")&IF((T101)=31,$BN$31,\"\")&IF((T101)=32,$BN$32,\"\")&IF((T101)=33,$BN$33,\"\")&IF((T101)=34,$BN$34,\"\")&IF((T101)=35,$BN$35,\"\")&IF((T101)=36,$BN$36,\"\")&IF((T101)=37,$BN$37,\"\")&IF((T101)=38,$BN$38,\"\")&IF((T101)=39,$BN$39,\"\")&IF((T101)=40,$BN$40,\"\")&IF((T101)=41,$BN$41,\"\")&IF((T101)=42,$BN$42,\"\")&IF((T101)=43,$BN$43,\"\")&IF((T101)=44,$BN$44,\"\")&IF((T101)=45,$BN$45,\"\")&IF((T101)=46,$BN$46,\"\")&IF((T101)=47,$BN$47,\"\")&IF((T101)=48,$BN$48,\"\")&IF((T101)=49,$BN$49,\"\")&IF((T101)=50,$BN$50,\"\")&IF((T101)=51,$BN$51,\"\")&IF((T101)=52,$BN$52,\"\")&IF((T101)=53,$BN$53,\"\")&IF((T101)=54,$BN$54,\"\")&IF((T101)=55,$BN$55,\"\")&IF((T101)=56,$BN$56,\"\")&IF((T101)=57,$BN$57,\"\")&IF((T101)=58,$BN$58,\"\")&IF((T101)=59,$BN$59,\"\")&IF((T101)=60,$BN$60,\"\")&IF((T101)=61,$BN$61,\"\")&IF((T101)=62,$BN$62,\"\")&IF((T101)=63,$BN$63,\"\")&IF((T101)=64,$BN$64,\"\")&IF((T101)=65,$BN$65,\"\")&IF((T101)=66,$BN$66,\"\")&IF((T101)=67,$BN$67,\"\")&IF((T101)=68,$BN$68,\"\")&IF((T101)=69,$BN$69,\"\")&IF((T101)=70,$BN$70,\"\")&IF((T101)=71,$BN$71,\"\")&IF((T101)=72,$BN$72,\"\")&IF((T101)=73,$BN$73,\"\")&IF((T101)=74,$BN$74,\"\")&IF((T101)=75,$BN$75,\"\")&IF((T101)=76,$BN$76,\"\")&IF((T101)=77,$BN$77,\"\")&IF((T101)=78,$BN$78,\"\")&IF((T101)=79,$BN$79,\"\")&IF((T101)=80,$BN$80,\"\")&IF((T101)=81,$BN$81,\"\")&IF((T101)=82,$BN$82,\"\")&IF((T101)=83,$BN$83,\"\")&IF((T101)=84,$BN$84,\"\")&IF((T101)=85,$BN$85,\"\")&IF((T101)=86,$BN$86,\"\")&IF((T101)=87,$BN$87,\"\")&IF((T101)=88,$BN$88,\"\")&IF((T101)=89,$BN$89,\"\")&IF((T101)=90,$BN$90,\"\")&IF((T101)=91,$BN$91,\"\")&IF((T101)=92,$BN$92,\"\")&IF((T101)=93,$BN$93,\"\")&IF((T101)=94,$BN$94,\"\")&IF((T101)=95,$BN$95,\"\")&IF((T101)=96,$BN$96,\"\")&IF((T101)=97,$BN$97,\"\")&IF((T101)=98,$BN$98,\"\")&IF((T101)=99,$BN$99,\"\")&IF((T101)=100,$BN$100,\"\")&IF((T101)=101,$BN$101,\"\")&IF((T101)=102,$BN$102,\"\")&IF((T101)=103,$BN$103,\"\")&IF((T101)=104,$BN$104,\"\")&IF((T101)=105,$BN$105,\"\")&IF((T101)=106,$BN$106,\"\")&IF((T101)=107,$BN$107,\"\")&IF((T101)=108,$BN$108,\"\")&IF((T101)=109,$BN$109,\"\")&IF((T101)=110,$BN$110,\"\")&IF((T101)=111,$BN$111,\"\")&IF((T101)=112,$BN$112,\"\")&IF((T101)=113,$BN$113,\"\")&IF((T101)=114,$BN$114,\"\")&IF((T101)=115,$BN$115,\"\")&IF((T101)=116,$BN$116,\"\")&IF((T101)=117,$BN$117,\"\")&IF((T101)=118,$BN$118,\"\")&IF((T101)=119,$BN$119,\"\")&IF((T101)=120,$BN$120,\"\")&IF((T101)=121,$BN$121,\"\")&IF((T101)=122,$BN$122,\"\")&IF((T101)=123,$BN$123,\"\")&IF((T101)=124,$BN$124,\"\")&IF((T101)=125,$BN$125,\"\")&IF((T101)=126,$BN$126,\"\")&IF((T101)=127,$BN$127,\"\")&IF((T101)=128,$BN$128,\"\")","v":"Marcel"},null,null,"Equ",{"$f":"Z101","v":21},null,{"$f":"IF((Z101)=1,$BN$1,\"\")&IF((Z101)=2,$BN$2,\"\")&IF((Z101)=3,$BN$3,\"\")&IF((Z101)=4,$BN$4,\"\")&IF((Z101)=5,$BN$5,\"\")&IF((Z101)=6,$BN$6,\"\")&IF((Z101)=7,$BN$7,\"\")&IF((Z101)=8,$BN$8,\"\")&IF((Z101)=9,$BN$9,\"\")&IF((Z101)=10,$BN$10,\"\")&IF((Z101)=11,$BN$11,\"\")&IF((Z101)=12,$BN$12,\"\")&IF((Z101)=13,$BN$13,\"\")&IF((Z101)=14,$BN$14,\"\")&IF((Z101)=15,$BN$15,\"\")&IF((Z101)=16,$BN$16,\"\")&IF((Z101)=17,$BN$17,\"\")&IF((Z101)=18,$BN$18,\"\")&IF((Z101)=19,$BN$19,\"\")&IF((Z101)=20,$BN$20,\"\")&IF((Z101)=21,$BN$21,\"\")&IF((Z101)=22,$BN$22,\"\")&IF((Z101)=23,$BN$23,\"\")&IF((Z101)=24,$BN$24,\"\")&IF((Z101)=25,$BN$25,\"\")&IF((Z101)=26,$BN$26,\"\")&IF((Z101)=27,$BN$27,\"\")&IF((Z101)=28,$BN$28,\"\")&IF((Z101)=29,$BN$29,\"\")&IF((Z101)=30,$BN$30,\"\")&IF((Z101)=31,$BN$31,\"\")&IF((Z101)=32,$BN$32,\"\")&IF((Z101)=33,$BN$33,\"\")&IF((Z101)=34,$BN$34,\"\")&IF((Z101)=35,$BN$35,\"\")&IF((Z101)=36,$BN$36,\"\")&IF((Z101)=37,$BN$37,\"\")&IF((Z101)=38,$BN$38,\"\")&IF((Z101)=39,$BN$39,\"\")&IF((Z101)=40,$BN$40,\"\")&IF((Z101)=41,$BN$41,\"\")&IF((Z101)=42,$BN$42,\"\")&IF((Z101)=43,$BN$43,\"\")&IF((Z101)=44,$BN$44,\"\")&IF((Z101)=45,$BN$45,\"\")&IF((Z101)=46,$BN$46,\"\")&IF((Z101)=47,$BN$47,\"\")&IF((Z101)=48,$BN$48,\"\")&IF((Z101)=49,$BN$49,\"\")&IF((Z101)=50,$BN$50,\"\")&IF((Z101)=51,$BN$51,\"\")&IF((Z101)=52,$BN$52,\"\")&IF((Z101)=53,$BN$53,\"\")&IF((Z101)=54,$BN$54,\"\")&IF((Z101)=55,$BN$55,\"\")&IF((Z101)=56,$BN$56,\"\")&IF((Z101)=57,$BN$57,\"\")&IF((Z101)=58,$BN$58,\"\")&IF((Z101)=59,$BN$59,\"\")&IF((Z101)=60,$BN$60,\"\")&IF((Z101)=61,$BN$61,\"\")&IF((Z101)=62,$BN$62,\"\")&IF((Z101)=63,$BN$63,\"\")&IF((Z101)=64,$BN$64,\"\")&IF((Z101)=65,$BN$65,\"\")&IF((Z101)=66,$BN$66,\"\")&IF((Z101)=67,$BN$67,\"\")&IF((Z101)=68,$BN$68,\"\")&IF((Z101)=69,$BN$69,\"\")&IF((Z101)=70,$BN$70,\"\")&IF((Z101)=71,$BN$71,\"\")&IF((Z101)=72,$BN$72,\"\")&IF((Z101)=73,$BN$73,\"\")&IF((Z101)=74,$BN$74,\"\")&IF((Z101)=75,$BN$75,\"\")&IF((Z101)=76,$BN$76,\"\")&IF((Z101)=77,$BN$77,\"\")&IF((Z101)=78,$BN$78,\"\")&IF((Z101)=79,$BN$79,\"\")&IF((Z101)=80,$BN$80,\"\")&IF((Z101)=81,$BN$81,\"\")&IF((Z101)=82,$BN$82,\"\")&IF((Z101)=83,$BN$83,\"\")&IF((Z101)=84,$BN$84,\"\")&IF((Z101)=85,$BN$85,\"\")&IF((Z101)=86,$BN$86,\"\")&IF((Z101)=87,$BN$87,\"\")&IF((Z101)=88,$BN$88,\"\")&IF((Z101)=89,$BN$89,\"\")&IF((Z101)=90,$BN$90,\"\")&IF((Z101)=91,$BN$91,\"\")&IF((Z101)=92,$BN$92,\"\")&IF((Z101)=93,$BN$93,\"\")&IF((Z101)=94,$BN$94,\"\")&IF((Z101)=95,$BN$95,\"\")&IF((Z101)=96,$BN$96,\"\")&IF((Z101)=97,$BN$97,\"\")&IF((Z101)=98,$BN$98,\"\")&IF((Z101)=99,$BN$99,\"\")&IF((Z101)=100,$BN$100,\"\")&IF((Z101)=101,$BN$101,\"\")&IF((Z101)=102,$BN$102,\"\")&IF((Z101)=103,$BN$103,\"\")&IF((Z101)=104,$BN$104,\"\")&IF((Z101)=105,$BN$105,\"\")&IF((Z101)=106,$BN$106,\"\")&IF((Z101)=107,$BN$107,\"\")&IF((Z101)=108,$BN$108,\"\")&IF((Z101)=109,$BN$109,\"\")&IF((Z101)=110,$BN$110,\"\")&IF((Z101)=111,$BN$111,\"\")&IF((Z101)=112,$BN$112,\"\")&IF((Z101)=113,$BN$113,\"\")&IF((Z101)=114,$BN$114,\"\")&IF((Z101)=115,$BN$115,\"\")&IF((Z101)=116,$BN$116,\"\")&IF((Z101)=117,$BN$117,\"\")&IF((Z101)=118,$BN$118,\"\")&IF((Z101)=119,$BN$119,\"\")&IF((Z101)=120,$BN$120,\"\")&IF((Z101)=121,$BN$121,\"\")&IF((Z101)=122,$BN$122,\"\")&IF((Z101)=123,$BN$123,\"\")&IF((Z101)=124,$BN$124,\"\")&IF((Z101)=125,$BN$125,\"\")&IF((Z101)=126,$BN$126,\"\")&IF((Z101)=127,$BN$127,\"\")&IF((Z101)=128,$BN$128,\"\")","v":"Gégé / Eric"},"Equ",{"$f":"AD101","v":1},null,{"$f":"IF((AD101)=1,$BN$1,\"\")&IF((AD101)=2,$BN$2,\"\")&IF((AD101)=3,$BN$3,\"\")&IF((AD101)=4,$BN$4,\"\")&IF((AD101)=5,$BN$5,\"\")&IF((AD101)=6,$BN$6,\"\")&IF((AD101)=7,$BN$7,\"\")&IF((AD101)=8,$BN$8,\"\")&IF((AD101)=9,$BN$9,\"\")&IF((AD101)=10,$BN$10,\"\")&IF((AD101)=11,$BN$11,\"\")&IF((AD101)=12,$BN$12,\"\")&IF((AD101)=13,$BN$13,\"\")&IF((AD101)=14,$BN$14,\"\")&IF((AD101)=15,$BN$15,\"\")&IF((AD101)=16,$BN$16,\"\")&IF((AD101)=17,$BN$17,\"\")&IF((AD101)=18,$BN$18,\"\")&IF((AD101)=19,$BN$19,\"\")&IF((AD101)=20,$BN$20,\"\")&IF((AD101)=21,$BN$21,\"\")&IF((AD101)=22,$BN$22,\"\")&IF((AD101)=23,$BN$23,\"\")&IF((AD101)=24,$BN$24,\"\")&IF((AD101)=25,$BN$25,\"\")&IF((AD101)=26,$BN$26,\"\")&IF((AD101)=27,$BN$27,\"\")&IF((AD101)=28,$BN$28,\"\")&IF((AD101)=29,$BN$29,\"\")&IF((AD101)=30,$BN$30,\"\")&IF((AD101)=31,$BN$31,\"\")&IF((AD101)=32,$BN$32,\"\")&IF((AD101)=33,$BN$33,\"\")&IF((AD101)=34,$BN$34,\"\")&IF((AD101)=35,$BN$35,\"\")&IF((AD101)=36,$BN$36,\"\")&IF((AD101)=37,$BN$37,\"\")&IF((AD101)=38,$BN$38,\"\")&IF((AD101)=39,$BN$39,\"\")&IF((AD101)=40,$BN$40,\"\")&IF((AD101)=41,$BN$41,\"\")&IF((AD101)=42,$BN$42,\"\")&IF((AD101)=43,$BN$43,\"\")&IF((AD101)=44,$BN$44,\"\")&IF((AD101)=45,$BN$45,\"\")&IF((AD101)=46,$BN$46,\"\")&IF((AD101)=47,$BN$47,\"\")&IF((AD101)=48,$BN$48,\"\")&IF((AD101)=49,$BN$49,\"\")&IF((AD101)=50,$BN$50,\"\")&IF((AD101)=51,$BN$51,\"\")&IF((AD101)=52,$BN$52,\"\")&IF((AD101)=53,$BN$53,\"\")&IF((AD101)=54,$BN$54,\"\")&IF((AD101)=55,$BN$55,\"\")&IF((AD101)=56,$BN$56,\"\")&IF((AD101)=57,$BN$57,\"\")&IF((AD101)=58,$BN$58,\"\")&IF((AD101)=59,$BN$59,\"\")&IF((AD101)=60,$BN$60,\"\")&IF((AD101)=61,$BN$61,\"\")&IF((AD101)=62,$BN$62,\"\")&IF((AD101)=63,$BN$63,\"\")&IF((AD101)=64,$BN$64,\"\")&IF((AD101)=65,$BN$65,\"\")&IF((AD101)=66,$BN$66,\"\")&IF((AD101)=67,$BN$67,\"\")&IF((AD101)=68,$BN$68,\"\")&IF((AD101)=69,$BN$69,\"\")&IF((AD101)=70,$BN$70,\"\")&IF((AD101)=71,$BN$71,\"\")&IF((AD101)=72,$BN$72,\"\")&IF((AD101)=73,$BN$73,\"\")&IF((AD101)=74,$BN$74,\"\")&IF((AD101)=75,$BN$75,\"\")&IF((AD101)=76,$BN$76,\"\")&IF((AD101)=77,$BN$77,\"\")&IF((AD101)=78,$BN$78,\"\")&IF((AD101)=79,$BN$79,\"\")&IF((AD101)=80,$BN$80,\"\")&IF((AD101)=81,$BN$81,\"\")&IF((AD101)=82,$BN$82,\"\")&IF((AD101)=83,$BN$83,\"\")&IF((AD101)=84,$BN$84,\"\")&IF((AD101)=85,$BN$85,\"\")&IF((AD101)=86,$BN$86,\"\")&IF((AD101)=87,$BN$87,\"\")&IF((AD101)=88,$BN$88,\"\")&IF((AD101)=89,$BN$89,\"\")&IF((AD101)=90,$BN$90,\"\")&IF((AD101)=91,$BN$91,\"\")&IF((AD101)=92,$BN$92,\"\")&IF((AD101)=93,$BN$93,\"\")&IF((AD101)=94,$BN$94,\"\")&IF((AD101)=95,$BN$95,\"\")&IF((AD101)=96,$BN$96,\"\")&IF((AD101)=97,$BN$97,\"\")&IF((AD101)=98,$BN$98,\"\")&IF((AD101)=99,$BN$99,\"\")&IF((AD101)=100,$BN$100,\"\")&IF((AD101)=101,$BN$101,\"\")&IF((AD101)=102,$BN$102,\"\")&IF((AD101)=103,$BN$103,\"\")&IF((AD101)=104,$BN$104,\"\")&IF((AD101)=105,$BN$105,\"\")&IF((AD101)=106,$BN$106,\"\")&IF((AD101)=107,$BN$107,\"\")&IF((AD101)=108,$BN$108,\"\")&IF((AD101)=109,$BN$109,\"\")&IF((AD101)=110,$BN$110,\"\")&IF((AD101)=111,$BN$111,\"\")&IF((AD101)=112,$BN$112,\"\")&IF((AD101)=113,$BN$113,\"\")&IF((AD101)=114,$BN$114,\"\")&IF((AD101)=115,$BN$115,\"\")&IF((AD101)=116,$BN$116,\"\")&IF((AD101)=117,$BN$117,\"\")&IF((AD101)=118,$BN$118,\"\")&IF((AD101)=119,$BN$119,\"\")&IF((AD101)=120,$BN$120,\"\")&IF((AD101)=121,$BN$121,\"\")&IF((AD101)=122,$BN$122,\"\")&IF((AD101)=123,$BN$123,\"\")&IF((AD101)=124,$BN$124,\"\")&IF((AD101)=125,$BN$125,\"\")&IF((AD101)=126,$BN$126,\"\")&IF((AD101)=127,$BN$127,\"\")&IF((AD101)=128,$BN$128,\"\")","v":"Julot"},null,null,"Equ",{"$f":"AJ101","v":27},null,{"$f":"IF((AJ101)=1,$BN$1,\"\")&IF((AJ101)=2,$BN$2,\"\")&IF((AJ101)=3,$BN$3,\"\")&IF((AJ101)=4,$BN$4,\"\")&IF((AJ101)=5,$BN$5,\"\")&IF((AJ101)=6,$BN$6,\"\")&IF((AJ101)=7,$BN$7,\"\")&IF((AJ101)=8,$BN$8,\"\")&IF((AJ101)=9,$BN$9,\"\")&IF((AJ101)=10,$BN$10,\"\")&IF((AJ101)=11,$BN$11,\"\")&IF((AJ101)=12,$BN$12,\"\")&IF((AJ101)=13,$BN$13,\"\")&IF((AJ101)=14,$BN$14,\"\")&IF((AJ101)=15,$BN$15,\"\")&IF((AJ101)=16,$BN$16,\"\")&IF((AJ101)=17,$BN$17,\"\")&IF((AJ101)=18,$BN$18,\"\")&IF((AJ101)=19,$BN$19,\"\")&IF((AJ101)=20,$BN$20,\"\")&IF((AJ101)=21,$BN$21,\"\")&IF((AJ101)=22,$BN$22,\"\")&IF((AJ101)=23,$BN$23,\"\")&IF((AJ101)=24,$BN$24,\"\")&IF((AJ101)=25,$BN$25,\"\")&IF((AJ101)=26,$BN$26,\"\")&IF((AJ101)=27,$BN$27,\"\")&IF((AJ101)=28,$BN$28,\"\")&IF((AJ101)=29,$BN$29,\"\")&IF((AJ101)=30,$BN$30,\"\")&IF((AJ101)=31,$BN$31,\"\")&IF((AJ101)=32,$BN$32,\"\")&IF((AJ101)=33,$BN$33,\"\")&IF((AJ101)=34,$BN$34,\"\")&IF((AJ101)=35,$BN$35,\"\")&IF((AJ101)=36,$BN$36,\"\")&IF((AJ101)=37,$BN$37,\"\")&IF((AJ101)=38,$BN$38,\"\")&IF((AJ101)=39,$BN$39,\"\")&IF((AJ101)=40,$BN$40,\"\")&IF((AJ101)=41,$BN$41,\"\")&IF((AJ101)=42,$BN$42,\"\")&IF((AJ101)=43,$BN$43,\"\")&IF((AJ101)=44,$BN$44,\"\")&IF((AJ101)=45,$BN$45,\"\")&IF((AJ101)=46,$BN$46,\"\")&IF((AJ101)=47,$BN$47,\"\")&IF((AJ101)=48,$BN$48,\"\")&IF((AJ101)=49,$BN$49,\"\")&IF((AJ101)=50,$BN$50,\"\")&IF((AJ101)=51,$BN$51,\"\")&IF((AJ101)=52,$BN$52,\"\")&IF((AJ101)=53,$BN$53,\"\")&IF((AJ101)=54,$BN$54,\"\")&IF((AJ101)=55,$BN$55,\"\")&IF((AJ101)=56,$BN$56,\"\")&IF((AJ101)=57,$BN$57,\"\")&IF((AJ101)=58,$BN$58,\"\")&IF((AJ101)=59,$BN$59,\"\")&IF((AJ101)=60,$BN$60,\"\")&IF((AJ101)=61,$BN$61,\"\")&IF((AJ101)=62,$BN$62,\"\")&IF((AJ101)=63,$BN$63,\"\")&IF((AJ101)=64,$BN$64,\"\")&IF((AJ101)=65,$BN$65,\"\")&IF((AJ101)=66,$BN$66,\"\")&IF((AJ101)=67,$BN$67,\"\")&IF((AJ101)=68,$BN$68,\"\")&IF((AJ101)=69,$BN$69,\"\")&IF((AJ101)=70,$BN$70,\"\")&IF((AJ101)=71,$BN$71,\"\")&IF((AJ101)=72,$BN$72,\"\")&IF((AJ101)=73,$BN$73,\"\")&IF((AJ101)=74,$BN$74,\"\")&IF((AJ101)=75,$BN$75,\"\")&IF((AJ101)=76,$BN$76,\"\")&IF((AJ101)=77,$BN$77,\"\")&IF((AJ101)=78,$BN$78,\"\")&IF((AJ101)=79,$BN$79,\"\")&IF((AJ101)=80,$BN$80,\"\")&IF((AJ101)=81,$BN$81,\"\")&IF((AJ101)=82,$BN$82,\"\")&IF((AJ101)=83,$BN$83,\"\")&IF((AJ101)=84,$BN$84,\"\")&IF((AJ101)=85,$BN$85,\"\")&IF((AJ101)=86,$BN$86,\"\")&IF((AJ101)=87,$BN$87,\"\")&IF((AJ101)=88,$BN$88,\"\")&IF((AJ101)=89,$BN$89,\"\")&IF((AJ101)=90,$BN$90,\"\")&IF((AJ101)=91,$BN$91,\"\")&IF((AJ101)=92,$BN$92,\"\")&IF((AJ101)=93,$BN$93,\"\")&IF((AJ101)=94,$BN$94,\"\")&IF((AJ101)=95,$BN$95,\"\")&IF((AJ101)=96,$BN$96,\"\")&IF((AJ101)=97,$BN$97,\"\")&IF((AJ101)=98,$BN$98,\"\")&IF((AJ101)=99,$BN$99,\"\")&IF((AJ101)=100,$BN$100,\"\")&IF((AJ101)=101,$BN$101,\"\")&IF((AJ101)=102,$BN$102,\"\")&IF((AJ101)=103,$BN$103,\"\")&IF((AJ101)=104,$BN$104,\"\")&IF((AJ101)=105,$BN$105,\"\")&IF((AJ101)=106,$BN$106,\"\")&IF((AJ101)=107,$BN$107,\"\")&IF((AJ101)=108,$BN$108,\"\")&IF((AJ101)=109,$BN$109,\"\")&IF((AJ101)=110,$BN$110,\"\")&IF((AJ101)=111,$BN$111,\"\")&IF((AJ101)=112,$BN$112,\"\")&IF((AJ101)=113,$BN$113,\"\")&IF((AJ101)=114,$BN$114,\"\")&IF((AJ101)=115,$BN$115,\"\")&IF((AJ101)=116,$BN$116,\"\")&IF((AJ101)=117,$BN$117,\"\")&IF((AJ101)=118,$BN$118,\"\")&IF((AJ101)=119,$BN$119,\"\")&IF((AJ101)=120,$BN$120,\"\")&IF((AJ101)=121,$BN$121,\"\")&IF((AJ101)=122,$BN$122,\"\")&IF((AJ101)=123,$BN$123,\"\")&IF((AJ101)=124,$BN$124,\"\")&IF((AJ101)=125,$BN$125,\"\")&IF((AJ101)=126,$BN$126,\"\")&IF((AJ101)=127,$BN$127,\"\")&IF((AJ101)=128,$BN$128,\"\")","v":"Phillipe / Michel"},"Equ",{"$f":"AN101","v":22},null,{"$f":"IF((AN101)=1,$BN$1,\"\")&IF((AN101)=2,$BN$2,\"\")&IF((AN101)=3,$BN$3,\"\")&IF((AN101)=4,$BN$4,\"\")&IF((AN101)=5,$BN$5,\"\")&IF((AN101)=6,$BN$6,\"\")&IF((AN101)=7,$BN$7,\"\")&IF((AN101)=8,$BN$8,\"\")&IF((AN101)=9,$BN$9,\"\")&IF((AN101)=10,$BN$10,\"\")&IF((AN101)=11,$BN$11,\"\")&IF((AN101)=12,$BN$12,\"\")&IF((AN101)=13,$BN$13,\"\")&IF((AN101)=14,$BN$14,\"\")&IF((AN101)=15,$BN$15,\"\")&IF((AN101)=16,$BN$16,\"\")&IF((AN101)=17,$BN$17,\"\")&IF((AN101)=18,$BN$18,\"\")&IF((AN101)=19,$BN$19,\"\")&IF((AN101)=20,$BN$20,\"\")&IF((AN101)=21,$BN$21,\"\")&IF((AN101)=22,$BN$22,\"\")&IF((AN101)=23,$BN$23,\"\")&IF((AN101)=24,$BN$24,\"\")&IF((AN101)=25,$BN$25,\"\")&IF((AN101)=26,$BN$26,\"\")&IF((AN101)=27,$BN$27,\"\")&IF((AN101)=28,$BN$28,\"\")&IF((AN101)=29,$BN$29,\"\")&IF((AN101)=30,$BN$30,\"\")&IF((AN101)=31,$BN$31,\"\")&IF((AN101)=32,$BN$32,\"\")&IF((AN101)=33,$BN$33,\"\")&IF((AN101)=34,$BN$34,\"\")&IF((AN101)=35,$BN$35,\"\")&IF((AN101)=36,$BN$36,\"\")&IF((AN101)=37,$BN$37,\"\")&IF((AN101)=38,$BN$38,\"\")&IF((AN101)=39,$BN$39,\"\")&IF((AN101)=40,$BN$40,\"\")&IF((AN101)=41,$BN$41,\"\")&IF((AN101)=42,$BN$42,\"\")&IF((AN101)=43,$BN$43,\"\")&IF((AN101)=44,$BN$44,\"\")&IF((AN101)=45,$BN$45,\"\")&IF((AN101)=46,$BN$46,\"\")&IF((AN101)=47,$BN$47,\"\")&IF((AN101)=48,$BN$48,\"\")&IF((AN101)=49,$BN$49,\"\")&IF((AN101)=50,$BN$50,\"\")&IF((AN101)=51,$BN$51,\"\")&IF((AN101)=52,$BN$52,\"\")&IF((AN101)=53,$BN$53,\"\")&IF((AN101)=54,$BN$54,\"\")&IF((AN101)=55,$BN$55,\"\")&IF((AN101)=56,$BN$56,\"\")&IF((AN101)=57,$BN$57,\"\")&IF((AN101)=58,$BN$58,\"\")&IF((AN101)=59,$BN$59,\"\")&IF((AN101)=60,$BN$60,\"\")&IF((AN101)=61,$BN$61,\"\")&IF((AN101)=62,$BN$62,\"\")&IF((AN101)=63,$BN$63,\"\")&IF((AN101)=64,$BN$64,\"\")&IF((AN101)=65,$BN$65,\"\")&IF((AN101)=66,$BN$66,\"\")&IF((AN101)=67,$BN$67,\"\")&IF((AN101)=68,$BN$68,\"\")&IF((AN101)=69,$BN$69,\"\")&IF((AN101)=70,$BN$70,\"\")&IF((AN101)=71,$BN$71,\"\")&IF((AN101)=72,$BN$72,\"\")&IF((AN101)=73,$BN$73,\"\")&IF((AN101)=74,$BN$74,\"\")&IF((AN101)=75,$BN$75,\"\")&IF((AN101)=76,$BN$76,\"\")&IF((AN101)=77,$BN$77,\"\")&IF((AN101)=78,$BN$78,\"\")&IF((AN101)=79,$BN$79,\"\")&IF((AN101)=80,$BN$80,\"\")&IF((AN101)=81,$BN$81,\"\")&IF((AN101)=82,$BN$82,\"\")&IF((AN101)=83,$BN$83,\"\")&IF((AN101)=84,$BN$84,\"\")&IF((AN101)=85,$BN$85,\"\")&IF((AN101)=86,$BN$86,\"\")&IF((AN101)=87,$BN$87,\"\")&IF((AN101)=88,$BN$88,\"\")&IF((AN101)=89,$BN$89,\"\")&IF((AN101)=90,$BN$90,\"\")&IF((AN101)=91,$BN$91,\"\")&IF((AN101)=92,$BN$92,\"\")&IF((AN101)=93,$BN$93,\"\")&IF((AN101)=94,$BN$94,\"\")&IF((AN101)=95,$BN$95,\"\")&IF((AN101)=96,$BN$96,\"\")&IF((AN101)=97,$BN$97,\"\")&IF((AN101)=98,$BN$98,\"\")&IF((AN101)=99,$BN$99,\"\")&IF((AN101)=100,$BN$100,\"\")&IF((AN101)=101,$BN$101,\"\")&IF((AN101)=102,$BN$102,\"\")&IF((AN101)=103,$BN$103,\"\")&IF((AN101)=104,$BN$104,\"\")&IF((AN101)=105,$BN$105,\"\")&IF((AN101)=106,$BN$106,\"\")&IF((AN101)=107,$BN$107,\"\")&IF((AN101)=108,$BN$108,\"\")&IF((AN101)=109,$BN$109,\"\")&IF((AN101)=110,$BN$110,\"\")&IF((AN101)=111,$BN$111,\"\")&IF((AN101)=112,$BN$112,\"\")&IF((AN101)=113,$BN$113,\"\")&IF((AN101)=114,$BN$114,\"\")&IF((AN101)=115,$BN$115,\"\")&IF((AN101)=116,$BN$116,\"\")&IF((AN101)=117,$BN$117,\"\")&IF((AN101)=118,$BN$118,\"\")&IF((AN101)=119,$BN$119,\"\")&IF((AN101)=120,$BN$120,\"\")&IF((AN101)=121,$BN$121,\"\")&IF((AN101)=122,$BN$122,\"\")&IF((AN101)=123,$BN$123,\"\")&IF((AN101)=124,$BN$124,\"\")&IF((AN101)=125,$BN$125,\"\")&IF((AN101)=126,$BN$126,\"\")&IF((AN101)=127,$BN$127,\"\")&IF((AN101)=128,$BN$128,\"\")","v":"Landry / Martial"},null,null,"Equ",{"$f":"AT101","v":30},null,{"$f":"IF((AT101)=1,$BN$1,\"\")&IF((AT101)=2,$BN$2,\"\")&IF((AT101)=3,$BN$3,\"\")&IF((AT101)=4,$BN$4,\"\")&IF((AT101)=5,$BN$5,\"\")&IF((AT101)=6,$BN$6,\"\")&IF((AT101)=7,$BN$7,\"\")&IF((AT101)=8,$BN$8,\"\")&IF((AT101)=9,$BN$9,\"\")&IF((AT101)=10,$BN$10,\"\")&IF((AT101)=11,$BN$11,\"\")&IF((AT101)=12,$BN$12,\"\")&IF((AT101)=13,$BN$13,\"\")&IF((AT101)=14,$BN$14,\"\")&IF((AT101)=15,$BN$15,\"\")&IF((AT101)=16,$BN$16,\"\")&IF((AT101)=17,$BN$17,\"\")&IF((AT101)=18,$BN$18,\"\")&IF((AT101)=19,$BN$19,\"\")&IF((AT101)=20,$BN$20,\"\")&IF((AT101)=21,$BN$21,\"\")&IF((AT101)=22,$BN$22,\"\")&IF((AT101)=23,$BN$23,\"\")&IF((AT101)=24,$BN$24,\"\")&IF((AT101)=25,$BN$25,\"\")&IF((AT101)=26,$BN$26,\"\")&IF((AT101)=27,$BN$27,\"\")&IF((AT101)=28,$BN$28,\"\")&IF((AT101)=29,$BN$29,\"\")&IF((AT101)=30,$BN$30,\"\")&IF((AT101)=31,$BN$31,\"\")&IF((AT101)=32,$BN$32,\"\")&IF((AT101)=33,$BN$33,\"\")&IF((AT101)=34,$BN$34,\"\")&IF((AT101)=35,$BN$35,\"\")&IF((AT101)=36,$BN$36,\"\")&IF((AT101)=37,$BN$37,\"\")&IF((AT101)=38,$BN$38,\"\")&IF((AT101)=39,$BN$39,\"\")&IF((AT101)=40,$BN$40,\"\")&IF((AT101)=41,$BN$41,\"\")&IF((AT101)=42,$BN$42,\"\")&IF((AT101)=43,$BN$43,\"\")&IF((AT101)=44,$BN$44,\"\")&IF((AT101)=45,$BN$45,\"\")&IF((AT101)=46,$BN$46,\"\")&IF((AT101)=47,$BN$47,\"\")&IF((AT101)=48,$BN$48,\"\")&IF((AT101)=49,$BN$49,\"\")&IF((AT101)=50,$BN$50,\"\")&IF((AT101)=51,$BN$51,\"\")&IF((AT101)=52,$BN$52,\"\")&IF((AT101)=53,$BN$53,\"\")&IF((AT101)=54,$BN$54,\"\")&IF((AT101)=55,$BN$55,\"\")&IF((AT101)=56,$BN$56,\"\")&IF((AT101)=57,$BN$57,\"\")&IF((AT101)=58,$BN$58,\"\")&IF((AT101)=59,$BN$59,\"\")&IF((AT101)=60,$BN$60,\"\")&IF((AT101)=61,$BN$61,\"\")&IF((AT101)=62,$BN$62,\"\")&IF((AT101)=63,$BN$63,\"\")&IF((AT101)=64,$BN$64,\"\")&IF((AT101)=65,$BN$65,\"\")&IF((AT101)=66,$BN$66,\"\")&IF((AT101)=67,$BN$67,\"\")&IF((AT101)=68,$BN$68,\"\")&IF((AT101)=69,$BN$69,\"\")&IF((AT101)=70,$BN$70,\"\")&IF((AT101)=71,$BN$71,\"\")&IF((AT101)=72,$BN$72,\"\")&IF((AT101)=73,$BN$73,\"\")&IF((AT101)=74,$BN$74,\"\")&IF((AT101)=75,$BN$75,\"\")&IF((AT101)=76,$BN$76,\"\")&IF((AT101)=77,$BN$77,\"\")&IF((AT101)=78,$BN$78,\"\")&IF((AT101)=79,$BN$79,\"\")&IF((AT101)=80,$BN$80,\"\")&IF((AT101)=81,$BN$81,\"\")&IF((AT101)=82,$BN$82,\"\")&IF((AT101)=83,$BN$83,\"\")&IF((AT101)=84,$BN$84,\"\")&IF((AT101)=85,$BN$85,\"\")&IF((AT101)=86,$BN$86,\"\")&IF((AT101)=87,$BN$87,\"\")&IF((AT101)=88,$BN$88,\"\")&IF((AT101)=89,$BN$89,\"\")&IF((AT101)=90,$BN$90,\"\")&IF((AT101)=91,$BN$91,\"\")&IF((AT101)=92,$BN$92,\"\")&IF((AT101)=93,$BN$93,\"\")&IF((AT101)=94,$BN$94,\"\")&IF((AT101)=95,$BN$95,\"\")&IF((AT101)=96,$BN$96,\"\")&IF((AT101)=97,$BN$97,\"\")&IF((AT101)=98,$BN$98,\"\")&IF((AT101)=99,$BN$99,\"\")&IF((AT101)=100,$BN$100,\"\")&IF((AT101)=101,$BN$101,\"\")&IF((AT101)=102,$BN$102,\"\")&IF((AT101)=103,$BN$103,\"\")&IF((AT101)=104,$BN$104,\"\")&IF((AT101)=105,$BN$105,\"\")&IF((AT101)=106,$BN$106,\"\")&IF((AT101)=107,$BN$107,\"\")&IF((AT101)=108,$BN$108,\"\")&IF((AT101)=109,$BN$109,\"\")&IF((AT101)=110,$BN$110,\"\")&IF((AT101)=111,$BN$111,\"\")&IF((AT101)=112,$BN$112,\"\")&IF((AT101)=113,$BN$113,\"\")&IF((AT101)=114,$BN$114,\"\")&IF((AT101)=115,$BN$115,\"\")&IF((AT101)=116,$BN$116,\"\")&IF((AT101)=117,$BN$117,\"\")&IF((AT101)=118,$BN$118,\"\")&IF((AT101)=119,$BN$119,\"\")&IF((AT101)=120,$BN$120,\"\")&IF((AT101)=121,$BN$121,\"\")&IF((AT101)=122,$BN$122,\"\")&IF((AT101)=123,$BN$123,\"\")&IF((AT101)=124,$BN$124,\"\")&IF((AT101)=125,$BN$125,\"\")&IF((AT101)=126,$BN$126,\"\")&IF((AT101)=127,$BN$127,\"\")&IF((AT101)=128,$BN$128,\"\")","v":"Patrick / Roger"},"Equ",{"$f":"AX101","v":31},null,{"$f":"IF((AX101)=1,$BN$1,\"\")&IF((AX101)=2,$BN$2,\"\")&IF((AX101)=3,$BN$3,\"\")&IF((AX101)=4,$BN$4,\"\")&IF((AX101)=5,$BN$5,\"\")&IF((AX101)=6,$BN$6,\"\")&IF((AX101)=7,$BN$7,\"\")&IF((AX101)=8,$BN$8,\"\")&IF((AX101)=9,$BN$9,\"\")&IF((AX101)=10,$BN$10,\"\")&IF((AX101)=11,$BN$11,\"\")&IF((AX101)=12,$BN$12,\"\")&IF((AX101)=13,$BN$13,\"\")&IF((AX101)=14,$BN$14,\"\")&IF((AX101)=15,$BN$15,\"\")&IF((AX101)=16,$BN$16,\"\")&IF((AX101)=17,$BN$17,\"\")&IF((AX101)=18,$BN$18,\"\")&IF((AX101)=19,$BN$19,\"\")&IF((AX101)=20,$BN$20,\"\")&IF((AX101)=21,$BN$21,\"\")&IF((AX101)=22,$BN$22,\"\")&IF((AX101)=23,$BN$23,\"\")&IF((AX101)=24,$BN$24,\"\")&IF((AX101)=25,$BN$25,\"\")&IF((AX101)=26,$BN$26,\"\")&IF((AX101)=27,$BN$27,\"\")&IF((AX101)=28,$BN$28,\"\")&IF((AX101)=29,$BN$29,\"\")&IF((AX101)=30,$BN$30,\"\")&IF((AX101)=31,$BN$31,\"\")&IF((AX101)=32,$BN$32,\"\")&IF((AX101)=33,$BN$33,\"\")&IF((AX101)=34,$BN$34,\"\")&IF((AX101)=35,$BN$35,\"\")&IF((AX101)=36,$BN$36,\"\")&IF((AX101)=37,$BN$37,\"\")&IF((AX101)=38,$BN$38,\"\")&IF((AX101)=39,$BN$39,\"\")&IF((AX101)=40,$BN$40,\"\")&IF((AX101)=41,$BN$41,\"\")&IF((AX101)=42,$BN$42,\"\")&IF((AX101)=43,$BN$43,\"\")&IF((AX101)=44,$BN$44,\"\")&IF((AX101)=45,$BN$45,\"\")&IF((AX101)=46,$BN$46,\"\")&IF((AX101)=47,$BN$47,\"\")&IF((AX101)=48,$BN$48,\"\")&IF((AX101)=49,$BN$49,\"\")&IF((AX101)=50,$BN$50,\"\")&IF((AX101)=51,$BN$51,\"\")&IF((AX101)=52,$BN$52,\"\")&IF((AX101)=53,$BN$53,\"\")&IF((AX101)=54,$BN$54,\"\")&IF((AX101)=55,$BN$55,\"\")&IF((AX101)=56,$BN$56,\"\")&IF((AX101)=57,$BN$57,\"\")&IF((AX101)=58,$BN$58,\"\")&IF((AX101)=59,$BN$59,\"\")&IF((AX101)=60,$BN$60,\"\")&IF((AX101)=61,$BN$61,\"\")&IF((AX101)=62,$BN$62,\"\")&IF((AX101)=63,$BN$63,\"\")&IF((AX101)=64,$BN$64,\"\")&IF((AX101)=65,$BN$65,\"\")&IF((AX101)=66,$BN$66,\"\")&IF((AX101)=67,$BN$67,\"\")&IF((AX101)=68,$BN$68,\"\")&IF((AX101)=69,$BN$69,\"\")&IF((AX101)=70,$BN$70,\"\")&IF((AX101)=71,$BN$71,\"\")&IF((AX101)=72,$BN$72,\"\")&IF((AX101)=73,$BN$73,\"\")&IF((AX101)=74,$BN$74,\"\")&IF((AX101)=75,$BN$75,\"\")&IF((AX101)=76,$BN$76,\"\")&IF((AX101)=77,$BN$77,\"\")&IF((AX101)=78,$BN$78,\"\")&IF((AX101)=79,$BN$79,\"\")&IF((AX101)=80,$BN$80,\"\")&IF((AX101)=81,$BN$81,\"\")&IF((AX101)=82,$BN$82,\"\")&IF((AX101)=83,$BN$83,\"\")&IF((AX101)=84,$BN$84,\"\")&IF((AX101)=85,$BN$85,\"\")&IF((AX101)=86,$BN$86,\"\")&IF((AX101)=87,$BN$87,\"\")&IF((AX101)=88,$BN$88,\"\")&IF((AX101)=89,$BN$89,\"\")&IF((AX101)=90,$BN$90,\"\")&IF((AX101)=91,$BN$91,\"\")&IF((AX101)=92,$BN$92,\"\")&IF((AX101)=93,$BN$93,\"\")&IF((AX101)=94,$BN$94,\"\")&IF((AX101)=95,$BN$95,\"\")&IF((AX101)=96,$BN$96,\"\")&IF((AX101)=97,$BN$97,\"\")&IF((AX101)=98,$BN$98,\"\")&IF((AX101)=99,$BN$99,\"\")&IF((AX101)=100,$BN$100,\"\")&IF((AX101)=101,$BN$101,\"\")&IF((AX101)=102,$BN$102,\"\")&IF((AX101)=103,$BN$103,\"\")&IF((AX101)=104,$BN$104,\"\")&IF((AX101)=105,$BN$105,\"\")&IF((AX101)=106,$BN$106,\"\")&IF((AX101)=107,$BN$107,\"\")&IF((AX101)=108,$BN$108,\"\")&IF((AX101)=109,$BN$109,\"\")&IF((AX101)=110,$BN$110,\"\")&IF((AX101)=111,$BN$111,\"\")&IF((AX101)=112,$BN$112,\"\")&IF((AX101)=113,$BN$113,\"\")&IF((AX101)=114,$BN$114,\"\")&IF((AX101)=115,$BN$115,\"\")&IF((AX101)=116,$BN$116,\"\")&IF((AX101)=117,$BN$117,\"\")&IF((AX101)=118,$BN$118,\"\")&IF((AX101)=119,$BN$119,\"\")&IF((AX101)=120,$BN$120,\"\")&IF((AX101)=121,$BN$121,\"\")&IF((AX101)=122,$BN$122,\"\")&IF((AX101)=123,$BN$123,\"\")&IF((AX101)=124,$BN$124,\"\")&IF((AX101)=125,$BN$125,\"\")&IF((AX101)=126,$BN$126,\"\")&IF((AX101)=127,$BN$127,\"\")&IF((AX101)=128,$BN$128,\"\")","v":"Gérard / Edouard"},null,null,"Equ",{"$f":"BD101","v":21},null,{"$f":"IF((BD101)=1,$BN$1,\"\")&IF((BD101)=2,$BN$2,\"\")&IF((BD101)=3,$BN$3,\"\")&IF((BD101)=4,$BN$4,\"\")&IF((BD101)=5,$BN$5,\"\")&IF((BD101)=6,$BN$6,\"\")&IF((BD101)=7,$BN$7,\"\")&IF((BD101)=8,$BN$8,\"\")&IF((BD101)=9,$BN$9,\"\")&IF((BD101)=10,$BN$10,\"\")&IF((BD101)=11,$BN$11,\"\")&IF((BD101)=12,$BN$12,\"\")&IF((BD101)=13,$BN$13,\"\")&IF((BD101)=14,$BN$14,\"\")&IF((BD101)=15,$BN$15,\"\")&IF((BD101)=16,$BN$16,\"\")&IF((BD101)=17,$BN$17,\"\")&IF((BD101)=18,$BN$18,\"\")&IF((BD101)=19,$BN$19,\"\")&IF((BD101)=20,$BN$20,\"\")&IF((BD101)=21,$BN$21,\"\")&IF((BD101)=22,$BN$22,\"\")&IF((BD101)=23,$BN$23,\"\")&IF((BD101)=24,$BN$24,\"\")&IF((BD101)=25,$BN$25,\"\")&IF((BD101)=26,$BN$26,\"\")&IF((BD101)=27,$BN$27,\"\")&IF((BD101)=28,$BN$28,\"\")&IF((BD101)=29,$BN$29,\"\")&IF((BD101)=30,$BN$30,\"\")&IF((BD101)=31,$BN$31,\"\")&IF((BD101)=32,$BN$32,\"\")&IF((BD101)=33,$BN$33,\"\")&IF((BD101)=34,$BN$34,\"\")&IF((BD101)=35,$BN$35,\"\")&IF((BD101)=36,$BN$36,\"\")&IF((BD101)=37,$BN$37,\"\")&IF((BD101)=38,$BN$38,\"\")&IF((BD101)=39,$BN$39,\"\")&IF((BD101)=40,$BN$40,\"\")&IF((BD101)=41,$BN$41,\"\")&IF((BD101)=42,$BN$42,\"\")&IF((BD101)=43,$BN$43,\"\")&IF((BD101)=44,$BN$44,\"\")&IF((BD101)=45,$BN$45,\"\")&IF((BD101)=46,$BN$46,\"\")&IF((BD101)=47,$BN$47,\"\")&IF((BD101)=48,$BN$48,\"\")&IF((BD101)=49,$BN$49,\"\")&IF((BD101)=50,$BN$50,\"\")&IF((BD101)=51,$BN$51,\"\")&IF((BD101)=52,$BN$52,\"\")&IF((BD101)=53,$BN$53,\"\")&IF((BD101)=54,$BN$54,\"\")&IF((BD101)=55,$BN$55,\"\")&IF((BD101)=56,$BN$56,\"\")&IF((BD101)=57,$BN$57,\"\")&IF((BD101)=58,$BN$58,\"\")&IF((BD101)=59,$BN$59,\"\")&IF((BD101)=60,$BN$60,\"\")&IF((BD101)=61,$BN$61,\"\")&IF((BD101)=62,$BN$62,\"\")&IF((BD101)=63,$BN$63,\"\")&IF((BD101)=64,$BN$64,\"\")&IF((BD101)=65,$BN$65,\"\")&IF((BD101)=66,$BN$66,\"\")&IF((BD101)=67,$BN$67,\"\")&IF((BD101)=68,$BN$68,\"\")&IF((BD101)=69,$BN$69,\"\")&IF((BD101)=70,$BN$70,\"\")&IF((BD101)=71,$BN$71,\"\")&IF((BD101)=72,$BN$72,\"\")&IF((BD101)=73,$BN$73,\"\")&IF((BD101)=74,$BN$74,\"\")&IF((BD101)=75,$BN$75,\"\")&IF((BD101)=76,$BN$76,\"\")&IF((BD101)=77,$BN$77,\"\")&IF((BD101)=78,$BN$78,\"\")&IF((BD101)=79,$BN$79,\"\")&IF((BD101)=80,$BN$80,\"\")&IF((BD101)=81,$BN$81,\"\")&IF((BD101)=82,$BN$82,\"\")&IF((BD101)=83,$BN$83,\"\")&IF((BD101)=84,$BN$84,\"\")&IF((BD101)=85,$BN$85,\"\")&IF((BD101)=86,$BN$86,\"\")&IF((BD101)=87,$BN$87,\"\")&IF((BD101)=88,$BN$88,\"\")&IF((BD101)=89,$BN$89,\"\")&IF((BD101)=90,$BN$90,\"\")&IF((BD101)=91,$BN$91,\"\")&IF((BD101)=92,$BN$92,\"\")&IF((BD101)=93,$BN$93,\"\")&IF((BD101)=94,$BN$94,\"\")&IF((BD101)=95,$BN$95,\"\")&IF((BD101)=96,$BN$96,\"\")&IF((BD101)=97,$BN$97,\"\")&IF((BD101)=98,$BN$98,\"\")&IF((BD101)=99,$BN$99,\"\")&IF((BD101)=100,$BN$100,\"\")&IF((BD101)=101,$BN$101,\"\")&IF((BD101)=102,$BN$102,\"\")&IF((BD101)=103,$BN$103,\"\")&IF((BD101)=104,$BN$104,\"\")&IF((BD101)=105,$BN$105,\"\")&IF((BD101)=106,$BN$106,\"\")&IF((BD101)=107,$BN$107,\"\")&IF((BD101)=108,$BN$108,\"\")&IF((BD101)=109,$BN$109,\"\")&IF((BD101)=110,$BN$110,\"\")&IF((BD101)=111,$BN$111,\"\")&IF((BD101)=112,$BN$112,\"\")&IF((BD101)=113,$BN$113,\"\")&IF((BD101)=114,$BN$114,\"\")&IF((BD101)=115,$BN$115,\"\")&IF((BD101)=116,$BN$116,\"\")&IF((BD101)=117,$BN$117,\"\")&IF((BD101)=118,$BN$118,\"\")&IF((BD101)=119,$BN$119,\"\")&IF((BD101)=120,$BN$120,\"\")&IF((BD101)=121,$BN$121,\"\")&IF((BD101)=122,$BN$122,\"\")&IF((BD101)=123,$BN$123,\"\")&IF((BD101)=124,$BN$124,\"\")&IF((BD101)=125,$BN$125,\"\")&IF((BD101)=126,$BN$126,\"\")&IF((BD101)=127,$BN$127,\"\")&IF((BD101)=128,$BN$128,\"\")","v":"Gégé / Eric"},"Equ",{"$f":"BH101","v":26},null,{"$f":"IF((BH101)=1,$BN$1,\"\")&IF((BH101)=2,$BN$2,\"\")&IF((BH101)=3,$BN$3,\"\")&IF((BH101)=4,$BN$4,\"\")&IF((BH101)=5,$BN$5,\"\")&IF((BH101)=6,$BN$6,\"\")&IF((BH101)=7,$BN$7,\"\")&IF((BH101)=8,$BN$8,\"\")&IF((BH101)=9,$BN$9,\"\")&IF((BH101)=10,$BN$10,\"\")&IF((BH101)=11,$BN$11,\"\")&IF((BH101)=12,$BN$12,\"\")&IF((BH101)=13,$BN$13,\"\")&IF((BH101)=14,$BN$14,\"\")&IF((BH101)=15,$BN$15,\"\")&IF((BH101)=16,$BN$16,\"\")&IF((BH101)=17,$BN$17,\"\")&IF((BH101)=18,$BN$18,\"\")&IF((BH101)=19,$BN$19,\"\")&IF((BH101)=20,$BN$20,\"\")&IF((BH101)=21,$BN$21,\"\")&IF((BH101)=22,$BN$22,\"\")&IF((BH101)=23,$BN$23,\"\")&IF((BH101)=24,$BN$24,\"\")&IF((BH101)=25,$BN$25,\"\")&IF((BH101)=26,$BN$26,\"\")&IF((BH101)=27,$BN$27,\"\")&IF((BH101)=28,$BN$28,\"\")&IF((BH101)=29,$BN$29,\"\")&IF((BH101)=30,$BN$30,\"\")&IF((BH101)=31,$BN$31,\"\")&IF((BH101)=32,$BN$32,\"\")&IF((BH101)=33,$BN$33,\"\")&IF((BH101)=34,$BN$34,\"\")&IF((BH101)=35,$BN$35,\"\")&IF((BH101)=36,$BN$36,\"\")&IF((BH101)=37,$BN$37,\"\")&IF((BH101)=38,$BN$38,\"\")&IF((BH101)=39,$BN$39,\"\")&IF((BH101)=40,$BN$40,\"\")&IF((BH101)=41,$BN$41,\"\")&IF((BH101)=42,$BN$42,\"\")&IF((BH101)=43,$BN$43,\"\")&IF((BH101)=44,$BN$44,\"\")&IF((BH101)=45,$BN$45,\"\")&IF((BH101)=46,$BN$46,\"\")&IF((BH101)=47,$BN$47,\"\")&IF((BH101)=48,$BN$48,\"\")&IF((BH101)=49,$BN$49,\"\")&IF((BH101)=50,$BN$50,\"\")&IF((BH101)=51,$BN$51,\"\")&IF((BH101)=52,$BN$52,\"\")&IF((BH101)=53,$BN$53,\"\")&IF((BH101)=54,$BN$54,\"\")&IF((BH101)=55,$BN$55,\"\")&IF((BH101)=56,$BN$56,\"\")&IF((BH101)=57,$BN$57,\"\")&IF((BH101)=58,$BN$58,\"\")&IF((BH101)=59,$BN$59,\"\")&IF((BH101)=60,$BN$60,\"\")&IF((BH101)=61,$BN$61,\"\")&IF((BH101)=62,$BN$62,\"\")&IF((BH101)=63,$BN$63,\"\")&IF((BH101)=64,$BN$64,\"\")&IF((BH101)=65,$BN$65,\"\")&IF((BH101)=66,$BN$66,\"\")&IF((BH101)=67,$BN$67,\"\")&IF((BH101)=68,$BN$68,\"\")&IF((BH101)=69,$BN$69,\"\")&IF((BH101)=70,$BN$70,\"\")&IF((BH101)=71,$BN$71,\"\")&IF((BH101)=72,$BN$72,\"\")&IF((BH101)=73,$BN$73,\"\")&IF((BH101)=74,$BN$74,\"\")&IF((BH101)=75,$BN$75,\"\")&IF((BH101)=76,$BN$76,\"\")&IF((BH101)=77,$BN$77,\"\")&IF((BH101)=78,$BN$78,\"\")&IF((BH101)=79,$BN$79,\"\")&IF((BH101)=80,$BN$80,\"\")&IF((BH101)=81,$BN$81,\"\")&IF((BH101)=82,$BN$82,\"\")&IF((BH101)=83,$BN$83,\"\")&IF((BH101)=84,$BN$84,\"\")&IF((BH101)=85,$BN$85,\"\")&IF((BH101)=86,$BN$86,\"\")&IF((BH101)=87,$BN$87,\"\")&IF((BH101)=88,$BN$88,\"\")&IF((BH101)=89,$BN$89,\"\")&IF((BH101)=90,$BN$90,\"\")&IF((BH101)=91,$BN$91,\"\")&IF((BH101)=92,$BN$92,\"\")&IF((BH101)=93,$BN$93,\"\")&IF((BH101)=94,$BN$94,\"\")&IF((BH101)=95,$BN$95,\"\")&IF((BH101)=96,$BN$96,\"\")&IF((BH101)=97,$BN$97,\"\")&IF((BH101)=98,$BN$98,\"\")&IF((BH101)=99,$BN$99,\"\")&IF((BH101)=100,$BN$100,\"\")&IF((BH101)=101,$BN$101,\"\")&IF((BH101)=102,$BN$102,\"\")&IF((BH101)=103,$BN$103,\"\")&IF((BH101)=104,$BN$104,\"\")&IF((BH101)=105,$BN$105,\"\")&IF((BH101)=106,$BN$106,\"\")&IF((BH101)=107,$BN$107,\"\")&IF((BH101)=108,$BN$108,\"\")&IF((BH101)=109,$BN$109,\"\")&IF((BH101)=110,$BN$110,\"\")&IF((BH101)=111,$BN$111,\"\")&IF((BH101)=112,$BN$112,\"\")&IF((BH101)=113,$BN$113,\"\")&IF((BH101)=114,$BN$114,\"\")&IF((BH101)=115,$BN$115,\"\")&IF((BH101)=116,$BN$116,\"\")&IF((BH101)=117,$BN$117,\"\")&IF((BH101)=118,$BN$118,\"\")&IF((BH101)=119,$BN$119,\"\")&IF((BH101)=120,$BN$120,\"\")&IF((BH101)=121,$BN$121,\"\")&IF((BH101)=122,$BN$122,\"\")&IF((BH101)=123,$BN$123,\"\")&IF((BH101)=124,$BN$124,\"\")&IF((BH101)=125,$BN$125,\"\")&IF((BH101)=126,$BN$126,\"\")&IF((BH101)=127,$BN$127,\"\")&IF((BH101)=128,$BN$128,\"\")","v":"Thierry / Damien"},null,null,null,null,{"$f":"resultat!AL6","v":6},{"$f":"resultat!AM6","v":"jacques"}]
["Terrain",2,"Equ",{"$f":"F102","v":27},null,{"$f":"IF((F102)=1,$BN$1,\"\")&IF((F102)=2,$BN$2,\"\")&IF((F102)=3,$BN$3,\"\")&IF((F102)=4,$BN$4,\"\")&IF((F102)=5,$BN$5,\"\")&IF((F102)=6,$BN$6,\"\")&IF((F102)=7,$BN$7,\"\")&IF((F102)=8,$BN$8,\"\")&IF((F102)=9,$BN$9,\"\")&IF((F102)=10,$BN$10,\"\")&IF((F102)=11,$BN$11,\"\")&IF((F102)=12,$BN$12,\"\")&IF((F102)=13,$BN$13,\"\")&IF((F102)=14,$BN$14,\"\")&IF((F102)=15,$BN$15,\"\")&IF((F102)=16,$BN$16,\"\")&IF((F102)=17,$BN$17,\"\")&IF((F102)=18,$BN$18,\"\")&IF((F102)=19,$BN$19,\"\")&IF((F102)=20,$BN$20,\"\")&IF((F102)=21,$BN$21,\"\")&IF((F102)=22,$BN$22,\"\")&IF((F102)=23,$BN$23,\"\")&IF((F102)=24,$BN$24,\"\")&IF((F102)=25,$BN$25,\"\")&IF((F102)=26,$BN$26,\"\")&IF((F102)=27,$BN$27,\"\")&IF((F102)=28,$BN$28,\"\")&IF((F102)=29,$BN$29,\"\")&IF((F102)=30,$BN$30,\"\")&IF((F102)=31,$BN$31,\"\")&IF((F102)=32,$BN$32,\"\")&IF((F102)=33,$BN$33,\"\")&IF((F102)=34,$BN$34,\"\")&IF((F102)=35,$BN$35,\"\")&IF((F102)=36,$BN$36,\"\")&IF((F102)=37,$BN$37,\"\")&IF((F102)=38,$BN$38,\"\")&IF((F102)=39,$BN$39,\"\")&IF((F102)=40,$BN$40,\"\")&IF((F102)=41,$BN$41,\"\")&IF((F102)=42,$BN$42,\"\")&IF((F102)=43,$BN$43,\"\")&IF((F102)=44,$BN$44,\"\")&IF((F102)=45,$BN$45,\"\")&IF((F102)=46,$BN$46,\"\")&IF((F102)=47,$BN$47,\"\")&IF((F102)=48,$BN$48,\"\")&IF((F102)=49,$BN$49,\"\")&IF((F102)=50,$BN$50,\"\")&IF((F102)=51,$BN$51,\"\")&IF((F102)=52,$BN$52,\"\")&IF((F102)=53,$BN$53,\"\")&IF((F102)=54,$BN$54,\"\")&IF((F102)=55,$BN$55,\"\")&IF((F102)=56,$BN$56,\"\")&IF((F102)=57,$BN$57,\"\")&IF((F102)=58,$BN$58,\"\")&IF((F102)=59,$BN$59,\"\")&IF((F102)=60,$BN$60,\"\")&IF((F102)=61,$BN$61,\"\")&IF((F102)=62,$BN$62,\"\")&IF((F102)=63,$BN$63,\"\")&IF((F102)=64,$BN$64,\"\")&IF((F102)=65,$BN$65,\"\")&IF((F102)=66,$BN$66,\"\")&IF((F102)=67,$BN$67,\"\")&IF((F102)=68,$BN$68,\"\")&IF((F102)=69,$BN$69,\"\")&IF((F102)=70,$BN$70,\"\")&IF((F102)=71,$BN$71,\"\")&IF((F102)=72,$BN$72,\"\")&IF((F102)=73,$BN$73,\"\")&IF((F102)=74,$BN$74,\"\")&IF((F102)=75,$BN$75,\"\")&IF((F102)=76,$BN$76,\"\")&IF((F102)=77,$BN$77,\"\")&IF((F102)=78,$BN$78,\"\")&IF((F102)=79,$BN$79,\"\")&IF((F102)=80,$BN$80,\"\")&IF((F102)=81,$BN$81,\"\")&IF((F102)=82,$BN$82,\"\")&IF((F102)=83,$BN$83,\"\")&IF((F102)=84,$BN$84,\"\")&IF((F102)=85,$BN$85,\"\")&IF((F102)=86,$BN$86,\"\")&IF((F102)=87,$BN$87,\"\")&IF((F102)=88,$BN$88,\"\")&IF((F102)=89,$BN$89,\"\")&IF((F102)=90,$BN$90,\"\")&IF((F102)=91,$BN$91,\"\")&IF((F102)=92,$BN$92,\"\")&IF((F102)=93,$BN$93,\"\")&IF((F102)=94,$BN$94,\"\")&IF((F102)=95,$BN$95,\"\")&IF((F102)=96,$BN$96,\"\")&IF((F102)=97,$BN$97,\"\")&IF((F102)=98,$BN$98,\"\")&IF((F102)=99,$BN$99,\"\")&IF((F102)=100,$BN$100,\"\")&IF((F102)=101,$BN$101,\"\")&IF((F102)=102,$BN$102,\"\")&IF((F102)=103,$BN$103,\"\")&IF((F102)=104,$BN$104,\"\")&IF((F102)=105,$BN$105,\"\")&IF((F102)=106,$BN$106,\"\")&IF((F102)=107,$BN$107,\"\")&IF((F102)=108,$BN$108,\"\")&IF((F102)=109,$BN$109,\"\")&IF((F102)=110,$BN$110,\"\")&IF((F102)=111,$BN$111,\"\")&IF((F102)=112,$BN$112,\"\")&IF((F102)=113,$BN$113,\"\")&IF((F102)=114,$BN$114,\"\")&IF((F102)=115,$BN$115,\"\")&IF((F102)=116,$BN$116,\"\")&IF((F102)=117,$BN$117,\"\")&IF((F102)=118,$BN$118,\"\")&IF((F102)=119,$BN$119,\"\")&IF((F102)=120,$BN$120,\"\")&IF((F102)=121,$BN$121,\"\")&IF((F102)=122,$BN$122,\"\")&IF((F102)=123,$BN$123,\"\")&IF((F102)=124,$BN$124,\"\")&IF((F102)=125,$BN$125,\"\")&IF((F102)=126,$BN$126,\"\")&IF((F102)=127,$BN$127,\"\")&IF((F102)=128,$BN$128,\"\")","v":"Phillipe / Michel"},"Equ",{"$f":"J102","v":25},null,{"$f":"IF((J102)=1,$BN$1,\"\")&IF((J102)=2,$BN$2,\"\")&IF((J102)=3,$BN$3,\"\")&IF((J102)=4,$BN$4,\"\")&IF((J102)=5,$BN$5,\"\")&IF((J102)=6,$BN$6,\"\")&IF((J102)=7,$BN$7,\"\")&IF((J102)=8,$BN$8,\"\")&IF((J102)=9,$BN$9,\"\")&IF((J102)=10,$BN$10,\"\")&IF((J102)=11,$BN$11,\"\")&IF((J102)=12,$BN$12,\"\")&IF((J102)=13,$BN$13,\"\")&IF((J102)=14,$BN$14,\"\")&IF((J102)=15,$BN$15,\"\")&IF((J102)=16,$BN$16,\"\")&IF((J102)=17,$BN$17,\"\")&IF((J102)=18,$BN$18,\"\")&IF((J102)=19,$BN$19,\"\")&IF((J102)=20,$BN$20,\"\")&IF((J102)=21,$BN$21,\"\")&IF((J102)=22,$BN$22,\"\")&IF((J102)=23,$BN$23,\"\")&IF((J102)=24,$BN$24,\"\")&IF((J102)=25,$BN$25,\"\")&IF((J102)=26,$BN$26,\"\")&IF((J102)=27,$BN$27,\"\")&IF((J102)=28,$BN$28,\"\")&IF((J102)=29,$BN$29,\"\")&IF((J102)=30,$BN$30,\"\")&IF((J102)=31,$BN$31,\"\")&IF((J102)=32,$BN$32,\"\")&IF((J102)=33,$BN$33,\"\")&IF((J102)=34,$BN$34,\"\")&IF((J102)=35,$BN$35,\"\")&IF((J102)=36,$BN$36,\"\")&IF((J102)=37,$BN$37,\"\")&IF((J102)=38,$BN$38,\"\")&IF((J102)=39,$BN$39,\"\")&IF((J102)=40,$BN$40,\"\")&IF((J102)=41,$BN$41,\"\")&IF((J102)=42,$BN$42,\"\")&IF((J102)=43,$BN$43,\"\")&IF((J102)=44,$BN$44,\"\")&IF((J102)=45,$BN$45,\"\")&IF((J102)=46,$BN$46,\"\")&IF((J102)=47,$BN$47,\"\")&IF((J102)=48,$BN$48,\"\")&IF((J102)=49,$BN$49,\"\")&IF((J102)=50,$BN$50,\"\")&IF((J102)=51,$BN$51,\"\")&IF((J102)=52,$BN$52,\"\")&IF((J102)=53,$BN$53,\"\")&IF((J102)=54,$BN$54,\"\")&IF((J102)=55,$BN$55,\"\")&IF((J102)=56,$BN$56,\"\")&IF((J102)=57,$BN$57,\"\")&IF((J102)=58,$BN$58,\"\")&IF((J102)=59,$BN$59,\"\")&IF((J102)=60,$BN$60,\"\")&IF((J102)=61,$BN$61,\"\")&IF((J102)=62,$BN$62,\"\")&IF((J102)=63,$BN$63,\"\")&IF((J102)=64,$BN$64,\"\")&IF((J102)=65,$BN$65,\"\")&IF((J102)=66,$BN$66,\"\")&IF((J102)=67,$BN$67,\"\")&IF((J102)=68,$BN$68,\"\")&IF((J102)=69,$BN$69,\"\")&IF((J102)=70,$BN$70,\"\")&IF((J102)=71,$BN$71,\"\")&IF((J102)=72,$BN$72,\"\")&IF((J102)=73,$BN$73,\"\")&IF((J102)=74,$BN$74,\"\")&IF((J102)=75,$BN$75,\"\")&IF((J102)=76,$BN$76,\"\")&IF((J102)=77,$BN$77,\"\")&IF((J102)=78,$BN$78,\"\")&IF((J102)=79,$BN$79,\"\")&IF((J102)=80,$BN$80,\"\")&IF((J102)=81,$BN$81,\"\")&IF((J102)=82,$BN$82,\"\")&IF((J102)=83,$BN$83,\"\")&IF((J102)=84,$BN$84,\"\")&IF((J102)=85,$BN$85,\"\")&IF((J102)=86,$BN$86,\"\")&IF((J102)=87,$BN$87,\"\")&IF((J102)=88,$BN$88,\"\")&IF((J102)=89,$BN$89,\"\")&IF((J102)=90,$BN$90,\"\")&IF((J102)=91,$BN$91,\"\")&IF((J102)=92,$BN$92,\"\")&IF((J102)=93,$BN$93,\"\")&IF((J102)=94,$BN$94,\"\")&IF((J102)=95,$BN$95,\"\")&IF((J102)=96,$BN$96,\"\")&IF((J102)=97,$BN$97,\"\")&IF((J102)=98,$BN$98,\"\")&IF((J102)=99,$BN$99,\"\")&IF((J102)=100,$BN$100,\"\")&IF((J102)=101,$BN$101,\"\")&IF((J102)=102,$BN$102,\"\")&IF((J102)=103,$BN$103,\"\")&IF((J102)=104,$BN$104,\"\")&IF((J102)=105,$BN$105,\"\")&IF((J102)=106,$BN$106,\"\")&IF((J102)=107,$BN$107,\"\")&IF((J102)=108,$BN$108,\"\")&IF((J102)=109,$BN$109,\"\")&IF((J102)=110,$BN$110,\"\")&IF((J102)=111,$BN$111,\"\")&IF((J102)=112,$BN$112,\"\")&IF((J102)=113,$BN$113,\"\")&IF((J102)=114,$BN$114,\"\")&IF((J102)=115,$BN$115,\"\")&IF((J102)=116,$BN$116,\"\")&IF((J102)=117,$BN$117,\"\")&IF((J102)=118,$BN$118,\"\")&IF((J102)=119,$BN$119,\"\")&IF((J102)=120,$BN$120,\"\")&IF((J102)=121,$BN$121,\"\")&IF((J102)=122,$BN$122,\"\")&IF((J102)=123,$BN$123,\"\")&IF((J102)=124,$BN$124,\"\")&IF((J102)=125,$BN$125,\"\")&IF((J102)=126,$BN$126,\"\")&IF((J102)=127,$BN$127,\"\")&IF((J102)=128,$BN$128,\"\")","v":"Aurélien / Didier"},13,6,"Equ",{"$f":"P102","v":6},null,{"$f":"IF((P102)=1,$BN$1,\"\")&IF((P102)=2,$BN$2,\"\")&IF((P102)=3,$BN$3,\"\")&IF((P102)=4,$BN$4,\"\")&IF((P102)=5,$BN$5,\"\")&IF((P102)=6,$BN$6,\"\")&IF((P102)=7,$BN$7,\"\")&IF((P102)=8,$BN$8,\"\")&IF((P102)=9,$BN$9,\"\")&IF((P102)=10,$BN$10,\"\")&IF((P102)=11,$BN$11,\"\")&IF((P102)=12,$BN$12,\"\")&IF((P102)=13,$BN$13,\"\")&IF((P102)=14,$BN$14,\"\")&IF((P102)=15,$BN$15,\"\")&IF((P102)=16,$BN$16,\"\")&IF((P102)=17,$BN$17,\"\")&IF((P102)=18,$BN$18,\"\")&IF((P102)=19,$BN$19,\"\")&IF((P102)=20,$BN$20,\"\")&IF((P102)=21,$BN$21,\"\")&IF((P102)=22,$BN$22,\"\")&IF((P102)=23,$BN$23,\"\")&IF((P102)=24,$BN$24,\"\")&IF((P102)=25,$BN$25,\"\")&IF((P102)=26,$BN$26,\"\")&IF((P102)=27,$BN$27,\"\")&IF((P102)=28,$BN$28,\"\")&IF((P102)=29,$BN$29,\"\")&IF((P102)=30,$BN$30,\"\")&IF((P102)=31,$BN$31,\"\")&IF((P102)=32,$BN$32,\"\")&IF((P102)=33,$BN$33,\"\")&IF((P102)=34,$BN$34,\"\")&IF((P102)=35,$BN$35,\"\")&IF((P102)=36,$BN$36,\"\")&IF((P102)=37,$BN$37,\"\")&IF((P102)=38,$BN$38,\"\")&IF((P102)=39,$BN$39,\"\")&IF((P102)=40,$BN$40,\"\")&IF((P102)=41,$BN$41,\"\")&IF((P102)=42,$BN$42,\"\")&IF((P102)=43,$BN$43,\"\")&IF((P102)=44,$BN$44,\"\")&IF((P102)=45,$BN$45,\"\")&IF((P102)=46,$BN$46,\"\")&IF((P102)=47,$BN$47,\"\")&IF((P102)=48,$BN$48,\"\")&IF((P102)=49,$BN$49,\"\")&IF((P102)=50,$BN$50,\"\")&IF((P102)=51,$BN$51,\"\")&IF((P102)=52,$BN$52,\"\")&IF((P102)=53,$BN$53,\"\")&IF((P102)=54,$BN$54,\"\")&IF((P102)=55,$BN$55,\"\")&IF((P102)=56,$BN$56,\"\")&IF((P102)=57,$BN$57,\"\")&IF((P102)=58,$BN$58,\"\")&IF((P102)=59,$BN$59,\"\")&IF((P102)=60,$BN$60,\"\")&IF((P102)=61,$BN$61,\"\")&IF((P102)=62,$BN$62,\"\")&IF((P102)=63,$BN$63,\"\")&IF((P102)=64,$BN$64,\"\")&IF((P102)=65,$BN$65,\"\")&IF((P102)=66,$BN$66,\"\")&IF((P102)=67,$BN$67,\"\")&IF((P102)=68,$BN$68,\"\")&IF((P102)=69,$BN$69,\"\")&IF((P102)=70,$BN$70,\"\")&IF((P102)=71,$BN$71,\"\")&IF((P102)=72,$BN$72,\"\")&IF((P102)=73,$BN$73,\"\")&IF((P102)=74,$BN$74,\"\")&IF((P102)=75,$BN$75,\"\")&IF((P102)=76,$BN$76,\"\")&IF((P102)=77,$BN$77,\"\")&IF((P102)=78,$BN$78,\"\")&IF((P102)=79,$BN$79,\"\")&IF((P102)=80,$BN$80,\"\")&IF((P102)=81,$BN$81,\"\")&IF((P102)=82,$BN$82,\"\")&IF((P102)=83,$BN$83,\"\")&IF((P102)=84,$BN$84,\"\")&IF((P102)=85,$BN$85,\"\")&IF((P102)=86,$BN$86,\"\")&IF((P102)=87,$BN$87,\"\")&IF((P102)=88,$BN$88,\"\")&IF((P102)=89,$BN$89,\"\")&IF((P102)=90,$BN$90,\"\")&IF((P102)=91,$BN$91,\"\")&IF((P102)=92,$BN$92,\"\")&IF((P102)=93,$BN$93,\"\")&IF((P102)=94,$BN$94,\"\")&IF((P102)=95,$BN$95,\"\")&IF((P102)=96,$BN$96,\"\")&IF((P102)=97,$BN$97,\"\")&IF((P102)=98,$BN$98,\"\")&IF((P102)=99,$BN$99,\"\")&IF((P102)=100,$BN$100,\"\")&IF((P102)=101,$BN$101,\"\")&IF((P102)=102,$BN$102,\"\")&IF((P102)=103,$BN$103,\"\")&IF((P102)=104,$BN$104,\"\")&IF((P102)=105,$BN$105,\"\")&IF((P102)=106,$BN$106,\"\")&IF((P102)=107,$BN$107,\"\")&IF((P102)=108,$BN$108,\"\")&IF((P102)=109,$BN$109,\"\")&IF((P102)=110,$BN$110,\"\")&IF((P102)=111,$BN$111,\"\")&IF((P102)=112,$BN$112,\"\")&IF((P102)=113,$BN$113,\"\")&IF((P102)=114,$BN$114,\"\")&IF((P102)=115,$BN$115,\"\")&IF((P102)=116,$BN$116,\"\")&IF((P102)=117,$BN$117,\"\")&IF((P102)=118,$BN$118,\"\")&IF((P102)=119,$BN$119,\"\")&IF((P102)=120,$BN$120,\"\")&IF((P102)=121,$BN$121,\"\")&IF((P102)=122,$BN$122,\"\")&IF((P102)=123,$BN$123,\"\")&IF((P102)=124,$BN$124,\"\")&IF((P102)=125,$BN$125,\"\")&IF((P102)=126,$BN$126,\"\")&IF((P102)=127,$BN$127,\"\")&IF((P102)=128,$BN$128,\"\")","v":"jacques"},"Equ",{"$f":"T102","v":39},null,{"$f":"IF((T102)=1,$BN$1,\"\")&IF((T102)=2,$BN$2,\"\")&IF((T102)=3,$BN$3,\"\")&IF((T102)=4,$BN$4,\"\")&IF((T102)=5,$BN$5,\"\")&IF((T102)=6,$BN$6,\"\")&IF((T102)=7,$BN$7,\"\")&IF((T102)=8,$BN$8,\"\")&IF((T102)=9,$BN$9,\"\")&IF((T102)=10,$BN$10,\"\")&IF((T102)=11,$BN$11,\"\")&IF((T102)=12,$BN$12,\"\")&IF((T102)=13,$BN$13,\"\")&IF((T102)=14,$BN$14,\"\")&IF((T102)=15,$BN$15,\"\")&IF((T102)=16,$BN$16,\"\")&IF((T102)=17,$BN$17,\"\")&IF((T102)=18,$BN$18,\"\")&IF((T102)=19,$BN$19,\"\")&IF((T102)=20,$BN$20,\"\")&IF((T102)=21,$BN$21,\"\")&IF((T102)=22,$BN$22,\"\")&IF((T102)=23,$BN$23,\"\")&IF((T102)=24,$BN$24,\"\")&IF((T102)=25,$BN$25,\"\")&IF((T102)=26,$BN$26,\"\")&IF((T102)=27,$BN$27,\"\")&IF((T102)=28,$BN$28,\"\")&IF((T102)=29,$BN$29,\"\")&IF((T102)=30,$BN$30,\"\")&IF((T102)=31,$BN$31,\"\")&IF((T102)=32,$BN$32,\"\")&IF((T102)=33,$BN$33,\"\")&IF((T102)=34,$BN$34,\"\")&IF((T102)=35,$BN$35,\"\")&IF((T102)=36,$BN$36,\"\")&IF((T102)=37,$BN$37,\"\")&IF((T102)=38,$BN$38,\"\")&IF((T102)=39,$BN$39,\"\")&IF((T102)=40,$BN$40,\"\")&IF((T102)=41,$BN$41,\"\")&IF((T102)=42,$BN$42,\"\")&IF((T102)=43,$BN$43,\"\")&IF((T102)=44,$BN$44,\"\")&IF((T102)=45,$BN$45,\"\")&IF((T102)=46,$BN$46,\"\")&IF((T102)=47,$BN$47,\"\")&IF((T102)=48,$BN$48,\"\")&IF((T102)=49,$BN$49,\"\")&IF((T102)=50,$BN$50,\"\")&IF((T102)=51,$BN$51,\"\")&IF((T102)=52,$BN$52,\"\")&IF((T102)=53,$BN$53,\"\")&IF((T102)=54,$BN$54,\"\")&IF((T102)=55,$BN$55,\"\")&IF((T102)=56,$BN$56,\"\")&IF((T102)=57,$BN$57,\"\")&IF((T102)=58,$BN$58,\"\")&IF((T102)=59,$BN$59,\"\")&IF((T102)=60,$BN$60,\"\")&IF((T102)=61,$BN$61,\"\")&IF((T102)=62,$BN$62,\"\")&IF((T102)=63,$BN$63,\"\")&IF((T102)=64,$BN$64,\"\")&IF((T102)=65,$BN$65,\"\")&IF((T102)=66,$BN$66,\"\")&IF((T102)=67,$BN$67,\"\")&IF((T102)=68,$BN$68,\"\")&IF((T102)=69,$BN$69,\"\")&IF((T102)=70,$BN$70,\"\")&IF((T102)=71,$BN$71,\"\")&IF((T102)=72,$BN$72,\"\")&IF((T102)=73,$BN$73,\"\")&IF((T102)=74,$BN$74,\"\")&IF((T102)=75,$BN$75,\"\")&IF((T102)=76,$BN$76,\"\")&IF((T102)=77,$BN$77,\"\")&IF((T102)=78,$BN$78,\"\")&IF((T102)=79,$BN$79,\"\")&IF((T102)=80,$BN$80,\"\")&IF((T102)=81,$BN$81,\"\")&IF((T102)=82,$BN$82,\"\")&IF((T102)=83,$BN$83,\"\")&IF((T102)=84,$BN$84,\"\")&IF((T102)=85,$BN$85,\"\")&IF((T102)=86,$BN$86,\"\")&IF((T102)=87,$BN$87,\"\")&IF((T102)=88,$BN$88,\"\")&IF((T102)=89,$BN$89,\"\")&IF((T102)=90,$BN$90,\"\")&IF((T102)=91,$BN$91,\"\")&IF((T102)=92,$BN$92,\"\")&IF((T102)=93,$BN$93,\"\")&IF((T102)=94,$BN$94,\"\")&IF((T102)=95,$BN$95,\"\")&IF((T102)=96,$BN$96,\"\")&IF((T102)=97,$BN$97,\"\")&IF((T102)=98,$BN$98,\"\")&IF((T102)=99,$BN$99,\"\")&IF((T102)=100,$BN$100,\"\")&IF((T102)=101,$BN$101,\"\")&IF((T102)=102,$BN$102,\"\")&IF((T102)=103,$BN$103,\"\")&IF((T102)=104,$BN$104,\"\")&IF((T102)=105,$BN$105,\"\")&IF((T102)=106,$BN$106,\"\")&IF((T102)=107,$BN$107,\"\")&IF((T102)=108,$BN$108,\"\")&IF((T102)=109,$BN$109,\"\")&IF((T102)=110,$BN$110,\"\")&IF((T102)=111,$BN$111,\"\")&IF((T102)=112,$BN$112,\"\")&IF((T102)=113,$BN$113,\"\")&IF((T102)=114,$BN$114,\"\")&IF((T102)=115,$BN$115,\"\")&IF((T102)=116,$BN$116,\"\")&IF((T102)=117,$BN$117,\"\")&IF((T102)=118,$BN$118,\"\")&IF((T102)=119,$BN$119,\"\")&IF((T102)=120,$BN$120,\"\")&IF((T102)=121,$BN$121,\"\")&IF((T102)=122,$BN$122,\"\")&IF((T102)=123,$BN$123,\"\")&IF((T102)=124,$BN$124,\"\")&IF((T102)=125,$BN$125,\"\")&IF((T102)=126,$BN$126,\"\")&IF((T102)=127,$BN$127,\"\")&IF((T102)=128,$BN$128,\"\")","v":"Philippe/Nico"},null,null,"Equ",{"$f":"Z102","v":24},null,{"$f":"IF((Z102)=1,$BN$1,\"\")&IF((Z102)=2,$BN$2,\"\")&IF((Z102)=3,$BN$3,\"\")&IF((Z102)=4,$BN$4,\"\")&IF((Z102)=5,$BN$5,\"\")&IF((Z102)=6,$BN$6,\"\")&IF((Z102)=7,$BN$7,\"\")&IF((Z102)=8,$BN$8,\"\")&IF((Z102)=9,$BN$9,\"\")&IF((Z102)=10,$BN$10,\"\")&IF((Z102)=11,$BN$11,\"\")&IF((Z102)=12,$BN$12,\"\")&IF((Z102)=13,$BN$13,\"\")&IF((Z102)=14,$BN$14,\"\")&IF((Z102)=15,$BN$15,\"\")&IF((Z102)=16,$BN$16,\"\")&IF((Z102)=17,$BN$17,\"\")&IF((Z102)=18,$BN$18,\"\")&IF((Z102)=19,$BN$19,\"\")&IF((Z102)=20,$BN$20,\"\")&IF((Z102)=21,$BN$21,\"\")&IF((Z102)=22,$BN$22,\"\")&IF((Z102)=23,$BN$23,\"\")&IF((Z102)=24,$BN$24,\"\")&IF((Z102)=25,$BN$25,\"\")&IF((Z102)=26,$BN$26,\"\")&IF((Z102)=27,$BN$27,\"\")&IF((Z102)=28,$BN$28,\"\")&IF((Z102)=29,$BN$29,\"\")&IF((Z102)=30,$BN$30,\"\")&IF((Z102)=31,$BN$31,\"\")&IF((Z102)=32,$BN$32,\"\")&IF((Z102)=33,$BN$33,\"\")&IF((Z102)=34,$BN$34,\"\")&IF((Z102)=35,$BN$35,\"\")&IF((Z102)=36,$BN$36,\"\")&IF((Z102)=37,$BN$37,\"\")&IF((Z102)=38,$BN$38,\"\")&IF((Z102)=39,$BN$39,\"\")&IF((Z102)=40,$BN$40,\"\")&IF((Z102)=41,$BN$41,\"\")&IF((Z102)=42,$BN$42,\"\")&IF((Z102)=43,$BN$43,\"\")&IF((Z102)=44,$BN$44,\"\")&IF((Z102)=45,$BN$45,\"\")&IF((Z102)=46,$BN$46,\"\")&IF((Z102)=47,$BN$47,\"\")&IF((Z102)=48,$BN$48,\"\")&IF((Z102)=49,$BN$49,\"\")&IF((Z102)=50,$BN$50,\"\")&IF((Z102)=51,$BN$51,\"\")&IF((Z102)=52,$BN$52,\"\")&IF((Z102)=53,$BN$53,\"\")&IF((Z102)=54,$BN$54,\"\")&IF((Z102)=55,$BN$55,\"\")&IF((Z102)=56,$BN$56,\"\")&IF((Z102)=57,$BN$57,\"\")&IF((Z102)=58,$BN$58,\"\")&IF((Z102)=59,$BN$59,\"\")&IF((Z102)=60,$BN$60,\"\")&IF((Z102)=61,$BN$61,\"\")&IF((Z102)=62,$BN$62,\"\")&IF((Z102)=63,$BN$63,\"\")&IF((Z102)=64,$BN$64,\"\")&IF((Z102)=65,$BN$65,\"\")&IF((Z102)=66,$BN$66,\"\")&IF((Z102)=67,$BN$67,\"\")&IF((Z102)=68,$BN$68,\"\")&IF((Z102)=69,$BN$69,\"\")&IF((Z102)=70,$BN$70,\"\")&IF((Z102)=71,$BN$71,\"\")&IF((Z102)=72,$BN$72,\"\")&IF((Z102)=73,$BN$73,\"\")&IF((Z102)=74,$BN$74,\"\")&IF((Z102)=75,$BN$75,\"\")&IF((Z102)=76,$BN$76,\"\")&IF((Z102)=77,$BN$77,\"\")&IF((Z102)=78,$BN$78,\"\")&IF((Z102)=79,$BN$79,\"\")&IF((Z102)=80,$BN$80,\"\")&IF((Z102)=81,$BN$81,\"\")&IF((Z102)=82,$BN$82,\"\")&IF((Z102)=83,$BN$83,\"\")&IF((Z102)=84,$BN$84,\"\")&IF((Z102)=85,$BN$85,\"\")&IF((Z102)=86,$BN$86,\"\")&IF((Z102)=87,$BN$87,\"\")&IF((Z102)=88,$BN$88,\"\")&IF((Z102)=89,$BN$89,\"\")&IF((Z102)=90,$BN$90,\"\")&IF((Z102)=91,$BN$91,\"\")&IF((Z102)=92,$BN$92,\"\")&IF((Z102)=93,$BN$93,\"\")&IF((Z102)=94,$BN$94,\"\")&IF((Z102)=95,$BN$95,\"\")&IF((Z102)=96,$BN$96,\"\")&IF((Z102)=97,$BN$97,\"\")&IF((Z102)=98,$BN$98,\"\")&IF((Z102)=99,$BN$99,\"\")&IF((Z102)=100,$BN$100,\"\")&IF((Z102)=101,$BN$101,\"\")&IF((Z102)=102,$BN$102,\"\")&IF((Z102)=103,$BN$103,\"\")&IF((Z102)=104,$BN$104,\"\")&IF((Z102)=105,$BN$105,\"\")&IF((Z102)=106,$BN$106,\"\")&IF((Z102)=107,$BN$107,\"\")&IF((Z102)=108,$BN$108,\"\")&IF((Z102)=109,$BN$109,\"\")&IF((Z102)=110,$BN$110,\"\")&IF((Z102)=111,$BN$111,\"\")&IF((Z102)=112,$BN$112,\"\")&IF((Z102)=113,$BN$113,\"\")&IF((Z102)=114,$BN$114,\"\")&IF((Z102)=115,$BN$115,\"\")&IF((Z102)=116,$BN$116,\"\")&IF((Z102)=117,$BN$117,\"\")&IF((Z102)=118,$BN$118,\"\")&IF((Z102)=119,$BN$119,\"\")&IF((Z102)=120,$BN$120,\"\")&IF((Z102)=121,$BN$121,\"\")&IF((Z102)=122,$BN$122,\"\")&IF((Z102)=123,$BN$123,\"\")&IF((Z102)=124,$BN$124,\"\")&IF((Z102)=125,$BN$125,\"\")&IF((Z102)=126,$BN$126,\"\")&IF((Z102)=127,$BN$127,\"\")&IF((Z102)=128,$BN$128,\"\")","v":"Jacques / Michel"},"Equ",{"$f":"AD102","v":30},null,{"$f":"IF((AD102)=1,$BN$1,\"\")&IF((AD102)=2,$BN$2,\"\")&IF((AD102)=3,$BN$3,\"\")&IF((AD102)=4,$BN$4,\"\")&IF((AD102)=5,$BN$5,\"\")&IF((AD102)=6,$BN$6,\"\")&IF((AD102)=7,$BN$7,\"\")&IF((AD102)=8,$BN$8,\"\")&IF((AD102)=9,$BN$9,\"\")&IF((AD102)=10,$BN$10,\"\")&IF((AD102)=11,$BN$11,\"\")&IF((AD102)=12,$BN$12,\"\")&IF((AD102)=13,$BN$13,\"\")&IF((AD102)=14,$BN$14,\"\")&IF((AD102)=15,$BN$15,\"\")&IF((AD102)=16,$BN$16,\"\")&IF((AD102)=17,$BN$17,\"\")&IF((AD102)=18,$BN$18,\"\")&IF((AD102)=19,$BN$19,\"\")&IF((AD102)=20,$BN$20,\"\")&IF((AD102)=21,$BN$21,\"\")&IF((AD102)=22,$BN$22,\"\")&IF((AD102)=23,$BN$23,\"\")&IF((AD102)=24,$BN$24,\"\")&IF((AD102)=25,$BN$25,\"\")&IF((AD102)=26,$BN$26,\"\")&IF((AD102)=27,$BN$27,\"\")&IF((AD102)=28,$BN$28,\"\")&IF((AD102)=29,$BN$29,\"\")&IF((AD102)=30,$BN$30,\"\")&IF((AD102)=31,$BN$31,\"\")&IF((AD102)=32,$BN$32,\"\")&IF((AD102)=33,$BN$33,\"\")&IF((AD102)=34,$BN$34,\"\")&IF((AD102)=35,$BN$35,\"\")&IF((AD102)=36,$BN$36,\"\")&IF((AD102)=37,$BN$37,\"\")&IF((AD102)=38,$BN$38,\"\")&IF((AD102)=39,$BN$39,\"\")&IF((AD102)=40,$BN$40,\"\")&IF((AD102)=41,$BN$41,\"\")&IF((AD102)=42,$BN$42,\"\")&IF((AD102)=43,$BN$43,\"\")&IF((AD102)=44,$BN$44,\"\")&IF((AD102)=45,$BN$45,\"\")&IF((AD102)=46,$BN$46,\"\")&IF((AD102)=47,$BN$47,\"\")&IF((AD102)=48,$BN$48,\"\")&IF((AD102)=49,$BN$49,\"\")&IF((AD102)=50,$BN$50,\"\")&IF((AD102)=51,$BN$51,\"\")&IF((AD102)=52,$BN$52,\"\")&IF((AD102)=53,$BN$53,\"\")&IF((AD102)=54,$BN$54,\"\")&IF((AD102)=55,$BN$55,\"\")&IF((AD102)=56,$BN$56,\"\")&IF((AD102)=57,$BN$57,\"\")&IF((AD102)=58,$BN$58,\"\")&IF((AD102)=59,$BN$59,\"\")&IF((AD102)=60,$BN$60,\"\")&IF((AD102)=61,$BN$61,\"\")&IF((AD102)=62,$BN$62,\"\")&IF((AD102)=63,$BN$63,\"\")&IF((AD102)=64,$BN$64,\"\")&IF((AD102)=65,$BN$65,\"\")&IF((AD102)=66,$BN$66,\"\")&IF((AD102)=67,$BN$67,\"\")&IF((AD102)=68,$BN$68,\"\")&IF((AD102)=69,$BN$69,\"\")&IF((AD102)=70,$BN$70,\"\")&IF((AD102)=71,$BN$71,\"\")&IF((AD102)=72,$BN$72,\"\")&IF((AD102)=73,$BN$73,\"\")&IF((AD102)=74,$BN$74,\"\")&IF((AD102)=75,$BN$75,\"\")&IF((AD102)=76,$BN$76,\"\")&IF((AD102)=77,$BN$77,\"\")&IF((AD102)=78,$BN$78,\"\")&IF((AD102)=79,$BN$79,\"\")&IF((AD102)=80,$BN$80,\"\")&IF((AD102)=81,$BN$81,\"\")&IF((AD102)=82,$BN$82,\"\")&IF((AD102)=83,$BN$83,\"\")&IF((AD102)=84,$BN$84,\"\")&IF((AD102)=85,$BN$85,\"\")&IF((AD102)=86,$BN$86,\"\")&IF((AD102)=87,$BN$87,\"\")&IF((AD102)=88,$BN$88,\"\")&IF((AD102)=89,$BN$89,\"\")&IF((AD102)=90,$BN$90,\"\")&IF((AD102)=91,$BN$91,\"\")&IF((AD102)=92,$BN$92,\"\")&IF((AD102)=93,$BN$93,\"\")&IF((AD102)=94,$BN$94,\"\")&IF((AD102)=95,$BN$95,\"\")&IF((AD102)=96,$BN$96,\"\")&IF((AD102)=97,$BN$97,\"\")&IF((AD102)=98,$BN$98,\"\")&IF((AD102)=99,$BN$99,\"\")&IF((AD102)=100,$BN$100,\"\")&IF((AD102)=101,$BN$101,\"\")&IF((AD102)=102,$BN$102,\"\")&IF((AD102)=103,$BN$103,\"\")&IF((AD102)=104,$BN$104,\"\")&IF((AD102)=105,$BN$105,\"\")&IF((AD102)=106,$BN$106,\"\")&IF((AD102)=107,$BN$107,\"\")&IF((AD102)=108,$BN$108,\"\")&IF((AD102)=109,$BN$109,\"\")&IF((AD102)=110,$BN$110,\"\")&IF((AD102)=111,$BN$111,\"\")&IF((AD102)=112,$BN$112,\"\")&IF((AD102)=113,$BN$113,\"\")&IF((AD102)=114,$BN$114,\"\")&IF((AD102)=115,$BN$115,\"\")&IF((AD102)=116,$BN$116,\"\")&IF((AD102)=117,$BN$117,\"\")&IF((AD102)=118,$BN$118,\"\")&IF((AD102)=119,$BN$119,\"\")&IF((AD102)=120,$BN$120,\"\")&IF((AD102)=121,$BN$121,\"\")&IF((AD102)=122,$BN$122,\"\")&IF((AD102)=123,$BN$123,\"\")&IF((AD102)=124,$BN$124,\"\")&IF((AD102)=125,$BN$125,\"\")&IF((AD102)=126,$BN$126,\"\")&IF((AD102)=127,$BN$127,\"\")&IF((AD102)=128,$BN$128,\"\")","v":"Patrick / Roger"},null,null,"Equ",{"$f":"AJ102","v":28},null,{"$f":"IF((AJ102)=1,$BN$1,\"\")&IF((AJ102)=2,$BN$2,\"\")&IF((AJ102)=3,$BN$3,\"\")&IF((AJ102)=4,$BN$4,\"\")&IF((AJ102)=5,$BN$5,\"\")&IF((AJ102)=6,$BN$6,\"\")&IF((AJ102)=7,$BN$7,\"\")&IF((AJ102)=8,$BN$8,\"\")&IF((AJ102)=9,$BN$9,\"\")&IF((AJ102)=10,$BN$10,\"\")&IF((AJ102)=11,$BN$11,\"\")&IF((AJ102)=12,$BN$12,\"\")&IF((AJ102)=13,$BN$13,\"\")&IF((AJ102)=14,$BN$14,\"\")&IF((AJ102)=15,$BN$15,\"\")&IF((AJ102)=16,$BN$16,\"\")&IF((AJ102)=17,$BN$17,\"\")&IF((AJ102)=18,$BN$18,\"\")&IF((AJ102)=19,$BN$19,\"\")&IF((AJ102)=20,$BN$20,\"\")&IF((AJ102)=21,$BN$21,\"\")&IF((AJ102)=22,$BN$22,\"\")&IF((AJ102)=23,$BN$23,\"\")&IF((AJ102)=24,$BN$24,\"\")&IF((AJ102)=25,$BN$25,\"\")&IF((AJ102)=26,$BN$26,\"\")&IF((AJ102)=27,$BN$27,\"\")&IF((AJ102)=28,$BN$28,\"\")&IF((AJ102)=29,$BN$29,\"\")&IF((AJ102)=30,$BN$30,\"\")&IF((AJ102)=31,$BN$31,\"\")&IF((AJ102)=32,$BN$32,\"\")&IF((AJ102)=33,$BN$33,\"\")&IF((AJ102)=34,$BN$34,\"\")&IF((AJ102)=35,$BN$35,\"\")&IF((AJ102)=36,$BN$36,\"\")&IF((AJ102)=37,$BN$37,\"\")&IF((AJ102)=38,$BN$38,\"\")&IF((AJ102)=39,$BN$39,\"\")&IF((AJ102)=40,$BN$40,\"\")&IF((AJ102)=41,$BN$41,\"\")&IF((AJ102)=42,$BN$42,\"\")&IF((AJ102)=43,$BN$43,\"\")&IF((AJ102)=44,$BN$44,\"\")&IF((AJ102)=45,$BN$45,\"\")&IF((AJ102)=46,$BN$46,\"\")&IF((AJ102)=47,$BN$47,\"\")&IF((AJ102)=48,$BN$48,\"\")&IF((AJ102)=49,$BN$49,\"\")&IF((AJ102)=50,$BN$50,\"\")&IF((AJ102)=51,$BN$51,\"\")&IF((AJ102)=52,$BN$52,\"\")&IF((AJ102)=53,$BN$53,\"\")&IF((AJ102)=54,$BN$54,\"\")&IF((AJ102)=55,$BN$55,\"\")&IF((AJ102)=56,$BN$56,\"\")&IF((AJ102)=57,$BN$57,\"\")&IF((AJ102)=58,$BN$58,\"\")&IF((AJ102)=59,$BN$59,\"\")&IF((AJ102)=60,$BN$60,\"\")&IF((AJ102)=61,$BN$61,\"\")&IF((AJ102)=62,$BN$62,\"\")&IF((AJ102)=63,$BN$63,\"\")&IF((AJ102)=64,$BN$64,\"\")&IF((AJ102)=65,$BN$65,\"\")&IF((AJ102)=66,$BN$66,\"\")&IF((AJ102)=67,$BN$67,\"\")&IF((AJ102)=68,$BN$68,\"\")&IF((AJ102)=69,$BN$69,\"\")&IF((AJ102)=70,$BN$70,\"\")&IF((AJ102)=71,$BN$71,\"\")&IF((AJ102)=72,$BN$72,\"\")&IF((AJ102)=73,$BN$73,\"\")&IF((AJ102)=74,$BN$74,\"\")&IF((AJ102)=75,$BN$75,\"\")&IF((AJ102)=76,$BN$76,\"\")&IF((AJ102)=77,$BN$77,\"\")&IF((AJ102)=78,$BN$78,\"\")&IF((AJ102)=79,$BN$79,\"\")&IF((AJ102)=80,$BN$80,\"\")&IF((AJ102)=81,$BN$81,\"\")&IF((AJ102)=82,$BN$82,\"\")&IF((AJ102)=83,$BN$83,\"\")&IF((AJ102)=84,$BN$84,\"\")&IF((AJ102)=85,$BN$85,\"\")&IF((AJ102)=86,$BN$86,\"\")&IF((AJ102)=87,$BN$87,\"\")&IF((AJ102)=88,$BN$88,\"\")&IF((AJ102)=89,$BN$89,\"\")&IF((AJ102)=90,$BN$90,\"\")&IF((AJ102)=91,$BN$91,\"\")&IF((AJ102)=92,$BN$92,\"\")&IF((AJ102)=93,$BN$93,\"\")&IF((AJ102)=94,$BN$94,\"\")&IF((AJ102)=95,$BN$95,\"\")&IF((AJ102)=96,$BN$96,\"\")&IF((AJ102)=97,$BN$97,\"\")&IF((AJ102)=98,$BN$98,\"\")&IF((AJ102)=99,$BN$99,\"\")&IF((AJ102)=100,$BN$100,\"\")&IF((AJ102)=101,$BN$101,\"\")&IF((AJ102)=102,$BN$102,\"\")&IF((AJ102)=103,$BN$103,\"\")&IF((AJ102)=104,$BN$104,\"\")&IF((AJ102)=105,$BN$105,\"\")&IF((AJ102)=106,$BN$106,\"\")&IF((AJ102)=107,$BN$107,\"\")&IF((AJ102)=108,$BN$108,\"\")&IF((AJ102)=109,$BN$109,\"\")&IF((AJ102)=110,$BN$110,\"\")&IF((AJ102)=111,$BN$111,\"\")&IF((AJ102)=112,$BN$112,\"\")&IF((AJ102)=113,$BN$113,\"\")&IF((AJ102)=114,$BN$114,\"\")&IF((AJ102)=115,$BN$115,\"\")&IF((AJ102)=116,$BN$116,\"\")&IF((AJ102)=117,$BN$117,\"\")&IF((AJ102)=118,$BN$118,\"\")&IF((AJ102)=119,$BN$119,\"\")&IF((AJ102)=120,$BN$120,\"\")&IF((AJ102)=121,$BN$121,\"\")&IF((AJ102)=122,$BN$122,\"\")&IF((AJ102)=123,$BN$123,\"\")&IF((AJ102)=124,$BN$124,\"\")&IF((AJ102)=125,$BN$125,\"\")&IF((AJ102)=126,$BN$126,\"\")&IF((AJ102)=127,$BN$127,\"\")&IF((AJ102)=128,$BN$128,\"\")","v":"René / Robert"},"Equ",{"$f":"AN102","v":11},null,{"$f":"IF((AN102)=1,$BN$1,\"\")&IF((AN102)=2,$BN$2,\"\")&IF((AN102)=3,$BN$3,\"\")&IF((AN102)=4,$BN$4,\"\")&IF((AN102)=5,$BN$5,\"\")&IF((AN102)=6,$BN$6,\"\")&IF((AN102)=7,$BN$7,\"\")&IF((AN102)=8,$BN$8,\"\")&IF((AN102)=9,$BN$9,\"\")&IF((AN102)=10,$BN$10,\"\")&IF((AN102)=11,$BN$11,\"\")&IF((AN102)=12,$BN$12,\"\")&IF((AN102)=13,$BN$13,\"\")&IF((AN102)=14,$BN$14,\"\")&IF((AN102)=15,$BN$15,\"\")&IF((AN102)=16,$BN$16,\"\")&IF((AN102)=17,$BN$17,\"\")&IF((AN102)=18,$BN$18,\"\")&IF((AN102)=19,$BN$19,\"\")&IF((AN102)=20,$BN$20,\"\")&IF((AN102)=21,$BN$21,\"\")&IF((AN102)=22,$BN$22,\"\")&IF((AN102)=23,$BN$23,\"\")&IF((AN102)=24,$BN$24,\"\")&IF((AN102)=25,$BN$25,\"\")&IF((AN102)=26,$BN$26,\"\")&IF((AN102)=27,$BN$27,\"\")&IF((AN102)=28,$BN$28,\"\")&IF((AN102)=29,$BN$29,\"\")&IF((AN102)=30,$BN$30,\"\")&IF((AN102)=31,$BN$31,\"\")&IF((AN102)=32,$BN$32,\"\")&IF((AN102)=33,$BN$33,\"\")&IF((AN102)=34,$BN$34,\"\")&IF((AN102)=35,$BN$35,\"\")&IF((AN102)=36,$BN$36,\"\")&IF((AN102)=37,$BN$37,\"\")&IF((AN102)=38,$BN$38,\"\")&IF((AN102)=39,$BN$39,\"\")&IF((AN102)=40,$BN$40,\"\")&IF((AN102)=41,$BN$41,\"\")&IF((AN102)=42,$BN$42,\"\")&IF((AN102)=43,$BN$43,\"\")&IF((AN102)=44,$BN$44,\"\")&IF((AN102)=45,$BN$45,\"\")&IF((AN102)=46,$BN$46,\"\")&IF((AN102)=47,$BN$47,\"\")&IF((AN102)=48,$BN$48,\"\")&IF((AN102)=49,$BN$49,\"\")&IF((AN102)=50,$BN$50,\"\")&IF((AN102)=51,$BN$51,\"\")&IF((AN102)=52,$BN$52,\"\")&IF((AN102)=53,$BN$53,\"\")&IF((AN102)=54,$BN$54,\"\")&IF((AN102)=55,$BN$55,\"\")&IF((AN102)=56,$BN$56,\"\")&IF((AN102)=57,$BN$57,\"\")&IF((AN102)=58,$BN$58,\"\")&IF((AN102)=59,$BN$59,\"\")&IF((AN102)=60,$BN$60,\"\")&IF((AN102)=61,$BN$61,\"\")&IF((AN102)=62,$BN$62,\"\")&IF((AN102)=63,$BN$63,\"\")&IF((AN102)=64,$BN$64,\"\")&IF((AN102)=65,$BN$65,\"\")&IF((AN102)=66,$BN$66,\"\")&IF((AN102)=67,$BN$67,\"\")&IF((AN102)=68,$BN$68,\"\")&IF((AN102)=69,$BN$69,\"\")&IF((AN102)=70,$BN$70,\"\")&IF((AN102)=71,$BN$71,\"\")&IF((AN102)=72,$BN$72,\"\")&IF((AN102)=73,$BN$73,\"\")&IF((AN102)=74,$BN$74,\"\")&IF((AN102)=75,$BN$75,\"\")&IF((AN102)=76,$BN$76,\"\")&IF((AN102)=77,$BN$77,\"\")&IF((AN102)=78,$BN$78,\"\")&IF((AN102)=79,$BN$79,\"\")&IF((AN102)=80,$BN$80,\"\")&IF((AN102)=81,$BN$81,\"\")&IF((AN102)=82,$BN$82,\"\")&IF((AN102)=83,$BN$83,\"\")&IF((AN102)=84,$BN$84,\"\")&IF((AN102)=85,$BN$85,\"\")&IF((AN102)=86,$BN$86,\"\")&IF((AN102)=87,$BN$87,\"\")&IF((AN102)=88,$BN$88,\"\")&IF((AN102)=89,$BN$89,\"\")&IF((AN102)=90,$BN$90,\"\")&IF((AN102)=91,$BN$91,\"\")&IF((AN102)=92,$BN$92,\"\")&IF((AN102)=93,$BN$93,\"\")&IF((AN102)=94,$BN$94,\"\")&IF((AN102)=95,$BN$95,\"\")&IF((AN102)=96,$BN$96,\"\")&IF((AN102)=97,$BN$97,\"\")&IF((AN102)=98,$BN$98,\"\")&IF((AN102)=99,$BN$99,\"\")&IF((AN102)=100,$BN$100,\"\")&IF((AN102)=101,$BN$101,\"\")&IF((AN102)=102,$BN$102,\"\")&IF((AN102)=103,$BN$103,\"\")&IF((AN102)=104,$BN$104,\"\")&IF((AN102)=105,$BN$105,\"\")&IF((AN102)=106,$BN$106,\"\")&IF((AN102)=107,$BN$107,\"\")&IF((AN102)=108,$BN$108,\"\")&IF((AN102)=109,$BN$109,\"\")&IF((AN102)=110,$BN$110,\"\")&IF((AN102)=111,$BN$111,\"\")&IF((AN102)=112,$BN$112,\"\")&IF((AN102)=113,$BN$113,\"\")&IF((AN102)=114,$BN$114,\"\")&IF((AN102)=115,$BN$115,\"\")&IF((AN102)=116,$BN$116,\"\")&IF((AN102)=117,$BN$117,\"\")&IF((AN102)=118,$BN$118,\"\")&IF((AN102)=119,$BN$119,\"\")&IF((AN102)=120,$BN$120,\"\")&IF((AN102)=121,$BN$121,\"\")&IF((AN102)=122,$BN$122,\"\")&IF((AN102)=123,$BN$123,\"\")&IF((AN102)=124,$BN$124,\"\")&IF((AN102)=125,$BN$125,\"\")&IF((AN102)=126,$BN$126,\"\")&IF((AN102)=127,$BN$127,\"\")&IF((AN102)=128,$BN$128,\"\")","v":"Eric / Yvonnick"},null,null,"Equ",{"$f":"AT102","v":38},null,{"$f":"IF((AT102)=1,$BN$1,\"\")&IF((AT102)=2,$BN$2,\"\")&IF((AT102)=3,$BN$3,\"\")&IF((AT102)=4,$BN$4,\"\")&IF((AT102)=5,$BN$5,\"\")&IF((AT102)=6,$BN$6,\"\")&IF((AT102)=7,$BN$7,\"\")&IF((AT102)=8,$BN$8,\"\")&IF((AT102)=9,$BN$9,\"\")&IF((AT102)=10,$BN$10,\"\")&IF((AT102)=11,$BN$11,\"\")&IF((AT102)=12,$BN$12,\"\")&IF((AT102)=13,$BN$13,\"\")&IF((AT102)=14,$BN$14,\"\")&IF((AT102)=15,$BN$15,\"\")&IF((AT102)=16,$BN$16,\"\")&IF((AT102)=17,$BN$17,\"\")&IF((AT102)=18,$BN$18,\"\")&IF((AT102)=19,$BN$19,\"\")&IF((AT102)=20,$BN$20,\"\")&IF((AT102)=21,$BN$21,\"\")&IF((AT102)=22,$BN$22,\"\")&IF((AT102)=23,$BN$23,\"\")&IF((AT102)=24,$BN$24,\"\")&IF((AT102)=25,$BN$25,\"\")&IF((AT102)=26,$BN$26,\"\")&IF((AT102)=27,$BN$27,\"\")&IF((AT102)=28,$BN$28,\"\")&IF((AT102)=29,$BN$29,\"\")&IF((AT102)=30,$BN$30,\"\")&IF((AT102)=31,$BN$31,\"\")&IF((AT102)=32,$BN$32,\"\")&IF((AT102)=33,$BN$33,\"\")&IF((AT102)=34,$BN$34,\"\")&IF((AT102)=35,$BN$35,\"\")&IF((AT102)=36,$BN$36,\"\")&IF((AT102)=37,$BN$37,\"\")&IF((AT102)=38,$BN$38,\"\")&IF((AT102)=39,$BN$39,\"\")&IF((AT102)=40,$BN$40,\"\")&IF((AT102)=41,$BN$41,\"\")&IF((AT102)=42,$BN$42,\"\")&IF((AT102)=43,$BN$43,\"\")&IF((AT102)=44,$BN$44,\"\")&IF((AT102)=45,$BN$45,\"\")&IF((AT102)=46,$BN$46,\"\")&IF((AT102)=47,$BN$47,\"\")&IF((AT102)=48,$BN$48,\"\")&IF((AT102)=49,$BN$49,\"\")&IF((AT102)=50,$BN$50,\"\")&IF((AT102)=51,$BN$51,\"\")&IF((AT102)=52,$BN$52,\"\")&IF((AT102)=53,$BN$53,\"\")&IF((AT102)=54,$BN$54,\"\")&IF((AT102)=55,$BN$55,\"\")&IF((AT102)=56,$BN$56,\"\")&IF((AT102)=57,$BN$57,\"\")&IF((AT102)=58,$BN$58,\"\")&IF((AT102)=59,$BN$59,\"\")&IF((AT102)=60,$BN$60,\"\")&IF((AT102)=61,$BN$61,\"\")&IF((AT102)=62,$BN$62,\"\")&IF((AT102)=63,$BN$63,\"\")&IF((AT102)=64,$BN$64,\"\")&IF((AT102)=65,$BN$65,\"\")&IF((AT102)=66,$BN$66,\"\")&IF((AT102)=67,$BN$67,\"\")&IF((AT102)=68,$BN$68,\"\")&IF((AT102)=69,$BN$69,\"\")&IF((AT102)=70,$BN$70,\"\")&IF((AT102)=71,$BN$71,\"\")&IF((AT102)=72,$BN$72,\"\")&IF((AT102)=73,$BN$73,\"\")&IF((AT102)=74,$BN$74,\"\")&IF((AT102)=75,$BN$75,\"\")&IF((AT102)=76,$BN$76,\"\")&IF((AT102)=77,$BN$77,\"\")&IF((AT102)=78,$BN$78,\"\")&IF((AT102)=79,$BN$79,\"\")&IF((AT102)=80,$BN$80,\"\")&IF((AT102)=81,$BN$81,\"\")&IF((AT102)=82,$BN$82,\"\")&IF((AT102)=83,$BN$83,\"\")&IF((AT102)=84,$BN$84,\"\")&IF((AT102)=85,$BN$85,\"\")&IF((AT102)=86,$BN$86,\"\")&IF((AT102)=87,$BN$87,\"\")&IF((AT102)=88,$BN$88,\"\")&IF((AT102)=89,$BN$89,\"\")&IF((AT102)=90,$BN$90,\"\")&IF((AT102)=91,$BN$91,\"\")&IF((AT102)=92,$BN$92,\"\")&IF((AT102)=93,$BN$93,\"\")&IF((AT102)=94,$BN$94,\"\")&IF((AT102)=95,$BN$95,\"\")&IF((AT102)=96,$BN$96,\"\")&IF((AT102)=97,$BN$97,\"\")&IF((AT102)=98,$BN$98,\"\")&IF((AT102)=99,$BN$99,\"\")&IF((AT102)=100,$BN$100,\"\")&IF((AT102)=101,$BN$101,\"\")&IF((AT102)=102,$BN$102,\"\")&IF((AT102)=103,$BN$103,\"\")&IF((AT102)=104,$BN$104,\"\")&IF((AT102)=105,$BN$105,\"\")&IF((AT102)=106,$BN$106,\"\")&IF((AT102)=107,$BN$107,\"\")&IF((AT102)=108,$BN$108,\"\")&IF((AT102)=109,$BN$109,\"\")&IF((AT102)=110,$BN$110,\"\")&IF((AT102)=111,$BN$111,\"\")&IF((AT102)=112,$BN$112,\"\")&IF((AT102)=113,$BN$113,\"\")&IF((AT102)=114,$BN$114,\"\")&IF((AT102)=115,$BN$115,\"\")&IF((AT102)=116,$BN$116,\"\")&IF((AT102)=117,$BN$117,\"\")&IF((AT102)=118,$BN$118,\"\")&IF((AT102)=119,$BN$119,\"\")&IF((AT102)=120,$BN$120,\"\")&IF((AT102)=121,$BN$121,\"\")&IF((AT102)=122,$BN$122,\"\")&IF((AT102)=123,$BN$123,\"\")&IF((AT102)=124,$BN$124,\"\")&IF((AT102)=125,$BN$125,\"\")&IF((AT102)=126,$BN$126,\"\")&IF((AT102)=127,$BN$127,\"\")&IF((AT102)=128,$BN$128,\"\")","v":"Romain/Florian"},"Equ",{"$f":"AX102","v":6},null,{"$f":"IF((AX102)=1,$BN$1,\"\")&IF((AX102)=2,$BN$2,\"\")&IF((AX102)=3,$BN$3,\"\")&IF((AX102)=4,$BN$4,\"\")&IF((AX102)=5,$BN$5,\"\")&IF((AX102)=6,$BN$6,\"\")&IF((AX102)=7,$BN$7,\"\")&IF((AX102)=8,$BN$8,\"\")&IF((AX102)=9,$BN$9,\"\")&IF((AX102)=10,$BN$10,\"\")&IF((AX102)=11,$BN$11,\"\")&IF((AX102)=12,$BN$12,\"\")&IF((AX102)=13,$BN$13,\"\")&IF((AX102)=14,$BN$14,\"\")&IF((AX102)=15,$BN$15,\"\")&IF((AX102)=16,$BN$16,\"\")&IF((AX102)=17,$BN$17,\"\")&IF((AX102)=18,$BN$18,\"\")&IF((AX102)=19,$BN$19,\"\")&IF((AX102)=20,$BN$20,\"\")&IF((AX102)=21,$BN$21,\"\")&IF((AX102)=22,$BN$22,\"\")&IF((AX102)=23,$BN$23,\"\")&IF((AX102)=24,$BN$24,\"\")&IF((AX102)=25,$BN$25,\"\")&IF((AX102)=26,$BN$26,\"\")&IF((AX102)=27,$BN$27,\"\")&IF((AX102)=28,$BN$28,\"\")&IF((AX102)=29,$BN$29,\"\")&IF((AX102)=30,$BN$30,\"\")&IF((AX102)=31,$BN$31,\"\")&IF((AX102)=32,$BN$32,\"\")&IF((AX102)=33,$BN$33,\"\")&IF((AX102)=34,$BN$34,\"\")&IF((AX102)=35,$BN$35,\"\")&IF((AX102)=36,$BN$36,\"\")&IF((AX102)=37,$BN$37,\"\")&IF((AX102)=38,$BN$38,\"\")&IF((AX102)=39,$BN$39,\"\")&IF((AX102)=40,$BN$40,\"\")&IF((AX102)=41,$BN$41,\"\")&IF((AX102)=42,$BN$42,\"\")&IF((AX102)=43,$BN$43,\"\")&IF((AX102)=44,$BN$44,\"\")&IF((AX102)=45,$BN$45,\"\")&IF((AX102)=46,$BN$46,\"\")&IF((AX102)=47,$BN$47,\"\")&IF((AX102)=48,$BN$48,\"\")&IF((AX102)=49,$BN$49,\"\")&IF((AX102)=50,$BN$50,\"\")&IF((AX102)=51,$BN$51,\"\")&IF((AX102)=52,$BN$52,\"\")&IF((AX102)=53,$BN$53,\"\")&IF((AX102)=54,$BN$54,\"\")&IF((AX102)=55,$BN$55,\"\")&IF((AX102)=56,$BN$56,\"\")&IF((AX102)=57,$BN$57,\"\")&IF((AX102)=58,$BN$58,\"\")&IF((AX102)=59,$BN$59,\"\")&IF((AX102)=60,$BN$60,\"\")&IF((AX102)=61,$BN$61,\"\")&IF((AX102)=62,$BN$62,\"\")&IF((AX102)=63,$BN$63,\"\")&IF((AX102)=64,$BN$64,\"\")&IF((AX102)=65,$BN$65,\"\")&IF((AX102)=66,$BN$66,\"\")&IF((AX102)=67,$BN$67,\"\")&IF((AX102)=68,$BN$68,\"\")&IF((AX102)=69,$BN$69,\"\")&IF((AX102)=70,$BN$70,\"\")&IF((AX102)=71,$BN$71,\"\")&IF((AX102)=72,$BN$72,\"\")&IF((AX102)=73,$BN$73,\"\")&IF((AX102)=74,$BN$74,\"\")&IF((AX102)=75,$BN$75,\"\")&IF((AX102)=76,$BN$76,\"\")&IF((AX102)=77,$BN$77,\"\")&IF((AX102)=78,$BN$78,\"\")&IF((AX102)=79,$BN$79,\"\")&IF((AX102)=80,$BN$80,\"\")&IF((AX102)=81,$BN$81,\"\")&IF((AX102)=82,$BN$82,\"\")&IF((AX102)=83,$BN$83,\"\")&IF((AX102)=84,$BN$84,\"\")&IF((AX102)=85,$BN$85,\"\")&IF((AX102)=86,$BN$86,\"\")&IF((AX102)=87,$BN$87,\"\")&IF((AX102)=88,$BN$88,\"\")&IF((AX102)=89,$BN$89,\"\")&IF((AX102)=90,$BN$90,\"\")&IF((AX102)=91,$BN$91,\"\")&IF((AX102)=92,$BN$92,\"\")&IF((AX102)=93,$BN$93,\"\")&IF((AX102)=94,$BN$94,\"\")&IF((AX102)=95,$BN$95,\"\")&IF((AX102)=96,$BN$96,\"\")&IF((AX102)=97,$BN$97,\"\")&IF((AX102)=98,$BN$98,\"\")&IF((AX102)=99,$BN$99,\"\")&IF((AX102)=100,$BN$100,\"\")&IF((AX102)=101,$BN$101,\"\")&IF((AX102)=102,$BN$102,\"\")&IF((AX102)=103,$BN$103,\"\")&IF((AX102)=104,$BN$104,\"\")&IF((AX102)=105,$BN$105,\"\")&IF((AX102)=106,$BN$106,\"\")&IF((AX102)=107,$BN$107,\"\")&IF((AX102)=108,$BN$108,\"\")&IF((AX102)=109,$BN$109,\"\")&IF((AX102)=110,$BN$110,\"\")&IF((AX102)=111,$BN$111,\"\")&IF((AX102)=112,$BN$112,\"\")&IF((AX102)=113,$BN$113,\"\")&IF((AX102)=114,$BN$114,\"\")&IF((AX102)=115,$BN$115,\"\")&IF((AX102)=116,$BN$116,\"\")&IF((AX102)=117,$BN$117,\"\")&IF((AX102)=118,$BN$118,\"\")&IF((AX102)=119,$BN$119,\"\")&IF((AX102)=120,$BN$120,\"\")&IF((AX102)=121,$BN$121,\"\")&IF((AX102)=122,$BN$122,\"\")&IF((AX102)=123,$BN$123,\"\")&IF((AX102)=124,$BN$124,\"\")&IF((AX102)=125,$BN$125,\"\")&IF((AX102)=126,$BN$126,\"\")&IF((AX102)=127,$BN$127,\"\")&IF((AX102)=128,$BN$128,\"\")","v":"jacques"},null,null,"Equ",{"$f":"BD102","v":37},null,{"$f":"IF((BD102)=1,$BN$1,\"\")&IF((BD102)=2,$BN$2,\"\")&IF((BD102)=3,$BN$3,\"\")&IF((BD102)=4,$BN$4,\"\")&IF((BD102)=5,$BN$5,\"\")&IF((BD102)=6,$BN$6,\"\")&IF((BD102)=7,$BN$7,\"\")&IF((BD102)=8,$BN$8,\"\")&IF((BD102)=9,$BN$9,\"\")&IF((BD102)=10,$BN$10,\"\")&IF((BD102)=11,$BN$11,\"\")&IF((BD102)=12,$BN$12,\"\")&IF((BD102)=13,$BN$13,\"\")&IF((BD102)=14,$BN$14,\"\")&IF((BD102)=15,$BN$15,\"\")&IF((BD102)=16,$BN$16,\"\")&IF((BD102)=17,$BN$17,\"\")&IF((BD102)=18,$BN$18,\"\")&IF((BD102)=19,$BN$19,\"\")&IF((BD102)=20,$BN$20,\"\")&IF((BD102)=21,$BN$21,\"\")&IF((BD102)=22,$BN$22,\"\")&IF((BD102)=23,$BN$23,\"\")&IF((BD102)=24,$BN$24,\"\")&IF((BD102)=25,$BN$25,\"\")&IF((BD102)=26,$BN$26,\"\")&IF((BD102)=27,$BN$27,\"\")&IF((BD102)=28,$BN$28,\"\")&IF((BD102)=29,$BN$29,\"\")&IF((BD102)=30,$BN$30,\"\")&IF((BD102)=31,$BN$31,\"\")&IF((BD102)=32,$BN$32,\"\")&IF((BD102)=33,$BN$33,\"\")&IF((BD102)=34,$BN$34,\"\")&IF((BD102)=35,$BN$35,\"\")&IF((BD102)=36,$BN$36,\"\")&IF((BD102)=37,$BN$37,\"\")&IF((BD102)=38,$BN$38,\"\")&IF((BD102)=39,$BN$39,\"\")&IF((BD102)=40,$BN$40,\"\")&IF((BD102)=41,$BN$41,\"\")&IF((BD102)=42,$BN$42,\"\")&IF((BD102)=43,$BN$43,\"\")&IF((BD102)=44,$BN$44,\"\")&IF((BD102)=45,$BN$45,\"\")&IF((BD102)=46,$BN$46,\"\")&IF((BD102)=47,$BN$47,\"\")&IF((BD102)=48,$BN$48,\"\")&IF((BD102)=49,$BN$49,\"\")&IF((BD102)=50,$BN$50,\"\")&IF((BD102)=51,$BN$51,\"\")&IF((BD102)=52,$BN$52,\"\")&IF((BD102)=53,$BN$53,\"\")&IF((BD102)=54,$BN$54,\"\")&IF((BD102)=55,$BN$55,\"\")&IF((BD102)=56,$BN$56,\"\")&IF((BD102)=57,$BN$57,\"\")&IF((BD102)=58,$BN$58,\"\")&IF((BD102)=59,$BN$59,\"\")&IF((BD102)=60,$BN$60,\"\")&IF((BD102)=61,$BN$61,\"\")&IF((BD102)=62,$BN$62,\"\")&IF((BD102)=63,$BN$63,\"\")&IF((BD102)=64,$BN$64,\"\")&IF((BD102)=65,$BN$65,\"\")&IF((BD102)=66,$BN$66,\"\")&IF((BD102)=67,$BN$67,\"\")&IF((BD102)=68,$BN$68,\"\")&IF((BD102)=69,$BN$69,\"\")&IF((BD102)=70,$BN$70,\"\")&IF((BD102)=71,$BN$71,\"\")&IF((BD102)=72,$BN$72,\"\")&IF((BD102)=73,$BN$73,\"\")&IF((BD102)=74,$BN$74,\"\")&IF((BD102)=75,$BN$75,\"\")&IF((BD102)=76,$BN$76,\"\")&IF((BD102)=77,$BN$77,\"\")&IF((BD102)=78,$BN$78,\"\")&IF((BD102)=79,$BN$79,\"\")&IF((BD102)=80,$BN$80,\"\")&IF((BD102)=81,$BN$81,\"\")&IF((BD102)=82,$BN$82,\"\")&IF((BD102)=83,$BN$83,\"\")&IF((BD102)=84,$BN$84,\"\")&IF((BD102)=85,$BN$85,\"\")&IF((BD102)=86,$BN$86,\"\")&IF((BD102)=87,$BN$87,\"\")&IF((BD102)=88,$BN$88,\"\")&IF((BD102)=89,$BN$89,\"\")&IF((BD102)=90,$BN$90,\"\")&IF((BD102)=91,$BN$91,\"\")&IF((BD102)=92,$BN$92,\"\")&IF((BD102)=93,$BN$93,\"\")&IF((BD102)=94,$BN$94,\"\")&IF((BD102)=95,$BN$95,\"\")&IF((BD102)=96,$BN$96,\"\")&IF((BD102)=97,$BN$97,\"\")&IF((BD102)=98,$BN$98,\"\")&IF((BD102)=99,$BN$99,\"\")&IF((BD102)=100,$BN$100,\"\")&IF((BD102)=101,$BN$101,\"\")&IF((BD102)=102,$BN$102,\"\")&IF((BD102)=103,$BN$103,\"\")&IF((BD102)=104,$BN$104,\"\")&IF((BD102)=105,$BN$105,\"\")&IF((BD102)=106,$BN$106,\"\")&IF((BD102)=107,$BN$107,\"\")&IF((BD102)=108,$BN$108,\"\")&IF((BD102)=109,$BN$109,\"\")&IF((BD102)=110,$BN$110,\"\")&IF((BD102)=111,$BN$111,\"\")&IF((BD102)=112,$BN$112,\"\")&IF((BD102)=113,$BN$113,\"\")&IF((BD102)=114,$BN$114,\"\")&IF((BD102)=115,$BN$115,\"\")&IF((BD102)=116,$BN$116,\"\")&IF((BD102)=117,$BN$117,\"\")&IF((BD102)=118,$BN$118,\"\")&IF((BD102)=119,$BN$119,\"\")&IF((BD102)=120,$BN$120,\"\")&IF((BD102)=121,$BN$121,\"\")&IF((BD102)=122,$BN$122,\"\")&IF((BD102)=123,$BN$123,\"\")&IF((BD102)=124,$BN$124,\"\")&IF((BD102)=125,$BN$125,\"\")&IF((BD102)=126,$BN$126,\"\")&IF((BD102)=127,$BN$127,\"\")&IF((BD102)=128,$BN$128,\"\")","v":"Clément/Charles"},"Equ",{"$f":"BH102","v":19},null,{"$f":"IF((BH102)=1,$BN$1,\"\")&IF((BH102)=2,$BN$2,\"\")&IF((BH102)=3,$BN$3,\"\")&IF((BH102)=4,$BN$4,\"\")&IF((BH102)=5,$BN$5,\"\")&IF((BH102)=6,$BN$6,\"\")&IF((BH102)=7,$BN$7,\"\")&IF((BH102)=8,$BN$8,\"\")&IF((BH102)=9,$BN$9,\"\")&IF((BH102)=10,$BN$10,\"\")&IF((BH102)=11,$BN$11,\"\")&IF((BH102)=12,$BN$12,\"\")&IF((BH102)=13,$BN$13,\"\")&IF((BH102)=14,$BN$14,\"\")&IF((BH102)=15,$BN$15,\"\")&IF((BH102)=16,$BN$16,\"\")&IF((BH102)=17,$BN$17,\"\")&IF((BH102)=18,$BN$18,\"\")&IF((BH102)=19,$BN$19,\"\")&IF((BH102)=20,$BN$20,\"\")&IF((BH102)=21,$BN$21,\"\")&IF((BH102)=22,$BN$22,\"\")&IF((BH102)=23,$BN$23,\"\")&IF((BH102)=24,$BN$24,\"\")&IF((BH102)=25,$BN$25,\"\")&IF((BH102)=26,$BN$26,\"\")&IF((BH102)=27,$BN$27,\"\")&IF((BH102)=28,$BN$28,\"\")&IF((BH102)=29,$BN$29,\"\")&IF((BH102)=30,$BN$30,\"\")&IF((BH102)=31,$BN$31,\"\")&IF((BH102)=32,$BN$32,\"\")&IF((BH102)=33,$BN$33,\"\")&IF((BH102)=34,$BN$34,\"\")&IF((BH102)=35,$BN$35,\"\")&IF((BH102)=36,$BN$36,\"\")&IF((BH102)=37,$BN$37,\"\")&IF((BH102)=38,$BN$38,\"\")&IF((BH102)=39,$BN$39,\"\")&IF((BH102)=40,$BN$40,\"\")&IF((BH102)=41,$BN$41,\"\")&IF((BH102)=42,$BN$42,\"\")&IF((BH102)=43,$BN$43,\"\")&IF((BH102)=44,$BN$44,\"\")&IF((BH102)=45,$BN$45,\"\")&IF((BH102)=46,$BN$46,\"\")&IF((BH102)=47,$BN$47,\"\")&IF((BH102)=48,$BN$48,\"\")&IF((BH102)=49,$BN$49,\"\")&IF((BH102)=50,$BN$50,\"\")&IF((BH102)=51,$BN$51,\"\")&IF((BH102)=52,$BN$52,\"\")&IF((BH102)=53,$BN$53,\"\")&IF((BH102)=54,$BN$54,\"\")&IF((BH102)=55,$BN$55,\"\")&IF((BH102)=56,$BN$56,\"\")&IF((BH102)=57,$BN$57,\"\")&IF((BH102)=58,$BN$58,\"\")&IF((BH102)=59,$BN$59,\"\")&IF((BH102)=60,$BN$60,\"\")&IF((BH102)=61,$BN$61,\"\")&IF((BH102)=62,$BN$62,\"\")&IF((BH102)=63,$BN$63,\"\")&IF((BH102)=64,$BN$64,\"\")&IF((BH102)=65,$BN$65,\"\")&IF((BH102)=66,$BN$66,\"\")&IF((BH102)=67,$BN$67,\"\")&IF((BH102)=68,$BN$68,\"\")&IF((BH102)=69,$BN$69,\"\")&IF((BH102)=70,$BN$70,\"\")&IF((BH102)=71,$BN$71,\"\")&IF((BH102)=72,$BN$72,\"\")&IF((BH102)=73,$BN$73,\"\")&IF((BH102)=74,$BN$74,\"\")&IF((BH102)=75,$BN$75,\"\")&IF((BH102)=76,$BN$76,\"\")&IF((BH102)=77,$BN$77,\"\")&IF((BH102)=78,$BN$78,\"\")&IF((BH102)=79,$BN$79,\"\")&IF((BH102)=80,$BN$80,\"\")&IF((BH102)=81,$BN$81,\"\")&IF((BH102)=82,$BN$82,\"\")&IF((BH102)=83,$BN$83,\"\")&IF((BH102)=84,$BN$84,\"\")&IF((BH102)=85,$BN$85,\"\")&IF((BH102)=86,$BN$86,\"\")&IF((BH102)=87,$BN$87,\"\")&IF((BH102)=88,$BN$88,\"\")&IF((BH102)=89,$BN$89,\"\")&IF((BH102)=90,$BN$90,\"\")&IF((BH102)=91,$BN$91,\"\")&IF((BH102)=92,$BN$92,\"\")&IF((BH102)=93,$BN$93,\"\")&IF((BH102)=94,$BN$94,\"\")&IF((BH102)=95,$BN$95,\"\")&IF((BH102)=96,$BN$96,\"\")&IF((BH102)=97,$BN$97,\"\")&IF((BH102)=98,$BN$98,\"\")&IF((BH102)=99,$BN$99,\"\")&IF((BH102)=100,$BN$100,\"\")&IF((BH102)=101,$BN$101,\"\")&IF((BH102)=102,$BN$102,\"\")&IF((BH102)=103,$BN$103,\"\")&IF((BH102)=104,$BN$104,\"\")&IF((BH102)=105,$BN$105,\"\")&IF((BH102)=106,$BN$106,\"\")&IF((BH102)=107,$BN$107,\"\")&IF((BH102)=108,$BN$108,\"\")&IF((BH102)=109,$BN$109,\"\")&IF((BH102)=110,$BN$110,\"\")&IF((BH102)=111,$BN$111,\"\")&IF((BH102)=112,$BN$112,\"\")&IF((BH102)=113,$BN$113,\"\")&IF((BH102)=114,$BN$114,\"\")&IF((BH102)=115,$BN$115,\"\")&IF((BH102)=116,$BN$116,\"\")&IF((BH102)=117,$BN$117,\"\")&IF((BH102)=118,$BN$118,\"\")&IF((BH102)=119,$BN$119,\"\")&IF((BH102)=120,$BN$120,\"\")&IF((BH102)=121,$BN$121,\"\")&IF((BH102)=122,$BN$122,\"\")&IF((BH102)=123,$BN$123,\"\")&IF((BH102)=124,$BN$124,\"\")&IF((BH102)=125,$BN$125,\"\")&IF((BH102)=126,$BN$126,\"\")&IF((BH102)=127,$BN$127,\"\")&IF((BH102)=128,$BN$128,\"\")","v":"Sylvain / Julien"},null,null,null,null,{"$f":"resultat!AL7","v":7},{"$f":"resultat!AM7","v":"Pierre"}]
["Terrain",3,"Equ",22,null,"Landry / Martial","Equ",34,null,"Joe/Geo",13,6,"Equ",12,null,"Alain / Joël","Equ",37,null,"Clément/Charles",null,null,"Equ",3,null,"marco","Equ",22,null,"Landry / Martial",null,null,"Equ",9,null,"Sébastien","Equ",14,null,"Alain / Christophe",null,null,"Equ",12,null,"Alain / Joël","Equ",10,null,"Florian",null,null,"Equ",8,null,"Marcel","Equ",23,null,"Mickaël / Freddy",null,null,null,null,{"$f":"resultat!AL8","v":8},{"$f":"resultat!AM8","v":"Marcel"}]
["Terrain",4,"Equ",14,null,"Alain / Christophe","Equ",26,null,"Thierry / Damien",13,6,"Equ",20,null,"Fanfan / Jonathan","Equ",33,null,"Bruno/Philippe",null,null,"Equ",27,null,"Phillipe / Michel","Equ",36,null,"Alcide/ Henri",null,null,"Equ",7,null,"Pierre","Equ",20,null,"Fanfan / Jonathan",null,null,"Equ",34,null,"Joe/Geo","Equ",11,null,"Eric / Yvonnick",null,null,"Equ",25,null,"Aurélien / Didier","Equ",2,null,"Francis",null,null,null,null,{"$f":"resultat!AL9","v":9},{"$f":"resultat!AM9","v":"Sébastien"}]
["Terrain",5,"Equ",3,null,"marco","Equ",33,null,"Bruno/Philippe",13,6,"Equ",14,null,"Alain / Christophe","Equ",7,null,"Pierre",null,null,"Equ",31,null,"Gérard / Edouard","Equ",10,null,"Florian",null,null,"Equ",29,null,"Yoann / Christian","Equ",18,null,"Charles/ Nénesse",null,null,"Equ",16,null,"Le Suisse / Yoyo","Equ",40,null,"Vincent/François",null,null,"Equ",10,null,"Florian","Equ",34,null,"Joe/Geo",null,null,null,null,{"$f":"resultat!AL10","v":10},{"$f":"resultat!AM10","v":"Florian"}]
["Terrain",6,"Equ",15,null,"Ben / Jimmy","Equ",9,null,"Sébastien",13,6,"Equ",25,null,"Aurélien / Didier","Equ",1,null,"Julot",null,null,"Equ",19,null,"Sylvain / Julien","Equ",6,null,"jacques",null,null,"Equ",15,null,"Ben / Jimmy","Equ",31,null,"Gérard / Edouard",null,null,"Equ",22,null,"Landry / Martial","Equ",36,null,"Alcide/ Henri",null,null,"Equ",15,null,"Ben / Jimmy","Equ",32,null,"Adeline / Mathieu",null,null,null,null,{"$f":"resultat!AL11","v":11},{"$f":"resultat!AM11","v":"Eric / Yvonnick"}]
["Terrain",7,"Equ",11,null,"Eric / Yvonnick","Equ",29,null,"Yoann / Christian",13,6,"Equ",5,null,"yvon","Equ",29,null,"Yoann / Christian",null,null,"Equ",18,null,"Charles/ Nénesse","Equ",8,null,"Marcel",null,null,"Equ",8,null,"Marcel","Equ",4,null,"Denise",null,null,"Equ",35,null,"Frères MARTIN","Equ",24,null,"Jacques / Michel",null,null,"Equ",12,null,"Alain / Joël","Equ",40,null,"Vincent/François",null,null,null,null,{"$f":"resultat!AL12","v":12},{"$f":"resultat!AM12","v":"Alain / Joël"}]
["Terrain",8,"Equ",32,null,"Adeline / Mathieu","Equ",39,null,"Philippe/Nico",13,6,"Equ",38,null,"Romain/Florian","Equ",28,null,"René / Robert",null,null,"Equ",35,null,"Frères MARTIN","Equ",33,null,"Bruno/Philippe",null,null,"Equ",33,null,"Bruno/Philippe","Equ",10,null,"Florian",null,null,"Equ",9,null,"Sébastien","Equ",4,null,"Denise",null,null,"Equ",7,null,"Pierre","Equ",1,null,"Julot",null,null,null,null,{"$f":"resultat!AL13","v":13},{"$f":"resultat!AM13","v":"L'archi / Jean-Pierre"}]
["Terrain",9,"Equ",38,null,"Romain/Florian","Equ",19,null,"Sylvain / Julien",13,6,"Equ",27,null,"Phillipe / Michel","Equ",16,null,"Le Suisse / Yoyo",null,null,"Equ",38,null,"Romain/Florian","Equ",12,null,"Alain / Joël",null,null,"Equ",21,null,"Gégé / Eric","Equ",25,null,"Aurélien / Didier",null,null,"Equ",21,null,"Gégé / Eric","Equ",23,null,"Mickaël / Freddy",null,null,"Equ",3,null,"marco","Equ",18,null,"Charles/ Nénesse",null,null,null,null,{"$f":"resultat!AL14","v":14},{"$f":"resultat!AM14","v":"Alain / Christophe"}]
["Terrain",10,"Equ",7,null,"Pierre","Equ",30,null,"Patrick / Roger",13,6,"Equ",36,null,"Alcide/ Henri","Equ",3,null,"marco",null,null,"Equ",29,null,"Yoann / Christian","Equ",28,null,"René / Robert",null,null,"Equ",3,null,"marco","Equ",13,null,"L'archi / Jean-Pierre",null,null,"Equ",28,null,"René / Robert","Equ",39,null,"Philippe/Nico",null,null,"Equ",29,null,"Yoann / Christian","Equ",9,null,"Sébastien",null,null,null,null,{"$f":"resultat!AL15","v":15},{"$f":"resultat!AM15","v":"Ben / Jimmy"}]
["Terrain",11,"Equ",16,null,"Le Suisse / Yoyo","Equ",23,null,"Mickaël / Freddy",13,6,"Equ",4,null,"Denise","Equ",15,null,"Ben / Jimmy",null,null,"Equ",13,null,"L'archi / Jean-Pierre","Equ",14,null,"Alain / Christophe",null,null,"Equ",39,null,"Philippe/Nico","Equ",35,null,"Frères MARTIN",null,null,"Equ",32,null,"Adeline / Mathieu","Equ",8,null,"Marcel",null,null,"Equ",4,null,"Denise","Equ",31,null,"Gérard / Edouard",null,null,null,null,{"$f":"resultat!AL16","v":16},{"$f":"resultat!AM16","v":"Le Suisse / Yoyo"}]
["Terrain",12,"Equ",12,null,"Alain / Joël","Equ",2,null,"Francis",13,6,"Equ",13,null,"L'archi / Jean-Pierre","Equ",34,null,"Joe/Geo",null,null,"Equ",39,null,"Philippe/Nico","Equ",17,null,"Laurent / Mickaël",null,null,"Equ",34,null,"Joe/Geo","Equ",36,null,"Alcide/ Henri",null,null,"Equ",25,null,"Aurélien / Didier","Equ",18,null,"Charles/ Nénesse",null,null,"Equ",33,null,"Bruno/Philippe","Equ",24,null,"Jacques / Michel",null,null,null,null,{"$f":"resultat!AL17","v":17},{"$f":"resultat!AM17","v":"Laurent / Mickaël"}]
["Terrain",13,"Equ",4,null,"Denise","Equ",21,null,"Gégé / Eric",13,6,"Equ",32,null,"Adeline / Mathieu","Equ",23,null,"Mickaël / Freddy",null,null,"Equ",15,null,"Ben / Jimmy","Equ",40,null,"Vincent/François",null,null,"Equ",16,null,"Le Suisse / Yoyo","Equ",6,null,"jacques",null,null,"Equ",15,null,"Ben / Jimmy","Equ",17,null,"Laurent / Mickaël",null,null,"Equ",22,null,"Landry / Martial","Equ",30,null,"Patrick / Roger",null,null,null,null,{"$f":"resultat!AL18","v":18},{"$f":"resultat!AM18","v":"Charles/ Nénesse"}]
["Terrain",14,"Equ",8,null,"Marcel","Equ",5,null,"yvon",13,6,"Equ",17,null,"Laurent / Mickaël","Equ",9,null,"Sébastien",null,null,"Equ",7,null,"Pierre","Equ",16,null,"Le Suisse / Yoyo",null,null,"Equ",17,null,"Laurent / Mickaël","Equ",19,null,"Sylvain / Julien",null,null,"Equ",33,null,"Bruno/Philippe","Equ",19,null,"Sylvain / Julien",null,null,"Equ",35,null,"Frères MARTIN","Equ",14,null,"Alain / Christophe",null,null,null,null,{"$f":"resultat!AL19","v":19},{"$f":"resultat!AM19","v":"Sylvain / Julien"}]
["Terrain",15,"Equ",10,null,"Florian","Equ",40,null,"Vincent/François",13,6,"Equ",19,null,"Sylvain / Julien","Equ",21,null,"Gégé / Eric",null,null,"Equ",2,null,"Francis","Equ",37,null,"Clément/Charles",null,null,"Equ",12,null,"Alain / Joël","Equ",23,null,"Mickaël / Freddy",null,null,"Equ",26,null,"Thierry / Damien","Equ",20,null,"Fanfan / Jonathan",null,null,"Equ",20,null,"Fanfan / Jonathan","Equ",6,null,"jacques",null,null,null,null,{"$f":"resultat!AL20","v":20},{"$f":"resultat!AM20","v":"Fanfan / Jonathan"}]
["Terrain",16,"Equ",35,null,"Frères MARTIN","Equ",37,null,"Clément/Charles",13,6,"Equ",18,null,"Charles/ Nénesse","Equ",2,null,"Francis",null,null,"Equ",5,null,"yvon","Equ",11,null,"Eric / Yvonnick",null,null,"Equ",38,null,"Romain/Florian","Equ",26,null,"Thierry / Damien",null,null,"Equ",1,null,"Julot","Equ",5,null,"yvon",null,null,"Equ",28,null,"René / Robert","Equ",27,null,"Phillipe / Michel",null,null,null,null,{"$f":"resultat!AL21","v":21},{"$f":"resultat!AM21","v":"Gégé / Eric"}]
["Terrain",17,"Equ",6,null,"jacques","Equ",36,null,"Alcide/ Henri",13,6,"Equ",22,null,"Landry / Martial","Equ",24,null,"Jacques / Michel",null,null,"Equ",23,null,"Mickaël / Freddy","Equ",20,null,"Fanfan / Jonathan",null,null,"Equ",30,null,"Patrick / Roger","Equ",5,null,"yvon",null,null,"Equ",13,null,"L'archi / Jean-Pierre","Equ",2,null,"Francis",null,null,"Equ",17,null,"Laurent / Mickaël","Equ",13,null,"L'archi / Jean-Pierre",null,null,null,null,{"$f":"resultat!AL22","v":22},{"$f":"resultat!AM22","v":"Landry / Martial"}]
["Terrain",18,"Equ",20,null,"Fanfan / Jonathan","Equ",28,null,"René / Robert",13,6,"Equ",30,null,"Patrick / Roger","Equ",26,null,"Thierry / Damien",null,null,"Equ",26,null,"Thierry / Damien","Equ",9,null,"Sébastien",null,null,"Equ",40,null,"Vincent/François","Equ",1,null,"Julot",null,null,"Equ",14,null,"Alain / Christophe","Equ",29,null,"Yoann / Christian",null,null,"Equ",39,null,"Philippe/Nico","Equ",5,null,"yvon",null,null,null,null,{"$f":"resultat!AL23","v":23},{"$f":"resultat!AM23","v":"Mickaël / Freddy"}]
["Terrain",19,"Equ",17,null,"Laurent / Mickaël","Equ",18,null,"Charles/ Nénesse",13,6,"Equ",11,null,"Eric / Yvonnick","Equ",40,null,"Vincent/François",null,null,"Equ",4,null,"Denise","Equ",34,null,"Joe/Geo",null,null,"Equ",24,null,"Jacques / Michel","Equ",37,null,"Clément/Charles",null,null,"Equ",7,null,"Pierre","Equ",27,null,"Phillipe / Michel",null,null,"Equ",38,null,"Romain/Florian","Equ",11,null,"Eric / Yvonnick",null,null,null,null,{"$f":"resultat!AL24","v":24},{"$f":"resultat!AM24","v":"Jacques / Michel"}]
["Terrain",20,"Equ",13,null,"L'archi / Jean-Pierre","Equ",1,null,"Julot",13,6,"Equ",10,null,"Florian","Equ",35,null,"Frères MARTIN",null,null,"Equ",32,null,"Adeline / Mathieu","Equ",25,null,"Aurélien / Didier",null,null,"Equ",2,null,"Francis","Equ",32,null,"Adeline / Mathieu",null,null,"Equ",37,null,"Clément/Charles","Equ",3,null,"marco",null,null,"Equ",16,null,"Le Suisse / Yoyo","Equ",36,null,"Alcide/ Henri",null,null,null,null,{"$f":"resultat!AL25","v":25},{"$f":"resultat!AM25","v":"Aurélien / Didier"}]
[null,null,null,null,null,null,null,null,null,null,null,null,null,null,null,null,null,null,null,null,null,null,null,null,null,null,null,null,null,null,null,null,null,null,null,null,null,null,null,null,null,null,null,null,null,null,null,null,null,null,null,null,null,null,null,null,null,null,null,null,null,null,null,null,{"$f":"resultat!AL26","v":26},{"$f":"resultat!AM26","v":"Thierry / Damien"}]
[null,2,"tie à tous   &  A la fin de la partie pensez à remettre le score en nous indiquant votre N° de terrain                                 ...Bonne par",null,null,null,null,null,null,null,null,null,"tie à tous   &  A la fin de la partie pensez à remettre le score en nous indiquant votre N° de terrain                                 ...Bonne par",null,null,null,null,null,null,null,null,null,"tie à tous   &  A la fin de la partie pensez à remettre le score en nous indiquant votre N° de terrain                                 ...Bonne par",null,null,null,null,null,null,null,null,null,"tie à tous   &  A la fin de la partie pensez à remettre le score en nous indiquant votre N° de terrain                                 ...Bonne par",null,null,null,null,null,null,null,null,null,"tie à tous   &  A la fin de la partie pensez à remettre le score en nous indiquant votre N° de terrain                                 ...Bonne par",null,null,null,null,null,null,null,null,null,"tie à tous   &  A la fin de la partie pensez à remettre le score en nous indiquant votre N° de terrain                                 ...Bonne par",null,null,null,null,null,null,null,null,null,null,null,{"$f":"resultat!AL27","v":27},{"$f":"resultat!AM27","v":"Phillipe / Michel"}]
[null,null,null,null,null,null,null,null,null,null,null,null,null,null,null,null,null,null,null,null,null,null,null,null,null,null,null,null,null,null,null,null,null,null,null,null,null,null,null,null,null,null,null,null,null,null,null,null,null,null,null,null,null,null,null,null,null,null,null,null,null,null,null,null,{"$f":"resultat!AL28","v":28},{"$f":"resultat!AM28","v":"René / Robert"}]
[null,null,null,null,null,null,null,null,null,null,null,null,null,null,null,null,null,null,null,null,null,null,null,null,null,null,null,null,null,null,null,null,null,null,null,null,null,null,null,null,null,null,null,null,null,null,null,null,null,null,null,null,null,null,null,null,null,null,null,null,null,null,null,null,{"$f":"resultat!AL29","v":29},{"$f":"resultat!AM29","v":"Yoann / Christian"}]
[null,null,null,null,null,null,null,null,null,null,null,null,null,null,null,null,null,null,null,null,null,null,null,null,null,null,null,null,null,null,null,null,null,null,null,null,null,null,null,null,null,null,null,null,null,null,null,null,null,null,null,null,null,null,null,null,null,null,null,null,null,null,null,null,{"$f":"resultat!AL30","v":30},{"$f":"resultat!AM30","v":"Patrick / Roger"}]
[null,null,null,null,null,null,null,null,null,null,null,null,null,null,null,null,null,null,null,null,null,null,null,null,null,null,null,null,null,null,null,null,null,null,null,null,null,null,null,null,null,null,null,null,null,null,null,null,null,null,null,null,null,null,null,null,null,null,null,null,null,null,null,null,{"$f":"resultat!AL31","v":31},{"$f":"resultat!AM31","v":"Gérard / Edouard"}]
[null,null,null,null,null,null,null,null,null,null,null,null,null,null,null,null,null,null,null,null,null,null,null,null,null,null,null,null,null,null,null,null,null,null,null,null,null,null,null,null,null,null,null,null,null,null,null,null,null,null,null,null,null,null,null,null,null,null,null,null,null,null,null,null,{"$f":"resultat!AL32","v":32},{"$f":"resultat!AM32","v":"Adeline / Mathieu"}]
[null,null,null,null,null,null,null,null,null,null,null,null,null,null,null,null,null,null,null,null,null,null,null,null,null,null,null,null,null,null,null,null,null,null,null,null,null,null,null,null,null,null,null,null,null,null,null,null,null,null,null,null,null,null,null,null,null,null,null,null,null,null,null,null,{"$f":"resultat!AL33","v":33},{"$f":"resultat!AM33","v":"Bruno/Philippe"}]
[null,null,null,null,null,null,null,null,null,null,null,null,null,null,null,null,null,null,null,null,null,null,null,null,null,null,null,null,null,null,null,null,null,null,null,null,null,null,null,null,null,null,null,null,null,null,null,null,null,null,null,null,null,null,null,null,null,null,null,null,null,null,null,null,{"$f":"resultat!AL34","v":34},{"$f":"resultat!AM34","v":"Joe/Geo"}]
[null,null,null,null,null,null,null,null,null,null,null,null,null,null,null,null,null,null,null,null,null,null,null,null,null,null,null,null,null,null,null,null,null,null,null,null,null,null,null,null,null,null,null,null,null,null,null,null,null,null,null,null,null,null,null,null,null,null,null,null,null,null,null,null,{"$f":"resultat!AL35","v":35},{"$f":"resultat!AM35","v":"Frères MARTIN"}]
[null,2,null,null,null,null,null,null,null,null,null,null,null,null,null,null,null,null,null,null,null,null,null,null,null,null,null,null,null,null,null,null,null,null,null,null,null,null,null,null,null,null,null,null,null,null,null,null,null,null,null,null,null,null,null,null,null,null,null,null,null,null,null,null,{"$f":"resultat!AL36","v":36},{"$f":"resultat!AM36","v":"Alcide/ Henri"}]
[null,null,null,null,null,null,null,null,null,null,null,null,null,null,null,null,null,null,null,null,null,null,null,null,null,null,null,null,null,null,null,null,null,null,null,null,null,null,null,null,null,null,null,null,null,null,null,null,null,null,null,null,null,null,null,null,null,null,null,null,null,null,null,null,{"$f":"resultat!AL37","v":37},{"$f":"resultat!AM37","v":"Clément/Charles"}]
[null,null,null,null,null,null,null,null,null,null,null,null,null,null,null,null,null,null,null,null,null,null,null,null,null,null,null,null,null,null,null,null,null,null,null,null,null,null,null,null,null,null,null,null,null,null,null,null,null,null,null,null,null,null,null,null,null,null,null,null,null,null,null,null,{"$f":"resultat!AL38","v":38},{"$f":"resultat!AM38","v":"Romain/Florian"}]
[null,null,null,null,null,null,null,null,null,null,null,null,null,null,null,null,null,null,null,null,null,null,null,null,null,null,null,null,null,null,null,null,null,null,null,null,null,null,null,null,null,null,null,null,null,null,null,null,null,null,null,null,null,null,null,null,null,null,null,null,null,null,null,null,{"$f":"resultat!AL39","v":39},{"$f":"resultat!AM39","v":"Philippe/Nico"}]
[null,null,null,null,null,null,null,null,null,null,null,null,null,null,null,null,null,null,null,null,null,null,null,null,null,null,null,null,null,null,null,null,null,null,null,null,null,null,null,null,null,null,null,null,null,null,null,null,null,null,null,null,null,null,null,null,null,null,null,null,null,null,null,null,{"$f":"resultat!AL40","v":40},{"$f":"resultat!AM40","v":"Vincent/François"}]
[null,null,null,null,null,null,null,null,null,null,null,null,null,null,null,null,null,null,null,null,null,null,null,null,null,null,null,null,null,null,null,null,null,null,null,null,null,null,null,null,null,null,null,null,null,null,null,null,null,null,null,null,null,null,null,null,null,null,null,null,null,null,null,null,{"$f":"resultat!AL41","v":41},{"$f":"resultat!AM41","v":"Jean/Etienne"}]
[null,null,null,null,null,null,null,null,null,null,null,null,null,null,null,null,null,null,null,null,null,null,null,null,null,null,null,null,null,null,null,null,null,null,null,null,null,null,null,null,null,null,null,null,null,null,null,null,null,null,null,null,null,null,null,null,null,null,null,null,null,null,null,null,{"$f":"resultat!AL42","v":42},{"$f":"resultat!AM42","v":"Freddy/Benoit"}]
[null,null,null,null,null,null,null,null,null,null,null,null,null,null,null,null,null,null,null,null,null,null,null,null,null,null,null,null,null,null,null,null,null,null,null,null,null,null,null,null,null,null,null,null,null,null,null,null,null,null,null,null,null,null,null,null,null,null,null,null,null,null,null,null,{"$f":"resultat!AL43","v":43},{"$f":"resultat!AM43","v":"Frères ALLAIRE"}]
[null,null,null,null,null,null,null,null,null,null,null,null,null,null,null,null,null,null,null,null,null,null,null,null,null,null,null,null,null,null,null,null,null,null,null,null,null,null,null,null,null,null,null,null,null,null,null,null,null,null,null,null,null,null,null,null,null,null,null,null,null,null,null,null,{"$f":"resultat!AL44","v":44},{"$f":"resultat!AM44","v":"Guy/Jean BARREAU"}]
[null,null,null,null,null,null,null,null,null,null,null,null,null,null,null,null,null,null,null,null,null,null,null,null,null,null,null,null,null,null,null,null,null,null,null,null,null,null,null,null,null,null,null,null,null,null,null,null,null,null,null,null,null,null,null,null,null,null,null,null,null,null,null,null,{"$f":"resultat!AL45","v":45},{"$f":"resultat!AM45","v":"Carl/Edouard"}]
[null,null,null,null,null,null,null,null,null,null,null,null,null,null,null,null,null,null,null,null,null,null,null,null,null,null,null,null,null,null,null,null,null,null,null,null,null,null,null,null,null,null,null,null,null,null,null,null,null,null,null,null,null,null,null,null,null,null,null,null,null,null,null,null,{"$f":"resultat!AL46","v":46},{"$f":"resultat!AM46","v":"Serge/Philippe"}]
[null,null,null,null,null,null,null,null,null,null,null,null,null,null,null,null,null,null,null,null,null,null,null,null,null,null,null,null,null,null,null,null,null,null,null,null,null,null,null,null,null,null,null,null,null,null,null,null,null,null,null,null,null,null,null,null,null,null,null,null,null,null,null,null,{"$f":"resultat!AL47","v":47},{"$f":"resultat!AM47","v":"Boubou"}]
[null,null,null,null,null,null,null,null,null,null,null,null,null,null,null,null,null,null,null,null,null,null,null,null,null,null,null,null,null,null,null,null,null,null,null,null,null,null,null,null,null,null,null,null,null,null,null,null,null,null,null,null,null,null,null,null,null,null,null,null,null,null,null,null,{"$f":"resultat!AL48","v":48},{"$f":"resultat!AM48","v":"Luc"}]
[null,null,null,null,null,null,null,null,null,null,null,null,null,null,null,null,null,null,null,null,null,null,null,null,null,null,null,null,null,null,null,null,null,null,null,null,null,null,null,null,null,null,null,null,null,null,null,null,null,null,null,null,null,null,null,null,null,null,null,null,null,null,null,null,{"$f":"resultat!AL49","v":49},{"$f":"resultat!AM49","v":"Jacky/Olivier"}]
[null,null,null,null,null,null,null,null,null,null,null,null,null,null,null,null,null,null,null,null,null,null,null,null,null,null,null,null,null,null,null,null,null,null,null,null,null,null,null,null,null,null,null,null,null,null,null,null,null,null,null,null,null,null,null,null,null,null,null,null,null,null,null,null,{"$f":"resultat!AL50","v":50},{"$f":"resultat!AM50","v":"Adeline / Mathieu"}]
[null,null,null,null,null,null,null,null,null,null,null,null,null,null,null,null,null,null,null,null,null,null,null,null,null,null,null,null,null,null,null,null,null,null,null,null,null,null,null,null,null,null,null,null,null,null,null,null,null,null,null,null,null,null,null,null,null,null,null,null,null,null,null,null,{"$f":"resultat!AL51","v":51},{"$f":"resultat!AM51","v":"Mickaël / Freddy"}]
[null,null,null,null,null,null,null,null,null,null,null,null,null,null,null,null,null,null,null,null,null,null,null,null,null,null,null,null,null,null,null,null,null,null,null,null,null,null,null,null,null,null,null,null,null,null,null,null,null,null,null,null,null,null,null,null,null,null,null,null,null,null,null,null,{"$f":"resultat!AL52","v":52},{"$f":"resultat!AM52","v":"Jacques / Michel"}]
[null,null,null,null,null,null,null,null,null,null,null,null,null,null,null,null,null,null,null,null,null,null,null,null,null,null,null,null,null,null,null,null,null,null,null,null,null,null,null,null,null,null,null,null,null,null,null,null,null,null,null,null,null,null,null,null,null,null,null,null,null,null,null,null,{"$f":"resultat!AL53","v":53},{"$f":"resultat!AM53","v":"Aurélien / Didier"}]
[null,null,null,null,null,null,null,null,null,null,null,null,null,null,null,null,null,null,null,null,null,null,null,null,null,null,null,null,null,null,null,null,null,null,null,null,null,null,null,null,null,null,null,null,null,null,null,null,null,null,null,null,null,null,null,null,null,null,null,null,null,null,null,null,{"$f":"resultat!AL54","v":54},{"$f":"resultat!AM54","v":"Thierry / Damien"}]
[null,null,null,null,null,null,null,null,null,null,null,null,null,null,null,null,null,null,null,null,null,null,null,null,null,null,null,null,null,null,null,null,null,null,null,null,null,null,null,null,null,null,null,null,null,null,null,null,null,null,null,null,null,null,null,null,null,null,null,null,null,null,null,null,{"$f":"resultat!AL55","v":55},{"$f":"resultat!AM55","v":"Phillipe / Michel"}]
[null,null,null,null,null,null,null,null,null,null,null,null,null,null,null,null,null,null,null,null,null,null,null,null,null,null,null,null,null,null,null,null,null,null,null,null,null,null,null,null,null,null,null,null,null,null,null,null,null,null,null,null,null,null,null,null,null,null,null,null,null,null,null,null,{"$f":"resultat!AL56","v":56},{"$f":"resultat!AM56","v":"René / Robert"}]
[null,null,null,null,null,null,null,null,null,null,null,null,null,null,null,null,null,null,null,null,null,null,null,null,null,null,null,null,null,null,null,null,null,null,null,null,null,null,null,null,null,null,null,null,null,null,null,null,null,null,null,null,null,null,null,null,null,null,null,null,null,null,null,null,{"$f":"resultat!AL57","v":57},{"$f":"resultat!AM57","v":"Julot"}]
[null,null,null,null,null,null,null,null,null,null,null,null,null,null,null,null,null,null,null,null,null,null,null,null,null,null,null,null,null,null,null,null,null,null,null,null,null,null,null,null,null,null,null,null,null,null,null,null,null,null,null,null,null,null,null,null,null,null,null,null,null,null,null,null,{"$f":"resultat!AL58","v":58},{"$f":"resultat!AM58","v":"Francis"}]
[null,null,null,null,null,null,null,null,null,null,null,null,null,null,null,null,null,null,null,null,null,null,null,null,null,null,null,null,null,null,null,null,null,null,null,null,null,null,null,null,null,null,null,null,null,null,null,null,null,null,null,null,null,null,null,null,null,null,null,null,null,null,null,null,{"$f":"resultat!AL59","v":59},{"$f":"resultat!AM59","v":"marco"}]
[null,null,null,null,null,null,null,null,null,null,null,null,null,null,null,null,null,null,null,null,null,null,null,null,null,null,null,null,null,null,null,null,null,null,null,null,null,null,null,null,null,null,null,null,null,null,null,null,null,null,null,null,null,null,null,null,null,null,null,null,null,null,null,null,{"$f":"resultat!AL60","v":60},{"$f":"resultat!AM60","v":"Denise"}]
[null,null,null,null,null,null,null,null,null,null,null,null,null,null,null,null,null,null,null,null,null,null,null,null,null,null,null,null,null,null,null,null,null,null,null,null,null,null,null,null,null,null,null,null,null,null,null,null,null,null,null,null,null,null,null,null,null,null,null,null,null,null,null,null,{"$f":"resultat!AL61","v":61},{"$f":"resultat!AM61","v":"yvon"}]
[null,null,null,null,null,null,null,null,null,null,null,null,null,null,null,null,null,null,null,null,null,null,null,null,null,null,null,null,null,null,null,null,null,null,null,null,null,null,null,null,null,null,null,null,null,null,null,null,null,null,null,null,null,null,null,null,null,null,null,null,null,null,null,null,{"$f":"resultat!AL62","v":62},{"$f":"resultat!AM62","v":"jacques"}]
[null,null,null,null,null,null,null,null,null,null,null,null,null,null,null,null,null,null,null,null,null,null,null,null,null,null,null,null,null,null,null,null,null,null,null,null,null,null,null,null,null,null,null,null,null,null,null,null,null,null,null,null,null,null,null,null,null,null,null,null,null,null,null,null,{"$f":"resultat!AL63","v":63},{"$f":"resultat!AM63","v":"Pierre"}]
[null,null,null,null,null,null,null,null,null,null,null,null,null,null,null,null,null,null,null,null,null,null,null,null,null,null,null,null,null,null,null,null,null,null,null,null,null,null,null,null,null,null,null,null,null,null,null,null,null,null,null,null,null,null,null,null,null,null,null,null,null,null,null,null,{"$f":"resultat!AL64","v":64},{"$f":"resultat!AM64","v":"Marcel"}]
[null,null,null,null,null,null,null,null,null,null,null,null,null,null,null,null,null,null,null,null,null,null,null,null,null,null,null,null,null,null,null,null,null,null,null,null,null,null,null,null,null,null,null,null,null,null,null,null,null,null,null,null,null,null,null,null,null,null,null,null,null,null,null,null,{"$f":"resultat!AL65","v":65},{"$f":"resultat!AM65","v":"Sébastien"}]
[null,null,null,null,null,null,null,null,null,null,null,null,null,null,null,null,null,null,null,null,null,null,null,null,null,null,null,null,null,null,null,null,null,null,null,null,null,null,null,null,null,null,null,null,null,null,null,null,null,null,null,null,null,null,null,null,null,null,null,null,null,null,null,null,{"$f":"resultat!AL66","v":66},{"$f":"resultat!AM66","v":"Florian"}]
[null,null,null,null,null,null,null,null,null,null,null,null,null,null,null,null,null,null,null,null,null,null,null,null,null,null,null,null,null,null,null,null,null,null,null,null,null,null,null,null,null,null,null,null,null,null,null,null,null,null,null,null,null,null,null,null,null,null,null,null,null,null,null,null,{"$f":"resultat!AL67","v":67},{"$f":"resultat!AM67","v":"Eric / Yvonnick"}]
[null,null,null,null,null,null,null,null,null,null,null,null,null,null,null,null,null,null,null,null,null,null,null,null,null,null,null,null,null,null,null,null,null,null,null,null,null,null,null,null,null,null,null,null,null,null,null,null,null,null,null,null,null,null,null,null,null,null,null,null,null,null,null,null,{"$f":"resultat!AL68","v":68},{"$f":"resultat!AM68","v":"Alain / Joël"}]
[null,null,null,null,null,null,null,null,null,null,null,null,null,null,null,null,null,null,null,null,null,null,null,null,null,null,null,null,null,null,null,null,null,null,null,null,null,null,null,null,null,null,null,null,null,null,null,null,null,null,null,null,null,null,null,null,null,null,null,null,null,null,null,null,{"$f":"resultat!AL69","v":69},{"$f":"resultat!AM69","v":"L'archi / Jean-Pierre"}]
[null,null,null,null,null,null,null,null,null,null,null,null,null,null,null,null,null,null,null,null,null,null,null,null,null,null,null,null,null,null,null,null,null,null,null,null,null,null,null,null,null,null,null,null,null,null,null,null,null,null,null,null,null,null,null,null,null,null,null,null,null,null,null,null,{"$f":"resultat!AL70","v":70},{"$f":"resultat!AM70","v":"Alain / Christophe"}]
[null,null,null,null,null,{"$f":"IF((F166)=1,$BN$1,\"\")&IF((F166)=2,$BN$2,\"\")&IF((F166)=3,$BN$3,\"\")&IF((F166)=4,$BN$4,\"\")&IF((F166)=5,$BN$5,\"\")&IF((F166)=6,$BN$6,\"\")&IF((F166)=7,$BN$7,\"\")&IF((F166)=8,$BN$8,\"\")&IF((F166)=9,$BN$9,\"\")&IF((F166)=10,$BN$10,\"\")&IF((F166)=11,$BN$11,\"\")&IF((F166)=12,$BN$12,\"\")&IF((F166)=13,$BN$13,\"\")&IF((F166)=14,$BN$14,\"\")&IF((F166)=15,$BN$15,\"\")&IF((F166)=16,$BN$16,\"\")&IF((F166)=17,$BN$17,\"\")&IF((F166)=18,$BN$18,\"\")&IF((F166)=19,$BN$19,\"\")&IF((F166)=20,$BN$20,\"\")&IF((F166)=21,$BN$21,\"\")&IF((F166)=22,$BN$22,\"\")&IF((F166)=23,$BN$23,\"\")&IF((F166)=24,$BN$24,\"\")&IF((F166)=25,$BN$25,\"\")&IF((F166)=26,$BN$26,\"\")&IF((F166)=27,$BN$27,\"\")&IF((F166)=28,$BN$28,\"\")&IF((F166)=29,$BN$29,\"\")&IF((F166)=30,$BN$30,\"\")&IF((F166)=31,$BN$31,\"\")&IF((F166)=32,$BN$32,\"\")&IF((F166)=33,$BN$33,\"\")&IF((F166)=34,$BN$34,\"\")&IF((F166)=35,$BN$35,\"\")&IF((F166)=36,$BN$36,\"\")&IF((F166)=37,$BN$37,\"\")&IF((F166)=38,$BN$38,\"\")&IF((F166)=39,$BN$39,\"\")&IF((F166)=40,$BN$40,\"\")&IF((F166)=41,$BN$41,\"\")&IF((F166)=42,$BN$42,\"\")&IF((F166)=43,$BN$43,\"\")&IF((F166)=44,$BN$44,\"\")&IF((F166)=45,$BN$45,\"\")&IF((F166)=46,$BN$46,\"\")&IF((F166)=47,$BN$47,\"\")&IF((F166)=48,$BN$48,\"\")&IF((F166)=49,$BN$49,\"\")&IF((F166)=50,$BN$50,\"\")&IF((F166)=51,$BN$51,\"\")&IF((F166)=52,$BN$52,\"\")&IF((F166)=53,$BN$53,\"\")&IF((F166)=54,$BN$54,\"\")&IF((F166)=55,$BN$55,\"\")&IF((F166)=56,$BN$56,\"\")&IF((F166)=57,$BN$57,\"\")&IF((F166)=58,$BN$58,\"\")&IF((F166)=59,$BN$59,\"\")&IF((F166)=60,$BN$60,\"\")&IF((F166)=61,$BN$61,\"\")&IF((F166)=62,$BN$62,\"\")&IF((F166)=63,$BN$63,\"\")&IF((F166)=64,$BN$64,\"\")&IF((F166)=65,$BN$65,\"\")&IF((F166)=66,$BN$66,\"\")&IF((F166)=67,$BN$67,\"\")&IF((F166)=68,$BN$68,\"\")&IF((F166)=69,$BN$69,\"\")&IF((F166)=70,$BN$70,\"\")&IF((F166)=71,$BN$71,\"\")&IF((F166)=72,$BN$72,\"\")&IF((F166)=73,$BN$73,\"\")&IF((F166)=74,$BN$74,\"\")&IF((F166)=75,$BN$75,\"\")&IF((F166)=76,$BN$76,\"\")&IF((F166)=77,$BN$77,\"\")&IF((F166)=78,$BN$78,\"\")&IF((F166)=79,$BN$79,\"\")&IF((F166)=80,$BN$80,\"\")&IF((F166)=81,$BN$81,\"\")&IF((F166)=82,$BN$82,\"\")&IF((F166)=83,$BN$83,\"\")&IF((F166)=84,$BN$84,\"\")&IF((F166)=85,$BN$85,\"\")&IF((F166)=86,$BN$86,\"\")&IF((F166)=87,$BN$87,\"\")&IF((F166)=88,$BN$88,\"\")&IF((F166)=89,$BN$89,\"\")&IF((F166)=90,$BN$90,\"\")&IF((F166)=91,$BN$91,\"\")&IF((F166)=92,$BN$92,\"\")&IF((F166)=93,$BN$93,\"\")&IF((F166)=94,$BN$94,\"\")&IF((F166)=95,$BN$95,\"\")&IF((F166)=96,$BN$96,\"\")&IF((F166)=97,$BN$97,\"\")&IF((F166)=98,$BN$98,\"\")&IF((F166)=99,$BN$99,\"\")&IF((F166)=100,$BN$100,\"\")&IF((F166)=101,$BN$101,\"\")&IF((F166)=102,$BN$102,\"\")&IF((F166)=103,$BN$103,\"\")&IF((F166)=104,$BN$104,\"\")&IF((F166)=105,$BN$105,\"\")&IF((F166)=106,$BN$106,\"\")&IF((F166)=107,$BN$107,\"\")&IF((F166)=108,$BN$108,\"\")&IF((F166)=109,$BN$109,\"\")&IF((F166)=110,$BN$110,\"\")&IF((F166)=111,$BN$111,\"\")&IF((F166)=112,$BN$112,\"\")&IF((F166)=113,$BN$113,\"\")&IF((F166)=114,$BN$114,\"\")&IF((F166)=115,$BN$115,\"\")&IF((F166)=116,$BN$116,\"\")&IF((F166)=117,$BN$117,\"\")&IF((F166)=118,$BN$118,\"\")&IF((F166)=119,$BN$119,\"\")&IF((F166)=120,$BN$120,\"\")&IF((F166)=121,$BN$121,\"\")&IF((F166)=122,$BN$122,\"\")&IF((F166)=123,$BN$123,\"\")&IF((F166)=124,$BN$124,\"\")","v":""},null,null,null,null,null,null,null,null,null,null,null,null,null,null,null,null,null,null,null,null,null,null,null,null,null,null,null,null,null,null,null,null,null,null,null,null,null,null,null,null,null,null,null,null,null,null,null,null,null,null,null,null,null,null,null,null,null,null,{"$f":"resultat!AL71","v":71},{"$f":"resultat!AM71","v":"Ben / Jimmy"}]
[null,null,null,null,null,"",null,null,null,null,null,null,null,null,null,null,null,null,null,null,null,null,null,null,null,null,null,null,null,null,null,null,null,null,null,null,null,null,null,null,null,null,null,null,null,null,null,null,null,null,null,null,null,null,null,null,null,null,null,null,null,null,null,null,{"$f":"resultat!AL72","v":72},{"$f":"resultat!AM72","v":"Le Suisse / Yoyo"}]
[null,null,null,null,null,null,null,null,null,null,null,null,null,null,null,null,null,null,null,null,null,null,null,null,null,null,null,null,null,null,null,null,null,null,null,null,null,null,null,null,null,null,null,null,null,null,null,null,null,null,null,null,null,null,null,null,null,null,null,null,null,null,null,null,{"$f":"resultat!AL73","v":73},{"$f":"resultat!AM73","v":"Laurent / Mickaël"}]
[null,null,null,null,null,null,null,null,null,null,null,null,null,null,null,null,null,null,null,null,null,null,null,null,null,null,null,null,null,null,null,null,null,null,null,null,null,null,null,null,null,null,null,null,null,null,null,null,null,null,null,null,null,null,null,null,null,null,null,null,null,null,null,null,{"$f":"resultat!AL74","v":74},{"$f":"resultat!AM74","v":"Charles/ Nénesse"}]
[null,null,null,null,null,null,null,null,null,null,null,null,null,null,null,null,null,null,null,null,"Copie résultat 1",null,null,null,null,null,null,null,null,null,null,null,null,null,null,null,null,null,null,null,null,null,null,null,null,null,null,null,null,null,null,null,null,null,null,null,null,null,null,null,null,null,null,null,{"$f":"resultat!AL75","v":75},{"$f":"resultat!AM75","v":"Sylvain / Julien"}]
[null,null,null,null,null,null,null,null,null,null,null,null,null,null,null,null,null,null,null,null,null,null,null,null,null,null,null,null,null,null,null,null,null,null,null,null,null,null,null,null,null,null,null,null,null,null,null,null,null,null,null,null,null,null,null,null,null,null,null,null,null,null,null,null,{"$f":"resultat!AL76","v":76},{"$f":"resultat!AM76","v":"Fanfan / Jonathan"}]
[null,null,null,null,null,null,null,null,null,null,null,null,null,null,null,null,null,null,null,null,null,null,null,null,null,null,null,null,null,null,null,null,null,null,null,null,null,null,null,null,null,null,null,null,null,null,null,null,null,null,null,null,null,null,null,null,null,null,null,null,null,null,null,null,{"$f":"resultat!AL77","v":77},{"$f":"resultat!AM77","v":"Gégé / Eric"}]
[null,null,null,null,null,null,null,null,null,null,null,null,null,null,null,null,null,null,null,null,null,null,null,null,null,null,null,null,null,null,null,null,null,null,null,null,null,null,null,null,null,null,null,null,null,null,null,null,null,null,null,null,null,null,null,null,null,null,null,null,null,null,null,null,{"$f":"resultat!AL78","v":78},{"$f":"resultat!AM78","v":"Landry / Martial"}]
[null,null,null,null,null,null,null,null,null,null,null,null,null,null,null,null,null,null,null,null,null,null,null,null,null,null,null,null,null,null,null,null,null,null,null,null,null,null,null,null,null,null,null,null,null,null,null,null,null,null,null,null,null,null,null,null,null,null,null,null,null,null,null,null,{"$f":"resultat!AL79","v":79},{"$f":"resultat!AM79","v":"Mickaël / Freddy"}]
[null,null,null,null,null,null,null,null,null,null,null,null,null,null,null,null,null,null,null,null,null,null,null,null,null,null,null,null,null,null,null,null,null,null,null,null,null,null,null,null,null,null,null,null,null,null,null,null,null,null,null,null,null,null,null,null,null,null,null,null,null,null,null,null,{"$f":"resultat!AL80","v":80},{"$f":"resultat!AM80","v":"Jacques / Michel"}]
[null,null,null,null,null,null,null,null,null,null,null,null,null,null,null,null,null,null,null,null,null,null,null,null,null,null,null,null,null,null,null,null,null,null,null,null,null,null,null,null,null,null,null,null,null,null,null,null,null,null,null,null,null,null,null,null,null,null,null,null,null,null,null,null,{"$f":"resultat!AL81","v":81},{"$f":"resultat!AM81","v":"Aurélien / Didier"}]
[null,null,null,null,null,null,null,null,null,null,null,null,null,null,null,null,null,null,null,null,null,null,null,null,null,null,null,null,null,null,null,null,null,null,null,null,null,null,null,null,null,null,null,null,null,null,null,null,null,null,null,null,null,null,null,null,null,null,null,null,null,null,null,null,{"$f":"resultat!AL82","v":82},{"$f":"resultat!AM82","v":"Thierry / Damien"}]
[null,null,null,null,null,null,null,null,null,null,null,null,null,null,null,null,null,null,null,null,null,null,null,null,null,null,null,null,null,null,null,null,null,null,null,null,null,null,null,null,null,null,null,null,null,null,null,null,null,null,null,null,null,null,null,null,null,null,null,null,null,null,null,null,{"$f":"resultat!AL83","v":83},{"$f":"resultat!AM83","v":"Phillipe / Michel"}]
[null,null,null,null,null,null,null,null,null,null,null,null,null,null,null,null,null,null,null,null,null,null,null,null,null,null,null,null,null,null,null,null,null,null,null,null,null,null,null,null,null,null,null,null,null,null,null,null,null,null,null,null,null,null,null,null,null,null,null,null,null,null,null,null,{"$f":"resultat!AL84","v":84},{"$f":"resultat!AM84","v":"René / Robert"}]
[null,null,null,null,null,null,null,null,null,null,null,null,null,null,null,null,null,null,null,null,null,null,null,null,null,null,null,null,null,null,null,null,null,null,null,null,null,null,null,null,null,null,null,null,null,null,null,null,null,null,null,null,null,null,null,null,null,null,null,null,null,null,null,null,{"$f":"resultat!AL85","v":85},{"$f":"resultat!AM85","v":"Yoann / Christian"}]
[null,null,null,null,null,null,null,null,null,null,null,null,null,null,null,null,null,null,null,null,null,null,null,null,null,null,null,null,null,null,null,null,null,null,null,null,null,null,null,null,null,null,null,null,null,null,null,null,null,null,null,null,null,null,null,null,null,null,null,null,null,null,null,null,{"$f":"resultat!AL86","v":86},{"$f":"resultat!AM86","v":"Patrick / Roger"}]
[null,null,null,null,null,null,null,null,null,null,null,null,null,null,null,null,null,null,null,null,null,null,null,null,null,null,null,null,null,null,null,null,null,null,null,null,null,null,null,null,null,null,null,null,null,null,null,null,null,null,null,null,null,null,null,null,null,null,null,null,null,null,null,null,{"$f":"resultat!AL87","v":87},{"$f":"resultat!AM87","v":"Gérard / Edouard"}]
[null,null,null,null,null,null,null,null,null,null,null,null,null,null,null,null,null,null,null,null,null,null,null,null,null,null,null,null,null,null,null,null,null,null,null,null,null,null,null,null,null,null,null,null,null,null,null,null,null,null,null,null,null,null,null,null,null,null,null,null,null,null,null,null,{"$f":"resultat!AL88","v":88},{"$f":"resultat!AM88","v":"Adeline / Mathieu"}]
[null,null,null,null,null,null,null,null,null,null,null,null,null,null,null,null,null,null,null,null,null,null,null,null,null,null,null,null,null,null,null,null,null,null,null,null,null,null,null,null,null,null,null,null,null,null,null,null,null,null,null,null,null,null,null,null,null,null,null,null,null,null,null,null,{"$f":"resultat!AL89","v":89},{"$f":"resultat!AM89","v":"Bruno/Philippe"}]
[null,null,null,null,null,null,null,null,null,null,null,null,null,null,null,null,null,null,null,null,null,null,null,null,null,null,null,null,null,null,null,null,null,null,null,null,null,null,null,null,null,null,null,null,null,null,null,null,null,null,null,null,null,null,null,null,null,null,null,null,null,null,null,null,{"$f":"resultat!AL90","v":90},{"$f":"resultat!AM90","v":"Joe/Geo"}]
[null,null,null,null,null,null,null,null,null,null,null,null,null,null,null,null,null,null,null,null,null,null,null,null,null,null,null,null,null,null,null,null,null,null,null,null,null,null,null,null,null,null,null,null,null,null,null,null,null,null,null,null,null,null,null,null,null,null,null,null,null,null,null,null,{"$f":"resultat!AL91","v":91},{"$f":"resultat!AM91","v":"Frères MARTIN"}]
[null,null,null,null,null,null,null,null,null,null,null,null,null,null,null,null,null,null,null,null,null,null,null,null,null,null,null,null,null,null,null,null,null,null,null,null,null,null,null,null,null,null,null,null,null,null,null,null,null,null,null,null,null,null,null,null,null,null,null,null,null,null,null,null,{"$f":"resultat!AL92","v":92},{"$f":"resultat!AM92","v":"Alcide/ Henri"}]
[null,null,null,null,null,null,null,null,null,null,null,null,null,null,null,null,null,null,null,null,null,null,null,null,null,null,null,null,null,null,null,null,null,null,null,null,null,null,null,null,null,null,null,null,null,null,null,null,null,null,null,null,null,null,null,null,null,null,null,null,null,null,null,null,{"$f":"resultat!AL93","v":93},{"$f":"resultat!AM93","v":"Clément/Charles"}]
[null,null,null,null,null,null,null,null,null,null,null,null,null,null,null,null,null,null,null,null,null,null,null,null,null,null,null,null,null,null,null,null,null,null,null,null,null,null,null,null,null,null,null,null,null,null,null,null,null,null,null,null,null,null,null,null,null,null,null,null,null,null,null,null,{"$f":"resultat!AL94","v":94},{"$f":"resultat!AM94","v":"Romain/Florian"}]
[null,null,null,null,null,null,null,null,null,null,null,null,null,null,null,null,null,null,null,null,null,null,null,null,null,null,null,null,null,null,null,null,null,null,null,null,null,null,null,null,null,null,null,null,null,null,null,null,null,null,null,null,null,null,null,null,null,null,null,null,null,null,null,null,{"$f":"resultat!AL95","v":95},{"$f":"resultat!AM95","v":"Philippe/Nico"}]
[null,null,null,null,null,null,null,null,null,null,null,null,null,null,null,null,null,null,null,null,null,null,null,null,null,null,null,null,null,null,null,null,null,null,null,null,null,null,null,null,null,null,null,null,null,null,null,null,null,null,null,null,null,null,null,null,null,null,null,null,null,null,null,null,{"$f":"resultat!AL96","v":96},{"$f":"resultat!AM96","v":"Vincent/François"}]
[null,null,null,null,null,null,null,null,null,null,null,null,null,null,null,null,null,null,null,null,null,null,null,null,null,null,null,null,null,null,null,null,null,null,null,null,null,null,null,null,null,null,null,null,null,null,null,null,null,null,null,null,null,null,null,null,null,null,null,null,null,null,null,null,{"$f":"resultat!AL97","v":97},{"$f":"resultat!AM97","v":"Jean/Etienne"}]
[null,null,null,null,null,null,null,null,null,null,null,null,null,null,null,null,null,null,null,null,null,null,null,null,null,null,null,null,null,null,null,null,null,null,null,null,null,null,null,null,null,null,null,null,null,null,null,null,null,null,null,null,null,null,null,null,null,null,null,null,null,null,null,null,{"$f":"resultat!AL98","v":98},{"$f":"resultat!AM98","v":"Freddy/Benoit"}]
[null,null,null,null,null,null,null,null,null,null,null,null,null,null,null,null,null,null,null,null,null,null,null,null,null,null,null,null,null,null,null,null,null,null,null,null,null,null,null,null,null,null,null,null,null,null,null,null,null,null,null,null,null,null,null,null,null,null,null,null,null,null,null,null,{"$f":"resultat!AL99","v":99},{"$f":"resultat!AM99","v":"Frères ALLAIRE"}]
[null,null,null,null,null,null,null,null,null,null,null,null,null,null,null,null,null,null,null,null,null,null,null,null,null,null,null,null,null,null,null,null,null,null,null,null,null,null,null,null,null,null,null,null,null,null,null,null,null,null,null,null,null,null,null,null,null,null,null,null,null,null,null,null,{"$f":"resultat!AL100","v":100},{"$f":"resultat!AM100","v":"Guy/Jean BARREAU"}]
[null,null,"Equ",null,null,31,null,null,null,24,null,null,null,null,null,31,null,null,null,8,null,null,null,null,null,21,null,null,null,1,null,null,null,null,null,27,null,null,null,22,null,null,null,null,null,30,null,null,null,31,null,null,null,null,null,21,null,null,null,26,null,null,null,null,{"$f":"resultat!AL101","v":101},{"$f":"resultat!AM101","v":"Carl/Edouard"}]
[null,null,"Equ",null,null,27,null,null,null,25,null,null,null,null,null,6,null,null,null,39,null,null,null,null,null,24,null,null,null,30,null,null,null,null,null,28,null,null,null,11,null,null,null,null,null,38,null,null,null,6,null,null,null,null,null,37,null,null,null,19,null,null,null,null,{"$f":"resultat!AL102","v":102},{"$f":"resultat!AM102","v":"Serge/Philippe"}]
[null,null,"Equ",null,null,22,null,null,null,34,null,null,null,null,null,12,null,null,null,37,null,null,null,null,null,3,null,null,null,22,null,null,null,null,null,9,null,null,null,14,null,null,null,null,null,12,null,null,null,10,null,null,null,null,null,8,null,null,null,23,null,null,null,null,{"$f":"resultat!AL103","v":103},{"$f":"resultat!AM103","v":"Boubou"}]
[null,null,"Equ",null,null,14,null,null,null,26,null,null,null,null,null,20,null,null,null,33,null,null,null,null,null,27,null,null,null,36,null,null,null,null,null,7,null,null,null,20,null,null,null,null,null,34,null,null,null,11,null,null,null,null,null,25,null,null,null,2,null,null,null,null,{"$f":"resultat!AL104","v":104},{"$f":"resultat!AM104","v":"Luc"}]
[null,null,"Equ",null,null,3,null,null,null,33,null,null,null,null,null,14,null,null,null,7,null,null,null,null,null,31,null,null,null,10,null,null,null,null,null,29,null,null,null,18,null,null,null,null,null,16,null,null,null,40,null,null,null,null,null,10,null,null,null,34,null,null,null,null,{"$f":"resultat!AL105","v":105},{"$f":"resultat!AM105","v":"Jacky/Olivier"}]
[null,null,"Equ",null,null,15,null,null,null,9,null,null,null,null,null,25,null,null,null,1,null,null,null,null,null,19,null,null,null,6,null,null,null,null,null,15,null,null,null,31,null,null,null,null,null,22,null,null,null,36,null,null,null,null,null,15,null,null,null,32,null,null,null,null,{"$f":"resultat!AL106","v":106},{"$f":"resultat!AM106","v":"Adeline / Mathieu"}]
[null,null,"Equ",null,null,11,null,null,null,29,null,null,null,null,null,5,null,null,null,29,null,null,null,null,null,18,null,null,null,8,null,null,null,null,null,8,null,null,null,4,null,null,null,null,null,35,null,null,null,24,null,null,null,null,null,12,null,null,null,40,null,null,null,null,{"$f":"resultat!AL107","v":107},{"$f":"resultat!AM107","v":"Julot"}]
[null,null,"Equ",null,null,32,null,null,null,39,null,null,null,null,null,38,null,null,null,28,null,null,null,null,null,35,null,null,null,33,null,null,null,null,null,33,null,null,null,10,null,null,null,null,null,9,null,null,null,4,null,null,null,null,null,7,null,null,null,1,null,null,null,null,{"$f":"resultat!AL108","v":108},{"$f":"resultat!AM108","v":"Francis"}]
[null,null,"Equ",null,null,38,null,null,null,19,null,null,null,null,null,27,null,null,null,16,null,null,null,null,null,38,null,null,null,12,null,null,null,null,null,21,null,null,null,25,null,null,null,null,null,21,null,null,null,23,null,null,null,null,null,3,null,null,null,18,null,null,null,null,{"$f":"resultat!AL109","v":109},{"$f":"resultat!AM109","v":"marco"}]
[null,null,"Equ",null,null,7,null,null,null,30,null,null,null,null,null,36,null,null,null,3,null,null,null,null,null,29,null,null,null,28,null,null,null,null,null,3,null,null,null,13,null,null,null,null,null,28,null,null,null,39,null,null,null,null,null,29,null,null,null,9,null,null,null,null,{"$f":"resultat!AL110","v":110},{"$f":"resultat!AM110","v":"Denise"}]
[null,null,"Equ",null,null,16,null,null,null,23,null,null,null,null,null,4,null,null,null,15,null,null,null,null,null,13,null,null,null,14,null,null,null,null,null,39,null,null,null,35,null,null,null,null,null,32,null,null,null,8,null,null,null,null,null,4,null,null,null,31,null,null,null,null,{"$f":"resultat!AL111","v":111},{"$f":"resultat!AM111","v":"yvon"}]
[null,null,"Equ",null,null,12,null,null,null,2,null,null,null,null,null,13,null,null,null,34,null,null,null,null,null,39,null,null,null,17,null,null,null,null,null,34,null,null,null,36,null,null,null,null,null,25,null,null,null,18,null,null,null,null,null,33,null,null,null,24,null,null,null,null,{"$f":"resultat!AL112","v":112},{"$f":"resultat!AM112","v":"jacques"}]
[null,null,"Equ",null,null,4,null,null,null,21,null,null,null,null,null,32,null,null,null,23,null,null,null,null,null,15,null,null,null,40,null,null,null,null,null,16,null,null,null,6,null,null,null,null,null,15,null,null,null,17,null,null,null,null,null,22,null,null,null,30,null,null,null,null,{"$f":"resultat!AL113","v":113},{"$f":"resultat!AM113","v":"Pierre"}]
[null,null,"Equ",null,null,8,null,null,null,5,null,null,null,null,null,17,null,null,null,9,null,null,null,null,null,7,null,null,null,16,null,null,null,null,null,17,null,null,null,19,null,null,null,null,null,33,null,null,null,19,null,null,null,null,null,35,null,null,null,14,null,null,null,null,{"$f":"resultat!AL114","v":114},{"$f":"resultat!AM114","v":"Marcel"}]
[null,null,"Equ",null,null,10,null,null,null,40,null,null,null,null,null,19,null,null,null,21,null,null,null,null,null,2,null,null,null,37,null,null,null,null,null,12,null,null,null,23,null,null,null,null,null,26,null,null,null,20,null,null,null,null,null,20,null,null,null,6,null,null,null,null,{"$f":"resultat!AL115","v":115},{"$f":"resultat!AM115","v":"Sébastien"}]
[null,null,"Equ",null,null,35,null,null,null,37,null,null,null,null,null,18,null,null,null,2,null,null,null,null,null,5,null,null,null,11,null,null,null,null,null,38,null,null,null,26,null,null,null,null,null,1,null,null,null,5,null,null,null,null,null,28,null,null,null,27,null,null,null,null,{"$f":"resultat!AL116","v":116},{"$f":"resultat!AM116","v":"Florian"}]
[null,null,"Equ",null,null,6,null,null,null,36,null,null,null,null,null,22,null,null,null,24,null,null,null,null,null,23,null,null,null,20,null,null,null,null,null,30,null,null,null,5,null,null,null,null,null,13,null,null,null,2,null,null,null,null,null,17,null,null,null,13,null,null,null,null,{"$f":"resultat!AL117","v":117},{"$f":"resultat!AM117","v":"Eric / Yvonnick"}]
[null,null,"Equ",null,null,20,null,null,null,28,null,null,null,null,null,30,null,null,null,26,null,null,null,null,null,26,null,null,null,9,null,null,null,null,null,40,null,null,null,1,null,null,null,null,null,14,null,null,null,29,null,null,null,null,null,39,null,null,null,5,null,null,null,null,{"$f":"resultat!AL118","v":118},{"$f":"resultat!AM118","v":"Alain / Joël"}]
[null,null,"Equ",null,null,17,null,null,null,18,null,null,null,null,null,11,null,null,null,40,null,null,null,null,null,4,null,null,null,34,null,null,null,null,null,24,null,null,null,37,null,null,null,null,null,7,null,null,null,27,null,null,null,null,null,38,null,null,null,11,null,null,null,null,{"$f":"resultat!AL119","v":119},{"$f":"resultat!AM119","v":"L'archi / Jean-Pierre"}]
[null,null,"Equ",null,null,13,null,null,null,1,null,null,null,null,null,10,null,null,null,35,null,null,null,null,null,32,null,null,null,25,null,null,null,null,null,2,null,null,null,32,null,null,null,null,null,37,null,null,null,3,null,null,null,null,null,16,null,null,null,36,null,null,null,null,{"$f":"resultat!AL120","v":120},{"$f":"resultat!AM120","v":"Alain / Christophe"}]
[null,null,"Equ",null,null,null,null,null,null,null,null,null,null,null,null,null,null,null,null,null,null,null,null,null,null,null,null,null,null,null,null,null,null,null,null,null,null,null,null,null,null,null,null,null,null,null,null,null,null,null,null,null,null,null,null,null,null,null,null,null,null,null,null,null,{"$f":"resultat!AL121","v":121},{"$f":"resultat!AM121","v":"Ben / Jimmy"}]
[null,null,"Equ",null,null,null,null,null,null,null,null,null,null,null,null,null,null,null,null,null,null,null,null,null,null,null,null,null,null,null,null,null,null,null,null,null,null,null,null,null,null,null,null,null,null,null,null,null,null,null,null,null,null,null,null,null,null,null,null,null,null,null,null,null,{"$f":"resultat!AL122","v":122},{"$f":"resultat!AM122","v":"Le Suisse / Yoyo"}]
[null,null,"Equ",null,null,null,null,null,null,null,null,null,null,null,null,null,null,null,null,null,null,null,null,null,null,null,null,null,null,null,null,null,null,null,null,null,null,null,null,null,null,null,null,null,null,null,null,null,null,null,null,null,null,null,null,null,null,null,null,null,null,null,null,null,{"$f":"resultat!AL123","v":123},{"$f":"resultat!AM123","v":"Laurent / Mickaël"}]
[null,null,"Equ",null,null,null,null,null,null,null,null,null,null,null,null,null,null,null,null,null,null,null,null,null,null,null,null,null,null,null,null,null,null,null,null,null,null,null,null,null,null,null,null,null,null,null,null,null,null,null,null,null,null,null,null,null,null,null,null,null,null,null,null,null,{"$f":"resultat!AL124","v":124},{"$f":"resultat!AM124","v":"Charles/ Nénesse"}]
[null,null,"Equ",null,null,null,null,null,null,null,null,null,null,null,null,null,null,null,null,null,null,null,null,null,null,null,null,null,null,null,null,null,null,null,null,null,null,null,null,null,null,null,null,null,null,null,null,null,null,null,null,null,null,null,null,null,null,null,null,null,null,null,null,null,{"$f":"resultat!AL125","v":125},{"$f":"resultat!AM125","v":"Sylvain / Julien"}]
[null,null,"Equ",null,null,null,null,null,null,null,null,null,null,null,null,null,null,null,null,null,null,null,null,null,null,null,null,null,null,null,null,null,null,null,null,null,null,null,null,null,null,null,null,null,null,null,null,null,null,null,null,null,null,null,null,null,null,null,null,null,null,null,null,null,{"$f":"resultat!AL126","v":126},{"$f":"resultat!AM126","v":"Fanfan / Jonathan"}]
[null,null,"Equ",null,null,null,null,null,null,null,null,null,null,null,null,null,null,null,null,null,null,null,null,null,null,null,null,null,null,null,null,null,null,null,null,null,null,null,null,null,null,null,null,null,null,null,null,null,null,null,null,null,null,null,null,null,null,null,null,null,null,null,null,null,{"$f":"resultat!AL127","v":127},{"$f":"resultat!AM127","v":"Gégé / Eric"}]
[null,null,"Equ",null,null,null,null,null,null,null,null,null,null,null,null,null,null,null,null,null,null,null,null,null,null,null,null,null,null,null,null,null,null,null,null,null,null,null,null,null,null,null,null,null,null,null,null,null,null,null,null,null,null,null,null,null,null,null,null,null,null,null,null,null,{"$f":"resultat!AL128","v":128},{"$f":"resultat!AM128","v":"Landry / Martial"}]
[null,null,"Equ"]
[null,null,"Equ"]
[null,null,"Equ"]
[null,null,"Equ"]
[null,null,"Equ"]
[null,null,"Equ"]
[null,null,"Equ"]
[null,null,"Equ"]
[null,null,"Equ"]
[null,null,"Equ"]
[null,null,"Equ"]
[null,null,"Equ"]
[null,null,"Equ"]
[null,null,"Equ"]
[null,null,"Equ"]
[null,null,"Equ"]
[null,null,"Equ"]
[null,null,"Equ"]
[null,null,"Equ"]
[null,null,"Equ"]
[null,null,"Equ"]
[null,null,"Equ",null,null,null,null,null,null,null,null,null,null,null,null,null,null,null,null,null,null,null,null,null,null,null,null,null,null,null,null,null,null,null,null,null,null,null,null,null,null,null,null,null,null,null,null,null,null,null,null,null,null,null,null,null,null,null,null,null,null,null,null,null,null,null,null,null,null,null,"1 er tour",null,null,null,"Resultat"]
[null,null,"Equ",null,null,null,null,null,null,null,null,null,null,null,null,null,null,null,null,null,null,null,null,null,null,null,null,null,null,null,null,null,null,null,null,null,null,null,null,null,null,null,null,null,null,null,null,null,null,null,null,null,null,null,null,null,null,null,null,null,null,null,null,null,null,null,null,null,"Terrain  ",{"$f":"B6","v":1},{"$f":"D6","v":31},{"$f":"F6","v":"Gérard / Edouard"},{"$f":"H6","v":24},{"$f":"J6","v":"Jacques / Michel"}," "," "]
[null,null,"Equ",null,null,null,null,null,null,null,null,null,null,null,null,null,null,null,null,null,null,null,null,null,null,null,null,null,null,null,null,null,null,null,null,null,null,null,null,null,null,null,null,null,null,null,null,null,null,null,null,null,null,null,null,null,null,null,null,null,null,null,null,null,null,null,null,null,"Terrain  ",2,27,"Phillipe / Michel",25,"Aurélien / Didier"," "," "]
[null,null,"Equ",null,null,null,null,null,null,null,null,null,null,null,null,null,null,null,null,null,null,null,null,null,null,null,null,null,null,null,null,null,null,null,null,null,null,null,null,null,null,null,null,null,null,null,null,null,null,null,null,null,null,null,null,null,null,null,null,null,null,null,null,null,null,null,null,null,"Terrain  ",3,22,"Landry / Martial",34,"Joe/Geo"," "," "]
[null,null,"Equ",null,null,null,null,null,null,null,null,null,null,null,null,null,null,null,null,null,null,null,null,null,null,null,null,null,null,null,null,null,null,null,null,null,null,null,null,null,null,null,null,null,null,null,null,null,null,null,null,null,null,null,null,null,null,null,null,null,null,null,null,null,null,null,null,null,"Terrain  ",4,14,"Alain / Christophe",26,"Thierry / Damien"," "," "]
[null,null,"Equ",null,null,null,null,null,null,null,null,null,null,null,null,null,null,null,null,null,null,null,null,null,null,null,null,null,null,null,null,null,null,null,null,null,null,null,null,null,null,null,null,null,null,null,null,null,null,null,null,null,null,null,null,null,null,null,null,null,null,null,null,null,null,null,null,null,"Terrain  ",5,3,"marco",33,"Bruno/Philippe"," "," "]
[null,null,"Equ",null,null,null,null,null,null,null,null,null,null,null,null,null,null,null,null,null,null,null,null,null,null,null,null,null,null,null,null,null,null,null,null,null,null,null,null,null,null,null,null,null,null,null,null,null,null,null,null,null,null,null,null,null,null,null,null,null,null,null,null,null,null,null,null,null,"Terrain  ",6,15,"Ben / Jimmy",9,"Sébastien"," "," "]
[null,null,"Equ",null,null,null,null,null,null,null,null,null,null,null,null,null,null,null,null,null,null,null,null,null,null,null,null,null,null,null,null,null,null,null,null,null,null,null,null,null,null,null,null,null,null,null,null,null,null,null,null,null,null,null,null,null,null,null,null,null,null,null,null,null,null,null,null,null,"Terrain  ",7,11,"Eric / Yvonnick",29,"Yoann / Christian"," "," "]
[null,null,"Equ",null,null,null,null,null,null,null,null,null,null,null,null,null,null,null,null,null,null,null,null,null,null,null,null,null,null,null,null,null,null,null,null,null,null,null,null,null,null,null,null,null,null,null,null,null,null,null,null,null,null,null,null,null,null,null,null,null,null,null,null,null,null,null,null,null,"Terrain  ",8,32,"Adeline / Mathieu",39,"Philippe/Nico"," "," "]
[null,null,"Equ",null,null,null,null,null,null,null,null,null,null,null,null,null,null,null,null,null,null,null,null,null,null,null,null,null,null,null,null,null,null,null,null,null,null,null,null,null,null,null,null,null,null,null,null,null,null,null,null,null,null,null,null,null,null,null,null,null,null,null,null,null,null,null,null,null,"Terrain  ",9,38,"Romain/Florian",19,"Sylvain / Julien"," "," "]
[null,null,"Equ",null,null,null,null,null,null,null,null,null,null,null,null,null,null,null,null,null,null,null,null,null,null,null,null,null,null,null,null,null,null,null,null,null,null,null,null,null,null,null,null,null,null,null,null,null,null,null,null,null,null,null,null,null,null,null,null,null,null,null,null,null,null,null,null,null,"Terrain  ",10,7,"Pierre",30,"Patrick / Roger"," "," "]
[null,null,"Equ",null,null,null,null,null,null,null,null,null,null,null,null,null,null,null,null,null,null,null,null,null,null,null,null,null,null,null,null,null,null,null,null,null,null,null,null,null,null,null,null,null,null,null,null,null,null,null,null,null,null,null,null,null,null,null,null,null,null,null,null,null,null,null,null,null,"Terrain  ",11,16,"Le Suisse / Yoyo",23,"Mickaël / Freddy"," "," "]
[null,null,"Equ",null,null,null,null,null,null,null,null,null,null,null,null,null,null,null,null,null,null,null,null,null,null,null,null,null,null,null,null,null,null,null,null,null,null,null,null,null,null,null,null,null,null,null,null,null,null,null,null,null,null,null,null,null,null,null,null,null,null,null,null,null,null,null,null,null,"Terrain  ",12,12,"Alain / Joël",2,"Francis"," "," "]
[null,null,"Equ",null,null,null,null,null,null,null,null,null,null,null,null,null,null,null,null,null,null,null,null,null,null,null,null,null,null,null,null,null,null,null,null,null,null,null,null,null,null,null,null,null,null,null,null,null,null,null,null,null,null,null,null,null,null,null,null,null,null,null,null,null,null,null,null,null,"Terrain  ",13,4,"Denise",21,"Gégé / Eric"," "," "]
[null,null,"Equ",null,null,null,null,null,null,null,null,null,null,null,null,null,null,null,null,null,null,null,null,null,null,null,null,null,null,null,null,null,null,null,null,null,null,null,null,null,null,null,null,null,null,null,null,null,null,null,null,null,null,null,null,null,null,null,null,null,null,null,null,null,null,null,null,null,"Terrain  ",14,8,"Marcel",5,"yvon"," "," "]
[null,null,null,null,null,null,null,null,null,null,null,null,null,null,null,null,null,null,null,null,null,null,null,null,null,null,null,null,null,null,null,null,null,null,null,null,null,null,null,null,null,null,null,null,null,null,null,null,null,null,null,null,null,null,null,null,null,null,null,null,null,null,null,null,null,null,null,null,"Terrain  ",15,10,"Florian",40,"Vincent/François"," "," "]
[null,null,null,null,null,null,null,null,null,null,null,null,null,null,null,null,null,null,null,null,null,null,null,null,null,null,null,null,null,null,null,null,null,null,null,null,null,null,null,null,null,null,null,null,null,null,null,null,null,null,null,null,null,null,null,null,null,null,null,null,null,null,null,null,null,null,null,null,"Terrain  ",16,35,"Frères MARTIN",37,"Clément/Charles"," "," "]
[null,null,null,null,null,null,null,null,null,null,null,null,null,null,null,null,null,null,null,null,null,null,null,null,null,null,null,null,null,null,null,null,null,null,null,null,null,null,null,null,null,null,null,null,null,null,null,null,null,null,null,null,null,null,null,null,null,null,null,null,null,null,null,null,null,null,null,null,"Terrain  ",17,6,"jacques",36,"Alcide/ Henri"," "," "]
[null,null,null,null,null,null,null,null,null,null,null,null,null,null,null,null,null,null,null,null,null,null,null,null,null,null,null,null,null,null,null,null,null,null,null,null,null,null,null,null,null,null,null,null,null,null,null,null,null,null,null,null,null,null,null,null,null,null,null,null,null,null,null,null,null,null,null,null,"Terrain  ",18,20,"Fanfan / Jonathan",28,"René / Robert"," "," "]
[null,null,null,null,null,null,null,null,null,null,null,null,null,null,null,null,null,null,null,null,null,null,null,null,null,null,null,null,null,null,null,null,null,null,null,null,null,null,null,null,null,null,null,null,null,null,null,null,null,null,null,null,null,null,null,null,null,null,null,null,null,null,null,null,null,null,null,null,"Terrain  ",19,17,"Laurent / Mickaël",18,"Charles/ Nénesse"," "," "]
[null,null,null,null,null,null,null,null,null,null,null,null,null,null,null,null,null,null,null,null,null,null,null,null,null,null,null,null,null,null,null,null,null,null,null,null,null,null,null,null,null,null,null,null,null,null,null,null,null,null,null,null,null,null,null,null,null,null,null,null,null,null,null,null,null,null,null,null,"Terrain  ",20,13,"L'archi / Jean-Pierre",1,"Julot"," "," "]
[]
[null,null,null,null,null,null,null,null,null,null,null,null,null,null,null,null,null,null,null,null,null,null,null,null,null,null,null,null,null,null,null,null,null,null,null,null,null,null,null,null,null,null,null,null,null,null,null,null,null,null,null,null,null,null,null,null,null,null,null,null,null,null,null,null,null,null,null,null,null,null,null,null,null,null,null,{"$f":"L27","v":0}]
[]
[]
[]
[]
[]
[]
[null,null,null,null,null,null,null,null,null,null,null,null,null,null,null,null,null,null,null,null,null,null,null,null,null,null,null,null,null,null,null,null,null,null,null,null,null,null,null,null,null,null,null,null,null,null,null,null,null,null,null,null,null,null,null,null,null,null,null,null,null,null,null,null,null,null,null,null,null,null,"2 è tour",null,null,null,"Resultat"]
[null,null,null,null,null,null,null,null,null,null,null,null,null,null,null,null,null,null,null,null,null,null,null,null,null,null,null,null,null,null,null,null,null,null,null,null,null,null,null,null,null,null,null,null,null,null,null,null,null,null,null,null,null,null,null,null,null,null,null,null,null,null,null,null,null,null,null,null,"Terrain  ",{"$f":"B6","v":1},{"$f":"N6","v":31},{"$f":"P6","v":"Gérard / Edouard"},{"$f":"R6","v":8},{"$f":"T6","v":"Marcel"}," "," "]
[null,null,null,null,null,null,null,null,null,null,null,null,null,null,null,null,null,null,null,null,null,null,null,null,null,null,null,null,null,null,null,null,null,null,null,null,null,null,null,null,null,null,null,null,null,null,null,null,null,null,null,null,null,null,null,null,null,null,null,null,null,null,null,null,null,null,null,null,"Terrain  ",2,6,"jacques",39,"Philippe/Nico"," "," "]
[null,null,null,null,null,null,null,null,null,null,null,null,null,null,null,null,null,null,null,null,null,null,null,null,null,null,null,null,null,null,null,null,null,null,null,null,null,null,null,null,null,null,null,null,null,null,null,null,null,null,null,null,null,null,null,null,null,null,null,null,null,null,null,null,null,null,null,null,"Terrain  ",3,12,"Alain / Joël",37,"Clément/Charles"," "," "]
[null,null,null,null,null,null,null,null,null,null,null,null,null,null,null,null,null,null,null,null,null,null,null,null,null,null,null,null,null,null,null,null,null,null,null,null,null,null,null,null,null,null,null,null,null,null,null,null,null,null,null,null,null,null,null,null,null,null,null,null,null,null,null,null,null,null,null,null,"Terrain  ",4,20,"Fanfan / Jonathan",33,"Bruno/Philippe"," "," "]
[null,null,null,null,null,null,null,null,null,null,null,null,null,null,null,null,null,null,null,null,null,null,null,null,null,null,null,null,null,null,null,null,null,null,null,null,null,null,null,null,null,null,null,null,null,null,null,null,null,null,null,null,null,null,null,null,null,null,null,null,null,null,null,null,null,null,null,null,"Terrain  ",5,14,"Alain / Christophe",7,"Pierre"," "," "]
[null,null,null,null,null,null,null,null,null,null,null,null,null,null,null,null,null,null,null,null,null,null,null,null,null,null,null,null,null,null,null,null,null,null,null,null,null,null,null,null,null,null,null,null,null,null,null,null,null,null,null,null,null,null,null,null,null,null,null,null,null,null,null,null,null,null,null,null,"Terrain  ",6,25,"Aurélien / Didier",1,"Julot"," "," "]
[null,null,null,null,null,null,null,null,null,null,null,null,null,null,null,null,null,null,null,null,null,null,null,null,null,null,null,null,null,null,null,null,null,null,null,null,null,null,null,null,null,null,null,null,null,null,null,null,null,null,null,null,null,null,null,null,null,null,null,null,null,null,null,null,null,null,null,null,"Terrain  ",7,5,"yvon",29,"Yoann / Christian"," "," "]
[null,null,null,null,null,null,null,null,null,null,null,null,null,null,null,null,null,null,null,null,null,null,null,null,null,null,null,null,null,null,null,null,null,null,null,null,null,null,null,null,null,null,null,null,null,null,null,null,null,null,null,null,null,null,null,null,null,null,null,null,null,null,null,null,null,null,null,null,"Terrain  ",8,38,"Romain/Florian",28,"René / Robert"," "," "]
[null,null,null,null,null,null,null,null,null,null,null,null,null,null,null,null,null,null,null,null,null,null,null,null,null,null,null,null,null,null,null,null,null,null,null,null,null,null,null,null,null,null,null,null,null,null,null,null,null,null,null,null,null,null,null,null,null,null,null,null,null,null,null,null,null,null,null,null,"Terrain  ",9,27,"Phillipe / Michel",16,"Le Suisse / Yoyo"," "," "]
[null,null,null,null,null,null,null,null,null,null,null,null,null,null,null,null,null,null,null,null,null,null,null,null,null,null,null,null,null,null,null,null,null,null,null,null,null,null,null,null,null,null,null,null,null,null,null,null,null,null,null,null,null,null,null,null,null,null,null,null,null,null,null,null,null,null,null,null,"Terrain  ",10,36,"Alcide/ Henri",3,"marco"," "," "]
[null,null,null,null,null,null,null,null,null,null,null,null,null,null,null,null,null,null,null,null,null,null,null,null,null,null,null,null,null,null,null,null,null,null,null,null,null,null,null,null,null,null,null,null,null,null,null,null,null,null,null,null,null,null,null,null,null,null,null,null,null,null,null,null,null,null,null,null,"Terrain  ",11,4,"Denise",15,"Ben / Jimmy"," "," "]
[null,null,null,null,null,null,null,null,null,null,null,null,null,null,null,null,null,null,null,null,null,null,null,null,null,null,null,null,null,null,null,null,null,null,null,null,null,null,null,null,null,null,null,null,null,null,null,null,null,null,null,null,null,null,null,null,null,null,null,null,null,null,null,null,null,null,null,null,"Terrain  ",12,13,"L'archi / Jean-Pierre",34,"Joe/Geo"," "," "]
[null,null,null,null,null,null,null,null,null,null,null,null,null,null,null,null,null,null,null,null,null,null,null,null,null,null,null,null,null,null,null,null,null,null,null,null,null,null,null,null,null,null,null,null,null,null,null,null,null,null,null,null,null,null,null,null,null,null,null,null,null,null,null,null,null,null,null,null,"Terrain  ",13,32,"Adeline / Mathieu",23,"Mickaël / Freddy"," "," "]
[null,null,null,null,null,null,null,null,null,null,null,null,null,null,null,null,null,null,null,null,null,null,null,null,null,null,null,null,null,null,null,null,null,null,null,null,null,null,null,null,null,null,null,null,null,null,null,null,null,null,null,null,null,null,null,null,null,null,null,null,null,null,null,null,null,null,null,null,"Terrain  ",14,17,"Laurent / Mickaël",9,"Sébastien"," "," "]
[null,null,null,null,null,null,null,null,null,null,null,null,null,null,null,null,null,null,null,null,null,null,null,null,null,null,null,null,null,null,null,null,null,null,null,null,null,null,null,null,null,null,null,null,null,null,null,null,null,null,null,null,null,null,null,null,null,null,null,null,null,null,null,null,null,null,null,null,"Terrain  ",15,19,"Sylvain / Julien",21,"Gégé / Eric"," "," "]
[null,null,null,null,null,null,null,null,null,null,null,null,null,null,null,null,null,null,null,null,null,null,null,null,null,null,null,null,null,null,null,null,null,null,null,null,null,null,null,null,null,null,null,null,null,null,null,null,null,null,null,null,null,null,null,null,null,null,null,null,null,null,null,null,null,null,null,null,"Terrain  ",16,18,"Charles/ Nénesse",2,"Francis"," "," "]
[null,null,null,null,null,null,null,null,null,null,null,null,null,null,null,null,null,null,null,null,null,null,null,null,null,null,null,null,null,null,null,null,null,null,null,null,null,null,null,null,null,15,null,null,null,null,null,null,null,null,null,null,null,null,null,null,null,null,null,null,null,null,null,null,null,null,null,null,"Terrain  ",17,22,"Landry / Martial",24,"Jacques / Michel"," "," "]
[null,null,null,null,null,null,null,null,null,null,null,null,null,null,null,null,null,null,null,null,null,null,null,null,null,null,null,null,null,null,null,null,null,null,null,null,null,null,null,null,null,15,null,null,null,null,null,null,null,null,null,null,null,null,null,null,null,null,null,null,null,null,null,null,null,null,null,null,"Terrain  ",18,30,"Patrick / Roger",26,"Thierry / Damien"," "," "]
[null,null,null,null,null,null,null,null,null,null,null,null,null,null,null,null,null,null,null,null,null,null,null,null,null,null,null,null,null,null,null,null,null,null,null,null,null,null,null,null,null,15,null,null,null,null,null,null,null,null,null,null,null,null,null,null,null,null,null,null,null,null,null,null,null,null,null,null,"Terrain  ",19,11,"Eric / Yvonnick",40,"Vincent/François"," "," "]
[null,null,null,null,null,null,null,null,null,null,null,null,null,null,null,null,null,null,null,null,null,null,null,null,null,null,null,null,null,null,null,null,null,null,null,null,null,null,null,null,null,15,null,null,null,null,null,null,null,null,null,null,null,null,null,null,null,null,null,null,null,null,null,null,null,null,null,null,"Terrain  ",20,10,"Florian",35,"Frères MARTIN"," "," "]
[null,null,null,null,null,null,null,null,null,null,null,null,null,null,null,null,null,null,null,null,null,null,null,null,null,null,null,null,null,null,null,null,null,null,null,null,null,null,null,null,null,15]
[null,null,null,null,null,null,null,null,null,null,null,null,null,null,null,null,null,null,null,null,null,null,null,null,null,null,null,null,null,null,null,null,null,null,null,null,null,null,null,null,null,15]
[null,null,null,null,null,null,null,null,null,null,null,null,null,null,null,null,null,null,null,null,null,null,null,null,null,null,null,null,null,null,null,null,null,null,null,null,null,null,null,null,null,15]
[null,null,null,null,null,null,null,null,null,null,null,null,null,null,null,null,null,null,null,null,null,null,null,null,null,null,null,null,null,null,null,null,null,null,null,null,null,null,null,null,null,15]
[null,null,null,null,null,null,null,null,null,null,null,null,null,null,null,null,null,null,null,null,null,null,null,null,null,null,null,null,null,null,null,null,null,null,null,null,null,null,null,null,null,15]
[null,null,null,null,null,null,null,null,null,null,null,null,null,null,null,null,null,null,null,null,null,null,null,null,null,null,null,null,null,null,null,null,null,null,null,null,null,null,null,null,null,15]
[null,null,null,null,null,null,null,null,null,null,null,null,null,null,null,null,null,null,null,null,null,null,null,null,null,null,null,null,null,null,null,null,null,null,null,null,null,null,null,null,null,15]
[null,null,null,null,null,null,null,null,null,null,null,null,null,null,null,null,null,null,null,null,null,null,null,null,null,null,null,null,null,null,null,null,null,null,null,null,null,null,null,null,null,15]
[null,null,null,null,null,null,null,null,null,null,null,null,null,null,null,null,null,null,null,null,null,null,null,null,null,null,null,null,null,null,null,null,null,null,null,null,null,null,null,null,null,15]
[null,null,null,null,null,null,null,null,null,null,null,null,null,null,null,null,null,null,null,null,null,null,null,null,null,null,null,null,null,null,null,null,null,null,null,null,null,null,null,null,null,15]
[null,null,null,null,null,null,null,null,null,null,null,null,null,null,null,null,null,null,null,null,null,null,null,null,null,null,null,null,null,null,null,null,null,null,null,null,null,null,null,null,null,15]
[null,null,null,null,null,null,null,null,null,null,null,null,null,null,null,null,null,null,null,null,null,null,null,null,null,null,null,null,null,null,null,null,null,null,null,null,null,null,null,null,null,15]
[null,null,null,null,null,null,null,null,null,null,null,null,null,null,null,null,null,null,null,null,null,null,null,null,null,null,null,null,null,null,null,null,null,null,null,null,null,null,null,null,null,15]
[null,null,null,null,null,null,null,null,null,null,null,null,null,null,null,null,null,null,null,null,null,null,null,null,null,null,null,null,null,null,null,null,null,null,null,null,null,null,null,null,null,15]
[null,null,null,null,null,null,null,null,null,null,null,null,null,null,null,null,null,null,null,null,null,null,null,null,null,null,null,null,null,null,null,null,null,null,null,null,null,null,null,null,null,15]
[null,null,null,null,null,null,null,null,null,null,null,null,null,null,null,null,null,null,null,null,null,null,null,null,null,null,null,null,null,null,null,null,null,null,null,null,null,null,null,null,null,15]
[null,null,null,null,null,null,null,null,null,null,null,null,null,null,null,null,null,null,null,null,null,null,null,null,null,null,null,null,null,null,null,null,null,null,null,null,null,null,null,null,null,15]
[null,null,null,null,null,null,null,null,null,null,null,null,null,null,null,null,null,null,null,null,null,null,null,null,null,null,null,null,null,null,null,null,null,null,null,null,null,null,null,null,null,15]
[null,null,null,null,null,null,null,null,null,null,null,null,null,null,null,null,null,null,null,null,null,null,null,null,null,null,null,null,null,null,null,null,null,null,null,null,null,null,null,null,null,15,null,null,null,null,null,null,null,null,null,null,null,null,null,null,null,null,null,null,null,null,null,null,null,null,null,null,null,null,"3 è tour",null,null,null,"Resultat"]
[null,null,null,null,null,null,null,null,null,null,null,null,null,null,null,null,null,null,null,null,null,null,null,null,null,null,null,null,null,null,null,null,null,null,null,null,null,null,null,null,null,null,null,null,null,null,null,null,null,null,null,null,null,null,null,null,null,null,null,null,null,null,null,null,null,null,null,null,"Terrain  ",{"$f":"B6","v":1},{"$f":"X6","v":21},{"$f":"Z6","v":"Gégé / Eric"},{"$f":"AB6","v":1},{"$f":"AD6","v":"Julot"}," "," "]
[null,null,null,null,null,null,null,null,null,null,null,null,null,null,null,null,null,null,null,null,null,null,null,null,null,null,null,null,null,null,null,null,null,null,null,null,null,null,null,null,null,null,null,null,null,null,null,null,null,null,null,null,null,null,null,null,null,null,null,null,null,null,null,null,null,null,null,null,"Terrain  ",2,24,"Jacques / Michel",30,"Patrick / Roger"," "," "]
[null,null,null,null,null,null,null,null,null,null,null,null,null,null,null,null,null,null,null,null,null,null,null,null,null,null,null,null,null,null,null,null,null,null,null,null,null,null,null,null,null,null,null,null,null,null,null,null,null,null,null,null,null,null,null,null,null,null,null,null,null,null,null,null,null,null,null,null,"Terrain  ",3,3,"marco",22,"Landry / Martial"," "," "]
[null,null,null,null,null,null,null,null,null,null,null,null,null,null,null,null,null,null,null,null,null,null,null,null,null,null,null,null,null,null,null,null,null,null,null,null,null,null,null,null,null,null,null,null,null,null,null,null,null,null,null,null,null,null,null,null,null,null,null,null,null,null,null,null,null,null,null,null,"Terrain  ",4,27,"Phillipe / Michel",36,"Alcide/ Henri"," "," "]
[null,null,null,null,null,null,null,null,null,null,null,null,null,null,null,null,null,null,null,null,null,null,null,null,null,null,null,null,null,null,null,null,null,null,null,null,null,null,null,null,null,null,null,null,null,null,null,null,null,null,null,null,null,null,null,null,null,null,null,null,null,null,null,null,null,null,null,null,"Terrain  ",5,31,"Gérard / Edouard",10,"Florian"," "," "]
[null,null,null,null,null,null,null,null,null,null,null,null,null,null,null,null,null,null,null,null,null,null,null,null,null,null,null,null,null,null,null,null,null,null,null,null,null,null,null,null,null,null,null,null,null,null,null,null,null,null,null,null,null,null,null,null,null,null,null,null,null,null,null,null,null,null,null,null,"Terrain  ",6,19,"Sylvain / Julien",6,"jacques"," "," "]
[null,null,null,null,null,null,null,null,null,null,null,null,null,null,null,null,null,null,null,null,null,null,null,null,null,null,null,null,null,null,null,null,null,null,null,null,null,null,null,null,null,null,null,null,null,null,null,null,null,null,null,null,null,null,null,null,null,null,null,null,null,null,null,null,null,null,null,null,"Terrain  ",7,18,"Charles/ Nénesse",8,"Marcel"," "," "]
[null,null,null,null,null,null,null,null,null,null,null,null,null,null,null,null,null,null,null,null,null,null,null,null,null,null,null,null,null,null,null,null,null,null,null,null,null,null,null,null,null,null,null,null,null,null,null,null,null,null,null,null,null,null,null,null,null,null,null,null,null,null,null,null,null,null,null,null,"Terrain  ",8,35,"Frères MARTIN",33,"Bruno/Philippe"," "," "]
[null,null,null,null,null,null,null,null,null,null,null,null,null,null,null,null,null,null,null,null,null,null,null,null,null,null,null,null,null,null,null,null,null,null,null,null,null,null,null,null,null,null,null,null,null,null,null,null,null,null,null,null,null,null,null,null,null,null,null,null,null,null,null,null,null,null,null,null,"Terrain  ",9,38,"Romain/Florian",12,"Alain / Joël"," "," "]
[null,null,null,null,null,null,null,null,null,null,null,null,null,null,null,null,null,null,null,null,null,null,null,null,null,null,null,null,null,null,null,null,null,null,null,null,null,null,null,null,null,null,null,null,null,null,null,null,null,null,null,null,null,null,null,null,null,null,null,null,null,null,null,null,null,null,null,null,"Terrain  ",10,29,"Yoann / Christian",28,"René / Robert"," "," "]
[null,null,null,null,null,null,null,null,null,null,null,null,null,null,null,null,null,null,null,null,null,null,null,null,null,null,null,null,null,null,null,null,null,null,null,null,null,null,null,null,null,null,null,null,null,null,null,null,null,null,null,null,null,null,null,null,null,null,null,null,null,null,null,null,null,null,null,null,"Terrain  ",11,13,"L'archi / Jean-Pierre",14,"Alain / Christophe"," "," "]
[null,null,null,null,null,null,null,null,null,null,null,null,null,null,null,null,null,null,null,null,null,null,null,null,null,null,null,null,null,null,null,null,null,null,null,null,null,null,null,null,null,null,null,null,null,null,null,null,null,null,null,null,null,null,null,null,null,null,null,null,null,null,null,null,null,null,null,null,"Terrain  ",12,39,"Philippe/Nico",17,"Laurent / Mickaël"," "," "]
[null,null,null,null,null,null,null,null,null,null,null,null,null,null,null,null,null,null,null,null,null,null,null,null,null,null,null,null,null,null,null,null,null,null,null,null,null,null,null,null,null,null,null,null,null,null,null,null,null,null,null,null,null,null,null,null,null,null,null,null,null,null,null,null,null,null,null,null,"Terrain  ",13,15,"Ben / Jimmy",40,"Vincent/François"," "," "]
[null,null,null,null,null,null,null,null,null,null,null,null,null,null,null,null,null,null,null,null,null,null,null,null,null,null,null,null,null,null,null,null,null,null,null,null,null,null,null,null,null,null,null,null,null,null,null,null,null,null,null,null,null,null,null,null,null,null,null,null,null,null,null,null,null,null,null,null,"Terrain  ",14,7,"Pierre",16,"Le Suisse / Yoyo"," "," "]
[null,null,null,null,null,null,null,null,null,null,null,null,null,null,null,null,null,null,null,null,null,null,null,null,null,null,null,null,null,null,null,null,null,null,null,null,null,null,null,null,null,null,null,null,null,null,null,null,null,null,null,null,null,null,null,null,null,null,null,null,null,null,null,null,null,null,null,null,"Terrain  ",15,2,"Francis",37,"Clément/Charles"," "," "]
[null,null,null,null,null,null,null,null,null,null,null,null,null,null,null,null,null,null,null,null,null,null,null,null,null,null,null,null,null,null,null,null,null,null,null,null,null,null,null,null,null,null,null,null,null,null,null,null,null,null,null,null,null,null,null,null,null,null,null,null,null,null,null,null,null,null,null,null,"Terrain  ",16,5,"yvon",11,"Eric / Yvonnick"," "," "]
[null,null,null,null,null,null,null,null,null,null,null,null,null,null,null,null,null,null,null,null,null,null,null,null,null,null,null,null,null,null,null,null,null,null,null,null,null,null,null,null,null,null,null,null,null,null,null,null,null,null,null,null,null,null,null,null,null,null,null,null,null,null,null,null,null,null,null,null,"Terrain  ",17,23,"Mickaël / Freddy",20,"Fanfan / Jonathan"," "," "]
[null,null,null,null,null,null,null,null,null,null,null,null,null,null,null,null,null,null,null,null,null,null,null,null,null,null,null,null,null,null,null,null,null,null,null,null,null,null,null,null,null,null,null,null,null,null,null,null,null,null,null,null,null,null,null,null,null,null,null,null,null,null,null,null,null,null,null,null,"Terrain  ",18,26,"Thierry / Damien",9,"Sébastien"," "," "]
[null,null,null,null,null,null,null,null,null,null,null,null,null,null,null,null,null,null,null,null,null,null,null,null,null,null,null,null,null,null,null,null,null,null,null,null,null,null,null,null,null,null,null,null,null,null,null,null,null,null,null,null,null,null,null,null,null,null,null,null,null,null,null,null,null,null,null,null,"Terrain  ",19,4,"Denise",34,"Joe/Geo"," "," "]
[null,null,null,null,null,null,null,null,null,null,null,null,null,null,null,null,null,null,null,null,null,null,null,null,null,null,null,null,null,null,null,null,null,null,null,null,null,null,null,null,null,null,null,null,null,null,null,null,null,null,null,null,null,null,null,null,null,null,null,null,null,null,null,null,null,null,null,null,"Terrain  ",20,32,"Adeline / Mathieu",25,"Aurélien / Didier"," "," "]
[]
[]
[]
[]
[]
[]
[]
[]
[null,null,null,null,null,null,null,null,null,null,null,null,null,null,null,null,null,null,null,null,null,null,null,null,null,null,null,null,null,null,null,null,null,null,null,null,null,null,null,null,null,null,null,null,null,null,null,null,null,null,null,null,null,null,null,null,null,null,null,null,null,null,null,null,null,null,null,null,null,null,"4 è tour",null,null,null,"Resultat"]
[null,null,null,null,null,null,null,null,null,null,null,null,null,null,null,null,null,null,null,null,null,null,null,null,null,null,null,null,null,null,null,null,null,null,null,null,null,null,null,null,null,null,null,null,null,null,null,null,null,null,null,null,null,null,null,null,null,null,null,null,null,null,null,null,null,null,null,null,"Terrain  ",{"$f":"B6","v":1},{"$f":"AH6","v":27},{"$f":"AJ6","v":"Phillipe / Michel"},{"$f":"AL6","v":22},{"$f":"AN6","v":"Landry / Martial"}," "," "]
[null,null,null,null,null,null,null,null,null,null,null,null,null,null,null,null,null,null,null,null,null,null,null,null,null,null,null,null,null,null,null,null,null,null,null,null,null,null,null,null,null,null,null,null,null,null,null,null,null,null,null,null,null,null,null,null,null,null,null,null,null,null,null,null,null,null,null,null,"Terrain  ",2,28,"René / Robert",11,"Eric / Yvonnick"," "," "]
[null,null,null,null,null,null,null,null,null,null,null,null,null,null,null,null,null,null,null,null,null,null,null,null,null,null,null,null,null,null,null,null,null,null,null,null,null,null,null,null,null,null,null,null,null,null,null,null,null,null,null,null,null,null,null,null,null,null,null,null,null,null,null,null,null,null,null,null,"Terrain  ",3,9,"Sébastien",14,"Alain / Christophe"," "," "]
[null,null,null,null,null,null,null,null,null,null,null,null,null,null,null,null,null,null,null,null,null,null,null,null,null,null,null,null,null,null,null,null,null,null,null,null,null,null,null,null,null,null,null,null,null,null,null,null,null,null,null,null,null,null,null,null,null,null,null,null,null,null,null,null,null,null,null,null,"Terrain  ",4,7,"Pierre",20,"Fanfan / Jonathan"," "," "]
[null,null,null,null,null,null,null,null,null,null,null,null,null,null,null,null,null,null,null,null,null,null,null,null,null,null,null,null,null,null,null,null,null,null,null,null,null,null,null,null,null,null,null,null,null,null,null,null,null,null,null,null,null,null,null,null,null,null,null,null,null,null,null,null,null,null,null,null,"Terrain  ",5,29,"Yoann / Christian",18,"Charles/ Nénesse"," "," "]
[null,null,null,null,null,null,null,null,null,null,null,null,null,null,null,null,null,null,null,null,null,null,null,null,null,null,null,null,null,null,null,null,null,null,null,null,null,null,null,null,null,null,null,null,null,null,null,null,null,null,null,null,null,null,null,null,null,null,null,null,null,null,null,null,null,null,null,null,"Terrain  ",6,15,"Ben / Jimmy",31,"Gérard / Edouard"," "," "]
[null,null,null,null,null,null,null,null,null,null,null,null,null,null,null,null,null,null,null,null,null,null,null,null,null,null,null,null,null,null,null,null,null,null,null,null,null,null,null,null,null,null,null,null,null,null,null,null,null,null,null,null,null,null,null,null,null,null,null,null,null,null,null,null,null,null,null,null,"Terrain  ",7,8,"Marcel",4,"Denise"," "," "]
[null,null,null,null,null,null,null,null,null,null,null,null,null,null,null,null,null,null,null,null,null,null,null,null,null,null,null,null,null,null,null,null,null,null,null,null,null,null,null,null,null,null,null,null,null,null,null,null,null,null,null,null,null,null,null,null,null,null,null,null,null,null,null,null,null,null,null,null,"Terrain  ",8,33,"Bruno/Philippe",10,"Florian"," "," "]
[null,null,null,null,null,null,null,null,null,null,null,null,null,null,null,null,null,null,null,null,null,null,null,null,null,null,null,null,null,null,null,null,null,null,null,null,null,null,null,null,null,null,null,null,null,null,null,null,null,null,null,null,null,null,null,null,null,null,null,null,null,null,null,null,null,null,null,null,"Terrain  ",9,21,"Gégé / Eric",25,"Aurélien / Didier"," "," "]
[null,null,null,null,null,null,null,null,null,null,null,null,null,null,null,null,null,null,null,null,null,null,null,null,null,null,null,null,null,null,null,null,null,null,null,null,null,null,null,null,null,null,null,null,null,null,null,null,null,null,null,null,null,null,null,null,null,null,null,null,null,null,null,null,null,null,null,null,"Terrain  ",10,3,"marco",13,"L'archi / Jean-Pierre"," "," "]
[null,null,null,null,null,null,null,null,null,null,null,null,null,null,null,null,null,null,null,null,null,null,null,null,null,null,null,null,null,null,null,null,null,null,null,null,null,null,null,null,null,null,null,null,null,null,null,null,null,null,null,null,null,null,null,null,null,null,null,null,null,null,null,null,null,null,null,null,"Terrain  ",11,39,"Philippe/Nico",35,"Frères MARTIN"," "," "]
[null,null,null,null,null,null,null,null,null,null,null,null,null,null,null,null,null,null,null,null,null,null,null,null,null,null,null,null,null,null,null,null,null,null,null,null,null,null,null,null,null,null,null,null,null,null,null,null,null,null,null,null,null,null,null,null,null,null,null,null,null,null,null,null,null,null,null,null,"Terrain  ",12,34,"Joe/Geo",36,"Alcide/ Henri"," "," "]
[null,null,null,null,null,null,null,null,null,null,null,null,null,null,null,null,null,null,null,null,null,null,null,null,null,null,null,null,null,null,null,null,null,null,null,null,null,null,null,null,null,null,null,null,null,null,null,null,null,null,null,null,null,null,null,null,null,null,null,null,null,null,null,null,null,null,null,null,"Terrain  ",13,16,"Le Suisse / Yoyo",6,"jacques"," "," "]
[null,null,null,null,null,null,null,null,null,null,null,null,null,null,null,null,null,null,null,null,null,null,null,null,null,null,null,null,null,null,null,null,null,null,null,null,null,null,null,null,null,null,null,null,null,null,null,null,null,null,null,null,null,null,null,null,null,null,null,null,null,null,null,null,null,null,null,null,"Terrain  ",14,17,"Laurent / Mickaël",19,"Sylvain / Julien"," "," "]
[null,null,null,null,null,null,null,null,null,null,null,null,null,null,null,null,null,null,null,null,null,null,null,null,null,null,null,null,null,null,null,null,null,null,null,null,null,null,null,null,null,null,null,null,null,null,null,null,null,null,null,null,null,null,null,null,null,null,null,null,null,null,null,null,null,null,null,null,"Terrain  ",15,12,"Alain / Joël",23,"Mickaël / Freddy"," "," "]
[null,null,null,null,null,null,null,null,null,null,null,null,null,null,null,null,null,null,null,null,null,null,null,null,null,null,null,null,null,null,null,null,null,null,null,null,null,null,null,null,null,null,null,null,null,null,null,null,null,null,null,null,null,null,null,null,null,null,null,null,null,null,null,null,null,null,null,null,"Terrain  ",16,38,"Romain/Florian",26,"Thierry / Damien"," "," "]
[null,null,null,null,null,null,null,null,null,null,null,null,null,null,null,null,null,null,null,null,null,null,null,null,null,null,null,null,null,null,null,null,null,null,null,null,null,null,null,null,null,null,null,null,null,null,null,null,null,null,null,null,null,null,null,null,null,null,null,null,null,null,null,null,null,null,null,null,"Terrain  ",17,30,"Patrick / Roger",5,"yvon"," "," "]
[null,null,null,null,null,null,null,null,null,null,null,null,null,null,null,null,null,null,null,null,null,null,null,null,null,null,null,null,null,null,null,null,null,null,null,null,null,null,null,null,null,null,null,null,null,null,null,null,null,null,null,null,null,null,null,null,null,null,null,null,null,null,null,null,null,null,null,null,"Terrain  ",18,40,"Vincent/François",1,"Julot"," "," "]
[null,null,null,null,null,null,null,null,null,null,null,null,null,null,null,null,null,null,null,null,null,null,null,null,null,null,null,null,null,null,null,null,null,null,null,null,null,null,null,null,null,null,null,null,null,null,null,null,null,null,null,null,null,null,null,null,null,null,null,null,null,null,null,null,null,null,null,null,"Terrain  ",19,24,"Jacques / Michel",37,"Clément/Charles"," "," "]
[null,null,null,null,null,null,null,null,null,null,null,null,null,null,null,null,null,null,null,null,null,null,null,null,null,null,null,null,null,null,null,null,null,null,null,null,null,null,null,null,null,null,null,null,null,null,null,null,null,null,null,null,null,null,null,null,null,null,null,null,null,null,null,null,null,null,null,null,"Terrain  ",20,2,"Francis",32,"Adeline / Mathieu"," "," "]
[null,null,null,null,null,null,null,null,null,null,null,null,null,null,null,null,null,null,null,null,null,null,null,null,null,null,null,null,null,null,null,null,null,null,null,null,null,null,null,null,null,null,null,null,null,null,null,null,null,null,null,null,null,null,null,null,null,null,null,null,null,null,null,null,null,null,null,null,null,null,null,null,null,null," "," "]
[null,null,null,null,null,null,null,null,null,null,null,null,null,null,null,null,null,null,null,null,null,null,null,null,null,null,null,null,null,null,null,null,null,null,null,null,null,null,null,null,null,null,null,null,null,null,null,null,null,null,null,null,null,null,null,null,null,null,null,null,null,null,null,null,null,null,null,null,null,null,null,null,null,null," "," "]
[null,null,null,null,null,null,null,null,null,null,null,null,null,null,null,null,null,null,null,null,null,null,null,null,null,null,null,null,null,null,null,null,null,null,null,null,null,null,null,null,null,null,null,null,null,null,null,null,null,null,null,null,null,null,null,null,null,null,null,null,null,null,null,null,null,null,null,null,null,null,null,null,null,null," "," "]
[null,null,null,null,null,null,null,null,null,null,null,null,null,null,null,null,null,null,null,null,null,null,null,null,null,null,null,null,null,null,null,null,null,null,null,null,null,null,null,null,null,null,null,null,null,null,null,null,null,null,null,null,null,null,null,null,null,null,null,null,null,null,null,null,null,null,null,null,null,null,null,null,null,null," "," "]
[null,null,null,null,null,null,null,null,null,null,null,null,null,null,null,null,null,null,null,null,null,null,null,null,null,null,null,null,null,null,null,null,null,null,null,null,null,null,null,null,null,null,null,null,null,null,null,null,null,null,null,null,null,null,null,null,null,null,null,null,null,null,null,null,null,null,null,null,null,null,null,null,null,null," "," "]
[null,null,null,null,null,null,null,null,null,null,null,null,null,null,null,null,null,null,null,null,null,null,null,null,null,null,null,null,null,null,null,null,null,null,null,null,null,null,null,null,null,null,null,null,null,null,null,null,null,null,null,null,null,null,null,null,null,null,null,null,null,null,null,null,null,null,null,null,null,null,null,null,null,null," "," "]
[null,null,null,null,null,null,null,null,null,null,null,null,null,null,null,null,null,null,null,null,null,null,null,null,null,null,null,null,null,null,null,null,null,null,null,null,null,null,null,null,null,null,null,null,null,null,null,null,null,null,null,null,null,null,null,null,null,null,null,null,null,null,null,null,null,null,null,null,null,null,null,null,null,null," "," "]
[null,null,null,null,null,null,null,null,null,null,null,null,null,null,null,null,null,null,null,null,null,null,null,null,null,null,null,null,null,null,null,null,null,null,null,null,null,null,null,null,null,null,null,null,null,null,null,null,null,null,null,null,null,null,null,null,null,null,null,null,null,null,null,null,null,null,null,null,null,null,null,null,null,null," "," "]
[null,null,null,null,null,null,null,null,null,null,null,null,null,null,null,null,null,null,null,null,null,null,null,null,null,null,null,null,null,null,null,null,null,null,null,null,null,null,null,null,null,null,null,null,null,null,null,null,null,null,null,null,null,null,null,null,null,null,null,null,null,null,null,null,null,null,null,null,null,null,null,null,null,null," "," "]
[null,null,null,null,null,null,null,null,null,null,null,null,null,null,null,null,null,null,null,null,null,null,null,null,null,null,null,null,null,null,null,null,null,null,null,null,null,null,null,null,null,null,null,null,null,null,null,null,null,null,null,null,null,null,null,null,null,null,null,null,null,null,null,null,null,null,null,null,null,null,null,null,null,null," "," "]
[null,null,null,null,null,null,null,null,null,null,null,null,null,null,null,null,null,null,null,null,null,null,null,null,null,null,null,null,null,null,null,null,null,null,null,null,null,null,null,null,null,null,null,null,null,null,null,null,null,null,null,null,null,null,null,null,null,null,null,null,null,null,null,null,null,null,null,null,null,null,null,null,null,null," "," "]
[null,null,null,null,null,null,null,null,null,null,null,null,null,null,null,null,null,null,null,null,null,null,null,null,null,null,null,null,null,null,null,null,null,null,null,null,null,null,null,null,null,null,null,null,null,null,null,null,null,null,null,null,null,null,null,null,null,null,null,null,null,null,null,null,null,null,null,null,null,null,null,null,null,null," "," "]
[null,null,null,null,null,null,null,null,null,null,null,null,null,null,null,null,null,null,null,null,null,null,null,null,null,null,null,null,null,null,null,null,null,null,null,null,null,null,null,null,null,null,null,null,null,null,null,null,null,null,null,null,null,null,null,null,null,null,null,null,null,null,null,null,null,null,null,null,null,null,null,null,null,null," "," "]
[null,null,null,null,null,null,null,null,null,null,null,null,null,null,null,null,null,null,null,null,null,null,null,null,null,null,null,null,null,null,null,null,null,null,null,null,null,null,null,null,null,null,null,null,null,null,null,null,null,null,null,null,null,null,null,null,null,null,null,null,null,null,null,null,null,null,null,null,null,null,null,null,null,null," "," "]
[null,null,null,null,null,null,null,null,null,null,null,null,null,null,null,null,null,null,null,null,null,null,null,null,null,null,null,null,null,null,null,null,null,null,null,null,null,null,null,null,null,null,null,null,null,null,null,null,null,null,null,null,null,null,null,null,null,null,null,null,null,null,null,null,null,null,null,null,null,null,null,null,null,null," "," "]
[]
[]
[]
[null,null,null,null,null,null,null,null,null,null,null,null,null,null,null,null,null,null,null,null,null,null,null,null,null,null,null,null,null,null,null,null,null,null,null,null,null,null,null,null,null,null,null,null,null,null,null,null,null,null,null,null,null,null,null,null,null,null,null,null,null,null,null,null,null,null,null,null,null,null,"5 è tour",null,null,null,"Resultat"]
[null,null,null,null,null,null,null,null,null,null,null,null,null,null,null,null,null,null,null,null,null,null,null,null,null,null,null,null,null,null,null,null,null,null,null,null,null,null,null,null,null,null,null,null,null,null,null,null,null,null,null,null,null,null,null,null,null,null,null,null,null,null,null,null,null,null,null,null,"Terrain  ",{"$f":"B6","v":1},{"$f":"AR6","v":30},{"$f":"AT6","v":"Patrick / Roger"},{"$f":"AV6","v":31},{"$f":"AX6","v":"Gérard / Edouard"}," "," "]
[null,null,null,null,null,null,null,null,null,null,null,null,null,null,null,null,null,null,null,null,null,null,null,null,null,null,null,null,null,null,null,null,null,null,null,null,null,null,null,null,null,null,null,null,null,null,null,null,null,null,null,null,null,null,null,null,null,null,null,null,null,null,null,null,null,null,null,null,"Terrain  ",2,38,"Romain/Florian",6,"jacques"," "," "]
[null,null,null,null,null,null,null,null,null,null,null,null,null,null,null,null,null,null,null,null,null,null,null,null,null,null,null,null,null,null,null,null,null,null,null,null,null,null,null,null,null,null,null,null,null,null,null,null,null,null,null,null,null,null,null,null,null,null,null,null,null,null,null,null,null,null,null,null,"Terrain  ",3,12,"Alain / Joël",10,"Florian"," "," "]
[null,null,null,null,null,null,null,null,null,null,null,null,null,null,null,null,null,null,null,null,null,null,null,null,null,null,null,null,null,null,null,null,null,null,null,null,null,null,null,null,null,null,null,null,null,null,null,null,null,null,null,null,null,null,null,null,null,null,null,null,null,null,null,null,null,null,null,null,"Terrain  ",4,34,"Joe/Geo",11,"Eric / Yvonnick"," "," "]
[null,null,null,null,null,null,null,null,null,null,null,null,null,null,null,null,null,null,null,null,null,null,null,null,null,null,null,null,null,null,null,null,null,null,null,null,null,null,null,null,null,null,null,null,null,null,null,null,null,null,null,null,null,null,null,null,null,null,null,null,null,null,null,null,null,null,null,null,"Terrain  ",5,16,"Le Suisse / Yoyo",40,"Vincent/François"," "," "]
[null,null,null,null,null,null,null,null,null,null,null,null,null,null,null,null,null,null,null,null,null,null,null,null,null,null,null,null,null,null,null,null,null,null,null,null,null,null,null,null,null,null,null,null,null,null,null,null,null,null,null,null,null,null,null,null,null,null,null,null,null,null,null,null,null,null,null,null,"Terrain  ",6,22,"Landry / Martial",36,"Alcide/ Henri"," "," "]
[null,null,null,null,null,null,null,null,null,null,null,null,null,null,null,null,null,null,null,null,null,null,null,null,null,null,null,null,null,null,null,null,null,null,null,null,null,null,null,null,null,null,null,null,null,null,null,null,null,null,null,null,null,null,null,null,null,null,null,null,null,null,null,null,null,null,null,null,"Terrain  ",7,35,"Frères MARTIN",24,"Jacques / Michel"," "," "]
[null,null,null,null,null,null,null,null,null,null,null,null,null,null,null,null,null,null,null,null,null,null,null,null,null,null,null,null,null,null,null,null,null,null,null,null,null,null,null,null,null,null,null,null,null,null,null,null,null,null,null,null,null,null,null,null,null,null,null,null,null,null,null,null,null,null,null,null,"Terrain  ",8,9,"Sébastien",4,"Denise"," "," "]
[null,null,null,null,null,null,null,null,null,null,null,null,null,null,null,null,null,null,null,null,null,null,null,null,null,null,null,null,null,null,null,null,null,null,null,null,null,null,null,null,null,null,null,null,null,null,null,null,null,null,null,null,null,null,null,null,null,null,null,null,null,null,null,null,null,null,null,null,"Terrain  ",9,21,"Gégé / Eric",23,"Mickaël / Freddy"," "," "]
[null,null,null,null,null,null,null,null,null,null,null,null,null,null,null,null,null,null,null,null,null,null,null,null,null,null,null,null,null,null,null,null,null,null,null,null,null,null,null,null,null,null,null,null,null,null,null,null,null,null,null,null,null,null,null,null,null,null,null,null,null,null,null,null,null,null,null,null,"Terrain  ",10,28,"René / Robert",39,"Philippe/Nico"," "," "]
[null,null,null,null,null,null,null,null,null,null,null,null,null,null,null,null,null,null,null,null,null,null,null,null,null,null,null,null,null,null,null,null,null,null,null,null,null,null,null,null,null,null,null,null,null,null,null,null,null,null,null,null,null,null,null,null,null,null,null,null,null,null,null,null,null,null,null,null,"Terrain  ",11,32,"Adeline / Mathieu",8,"Marcel"," "," "]
[null,null,null,null,null,null,null,null,null,null,null,null,null,null,null,null,null,null,null,null,null,null,null,null,null,null,null,null,null,null,null,null,null,null,null,null,null,null,null,null,null,null,null,null,null,null,null,null,null,null,null,null,null,null,null,null,null,null,null,null,null,null,null,null,null,null,null,null,"Terrain  ",12,25,"Aurélien / Didier",18,"Charles/ Nénesse"," "," "]
[null,null,null,null,null,null,null,null,null,null,null,null,null,null,null,null,null,null,null,null,null,null,null,null,null,null,null,null,null,null,null,null,null,null,null,null,null,null,null,null,null,null,null,null,null,null,null,null,null,null,null,null,null,null,null,null,null,null,null,null,null,null,null,null,null,null,null,null,"Terrain  ",13,15,"Ben / Jimmy",17,"Laurent / Mickaël"," "," "]
[null,null,null,null,null,null,null,null,null,null,null,null,null,null,null,null,null,null,null,null,null,null,null,null,null,null,null,null,null,null,null,null,null,null,null,null,null,null,null,null,null,null,null,null,null,null,null,null,null,null,null,null,null,null,null,null,null,null,null,null,null,null,null,null,null,null,null,null,"Terrain  ",14,33,"Bruno/Philippe",19,"Sylvain / Julien"," "," "]
[null,null,null,null,null,null,null,null,null,null,null,null,null,null,null,null,null,null,null,null,null,null,null,null,null,null,null,null,null,null,null,null,null,null,null,null,null,null,null,null,null,null,null,null,null,null,null,null,null,null,null,null,null,null,null,null,null,null,null,null,null,null,null,null,null,null,null,null,"Terrain  ",15,26,"Thierry / Damien",20,"Fanfan / Jonathan"," "," "]
[null,null,null,null,null,null,null,null,null,null,null,null,null,null,null,null,null,null,null,null,null,null,null,null,null,null,null,null,null,null,null,null,null,null,null,null,null,null,null,null,null,null,null,null,null,null,null,null,null,null,null,null,null,null,null,null,null,null,null,null,null,null,null,null,null,null,null,null,"Terrain  ",16,1,"Julot",5,"yvon"," "," "]
[null,null,null,null,null,null,null,null,null,null,null,null,null,null,null,null,null,null,null,null,null,null,null,null,null,null,null,null,null,null,null,null,null,null,null,null,null,null,null,null,null,null,null,null,null,null,null,null,null,null,null,null,null,null,null,null,null,null,null,null,null,null,null,null,null,null,null,null,"Terrain  ",17,13,"L'archi / Jean-Pierre",2,"Francis"," "," "]
[null,null,null,null,null,null,null,null,null,null,null,null,null,null,null,null,null,null,null,null,null,null,null,null,null,null,null,null,null,null,null,null,null,null,null,null,null,null,null,null,null,null,null,null,null,null,null,null,null,null,null,null,null,null,null,null,null,null,null,null,null,null,null,null,null,null,null,null,"Terrain  ",18,14,"Alain / Christophe",29,"Yoann / Christian"," "," "]
[null,null,null,null,null,null,null,null,null,null,null,null,null,null,null,null,null,null,null,null,null,null,null,null,null,null,null,null,null,null,null,null,null,null,null,null,null,null,null,null,null,null,null,null,null,null,null,null,null,null,null,null,null,null,null,null,null,null,null,null,null,null,null,null,null,null,null,null,"Terrain  ",19,7,"Pierre",27,"Phillipe / Michel"," "," "]
[null,null,null,null,null,null,null,null,null,null,null,null,null,null,null,null,null,null,null,null,null,null,null,null,null,null,null,null,null,null,null,null,null,null,null,null,null,null,null,null,null,null,null,null,null,null,null,null,null,null,null,null,null,null,null,null,null,null,null,null,null,null,null,null,null,null,null,null,"Terrain  ",20,37,"Clément/Charles",3,"marco"," "," "]
[]
[]
[]
[]
[]
[]
[]
[]
[null,null,null,null,null,null,null,null,null,null,null,null,null,null,null,null,null,null,null,null,null,null,null,null,null,null,null,null,null,null,null,null,null,null,null,null,null,null,null,null,null,null,null,null,null,null,null,null,null,null,null,null,null,null,null,null,null,null,null,null,null,null,null,null,null,null,null,null,null,null,"6 è tour",null,null,null,"Resultat"]
[null,null,null,null,null,null,null,null,null,null,null,null,null,null,null,null,null,null,null,null,null,null,null,null,null,null,null,null,null,null,null,null,null,null,null,null,null,null,null,null,null,null,null,null,null,null,null,null,null,null,null,null,null,null,null,null,null,null,null,null,null,null,null,null,null,null,null,null,"Terrain  ",{"$f":"B6","v":1},{"$f":"BB6","v":21},{"$f":"BD6","v":"Gégé / Eric"},{"$f":"BF6","v":26},{"$f":"BH6","v":"Thierry / Damien"}," "," "]
[null,null,null,null,null,null,null,null,null,null,null,null,null,null,null,null,null,null,null,null,null,null,null,null,null,null,null,null,null,null,null,null,null,null,null,null,null,null,null,null,null,null,null,null,null,null,null,null,null,null,null,null,null,null,null,null,null,null,null,null,null,null,null,null,null,null,null,null,"Terrain  ",2,37,"Clément/Charles",19,"Sylvain / Julien"," "," "]
[null,null,null,null,null,null,null,null,null,null,null,null,null,null,null,null,null,null,null,null,null,null,null,null,null,null,null,null,null,null,null,null,null,null,null,null,null,null,null,null,null,null,null,null,null,null,null,null,null,null,null,null,null,null,null,null,null,null,null,null,null,null,null,null,null,null,null,null,"Terrain  ",3,8,"Marcel",23,"Mickaël / Freddy"," "," "]
[null,null,null,null,null,null,null,null,null,null,null,null,null,null,null,null,null,null,null,null,null,null,null,null,null,null,null,null,null,null,null,null,null,null,null,null,null,null,null,null,null,null,null,null,null,null,null,null,null,null,null,null,null,null,null,null,null,null,null,null,null,null,null,null,null,null,null,null,"Terrain  ",4,25,"Aurélien / Didier",2,"Francis"," "," "]
[null,null,null,null,null,null,null,null,null,null,null,null,null,null,null,null,null,null,null,null,null,null,null,null,null,null,null,null,null,null,null,null,null,null,null,null,null,null,null,null,null,null,null,null,null,null,null,null,null,null,null,null,null,null,null,null,null,null,null,null,null,null,null,null,null,null,null,null,"Terrain  ",5,10,"Florian",34,"Joe/Geo"," "," "]
[null,null,null,null,null,null,null,null,null,null,null,null,null,null,null,null,null,null,null,null,null,null,null,null,null,null,null,null,null,null,null,null,null,null,null,null,null,null,null,null,null,null,null,null,null,null,null,null,null,null,null,null,null,null,null,null,null,null,null,null,null,null,null,null,null,null,null,null,"Terrain  ",6,15,"Ben / Jimmy",32,"Adeline / Mathieu"," "," "]
[null,null,null,null,null,null,null,null,null,null,null,null,null,null,null,null,null,null,null,null,null,null,null,null,null,null,null,null,null,null,null,null,null,null,null,null,null,null,null,null,null,null,null,null,null,null,null,null,null,null,null,null,null,null,null,null,null,null,null,null,null,null,null,null,null,null,null,null,"Terrain  ",7,12,"Alain / Joël",40,"Vincent/François"," "," "]
[null,null,null,null,null,null,null,null,null,null,null,null,null,null,null,null,null,null,null,null,null,null,null,null,null,null,null,null,null,null,null,null,null,null,null,null,null,null,null,null,null,null,null,null,null,null,null,null,null,null,null,null,null,null,null,null,null,null,null,null,null,null,null,null,null,null,null,null,"Terrain  ",8,7,"Pierre",1,"Julot"," "," "]
[null,null,null,null,null,null,null,null,null,null,null,null,null,null,null,null,null,null,null,null,null,null,null,null,null,null,null,null,null,null,null,null,null,null,null,null,null,null,null,null,null,null,null,null,null,null,null,null,null,null,null,null,null,null,null,null,null,null,null,null,null,null,null,null,null,null,null,null,"Terrain  ",9,3,"marco",18,"Charles/ Nénesse"," "," "]
[null,null,null,null,null,null,null,null,null,null,null,null,null,null,null,null,null,null,null,null,null,null,null,null,null,null,null,null,null,null,null,null,null,null,null,null,null,null,null,null,null,null,null,null,null,null,null,null,null,null,null,null,null,null,null,null,null,null,null,null,null,null,null,null,null,null,null,null,"Terrain  ",10,29,"Yoann / Christian",9,"Sébastien"," "," "]
[null,null,null,null,null,null,null,null,null,null,null,null,null,null,null,null,null,null,null,null,null,null,null,null,null,null,null,null,null,null,null,null,null,null,null,null,null,null,null,null,null,null,null,null,null,null,null,null,null,null,null,null,null,null,null,null,null,null,null,null,null,null,null,null,null,null,null,null,"Terrain  ",11,4,"Denise",31,"Gérard / Edouard"," "," "]
[null,null,null,null,null,null,null,null,null,null,null,null,null,null,null,null,null,null,null,null,null,null,null,null,null,null,null,null,null,null,null,null,null,null,null,null,null,null,null,null,null,null,null,null,null,null,null,null,null,null,null,null,null,null,null,null,null,null,null,null,null,null,null,null,null,null,null,null,"Terrain  ",12,33,"Bruno/Philippe",24,"Jacques / Michel"," "," "]
[null,null,null,null,null,null,null,null,null,null,null,null,null,null,null,null,null,null,null,null,null,null,null,null,null,null,null,null,null,null,null,null,null,null,null,null,null,null,null,null,null,null,null,null,null,null,null,null,null,null,null,null,null,null,null,null,null,null,null,null,null,null,null,null,null,null,null,null,"Terrain  ",13,22,"Landry / Martial",30,"Patrick / Roger"," "," "]
[null,null,null,null,null,null,null,null,null,null,null,null,null,null,null,null,null,null,null,null,null,null,null,null,null,null,null,null,null,null,null,null,null,null,null,null,null,null,null,null,null,null,null,null,null,null,null,null,null,null,null,null,null,null,null,null,null,null,null,null,null,null,null,null,null,null,null,null,"Terrain  ",14,35,"Frères MARTIN",14,"Alain / Christophe"," "," "]
[null,null,null,null,null,null,null,null,null,null,null,null,null,null,null,null,null,null,null,null,null,null,null,null,null,null,null,null,null,null,null,null,null,null,null,null,null,null,null,null,null,null,null,null,null,null,null,null,null,null,null,null,null,null,null,null,null,null,null,null,null,null,null,null,null,null,null,null,"Terrain  ",15,20,"Fanfan / Jonathan",6,"jacques"," "," "]
[null,null,null,null,null,null,null,null,null,null,null,null,null,null,null,null,null,null,null,null,null,null,null,null,null,null,null,null,null,null,null,null,null,null,null,null,null,null,null,null,null,null,null,null,null,null,null,null,null,null,null,null,null,null,null,null,null,null,null,null,null,null,null,null,null,null,null,null,"Terrain  ",16,28,"René / Robert",27,"Phillipe / Michel"," "," "]
[null,null,null,null,null,null,null,null,null,null,null,null,null,null,null,null,null,null,null,null,null,null,null,null,null,null,null,null,null,null,null,null,null,null,null,null,null,null,null,null,null,null,null,null,null,null,null,null,null,null,null,null,null,null,null,null,null,null,null,null,null,null,null,null,null,null,null,null,"Terrain  ",17,17,"Laurent / Mickaël",13,"L'archi / Jean-Pierre"," "," "]
[null,null,null,null,null,null,null,null,null,null,null,null,null,null,null,null,null,null,null,null,null,null,null,null,null,null,null,null,null,null,null,null,null,null,null,null,null,null,null,null,null,null,null,null,null,null,null,null,null,null,null,null,null,null,null,null,null,null,null,null,null,null,null,null,null,null,null,null,"Terrain  ",18,39,"Philippe/Nico",5,"yvon"," "," "]
[null,null,null,null,null,null,null,null,null,null,null,null,null,null,null,null,null,null,null,null,null,null,null,null,null,null,null,null,null,null,null,null,null,null,null,null,null,null,null,null,null,null,null,null,null,null,null,null,null,null,null,null,null,null,null,null,null,null,null,null,null,null,null,null,null,null,null,null,"Terrain  ",19,38,"Romain/Florian",11,"Eric / Yvonnick"," "," "]
[null,null,null,null,null,null,null,null,null,null,null,null,null,null,null,null,null,null,null,null,null,null,null,null,null,null,null,null,null,null,null,null,null,null,null,null,null,null,null,null,null,null,null,null,null,null,null,null,null,null,null,null,null,null,null,null,null,null,null,null,null,null,null,null,null,null,null,null,"Terrain  ",20,16,"Le Suisse / Yoyo",36,"Alcide/ Henri"," "," "]

{"sheet":"42_64 eq","index":5,"n_rows":405,"n_cols":76,"rows_kept":405,"cut":false,"hidden":false,"merged":[[102,10,102,11],[70,10,70,11],[71,10,71,11],[72,10,72,11],[100,10,100,11],[101,10,101,11],[206,70,206,73],[206,74,206,75],[273,70,273,73],[273,74,273,75],[340,70,340,73],[340,74,340,75],[5,70,5,73],[5,74,5,75],[72,70,72,73],[72,74,72,75],[139,70,139,73],[139,74,139,75],[38,10,38,11],[39,10,39,11],[40,10,40,11],[4,52,4,61],[4,2,4,11],[4,12,4,21],[4,22,4,31],[4,32,4,41],[4,42,4,51]]}
[null,null,null,0,null,null,null,null,null,null,null,null,null,null,null,null,null,null,null,null,null,null,null,null,null,null,null,null,null,null,null,null,null,null,null,null,null,null,null,null,null,null,null,null,null,null,null,null,null,null,null,null,null,null,null,null,null,null,null,null,null,null,null,{"$f":"resultat!AI2","v":128},{"$f":"resultat!AL1","v":1},{"$f":"resultat!AM1","v":"Julot"}]
[null,null,null,null,null,null,null,null,null,null,null,null,null,null,null,null,null,null,null,null,null,null,null,null,null,null,null,null,null,null,null,null,null,null,null,null,null,null,null,null,null,null,null,null,null,null,null,null,null,null,null,null,null,null,null,null,null,null,null,null,null,null,null,2,{"$f":"resultat!AL2","v":2},{"$f":"resultat!AM2","v":"Francis"}]
[null,null,null,null,null,null,null,null,null,null,null,null,null,null,null,null,null,null,null,null,null,null,null,null,null,null,null,null,null,null,null,null,null,null,null,null,null,null,null,null,null,null,null,null,null,null,null,null,null,null,null,null,null,null,null,null,null,null,null,null,null,null,null,{"$f":"BL1/BL2","v":64},{"$f":"resultat!AL3","v":3},{"$f":"resultat!AM3","v":"marco"}]
[null,null,null,null,null,null,null,null,null,null,null,null,null,null,null,null,null,null,null,null,null,null,null,null,null,null,null,null,null,null,null,null,null,null,null,null,null,null,null,null,null,null,null,null,null,null,null,null,null,null,null,null,null,null,null,null,null,null,null,null,null,null,null,null,{"$f":"resultat!AL4","v":4},{"$f":"resultat!AM4","v":"Denise"}]
["2017-09-11",42989.857881944445,"                                                 1er tour                                                   résultat",null,null,null,null,null,null,null,null,null,"                                                2è tour                                                       résultat",null,null,null,null,null,null,null,null,null,"                                                3 è tour                                                      résultat",null,null,null,null,null,null,null,null,null,"                                             4è tour                                                         résultat",null,null,null,null,null,null,null,null,null,"                                                 5 è tour                                                      résultat",null,null,null,null,null,null,null,null,null,"                                                 6 è tour                                                  résultat",null,null,null,null,null,null,null,null,null,null,99,{"$f":"resultat!AL5","v":5},{"$f":"resultat!AM5","v":"yvon"}]
["Terrain",1,null,{"$f":"IF((F101)=1,$BM$1,\"\")&IF((F101)=2,$BM$2,\"\")&IF((F101)=3,$BM$3,\"\")&IF((F101)=4,$BM$4,\"\")&IF((F101)=5,$BM$5,\"\")&IF((F101)=6,$BM$6,\"\")&IF((F101)=7,$BM$7,\"\")&IF((F101)=8,$BM$8,\"\")&IF((F101)=9,$BM$9,\"\")&IF((F101)=10,$BM$10,\"\")&IF((F101)=11,$BM$11,\"\")&IF((F101)=12,$BM$12,\"\")&IF((F101)=13,$BM$13,\"\")&IF((F101)=14,$BM$14,\"\")&IF((F101)=15,$BM$15,\"\")&IF((F101)=16,$BM$16,\"\")&IF((F101)=17,$BM$17,\"\")&IF((F101)=18,$BM$18,\"\")&IF((F101)=19,$BM$19,\"\")&IF((F101)=20,$BM$20,\"\")&IF((F101)=21,$BM$21,\"\")&IF((F101)=22,$BM$22,\"\")&IF((F101)=23,$BM$23,\"\")&IF((F101)=24,$BM$24,\"\")&IF((F101)=25,$BM$25,\"\")&IF((F101)=26,$BM$26,\"\")&IF((F101)=27,$BM$27,\"\")&IF((F101)=28,$BM$28,\"\")&IF((F101)=29,$BM$29,\"\")&IF((F101)=30,$BM$30,\"\")&IF((F101)=31,$BM$31,\"\")&IF((F101)=32,$BM$32,\"\")&IF((F101)=33,$BM$33,\"\")&IF((F101)=34,$BM$34,\"\")&IF((F101)=35,$BM$35,\"\")&IF((F101)=36,$BM$36,\"\")&IF((F101)=37,$BM$37,\"\")&IF((F101)=38,$BM$38,\"\")&IF((F101)=39,$BM$39,\"\")&IF((F101)=40,$BM$40,\"\")&IF((F101)=41,$BM$41,\"\")&IF((F101)=42,$BM$42,\"\")&IF((F101)=43,$BM$43,\"\")&IF((F101)=44,$BM$44,\"\")&IF((F101)=45,$BM$45,\"\")&IF((F101)=46,$BM$46,\"\")&IF((F101)=47,$BM$47,\"\")&IF((F101)=48,$BM$48,\"\")&IF((F101)=49,$BM$49,\"\")&IF((F101)=50,$BM$50,\"\")&IF((F101)=51,$BM$51,\"\")&IF((F101)=52,$BM$52,\"\")&IF((F101)=53,$BM$53,\"\")&IF((F101)=54,$BM$54,\"\")&IF((F101)=55,$BM$55,\"\")&IF((F101)=56,$BM$56,\"\")&IF((F101)=57,$BM$57,\"\")&IF((F101)=58,$BM$58,\"\")&IF((F101)=59,$BM$59,\"\")&IF((F101)=60,$BM$60,\"\")&IF((F101)=61,$BM$61,\"\")&IF((F101)=62,$BM$62,\"\")&IF((F101)=63,$BM$63,\"\")&IF((F101)=64,$BM$64,\"\")&IF((F101)=65,$BM$65,\"\")&IF((F101)=66,$BM$66,\"\")&IF((F101)=67,$BM$67,\"\")&IF((F101)=68,$BM$68,\"\")&IF((F101)=69,$BM$69,\"\")&IF((F101)=70,$BM$70,\"\")&IF((F101)=71,$BM$71,\"\")&IF((F101)=72,$BM$72,\"\")&IF((F101)=73,$BM$73,\"\")&IF((F101)=74,$BM$74,\"\")&IF((F101)=75,$BM$75,\"\")&IF((F101)=76,$BM$76,\"\")&IF((F101)=77,$BM$77,\"\")&IF((F101)=78,$BM$78,\"\")&IF((F101)=79,$BM$79,\"\")&IF((F101)=80,$BM$80,\"\")&IF((F101)=81,$BM$81,\"\")&IF((F101)=82,$BM$82,\"\")&IF((F101)=83,$BM$83,\"\")&IF((F101)=84,$BM$84,\"\")&IF((F101)=85,$BM$85,\"\")&IF((F101)=86,$BM$86,\"\")&IF((F101)=87,$BM$87,\"\")&IF((F101)=88,$BM$88,\"\")&IF((F101)=89,$BM$89,\"\")&IF((F101)=90,$BM$90,\"\")&IF((F101)=91,$BM$91,\"\")&IF((F101)=92,$BM$92,\"\")&IF((F101)=93,$BM$93,\"\")&IF((F101)=94,$BM$94,\"\")&IF((F101)=95,$BM$95,\"\")&IF((F101)=96,$BM$96,\"\")&IF((F101)=97,$BM$97,\"\")&IF((F101)=98,$BM$98,\"\")&IF((F101)=99,$BM$99,\"\")&IF((F101)=100,$BM$100,\"\")&IF((F101)=101,$BM$101,\"\")&IF((F101)=102,$BM$102,\"\")&IF((F101)=103,$BM$103,\"\")&IF((F101)=104,$BM$104,\"\")&IF((F101)=105,$BM$105,\"\")&IF((F101)=106,$BM$106,\"\")&IF((F101)=107,$BM$107,\"\")&IF((F101)=108,$BM$108,\"\")&IF((F101)=109,$BM$109,\"\")&IF((F101)=110,$BM$110,\"\")&IF((F101)=111,$BM$111,\"\")&IF((F101)=112,$BM$112,\"\")&IF((F101)=113,$BM$113,\"\")&IF((F101)=114,$BM$114,\"\")&IF((F101)=115,$BM$115,\"\")&IF((F101)=116,$BM$116,\"\")&IF((F101)=117,$BM$117,\"\")&IF((F101)=118,$BM$118,\"\")&IF((F101)=119,$BM$119,\"\")&IF((F101)=120,$BM$120,\"\")&IF((F101)=121,$BM$121,\"\")&IF((F101)=122,$BM$122,\"\")&IF((F101)=123,$BM$123,\"\")&IF((F101)=124,$BM$124,\"\")&IF((F101)=125,$BM$125,\"\")&IF((F101)=126,$BM$126,\"\")&IF((F101)=127,$BM$127,\"\")&IF((F101)=128,$BM$128,\"\")","v":""},null,{"$f":"IF((F101)=1,$BN$1,\"\")&IF((F101)=2,$BN$2,\"\")&IF((F101)=3,$BN$3,\"\")&IF((F101)=4,$BN$4,\"\")&IF((F101)=5,$BN$5,\"\")&IF((F101)=6,$BN$6,\"\")&IF((F101)=7,$BN$7,\"\")&IF((F101)=8,$BN$8,\"\")&IF((F101)=9,$BN$9,\"\")&IF((F101)=10,$BN$10,\"\")&IF((F101)=11,$BN$11,\"\")&IF((F101)=12,$BN$12,\"\")&IF((F101)=13,$BN$13,\"\")&IF((F101)=14,$BN$14,\"\")&IF((F101)=15,$BN$15,\"\")&IF((F101)=16,$BN$16,\"\")&IF((F101)=17,$BN$17,\"\")&IF((F101)=18,$BN$18,\"\")&IF((F101)=19,$BN$19,\"\")&IF((F101)=20,$BN$20,\"\")&IF((F101)=21,$BN$21,\"\")&IF((F101)=22,$BN$22,\"\")&IF((F101)=23,$BN$23,\"\")&IF((F101)=24,$BN$24,\"\")&IF((F101)=25,$BN$25,\"\")&IF((F101)=26,$BN$26,\"\")&IF((F101)=27,$BN$27,\"\")&IF((F101)=28,$BN$28,\"\")&IF((F101)=29,$BN$29,\"\")&IF((F101)=30,$BN$30,\"\")&IF((F101)=31,$BN$31,\"\")&IF((F101)=32,$BN$32,\"\")&IF((F101)=33,$BN$33,\"\")&IF((F101)=34,$BN$34,\"\")&IF((F101)=35,$BN$35,\"\")&IF((F101)=36,$BN$36,\"\")&IF((F101)=37,$BN$37,\"\")&IF((F101)=38,$BN$38,\"\")&IF((F101)=39,$BN$39,\"\")&IF((F101)=40,$BN$40,\"\")&IF((F101)=41,$BN$41,\"\")&IF((F101)=42,$BN$42,\"\")&IF((F101)=43,$BN$43,\"\")&IF((F101)=44,$BN$44,\"\")&IF((F101)=45,$BN$45,\"\")&IF((F101)=46,$BN$46,\"\")&IF((F101)=47,$BN$47,\"\")&IF((F101)=48,$BN$48,\"\")&IF((F101)=49,$BN$49,\"\")&IF((F101)=50,$BN$50,\"\")&IF((F101)=51,$BN$51,\"\")&IF((F101)=52,$BN$52,\"\")&IF((F101)=53,$BN$53,\"\")&IF((F101)=54,$BN$54,\"\")&IF((F101)=55,$BN$55,\"\")&IF((F101)=56,$BN$56,\"\")&IF((F101)=57,$BN$57,\"\")&IF((F101)=58,$BN$58,\"\")&IF((F101)=59,$BN$59,\"\")&IF((F101)=60,$BN$60,\"\")&IF((F101)=61,$BN$61,\"\")&IF((F101)=62,$BN$62,\"\")&IF((F101)=63,$BN$63,\"\")&IF((F101)=64,$BN$64,\"\")&IF((F101)=65,$BN$65,\"\")&IF((F101)=66,$BN$66,\"\")&IF((F101)=67,$BN$67,\"\")&IF((F101)=68,$BN$68,\"\")&IF((F101)=69,$BN$69,\"\")&IF((F101)=70,$BN$70,\"\")&IF((F101)=71,$BN$71,\"\")&IF((F101)=72,$BN$72,\"\")&IF((F101)=73,$BN$73,\"\")&IF((F101)=74,$BN$74,\"\")&IF((F101)=75,$BN$75,\"\")&IF((F101)=76,$BN$76,\"\")&IF((F101)=77,$BN$77,\"\")&IF((F101)=78,$BN$78,\"\")&IF((F101)=79,$BN$79,\"\")&IF((F101)=80,$BN$80,\"\")&IF((F101)=81,$BN$81,\"\")&IF((F101)=82,$BN$82,\"\")&IF((F101)=83,$BN$83,\"\")&IF((F101)=84,$BN$84,\"\")&IF((F101)=85,$BN$85,\"\")&IF((F101)=86,$BN$86,\"\")&IF((F101)=87,$BN$87,\"\")&IF((F101)=88,$BN$88,\"\")&IF((F101)=89,$BN$89,\"\")&IF((F101)=90,$BN$90,\"\")&IF((F101)=91,$BN$91,\"\")&IF((F101)=92,$BN$92,\"\")&IF((F101)=93,$BN$93,\"\")&IF((F101)=94,$BN$94,\"\")&IF((F101)=95,$BN$95,\"\")&IF((F101)=96,$BN$96,\"\")&IF((F101)=97,$BN$97,\"\")&IF((F101)=98,$BN$98,\"\")&IF((F101)=99,$BN$99,\"\")&IF((F101)=100,$BN$100,\"\")&IF((F101)=101,$BN$101,\"\")&IF((F101)=102,$BN$102,\"\")&IF((F101)=103,$BN$103,\"\")&IF((F101)=104,$BN$104,\"\")&IF((F101)=105,$BN$105,\"\")&IF((F101)=106,$BN$106,\"\")&IF((F101)=107,$BN$107,\"\")&IF((F101)=108,$BN$108,\"\")&IF((F101)=109,$BN$109,\"\")&IF((F101)=110,$BN$110,\"\")&IF((F101)=111,$BN$111,\"\")&IF((F101)=112,$BN$112,\"\")&IF((F101)=113,$BN$113,\"\")&IF((F101)=114,$BN$114,\"\")&IF((F101)=115,$BN$115,\"\")&IF((F101)=116,$BN$116,\"\")&IF((F101)=117,$BN$117,\"\")&IF((F101)=118,$BN$118,\"\")&IF((F101)=119,$BN$119,\"\")&IF((F101)=120,$BN$120,\"\")&IF((F101)=121,$BN$121,\"\")&IF((F101)=122,$BN$122,\"\")&IF((F101)=123,$BN$123,\"\")&IF((F101)=124,$BN$124,\"\")&IF((F101)=125,$BN$125,\"\")&IF((F101)=126,$BN$126,\"\")&IF((F101)=127,$BN$127,\"\")&IF((F101)=128,$BN$128,\"\")","v":""},null,{"$f":"IF((J101)=1,$BM$1,\"\")&IF((J101)=2,$BM$2,\"\")&IF((J101)=3,$BM$3,\"\")&IF((J101)=4,$BM$4,\"\")&IF((J101)=5,$BM$5,\"\")&IF((J101)=6,$BM$6,\"\")&IF((J101)=7,$BM$7,\"\")&IF((J101)=8,$BM$8,\"\")&IF((J101)=9,$BM$9,\"\")&IF((J101)=10,$BM$10,\"\")&IF((J101)=11,$BM$11,\"\")&IF((J101)=12,$BM$12,\"\")&IF((J101)=13,$BM$13,\"\")&IF((J101)=14,$BM$14,\"\")&IF((J101)=15,$BM$15,\"\")&IF((J101)=16,$BM$16,\"\")&IF((J101)=17,$BM$17,\"\")&IF((J101)=18,$BM$18,\"\")&IF((J101)=19,$BM$19,\"\")&IF((J101)=20,$BM$20,\"\")&IF((J101)=21,$BM$21,\"\")&IF((J101)=22,$BM$22,\"\")&IF((J101)=23,$BM$23,\"\")&IF((J101)=24,$BM$24,\"\")&IF((J101)=25,$BM$25,\"\")&IF((J101)=26,$BM$26,\"\")&IF((J101)=27,$BM$27,\"\")&IF((J101)=28,$BM$28,\"\")&IF((J101)=29,$BM$29,\"\")&IF((J101)=30,$BM$30,\"\")&IF((J101)=31,$BM$31,\"\")&IF((J101)=32,$BM$32,\"\")&IF((J101)=33,$BM$33,\"\")&IF((J101)=34,$BM$34,\"\")&IF((J101)=35,$BM$35,\"\")&IF((J101)=36,$BM$36,\"\")&IF((J101)=37,$BM$37,\"\")&IF((J101)=38,$BM$38,\"\")&IF((J101)=39,$BM$39,\"\")&IF((J101)=40,$BM$40,\"\")&IF((J101)=41,$BM$41,\"\")&IF((J101)=42,$BM$42,\"\")&IF((J101)=43,$BM$43,\"\")&IF((J101)=44,$BM$44,\"\")&IF((J101)=45,$BM$45,\"\")&IF((J101)=46,$BM$46,\"\")&IF((J101)=47,$BM$47,\"\")&IF((J101)=48,$BM$48,\"\")&IF((J101)=49,$BM$49,\"\")&IF((J101)=50,$BM$50,\"\")&IF((J101)=51,$BM$51,\"\")&IF((J101)=52,$BM$52,\"\")&IF((J101)=53,$BM$53,\"\")&IF((J101)=54,$BM$54,\"\")&IF((J101)=55,$BM$55,\"\")&IF((J101)=56,$BM$56,\"\")&IF((J101)=57,$BM$57,\"\")&IF((J101)=58,$BM$58,\"\")&IF((J101)=59,$BM$59,\"\")&IF((J101)=60,$BM$60,\"\")&IF((J101)=61,$BM$61,\"\")&IF((J101)=62,$BM$62,\"\")&IF((J101)=63,$BM$63,\"\")&IF((J101)=64,$BM$64,\"\")&IF((J101)=65,$BM$65,\"\")&IF((J101)=66,$BM$66,\"\")&IF((J101)=67,$BM$67,\"\")&IF((J101)=68,$BM$68,\"\")&IF((J101)=69,$BM$69,\"\")&IF((J101)=70,$BM$70,\"\")&IF((J101)=71,$BM$71,\"\")&IF((J101)=72,$BM$72,\"\")&IF((J101)=73,$BM$73,\"\")&IF((J101)=74,$BM$74,\"\")&IF((J101)=75,$BM$75,\"\")&IF((J101)=76,$BM$76,\"\")&IF((J101)=77,$BM$77,\"\")&IF((J101)=78,$BM$78,\"\")&IF((J101)=79,$BM$79,\"\")&IF((J101)=80,$BM$80,\"\")&IF((J101)=81,$BM$81,\"\")&IF((J101)=82,$BM$82,\"\")&IF((J101)=83,$BM$83,\"\")&IF((J101)=84,$BM$84,\"\")&IF((J101)=85,$BM$85,\"\")&IF((J101)=86,$BM$86,\"\")&IF((J101)=87,$BM$87,\"\")&IF((J101)=88,$BM$88,\"\")&IF((J101)=89,$BM$89,\"\")&IF((J101)=90,$BM$90,\"\")&IF((J101)=91,$BM$91,\"\")&IF((J101)=92,$BM$92,\"\")&IF((J101)=93,$BM$93,\"\")&IF((J101)=94,$BM$94,\"\")&IF((J101)=95,$BM$95,\"\")&IF((J101)=96,$BM$96,\"\")&IF((J101)=97,$BM$97,\"\")&IF((J101)=98,$BM$98,\"\")&IF((J101)=99,$BM$99,\"\")&IF((J101)=100,$BM$100,\"\")&IF((J101)=101,$BM$101,\"\")&IF((J101)=102,$BM$102,\"\")&IF((J101)=103,$BM$103,\"\")&IF((J101)=104,$BM$104,\"\")&IF((J101)=105,$BM$105,\"\")&IF((J101)=106,$BM$106,\"\")&IF((J101)=107,$BM$107,\"\")&IF((J101)=108,$BM$108,\"\")&IF((J101)=109,$BM$109,\"\")&IF((J101)=110,$BM$110,\"\")&IF((J101)=111,$BM$111,\"\")&IF((J101)=112,$BM$112,\"\")&IF((J101)=113,$BM$113,\"\")&IF((J101)=114,$BM$114,\"\")&IF((J101)=115,$BM$115,\"\")&IF((J101)=116,$BM$116,\"\")&IF((J101)=117,$BM$117,\"\")&IF((J101)=118,$BM$118,\"\")&IF((J101)=119,$BM$119,\"\")&IF((J101)=120,$BM$120,\"\")&IF((J101)=121,$BM$121,\"\")&IF((J101)=122,$BM$122,\"\")&IF((J101)=123,$BM$123,\"\")&IF((J101)=124,$BM$124,\"\")&IF((J101)=125,$BM$125,\"\")&IF((J101)=126,$BM$126,\"\")&IF((J101)=127,$BM$127,\"\")&IF((J101)=128,$BM$128,\"\")","v":""},null,{"$f":"IF((J101)=1,$BN$1,\"\")&IF((J101)=2,$BN$2,\"\")&IF((J101)=3,$BN$3,\"\")&IF((J101)=4,$BN$4,\"\")&IF((J101)=5,$BN$5,\"\")&IF((J101)=6,$BN$6,\"\")&IF((J101)=7,$BN$7,\"\")&IF((J101)=8,$BN$8,\"\")&IF((J101)=9,$BN$9,\"\")&IF((J101)=10,$BN$10,\"\")&IF((J101)=11,$BN$11,\"\")&IF((J101)=12,$BN$12,\"\")&IF((J101)=13,$BN$13,\"\")&IF((J101)=14,$BN$14,\"\")&IF((J101)=15,$BN$15,\"\")&IF((J101)=16,$BN$16,\"\")&IF((J101)=17,$BN$17,\"\")&IF((J101)=18,$BN$18,\"\")&IF((J101)=19,$BN$19,\"\")&IF((J101)=20,$BN$20,\"\")&IF((J101)=21,$BN$21,\"\")&IF((J101)=22,$BN$22,\"\")&IF((J101)=23,$BN$23,\"\")&IF((J101)=24,$BN$24,\"\")&IF((J101)=25,$BN$25,\"\")&IF((J101)=26,$BN$26,\"\")&IF((J101)=27,$BN$27,\"\")&IF((J101)=28,$BN$28,\"\")&IF((J101)=29,$BN$29,\"\")&IF((J101)=30,$BN$30,\"\")&IF((J101)=31,$BN$31,\"\")&IF((J101)=32,$BN$32,\"\")&IF((J101)=33,$BN$33,\"\")&IF((J101)=34,$BN$34,\"\")&IF((J101)=35,$BN$35,\"\")&IF((J101)=36,$BN$36,\"\")&IF((J101)=37,$BN$37,\"\")&IF((J101)=38,$BN$38,\"\")&IF((J101)=39,$BN$39,\"\")&IF((J101)=40,$BN$40,\"\")&IF((J101)=41,$BN$41,\"\")&IF((J101)=42,$BN$42,\"\")&IF((J101)=43,$BN$43,\"\")&IF((J101)=44,$BN$44,\"\")&IF((J101)=45,$BN$45,\"\")&IF((J101)=46,$BN$46,\"\")&IF((J101)=47,$BN$47,\"\")&IF((J101)=48,$BN$48,\"\")&IF((J101)=49,$BN$49,\"\")&IF((J101)=50,$BN$50,\"\")&IF((J101)=51,$BN$51,\"\")&IF((J101)=52,$BN$52,\"\")&IF((J101)=53,$BN$53,\"\")&IF((J101)=54,$BN$54,\"\")&IF((J101)=55,$BN$55,\"\")&IF((J101)=56,$BN$56,\"\")&IF((J101)=57,$BN$57,\"\")&IF((J101)=58,$BN$58,\"\")&IF((J101)=59,$BN$59,\"\")&IF((J101)=60,$BN$60,\"\")&IF((J101)=61,$BN$61,\"\")&IF((J101)=62,$BN$62,\"\")&IF((J101)=63,$BN$63,\"\")&IF((J101)=64,$BN$64,\"\")&IF((J101)=65,$BN$65,\"\")&IF((J101)=66,$BN$66,\"\")&IF((J101)=67,$BN$67,\"\")&IF((J101)=68,$BN$68,\"\")&IF((J101)=69,$BN$69,\"\")&IF((J101)=70,$BN$70,\"\")&IF((J101)=71,$BN$71,\"\")&IF((J101)=72,$BN$72,\"\")&IF((J101)=73,$BN$73,\"\")&IF((J101)=74,$BN$74,\"\")&IF((J101)=75,$BN$75,\"\")&IF((J101)=76,$BN$76,\"\")&IF((J101)=77,$BN$77,\"\")&IF((J101)=78,$BN$78,\"\")&IF((J101)=79,$BN$79,\"\")&IF((J101)=80,$BN$80,\"\")&IF((J101)=81,$BN$81,\"\")&IF((J101)=82,$BN$82,\"\")&IF((J101)=83,$BN$83,\"\")&IF((J101)=84,$BN$84,\"\")&IF((J101)=85,$BN$85,\"\")&IF((J101)=86,$BN$86,\"\")&IF((J101)=87,$BN$87,\"\")&IF((J101)=88,$BN$88,\"\")&IF((J101)=89,$BN$89,\"\")&IF((J101)=90,$BN$90,\"\")&IF((J101)=91,$BN$91,\"\")&IF((J101)=92,$BN$92,\"\")&IF((J101)=93,$BN$93,\"\")&IF((J101)=94,$BN$94,\"\")&IF((J101)=95,$BN$95,\"\")&IF((J101)=96,$BN$96,\"\")&IF((J101)=97,$BN$97,\"\")&IF((J101)=98,$BN$98,\"\")&IF((J101)=99,$BN$99,\"\")&IF((J101)=100,$BN$100,\"\")&IF((J101)=101,$BN$101,\"\")&IF((J101)=102,$BN$102,\"\")&IF((J101)=103,$BN$103,\"\")&IF((J101)=104,$BN$104,\"\")&IF((J101)=105,$BN$105,\"\")&IF((J101)=106,$BN$106,\"\")&IF((J101)=107,$BN$107,\"\")&IF((J101)=108,$BN$108,\"\")&IF((J101)=109,$BN$109,\"\")&IF((J101)=110,$BN$110,\"\")&IF((J101)=111,$BN$111,\"\")&IF((J101)=112,$BN$112,\"\")&IF((J101)=113,$BN$113,\"\")&IF((J101)=114,$BN$114,\"\")&IF((J101)=115,$BN$115,\"\")&IF((J101)=116,$BN$116,\"\")&IF((J101)=117,$BN$117,\"\")&IF((J101)=118,$BN$118,\"\")&IF((J101)=119,$BN$119,\"\")&IF((J101)=120,$BN$120,\"\")&IF((J101)=121,$BN$121,\"\")&IF((J101)=122,$BN$122,\"\")&IF((J101)=123,$BN$123,\"\")&IF((J101)=124,$BN$124,\"\")&IF((J101)=125,$BN$125,\"\")&IF((J101)=126,$BN$126,\"\")&IF((J101)=127,$BN$127,\"\")&IF((J101)=128,$BN$128,\"\")","v":""},null,null,null,{"$f":"IF((P101)=1,$BM$1,\"\")&IF((P101)=2,$BM$2,\"\")&IF((P101)=3,$BM$3,\"\")&IF((P101)=4,$BM$4,\"\")&IF((P101)=5,$BM$5,\"\")&IF((P101)=6,$BM$6,\"\")&IF((P101)=7,$BM$7,\"\")&IF((P101)=8,$BM$8,\"\")&IF((P101)=9,$BM$9,\"\")&IF((P101)=10,$BM$10,\"\")&IF((P101)=11,$BM$11,\"\")&IF((P101)=12,$BM$12,\"\")&IF((P101)=13,$BM$13,\"\")&IF((P101)=14,$BM$14,\"\")&IF((P101)=15,$BM$15,\"\")&IF((P101)=16,$BM$16,\"\")&IF((P101)=17,$BM$17,\"\")&IF((P101)=18,$BM$18,\"\")&IF((P101)=19,$BM$19,\"\")&IF((P101)=20,$BM$20,\"\")&IF((P101)=21,$BM$21,\"\")&IF((P101)=22,$BM$22,\"\")&IF((P101)=23,$BM$23,\"\")&IF((P101)=24,$BM$24,\"\")&IF((P101)=25,$BM$25,\"\")&IF((P101)=26,$BM$26,\"\")&IF((P101)=27,$BM$27,\"\")&IF((P101)=28,$BM$28,\"\")&IF((P101)=29,$BM$29,\"\")&IF((P101)=30,$BM$30,\"\")&IF((P101)=31,$BM$31,\"\")&IF((P101)=32,$BM$32,\"\")&IF((P101)=33,$BM$33,\"\")&IF((P101)=34,$BM$34,\"\")&IF((P101)=35,$BM$35,\"\")&IF((P101)=36,$BM$36,\"\")&IF((P101)=37,$BM$37,\"\")&IF((P101)=38,$BM$38,\"\")&IF((P101)=39,$BM$39,\"\")&IF((P101)=40,$BM$40,\"\")&IF((P101)=41,$BM$41,\"\")&IF((P101)=42,$BM$42,\"\")&IF((P101)=43,$BM$43,\"\")&IF((P101)=44,$BM$44,\"\")&IF((P101)=45,$BM$45,\"\")&IF((P101)=46,$BM$46,\"\")&IF((P101)=47,$BM$47,\"\")&IF((P101)=48,$BM$48,\"\")&IF((P101)=49,$BM$49,\"\")&IF((P101)=50,$BM$50,\"\")&IF((P101)=51,$BM$51,\"\")&IF((P101)=52,$BM$52,\"\")&IF((P101)=53,$BM$53,\"\")&IF((P101)=54,$BM$54,\"\")&IF((P101)=55,$BM$55,\"\")&IF((P101)=56,$BM$56,\"\")&IF((P101)=57,$BM$57,\"\")&IF((P101)=58,$BM$58,\"\")&IF((P101)=59,$BM$59,\"\")&IF((P101)=60,$BM$60,\"\")&IF((P101)=61,$BM$61,\"\")&IF((P101)=62,$BM$62,\"\")&IF((P101)=63,$BM$63,\"\")&IF((P101)=64,$BM$64,\"\")&IF((P101)=65,$BM$65,\"\")&IF((P101)=66,$BM$66,\"\")&IF((P101)=67,$BM$67,\"\")&IF((P101)=68,$BM$68,\"\")&IF((P101)=69,$BM$69,\"\")&IF((P101)=70,$BM$70,\"\")&IF((P101)=71,$BM$71,\"\")&IF((P101)=72,$BM$72,\"\")&IF((P101)=73,$BM$73,\"\")&IF((P101)=74,$BM$74,\"\")&IF((P101)=75,$BM$75,\"\")&IF((P101)=76,$BM$76,\"\")&IF((P101)=77,$BM$77,\"\")&IF((P101)=78,$BM$78,\"\")&IF((P101)=79,$BM$79,\"\")&IF((P101)=80,$BM$80,\"\")&IF((P101)=81,$BM$81,\"\")&IF((P101)=82,$BM$82,\"\")&IF((P101)=83,$BM$83,\"\")&IF((P101)=84,$BM$84,\"\")&IF((P101)=85,$BM$85,\"\")&IF((P101)=86,$BM$86,\"\")&IF((P101)=87,$BM$87,\"\")&IF((P101)=88,$BM$88,\"\")&IF((P101)=89,$BM$89,\"\")&IF((P101)=90,$BM$90,\"\")&IF((P101)=91,$BM$91,\"\")&IF((P101)=92,$BM$92,\"\")&IF((P101)=93,$BM$93,\"\")&IF((P101)=94,$BM$94,\"\")&IF((P101)=95,$BM$95,\"\")&IF((P101)=96,$BM$96,\"\")&IF((P101)=97,$BM$97,\"\")&IF((P101)=98,$BM$98,\"\")&IF((P101)=99,$BM$99,\"\")&IF((P101)=100,$BM$100,\"\")&IF((P101)=101,$BM$101,\"\")&IF((P101)=102,$BM$102,\"\")&IF((P101)=103,$BM$103,\"\")&IF((P101)=104,$BM$104,\"\")&IF((P101)=105,$BM$105,\"\")&IF((P101)=106,$BM$106,\"\")&IF((P101)=107,$BM$107,\"\")&IF((P101)=108,$BM$108,\"\")&IF((P101)=109,$BM$109,\"\")&IF((P101)=110,$BM$110,\"\")&IF((P101)=111,$BM$111,\"\")&IF((P101)=112,$BM$112,\"\")&IF((P101)=113,$BM$113,\"\")&IF((P101)=114,$BM$114,\"\")&IF((P101)=115,$BM$115,\"\")&IF((P101)=116,$BM$116,\"\")&IF((P101)=117,$BM$117,\"\")&IF((P101)=118,$BM$118,\"\")&IF((P101)=119,$BM$119,\"\")&IF((P101)=120,$BM$120,\"\")&IF((P101)=121,$BM$121,\"\")&IF((P101)=122,$BM$122,\"\")&IF((P101)=123,$BM$123,\"\")&IF((P101)=124,$BM$124,\"\")&IF((P101)=125,$BM$125,\"\")&IF((P101)=126,$BM$126,\"\")&IF((P101)=127,$BM$127,\"\")&IF((P101)=128,$BM$128,\"\")","v":""},null,{"$f":"IF((P101)=1,$BN$1,\"\")&IF((P101)=2,$BN$2,\"\")&IF((P101)=3,$BN$3,\"\")&IF((P101)=4,$BN$4,\"\")&IF((P101)=5,$BN$5,\"\")&IF((P101)=6,$BN$6,\"\")&IF((P101)=7,$BN$7,\"\")&IF((P101)=8,$BN$8,\"\")&IF((P101)=9,$BN$9,\"\")&IF((P101)=10,$BN$10,\"\")&IF((P101)=11,$BN$11,\"\")&IF((P101)=12,$BN$12,\"\")&IF((P101)=13,$BN$13,\"\")&IF((P101)=14,$BN$14,\"\")&IF((P101)=15,$BN$15,\"\")&IF((P101)=16,$BN$16,\"\")&IF((P101)=17,$BN$17,\"\")&IF((P101)=18,$BN$18,\"\")&IF((P101)=19,$BN$19,\"\")&IF((P101)=20,$BN$20,\"\")&IF((P101)=21,$BN$21,\"\")&IF((P101)=22,$BN$22,\"\")&IF((P101)=23,$BN$23,\"\")&IF((P101)=24,$BN$24,\"\")&IF((P101)=25,$BN$25,\"\")&IF((P101)=26,$BN$26,\"\")&IF((P101)=27,$BN$27,\"\")&IF((P101)=28,$BN$28,\"\")&IF((P101)=29,$BN$29,\"\")&IF((P101)=30,$BN$30,\"\")&IF((P101)=31,$BN$31,\"\")&IF((P101)=32,$BN$32,\"\")&IF((P101)=33,$BN$33,\"\")&IF((P101)=34,$BN$34,\"\")&IF((P101)=35,$BN$35,\"\")&IF((P101)=36,$BN$36,\"\")&IF((P101)=37,$BN$37,\"\")&IF((P101)=38,$BN$38,\"\")&IF((P101)=39,$BN$39,\"\")&IF((P101)=40,$BN$40,\"\")&IF((P101)=41,$BN$41,\"\")&IF((P101)=42,$BN$42,\"\")&IF((P101)=43,$BN$43,\"\")&IF((P101)=44,$BN$44,\"\")&IF((P101)=45,$BN$45,\"\")&IF((P101)=46,$BN$46,\"\")&IF((P101)=47,$BN$47,\"\")&IF((P101)=48,$BN$48,\"\")&IF((P101)=49,$BN$49,\"\")&IF((P101)=50,$BN$50,\"\")&IF((P101)=51,$BN$51,\"\")&IF((P101)=52,$BN$52,\"\")&IF((P101)=53,$BN$53,\"\")&IF((P101)=54,$BN$54,\"\")&IF((P101)=55,$BN$55,\"\")&IF((P101)=56,$BN$56,\"\")&IF((P101)=57,$BN$57,\"\")&IF((P101)=58,$BN$58,\"\")&IF((P101)=59,$BN$59,\"\")&IF((P101)=60,$BN$60,\"\")&IF((P101)=61,$BN$61,\"\")&IF((P101)=62,$BN$62,\"\")&IF((P101)=63,$BN$63,\"\")&IF((P101)=64,$BN$64,\"\")&IF((P101)=65,$BN$65,\"\")&IF((P101)=66,$BN$66,\"\")&IF((P101)=67,$BN$67,\"\")&IF((P101)=68,$BN$68,\"\")&IF((P101)=69,$BN$69,\"\")&IF((P101)=70,$BN$70,\"\")&IF((P101)=71,$BN$71,\"\")&IF((P101)=72,$BN$72,\"\")&IF((P101)=73,$BN$73,\"\")&IF((P101)=74,$BN$74,\"\")&IF((P101)=75,$BN$75,\"\")&IF((P101)=76,$BN$76,\"\")&IF((P101)=77,$BN$77,\"\")&IF((P101)=78,$BN$78,\"\")&IF((P101)=79,$BN$79,\"\")&IF((P101)=80,$BN$80,\"\")&IF((P101)=81,$BN$81,\"\")&IF((P101)=82,$BN$82,\"\")&IF((P101)=83,$BN$83,\"\")&IF((P101)=84,$BN$84,\"\")&IF((P101)=85,$BN$85,\"\")&IF((P101)=86,$BN$86,\"\")&IF((P101)=87,$BN$87,\"\")&IF((P101)=88,$BN$88,\"\")&IF((P101)=89,$BN$89,\"\")&IF((P101)=90,$BN$90,\"\")&IF((P101)=91,$BN$91,\"\")&IF((P101)=92,$BN$92,\"\")&IF((P101)=93,$BN$93,\"\")&IF((P101)=94,$BN$94,\"\")&IF((P101)=95,$BN$95,\"\")&IF((P101)=96,$BN$96,\"\")&IF((P101)=97,$BN$97,\"\")&IF((P101)=98,$BN$98,\"\")&IF((P101)=99,$BN$99,\"\")&IF((P101)=100,$BN$100,\"\")&IF((P101)=101,$BN$101,\"\")&IF((P101)=102,$BN$102,\"\")&IF((P101)=103,$BN$103,\"\")&IF((P101)=104,$BN$104,\"\")&IF((P101)=105,$BN$105,\"\")&IF((P101)=106,$BN$106,\"\")&IF((P101)=107,$BN$107,\"\")&IF((P101)=108,$BN$108,\"\")&IF((P101)=109,$BN$109,\"\")&IF((P101)=110,$BN$110,\"\")&IF((P101)=111,$BN$111,\"\")&IF((P101)=112,$BN$112,\"\")&IF((P101)=113,$BN$113,\"\")&IF((P101)=114,$BN$114,\"\")&IF((P101)=115,$BN$115,\"\")&IF((P101)=116,$BN$116,\"\")&IF((P101)=117,$BN$117,\"\")&IF((P101)=118,$BN$118,\"\")&IF((P101)=119,$BN$119,\"\")&IF((P101)=120,$BN$120,\"\")&IF((P101)=121,$BN$121,\"\")&IF((P101)=122,$BN$122,\"\")&IF((P101)=123,$BN$123,\"\")&IF((P101)=124,$BN$124,\"\")&IF((P101)=125,$BN$125,\"\")&IF((P101)=126,$BN$126,\"\")&IF((P101)=127,$BN$127,\"\")&IF((P101)=128,$BN$128,\"\")","v":""},null,{"$f":"IF((T101)=1,$BM$1,\"\")&IF((T101)=2,$BM$2,\"\")&IF((T101)=3,$BM$3,\"\")&IF((T101)=4,$BM$4,\"\")&IF((T101)=5,$BM$5,\"\")&IF((T101)=6,$BM$6,\"\")&IF((T101)=7,$BM$7,\"\")&IF((T101)=8,$BM$8,\"\")&IF((T101)=9,$BM$9,\"\")&IF((T101)=10,$BM$10,\"\")&IF((T101)=11,$BM$11,\"\")&IF((T101)=12,$BM$12,\"\")&IF((T101)=13,$BM$13,\"\")&IF((T101)=14,$BM$14,\"\")&IF((T101)=15,$BM$15,\"\")&IF((T101)=16,$BM$16,\"\")&IF((T101)=17,$BM$17,\"\")&IF((T101)=18,$BM$18,\"\")&IF((T101)=19,$BM$19,\"\")&IF((T101)=20,$BM$20,\"\")&IF((T101)=21,$BM$21,\"\")&IF((T101)=22,$BM$22,\"\")&IF((T101)=23,$BM$23,\"\")&IF((T101)=24,$BM$24,\"\")&IF((T101)=25,$BM$25,\"\")&IF((T101)=26,$BM$26,\"\")&IF((T101)=27,$BM$27,\"\")&IF((T101)=28,$BM$28,\"\")&IF((T101)=29,$BM$29,\"\")&IF((T101)=30,$BM$30,\"\")&IF((T101)=31,$BM$31,\"\")&IF((T101)=32,$BM$32,\"\")&IF((T101)=33,$BM$33,\"\")&IF((T101)=34,$BM$34,\"\")&IF((T101)=35,$BM$35,\"\")&IF((T101)=36,$BM$36,\"\")&IF((T101)=37,$BM$37,\"\")&IF((T101)=38,$BM$38,\"\")&IF((T101)=39,$BM$39,\"\")&IF((T101)=40,$BM$40,\"\")&IF((T101)=41,$BM$41,\"\")&IF((T101)=42,$BM$42,\"\")&IF((T101)=43,$BM$43,\"\")&IF((T101)=44,$BM$44,\"\")&IF((T101)=45,$BM$45,\"\")&IF((T101)=46,$BM$46,\"\")&IF((T101)=47,$BM$47,\"\")&IF((T101)=48,$BM$48,\"\")&IF((T101)=49,$BM$49,\"\")&IF((T101)=50,$BM$50,\"\")&IF((T101)=51,$BM$51,\"\")&IF((T101)=52,$BM$52,\"\")&IF((T101)=53,$BM$53,\"\")&IF((T101)=54,$BM$54,\"\")&IF((T101)=55,$BM$55,\"\")&IF((T101)=56,$BM$56,\"\")&IF((T101)=57,$BM$57,\"\")&IF((T101)=58,$BM$58,\"\")&IF((T101)=59,$BM$59,\"\")&IF((T101)=60,$BM$60,\"\")&IF((T101)=61,$BM$61,\"\")&IF((T101)=62,$BM$62,\"\")&IF((T101)=63,$BM$63,\"\")&IF((T101)=64,$BM$64,\"\")&IF((T101)=65,$BM$65,\"\")&IF((T101)=66,$BM$66,\"\")&IF((T101)=67,$BM$67,\"\")&IF((T101)=68,$BM$68,\"\")&IF((T101)=69,$BM$69,\"\")&IF((T101)=70,$BM$70,\"\")&IF((T101)=71,$BM$71,\"\")&IF((T101)=72,$BM$72,\"\")&IF((T101)=73,$BM$73,\"\")&IF((T101)=74,$BM$74,\"\")&IF((T101)=75,$BM$75,\"\")&IF((T101)=76,$BM$76,\"\")&IF((T101)=77,$BM$77,\"\")&IF((T101)=78,$BM$78,\"\")&IF((T101)=79,$BM$79,\"\")&IF((T101)=80,$BM$80,\"\")&IF((T101)=81,$BM$81,\"\")&IF((T101)=82,$BM$82,\"\")&IF((T101)=83,$BM$83,\"\")&IF((T101)=84,$BM$84,\"\")&IF((T101)=85,$BM$85,\"\")&IF((T101)=86,$BM$86,\"\")&IF((T101)=87,$BM$87,\"\")&IF((T101)=88,$BM$88,\"\")&IF((T101)=89,$BM$89,\"\")&IF((T101)=90,$BM$90,\"\")&IF((T101)=91,$BM$91,\"\")&IF((T101)=92,$BM$92,\"\")&IF((T101)=93,$BM$93,\"\")&IF((T101)=94,$BM$94,\"\")&IF((T101)=95,$BM$95,\"\")&IF((T101)=96,$BM$96,\"\")&IF((T101)=97,$BM$97,\"\")&IF((T101)=98,$BM$98,\"\")&IF((T101)=99,$BM$99,\"\")&IF((T101)=100,$BM$100,\"\")&IF((T101)=101,$BM$101,\"\")&IF((T101)=102,$BM$102,\"\")&IF((T101)=103,$BM$103,\"\")&IF((T101)=104,$BM$104,\"\")&IF((T101)=105,$BM$105,\"\")&IF((T101)=106,$BM$106,\"\")&IF((T101)=107,$BM$107,\"\")&IF((T101)=108,$BM$108,\"\")&IF((T101)=109,$BM$109,\"\")&IF((T101)=110,$BM$110,\"\")&IF((T101)=111,$BM$111,\"\")&IF((T101)=112,$BM$112,\"\")&IF((T101)=113,$BM$113,\"\")&IF((T101)=114,$BM$114,\"\")&IF((T101)=115,$BM$115,\"\")&IF((T101)=116,$BM$116,\"\")&IF((T101)=117,$BM$117,\"\")&IF((T101)=118,$BM$118,\"\")&IF((T101)=119,$BM$119,\"\")&IF((T101)=120,$BM$120,\"\")&IF((T101)=121,$BM$121,\"\")&IF((T101)=122,$BM$122,\"\")&IF((T101)=123,$BM$123,\"\")&IF((T101)=124,$BM$124,\"\")&IF((T101)=125,$BM$125,\"\")&IF((T101)=126,$BM$126,\"\")&IF((T101)=127,$BM$127,\"\")&IF((T101)=128,$BM$128,\"\")","v":""},null,{"$f":"IF((T101)=1,$BN$1,\"\")&IF((T101)=2,$BN$2,\"\")&IF((T101)=3,$BN$3,\"\")&IF((T101)=4,$BN$4,\"\")&IF((T101)=5,$BN$5,\"\")&IF((T101)=6,$BN$6,\"\")&IF((T101)=7,$BN$7,\"\")&IF((T101)=8,$BN$8,\"\")&IF((T101)=9,$BN$9,\"\")&IF((T101)=10,$BN$10,\"\")&IF((T101)=11,$BN$11,\"\")&IF((T101)=12,$BN$12,\"\")&IF((T101)=13,$BN$13,\"\")&IF((T101)=14,$BN$14,\"\")&IF((T101)=15,$BN$15,\"\")&IF((T101)=16,$BN$16,\"\")&IF((T101)=17,$BN$17,\"\")&IF((T101)=18,$BN$18,\"\")&IF((T101)=19,$BN$19,\"\")&IF((T101)=20,$BN$20,\"\")&IF((T101)=21,$BN$21,\"\")&IF((T101)=22,$BN$22,\"\")&IF((T101)=23,$BN$23,\"\")&IF((T101)=24,$BN$24,\"\")&IF((T101)=25,$BN$25,\"\")&IF((T101)=26,$BN$26,\"\")&IF((T101)=27,$BN$27,\"\")&IF((T101)=28,$BN$28,\"\")&IF((T101)=29,$BN$29,\"\")&IF((T101)=30,$BN$30,\"\")&IF((T101)=31,$BN$31,\"\")&IF((T101)=32,$BN$32,\"\")&IF((T101)=33,$BN$33,\"\")&IF((T101)=34,$BN$34,\"\")&IF((T101)=35,$BN$35,\"\")&IF((T101)=36,$BN$36,\"\")&IF((T101)=37,$BN$37,\"\")&IF((T101)=38,$BN$38,\"\")&IF((T101)=39,$BN$39,\"\")&IF((T101)=40,$BN$40,\"\")&IF((T101)=41,$BN$41,\"\")&IF((T101)=42,$BN$42,\"\")&IF((T101)=43,$BN$43,\"\")&IF((T101)=44,$BN$44,\"\")&IF((T101)=45,$BN$45,\"\")&IF((T101)=46,$BN$46,\"\")&IF((T101)=47,$BN$47,\"\")&IF((T101)=48,$BN$48,\"\")&IF((T101)=49,$BN$49,\"\")&IF((T101)=50,$BN$50,\"\")&IF((T101)=51,$BN$51,\"\")&IF((T101)=52,$BN$52,\"\")&IF((T101)=53,$BN$53,\"\")&IF((T101)=54,$BN$54,\"\")&IF((T101)=55,$BN$55,\"\")&IF((T101)=56,$BN$56,\"\")&IF((T101)=57,$BN$57,\"\")&IF((T101)=58,$BN$58,\"\")&IF((T101)=59,$BN$59,\"\")&IF((T101)=60,$BN$60,\"\")&IF((T101)=61,$BN$61,\"\")&IF((T101)=62,$BN$62,\"\")&IF((T101)=63,$BN$63,\"\")&IF((T101)=64,$BN$64,\"\")&IF((T101)=65,$BN$65,\"\")&IF((T101)=66,$BN$66,\"\")&IF((T101)=67,$BN$67,\"\")&IF((T101)=68,$BN$68,\"\")&IF((T101)=69,$BN$69,\"\")&IF((T101)=70,$BN$70,\"\")&IF((T101)=71,$BN$71,\"\")&IF((T101)=72,$BN$72,\"\")&IF((T101)=73,$BN$73,\"\")&IF((T101)=74,$BN$74,\"\")&IF((T101)=75,$BN$75,\"\")&IF((T101)=76,$BN$76,\"\")&IF((T101)=77,$BN$77,\"\")&IF((T101)=78,$BN$78,\"\")&IF((T101)=79,$BN$79,\"\")&IF((T101)=80,$BN$80,\"\")&IF((T101)=81,$BN$81,\"\")&IF((T101)=82,$BN$82,\"\")&IF((T101)=83,$BN$83,\"\")&IF((T101)=84,$BN$84,\"\")&IF((T101)=85,$BN$85,\"\")&IF((T101)=86,$BN$86,\"\")&IF((T101)=87,$BN$87,\"\")&IF((T101)=88,$BN$88,\"\")&IF((T101)=89,$BN$89,\"\")&IF((T101)=90,$BN$90,\"\")&IF((T101)=91,$BN$91,\"\")&IF((T101)=92,$BN$92,\"\")&IF((T101)=93,$BN$93,\"\")&IF((T101)=94,$BN$94,\"\")&IF((T101)=95,$BN$95,\"\")&IF((T101)=96,$BN$96,\"\")&IF((T101)=97,$BN$97,\"\")&IF((T101)=98,$BN$98,\"\")&IF((T101)=99,$BN$99,\"\")&IF((T101)=100,$BN$100,\"\")&IF((T101)=101,$BN$101,\"\")&IF((T101)=102,$BN$102,\"\")&IF((T101)=103,$BN$103,\"\")&IF((T101)=104,$BN$104,\"\")&IF((T101)=105,$BN$105,\"\")&IF((T101)=106,$BN$106,\"\")&IF((T101)=107,$BN$107,\"\")&IF((T101)=108,$BN$108,\"\")&IF((T101)=109,$BN$109,\"\")&IF((T101)=110,$BN$110,\"\")&IF((T101)=111,$BN$111,\"\")&IF((T101)=112,$BN$112,\"\")&IF((T101)=113,$BN$113,\"\")&IF((T101)=114,$BN$114,\"\")&IF((T101)=115,$BN$115,\"\")&IF((T101)=116,$BN$116,\"\")&IF((T101)=117,$BN$117,\"\")&IF((T101)=118,$BN$118,\"\")&IF((T101)=119,$BN$119,\"\")&IF((T101)=120,$BN$120,\"\")&IF((T101)=121,$BN$121,\"\")&IF((T101)=122,$BN$122,\"\")&IF((T101)=123,$BN$123,\"\")&IF((T101)=124,$BN$124,\"\")&IF((T101)=125,$BN$125,\"\")&IF((T101)=126,$BN$126,\"\")&IF((T101)=127,$BN$127,\"\")&IF((T101)=128,$BN$128,\"\")","v":""},null,null,null,{"$f":"IF((Z101)=1,$BM$1,\"\")&IF((Z101)=2,$BM$2,\"\")&IF((Z101)=3,$BM$3,\"\")&IF((Z101)=4,$BM$4,\"\")&IF((Z101)=5,$BM$5,\"\")&IF((Z101)=6,$BM$6,\"\")&IF((Z101)=7,$BM$7,\"\")&IF((Z101)=8,$BM$8,\"\")&IF((Z101)=9,$BM$9,\"\")&IF((Z101)=10,$BM$10,\"\")&IF((Z101)=11,$BM$11,\"\")&IF((Z101)=12,$BM$12,\"\")&IF((Z101)=13,$BM$13,\"\")&IF((Z101)=14,$BM$14,\"\")&IF((Z101)=15,$BM$15,\"\")&IF((Z101)=16,$BM$16,\"\")&IF((Z101)=17,$BM$17,\"\")&IF((Z101)=18,$BM$18,\"\")&IF((Z101)=19,$BM$19,\"\")&IF((Z101)=20,$BM$20,\"\")&IF((Z101)=21,$BM$21,\"\")&IF((Z101)=22,$BM$22,\"\")&IF((Z101)=23,$BM$23,\"\")&IF((Z101)=24,$BM$24,\"\")&IF((Z101)=25,$BM$25,\"\")&IF((Z101)=26,$BM$26,\"\")&IF((Z101)=27,$BM$27,\"\")&IF((Z101)=28,$BM$28,\"\")&IF((Z101)=29,$BM$29,\"\")&IF((Z101)=30,$BM$30,\"\")&IF((Z101)=31,$BM$31,\"\")&IF((Z101)=32,$BM$32,\"\")&IF((Z101)=33,$BM$33,\"\")&IF((Z101)=34,$BM$34,\"\")&IF((Z101)=35,$BM$35,\"\")&IF((Z101)=36,$BM$36,\"\")&IF((Z101)=37,$BM$37,\"\")&IF((Z101)=38,$BM$38,\"\")&IF((Z101)=39,$BM$39,\"\")&IF((Z101)=40,$BM$40,\"\")&IF((Z101)=41,$BM$41,\"\")&IF((Z101)=42,$BM$42,\"\")&IF((Z101)=43,$BM$43,\"\")&IF((Z101)=44,$BM$44,\"\")&IF((Z101)=45,$BM$45,\"\")&IF((Z101)=46,$BM$46,\"\")&IF((Z101)=47,$BM$47,\"\")&IF((Z101)=48,$BM$48,\"\")&IF((Z101)=49,$BM$49,\"\")&IF((Z101)=50,$BM$50,\"\")&IF((Z101)=51,$BM$51,\"\")&IF((Z101)=52,$BM$52,\"\")&IF((Z101)=53,$BM$53,\"\")&IF((Z101)=54,$BM$54,\"\")&IF((Z101)=55,$BM$55,\"\")&IF((Z101)=56,$BM$56,\"\")&IF((Z101)=57,$BM$57,\"\")&IF((Z101)=58,$BM$58,\"\")&IF((Z101)=59,$BM$59,\"\")&IF((Z101)=60,$BM$60,\"\")&IF((Z101)=61,$BM$61,\"\")&IF((Z101)=62,$BM$62,\"\")&IF((Z101)=63,$BM$63,\"\")&IF((Z101)=64,$BM$64,\"\")&IF((Z101)=65,$BM$65,\"\")&IF((Z101)=66,$BM$66,\"\")&IF((Z101)=67,$BM$67,\"\")&IF((Z101)=68,$BM$68,\"\")&IF((Z101)=69,$BM$69,\"\")&IF((Z101)=70,$BM$70,\"\")&IF((Z101)=71,$BM$71,\"\")&IF((Z101)=72,$BM$72,\"\")&IF((Z101)=73,$BM$73,\"\")&IF((Z101)=74,$BM$74,\"\")&IF((Z101)=75,$BM$75,\"\")&IF((Z101)=76,$BM$76,\"\")&IF((Z101)=77,$BM$77,\"\")&IF((Z101)=78,$BM$78,\"\")&IF((Z101)=79,$BM$79,\"\")&IF((Z101)=80,$BM$80,\"\")&IF((Z101)=81,$BM$81,\"\")&IF((Z101)=82,$BM$82,\"\")&IF((Z101)=83,$BM$83,\"\")&IF((Z101)=84,$BM$84,\"\")&IF((Z101)=85,$BM$85,\"\")&IF((Z101)=86,$BM$86,\"\")&IF((Z101)=87,$BM$87,\"\")&IF((Z101)=88,$BM$88,\"\")&IF((Z101)=89,$BM$89,\"\")&IF((Z101)=90,$BM$90,\"\")&IF((Z101)=91,$BM$91,\"\")&IF((Z101)=92,$BM$92,\"\")&IF((Z101)=93,$BM$93,\"\")&IF((Z101)=94,$BM$94,\"\")&IF((Z101)=95,$BM$95,\"\")&IF((Z101)=96,$BM$96,\"\")&IF((Z101)=97,$BM$97,\"\")&IF((Z101)=98,$BM$98,\"\")&IF((Z101)=99,$BM$99,\"\")&IF((Z101)=100,$BM$100,\"\")&IF((Z101)=101,$BM$101,\"\")&IF((Z101)=102,$BM$102,\"\")&IF((Z101)=103,$BM$103,\"\")&IF((Z101)=104,$BM$104,\"\")&IF((Z101)=105,$BM$105,\"\")&IF((Z101)=106,$BM$106,\"\")&IF((Z101)=107,$BM$107,\"\")&IF((Z101)=108,$BM$108,\"\")&IF((Z101)=109,$BM$109,\"\")&IF((Z101)=110,$BM$110,\"\")&IF((Z101)=111,$BM$111,\"\")&IF((Z101)=112,$BM$112,\"\")&IF((Z101)=113,$BM$113,\"\")&IF((Z101)=114,$BM$114,\"\")&IF((Z101)=115,$BM$115,\"\")&IF((Z101)=116,$BM$116,\"\")&IF((Z101)=117,$BM$117,\"\")&IF((Z101)=118,$BM$118,\"\")&IF((Z101)=119,$BM$119,\"\")&IF((Z101)=120,$BM$120,\"\")&IF((Z101)=121,$BM$121,\"\")&IF((Z101)=122,$BM$122,\"\")&IF((Z101)=123,$BM$123,\"\")&IF((Z101)=124,$BM$124,\"\")&IF((Z101)=125,$BM$125,\"\")&IF((Z101)=126,$BM$126,\"\")&IF((Z101)=127,$BM$127,\"\")&IF((Z101)=128,$BM$128,\"\")","v":""},null,{"$f":"IF((Z101)=1,$BN$1,\"\")&IF((Z101)=2,$BN$2,\"\")&IF((Z101)=3,$BN$3,\"\")&IF((Z101)=4,$BN$4,\"\")&IF((Z101)=5,$BN$5,\"\")&IF((Z101)=6,$BN$6,\"\")&IF((Z101)=7,$BN$7,\"\")&IF((Z101)=8,$BN$8,\"\")&IF((Z101)=9,$BN$9,\"\")&IF((Z101)=10,$BN$10,\"\")&IF((Z101)=11,$BN$11,\"\")&IF((Z101)=12,$BN$12,\"\")&IF((Z101)=13,$BN$13,\"\")&IF((Z101)=14,$BN$14,\"\")&IF((Z101)=15,$BN$15,\"\")&IF((Z101)=16,$BN$16,\"\")&IF((Z101)=17,$BN$17,\"\")&IF((Z101)=18,$BN$18,\"\")&IF((Z101)=19,$BN$19,\"\")&IF((Z101)=20,$BN$20,\"\")&IF((Z101)=21,$BN$21,\"\")&IF((Z101)=22,$BN$22,\"\")&IF((Z101)=23,$BN$23,\"\")&IF((Z101)=24,$BN$24,\"\")&IF((Z101)=25,$BN$25,\"\")&IF((Z101)=26,$BN$26,\"\")&IF((Z101)=27,$BN$27,\"\")&IF((Z101)=28,$BN$28,\"\")&IF((Z101)=29,$BN$29,\"\")&IF((Z101)=30,$BN$30,\"\")&IF((Z101)=31,$BN$31,\"\")&IF((Z101)=32,$BN$32,\"\")&IF((Z101)=33,$BN$33,\"\")&IF((Z101)=34,$BN$34,\"\")&IF((Z101)=35,$BN$35,\"\")&IF((Z101)=36,$BN$36,\"\")&IF((Z101)=37,$BN$37,\"\")&IF((Z101)=38,$BN$38,\"\")&IF((Z101)=39,$BN$39,\"\")&IF((Z101)=40,$BN$40,\"\")&IF((Z101)=41,$BN$41,\"\")&IF((Z101)=42,$BN$42,\"\")&IF((Z101)=43,$BN$43,\"\")&IF((Z101)=44,$BN$44,\"\")&IF((Z101)=45,$BN$45,\"\")&IF((Z101)=46,$BN$46,\"\")&IF((Z101)=47,$BN$47,\"\")&IF((Z101)=48,$BN$48,\"\")&IF((Z101)=49,$BN$49,\"\")&IF((Z101)=50,$BN$50,\"\")&IF((Z101)=51,$BN$51,\"\")&IF((Z101)=52,$BN$52,\"\")&IF((Z101)=53,$BN$53,\"\")&IF((Z101)=54,$BN$54,\"\")&IF((Z101)=55,$BN$55,\"\")&IF((Z101)=56,$BN$56,\"\")&IF((Z101)=57,$BN$57,\"\")&IF((Z101)=58,$BN$58,\"\")&IF((Z101)=59,$BN$59,\"\")&IF((Z101)=60,$BN$60,\"\")&IF((Z101)=61,$BN$61,\"\")&IF((Z101)=62,$BN$62,\"\")&IF((Z101)=63,$BN$63,\"\")&IF((Z101)=64,$BN$64,\"\")&IF((Z101)=65,$BN$65,\"\")&IF((Z101)=66,$BN$66,\"\")&IF((Z101)=67,$BN$67,\"\")&IF((Z101)=68,$BN$68,\"\")&IF((Z101)=69,$BN$69,\"\")&IF((Z101)=70,$BN$70,\"\")&IF((Z101)=71,$BN$71,\"\")&IF((Z101)=72,$BN$72,\"\")&IF((Z101)=73,$BN$73,\"\")&IF((Z101)=74,$BN$74,\"\")&IF((Z101)=75,$BN$75,\"\")&IF((Z101)=76,$BN$76,\"\")&IF((Z101)=77,$BN$77,\"\")&IF((Z101)=78,$BN$78,\"\")&IF((Z101)=79,$BN$79,\"\")&IF((Z101)=80,$BN$80,\"\")&IF((Z101)=81,$BN$81,\"\")&IF((Z101)=82,$BN$82,\"\")&IF((Z101)=83,$BN$83,\"\")&IF((Z101)=84,$BN$84,\"\")&IF((Z101)=85,$BN$85,\"\")&IF((Z101)=86,$BN$86,\"\")&IF((Z101)=87,$BN$87,\"\")&IF((Z101)=88,$BN$88,\"\")&IF((Z101)=89,$BN$89,\"\")&IF((Z101)=90,$BN$90,\"\")&IF((Z101)=91,$BN$91,\"\")&IF((Z101)=92,$BN$92,\"\")&IF((Z101)=93,$BN$93,\"\")&IF((Z101)=94,$BN$94,\"\")&IF((Z101)=95,$BN$95,\"\")&IF((Z101)=96,$BN$96,\"\")&IF((Z101)=97,$BN$97,\"\")&IF((Z101)=98,$BN$98,\"\")&IF((Z101)=99,$BN$99,\"\")&IF((Z101)=100,$BN$100,\"\")&IF((Z101)=101,$BN$101,\"\")&IF((Z101)=102,$BN$102,\"\")&IF((Z101)=103,$BN$103,\"\")&IF((Z101)=104,$BN$104,\"\")&IF((Z101)=105,$BN$105,\"\")&IF((Z101)=106,$BN$106,\"\")&IF((Z101)=107,$BN$107,\"\")&IF((Z101)=108,$BN$108,\"\")&IF((Z101)=109,$BN$109,\"\")&IF((Z101)=110,$BN$110,\"\")&IF((Z101)=111,$BN$111,\"\")&IF((Z101)=112,$BN$112,\"\")&IF((Z101)=113,$BN$113,\"\")&IF((Z101)=114,$BN$114,\"\")&IF((Z101)=115,$BN$115,\"\")&IF((Z101)=116,$BN$116,\"\")&IF((Z101)=117,$BN$117,\"\")&IF((Z101)=118,$BN$118,\"\")&IF((Z101)=119,$BN$119,\"\")&IF((Z101)=120,$BN$120,\"\")&IF((Z101)=121,$BN$121,\"\")&IF((Z101)=122,$BN$122,\"\")&IF((Z101)=123,$BN$123,\"\")&IF((Z101)=124,$BN$124,\"\")&IF((Z101)=125,$BN$125,\"\")&IF((Z101)=126,$BN$126,\"\")&IF((Z101)=127,$BN$127,\"\")&IF((Z101)=128,$BN$128,\"\")","v":""},null,{"$f":"IF((AD101)=1,$BM$1,\"\")&IF((AD101)=2,$BM$2,\"\")&IF((AD101)=3,$BM$3,\"\")&IF((AD101)=4,$BM$4,\"\")&IF((AD101)=5,$BM$5,\"\")&IF((AD101)=6,$BM$6,\"\")&IF((AD101)=7,$BM$7,\"\")&IF((AD101)=8,$BM$8,\"\")&IF((AD101)=9,$BM$9,\"\")&IF((AD101)=10,$BM$10,\"\")&IF((AD101)=11,$BM$11,\"\")&IF((AD101)=12,$BM$12,\"\")&IF((AD101)=13,$BM$13,\"\")&IF((AD101)=14,$BM$14,\"\")&IF((AD101)=15,$BM$15,\"\")&IF((AD101)=16,$BM$16,\"\")&IF((AD101)=17,$BM$17,\"\")&IF((AD101)=18,$BM$18,\"\")&IF((AD101)=19,$BM$19,\"\")&IF((AD101)=20,$BM$20,\"\")&IF((AD101)=21,$BM$21,\"\")&IF((AD101)=22,$BM$22,\"\")&IF((AD101)=23,$BM$23,\"\")&IF((AD101)=24,$BM$24,\"\")&IF((AD101)=25,$BM$25,\"\")&IF((AD101)=26,$BM$26,\"\")&IF((AD101)=27,$BM$27,\"\")&IF((AD101)=28,$BM$28,\"\")&IF((AD101)=29,$BM$29,\"\")&IF((AD101)=30,$BM$30,\"\")&IF((AD101)=31,$BM$31,\"\")&IF((AD101)=32,$BM$32,\"\")&IF((AD101)=33,$BM$33,\"\")&IF((AD101)=34,$BM$34,\"\")&IF((AD101)=35,$BM$35,\"\")&IF((AD101)=36,$BM$36,\"\")&IF((AD101)=37,$BM$37,\"\")&IF((AD101)=38,$BM$38,\"\")&IF((AD101)=39,$BM$39,\"\")&IF((AD101)=40,$BM$40,\"\")&IF((AD101)=41,$BM$41,\"\")&IF((AD101)=42,$BM$42,\"\")&IF((AD101)=43,$BM$43,\"\")&IF((AD101)=44,$BM$44,\"\")&IF((AD101)=45,$BM$45,\"\")&IF((AD101)=46,$BM$46,\"\")&IF((AD101)=47,$BM$47,\"\")&IF((AD101)=48,$BM$48,\"\")&IF((AD101)=49,$BM$49,\"\")&IF((AD101)=50,$BM$50,\"\")&IF((AD101)=51,$BM$51,\"\")&IF((AD101)=52,$BM$52,\"\")&IF((AD101)=53,$BM$53,\"\")&IF((AD101)=54,$BM$54,\"\")&IF((AD101)=55,$BM$55,\"\")&IF((AD101)=56,$BM$56,\"\")&IF((AD101)=57,$BM$57,\"\")&IF((AD101)=58,$BM$58,\"\")&IF((AD101)=59,$BM$59,\"\")&IF((AD101)=60,$BM$60,\"\")&IF((AD101)=61,$BM$61,\"\")&IF((AD101)=62,$BM$62,\"\")&IF((AD101)=63,$BM$63,\"\")&IF((AD101)=64,$BM$64,\"\")&IF((AD101)=65,$BM$65,\"\")&IF((AD101)=66,$BM$66,\"\")&IF((AD101)=67,$BM$67,\"\")&IF((AD101)=68,$BM$68,\"\")&IF((AD101)=69,$BM$69,\"\")&IF((AD101)=70,$BM$70,\"\")&IF((AD101)=71,$BM$71,\"\")&IF((AD101)=72,$BM$72,\"\")&IF((AD101)=73,$BM$73,\"\")&IF((AD101)=74,$BM$74,\"\")&IF((AD101)=75,$BM$75,\"\")&IF((AD101)=76,$BM$76,\"\")&IF((AD101)=77,$BM$77,\"\")&IF((AD101)=78,$BM$78,\"\")&IF((AD101)=79,$BM$79,\"\")&IF((AD101)=80,$BM$80,\"\")&IF((AD101)=81,$BM$81,\"\")&IF((AD101)=82,$BM$82,\"\")&IF((AD101)=83,$BM$83,\"\")&IF((AD101)=84,$BM$84,\"\")&IF((AD101)=85,$BM$85,\"\")&IF((AD101)=86,$BM$86,\"\")&IF((AD101)=87,$BM$87,\"\")&IF((AD101)=88,$BM$88,\"\")&IF((AD101)=89,$BM$89,\"\")&IF((AD101)=90,$BM$90,\"\")&IF((AD101)=91,$BM$91,\"\")&IF((AD101)=92,$BM$92,\"\")&IF((AD101)=93,$BM$93,\"\")&IF((AD101)=94,$BM$94,\"\")&IF((AD101)=95,$BM$95,\"\")&IF((AD101)=96,$BM$96,\"\")&IF((AD101)=97,$BM$97,\"\")&IF((AD101)=98,$BM$98,\"\")&IF((AD101)=99,$BM$99,\"\")&IF((AD101)=100,$BM$100,\"\")&IF((AD101)=101,$BM$101,\"\")&IF((AD101)=102,$BM$102,\"\")&IF((AD101)=103,$BM$103,\"\")&IF((AD101)=104,$BM$104,\"\")&IF((AD101)=105,$BM$105,\"\")&IF((AD101)=106,$BM$106,\"\")&IF((AD101)=107,$BM$107,\"\")&IF((AD101)=108,$BM$108,\"\")&IF((AD101)=109,$BM$109,\"\")&IF((AD101)=110,$BM$110,\"\")&IF((AD101)=111,$BM$111,\"\")&IF((AD101)=112,$BM$112,\"\")&IF((AD101)=113,$BM$113,\"\")&IF((AD101)=114,$BM$114,\"\")&IF((AD101)=115,$BM$115,\"\")&IF((AD101)=116,$BM$116,\"\")&IF((AD101)=117,$BM$117,\"\")&IF((AD101)=118,$BM$118,\"\")&IF((AD101)=119,$BM$119,\"\")&IF((AD101)=120,$BM$120,\"\")&IF((AD101)=121,$BM$121,\"\")&IF((AD101)=122,$BM$122,\"\")&IF((AD101)=123,$BM$123,\"\")&IF((AD101)=124,$BM$124,\"\")&IF((AD101)=125,$BM$125,\"\")&IF((AD101)=126,$BM$126,\"\")&IF((AD101)=127,$BM$127,\"\")&IF((AD101)=128,$BM$128,\"\")","v":""},null,{"$f":"IF((AD101)=1,$BN$1,\"\")&IF((AD101)=2,$BN$2,\"\")&IF((AD101)=3,$BN$3,\"\")&IF((AD101)=4,$BN$4,\"\")&IF((AD101)=5,$BN$5,\"\")&IF((AD101)=6,$BN$6,\"\")&IF((AD101)=7,$BN$7,\"\")&IF((AD101)=8,$BN$8,\"\")&IF((AD101)=9,$BN$9,\"\")&IF((AD101)=10,$BN$10,\"\")&IF((AD101)=11,$BN$11,\"\")&IF((AD101)=12,$BN$12,\"\")&IF((AD101)=13,$BN$13,\"\")&IF((AD101)=14,$BN$14,\"\")&IF((AD101)=15,$BN$15,\"\")&IF((AD101)=16,$BN$16,\"\")&IF((AD101)=17,$BN$17,\"\")&IF((AD101)=18,$BN$18,\"\")&IF((AD101)=19,$BN$19,\"\")&IF((AD101)=20,$BN$20,\"\")&IF((AD101)=21,$BN$21,\"\")&IF((AD101)=22,$BN$22,\"\")&IF((AD101)=23,$BN$23,\"\")&IF((AD101)=24,$BN$24,\"\")&IF((AD101)=25,$BN$25,\"\")&IF((AD101)=26,$BN$26,\"\")&IF((AD101)=27,$BN$27,\"\")&IF((AD101)=28,$BN$28,\"\")&IF((AD101)=29,$BN$29,\"\")&IF((AD101)=30,$BN$30,\"\")&IF((AD101)=31,$BN$31,\"\")&IF((AD101)=32,$BN$32,\"\")&IF((AD101)=33,$BN$33,\"\")&IF((AD101)=34,$BN$34,\"\")&IF((AD101)=35,$BN$35,\"\")&IF((AD101)=36,$BN$36,\"\")&IF((AD101)=37,$BN$37,\"\")&IF((AD101)=38,$BN$38,\"\")&IF((AD101)=39,$BN$39,\"\")&IF((AD101)=40,$BN$40,\"\")&IF((AD101)=41,$BN$41,\"\")&IF((AD101)=42,$BN$42,\"\")&IF((AD101)=43,$BN$43,\"\")&IF((AD101)=44,$BN$44,\"\")&IF((AD101)=45,$BN$45,\"\")&IF((AD101)=46,$BN$46,\"\")&IF((AD101)=47,$BN$47,\"\")&IF((AD101)=48,$BN$48,\"\")&IF((AD101)=49,$BN$49,\"\")&IF((AD101)=50,$BN$50,\"\")&IF((AD101)=51,$BN$51,\"\")&IF((AD101)=52,$BN$52,\"\")&IF((AD101)=53,$BN$53,\"\")&IF((AD101)=54,$BN$54,\"\")&IF((AD101)=55,$BN$55,\"\")&IF((AD101)=56,$BN$56,\"\")&IF((AD101)=57,$BN$57,\"\")&IF((AD101)=58,$BN$58,\"\")&IF((AD101)=59,$BN$59,\"\")&IF((AD101)=60,$BN$60,\"\")&IF((AD101)=61,$BN$61,\"\")&IF((AD101)=62,$BN$62,\"\")&IF((AD101)=63,$BN$63,\"\")&IF((AD101)=64,$BN$64,\"\")&IF((AD101)=65,$BN$65,\"\")&IF((AD101)=66,$BN$66,\"\")&IF((AD101)=67,$BN$67,\"\")&IF((AD101)=68,$BN$68,\"\")&IF((AD101)=69,$BN$69,\"\")&IF((AD101)=70,$BN$70,\"\")&IF((AD101)=71,$BN$71,\"\")&IF((AD101)=72,$BN$72,\"\")&IF((AD101)=73,$BN$73,\"\")&IF((AD101)=74,$BN$74,\"\")&IF((AD101)=75,$BN$75,\"\")&IF((AD101)=76,$BN$76,\"\")&IF((AD101)=77,$BN$77,\"\")&IF((AD101)=78,$BN$78,\"\")&IF((AD101)=79,$BN$79,\"\")&IF((AD101)=80,$BN$80,\"\")&IF((AD101)=81,$BN$81,\"\")&IF((AD101)=82,$BN$82,\"\")&IF((AD101)=83,$BN$83,\"\")&IF((AD101)=84,$BN$84,\"\")&IF((AD101)=85,$BN$85,\"\")&IF((AD101)=86,$BN$86,\"\")&IF((AD101)=87,$BN$87,\"\")&IF((AD101)=88,$BN$88,\"\")&IF((AD101)=89,$BN$89,\"\")&IF((AD101)=90,$BN$90,\"\")&IF((AD101)=91,$BN$91,\"\")&IF((AD101)=92,$BN$92,\"\")&IF((AD101)=93,$BN$93,\"\")&IF((AD101)=94,$BN$94,\"\")&IF((AD101)=95,$BN$95,\"\")&IF((AD101)=96,$BN$96,\"\")&IF((AD101)=97,$BN$97,\"\")&IF((AD101)=98,$BN$98,\"\")&IF((AD101)=99,$BN$99,\"\")&IF((AD101)=100,$BN$100,\"\")&IF((AD101)=101,$BN$101,\"\")&IF((AD101)=102,$BN$102,\"\")&IF((AD101)=103,$BN$103,\"\")&IF((AD101)=104,$BN$104,\"\")&IF((AD101)=105,$BN$105,\"\")&IF((AD101)=106,$BN$106,\"\")&IF((AD101)=107,$BN$107,\"\")&IF((AD101)=108,$BN$108,\"\")&IF((AD101)=109,$BN$109,\"\")&IF((AD101)=110,$BN$110,\"\")&IF((AD101)=111,$BN$111,\"\")&IF((AD101)=112,$BN$112,\"\")&IF((AD101)=113,$BN$113,\"\")&IF((AD101)=114,$BN$114,\"\")&IF((AD101)=115,$BN$115,\"\")&IF((AD101)=116,$BN$116,\"\")&IF((AD101)=117,$BN$117,\"\")&IF((AD101)=118,$BN$118,\"\")&IF((AD101)=119,$BN$119,\"\")&IF((AD101)=120,$BN$120,\"\")&IF((AD101)=121,$BN$121,\"\")&IF((AD101)=122,$BN$122,\"\")&IF((AD101)=123,$BN$123,\"\")&IF((AD101)=124,$BN$124,\"\")&IF((AD101)=125,$BN$125,\"\")&IF((AD101)=126,$BN$126,\"\")&IF((AD101)=127,$BN$127,\"\")&IF((AD101)=128,$BN$128,\"\")","v":""},null,null,null,{"$f":"IF((AJ101)=1,$BM$1,\"\")&IF((AJ101)=2,$BM$2,\"\")&IF((AJ101)=3,$BM$3,\"\")&IF((AJ101)=4,$BM$4,\"\")&IF((AJ101)=5,$BM$5,\"\")&IF((AJ101)=6,$BM$6,\"\")&IF((AJ101)=7,$BM$7,\"\")&IF((AJ101)=8,$BM$8,\"\")&IF((AJ101)=9,$BM$9,\"\")&IF((AJ101)=10,$BM$10,\"\")&IF((AJ101)=11,$BM$11,\"\")&IF((AJ101)=12,$BM$12,\"\")&IF((AJ101)=13,$BM$13,\"\")&IF((AJ101)=14,$BM$14,\"\")&IF((AJ101)=15,$BM$15,\"\")&IF((AJ101)=16,$BM$16,\"\")&IF((AJ101)=17,$BM$17,\"\")&IF((AJ101)=18,$BM$18,\"\")&IF((AJ101)=19,$BM$19,\"\")&IF((AJ101)=20,$BM$20,\"\")&IF((AJ101)=21,$BM$21,\"\")&IF((AJ101)=22,$BM$22,\"\")&IF((AJ101)=23,$BM$23,\"\")&IF((AJ101)=24,$BM$24,\"\")&IF((AJ101)=25,$BM$25,\"\")&IF((AJ101)=26,$BM$26,\"\")&IF((AJ101)=27,$BM$27,\"\")&IF((AJ101)=28,$BM$28,\"\")&IF((AJ101)=29,$BM$29,\"\")&IF((AJ101)=30,$BM$30,\"\")&IF((AJ101)=31,$BM$31,\"\")&IF((AJ101)=32,$BM$32,\"\")&IF((AJ101)=33,$BM$33,\"\")&IF((AJ101)=34,$BM$34,\"\")&IF((AJ101)=35,$BM$35,\"\")&IF((AJ101)=36,$BM$36,\"\")&IF((AJ101)=37,$BM$37,\"\")&IF((AJ101)=38,$BM$38,\"\")&IF((AJ101)=39,$BM$39,\"\")&IF((AJ101)=40,$BM$40,\"\")&IF((AJ101)=41,$BM$41,\"\")&IF((AJ101)=42,$BM$42,\"\")&IF((AJ101)=43,$BM$43,\"\")&IF((AJ101)=44,$BM$44,\"\")&IF((AJ101)=45,$BM$45,\"\")&IF((AJ101)=46,$BM$46,\"\")&IF((AJ101)=47,$BM$47,\"\")&IF((AJ101)=48,$BM$48,\"\")&IF((AJ101)=49,$BM$49,\"\")&IF((AJ101)=50,$BM$50,\"\")&IF((AJ101)=51,$BM$51,\"\")&IF((AJ101)=52,$BM$52,\"\")&IF((AJ101)=53,$BM$53,\"\")&IF((AJ101)=54,$BM$54,\"\")&IF((AJ101)=55,$BM$55,\"\")&IF((AJ101)=56,$BM$56,\"\")&IF((AJ101)=57,$BM$57,\"\")&IF((AJ101)=58,$BM$58,\"\")&IF((AJ101)=59,$BM$59,\"\")&IF((AJ101)=60,$BM$60,\"\")&IF((AJ101)=61,$BM$61,\"\")&IF((AJ101)=62,$BM$62,\"\")&IF((AJ101)=63,$BM$63,\"\")&IF((AJ101)=64,$BM$64,\"\")&IF((AJ101)=65,$BM$65,\"\")&IF((AJ101)=66,$BM$66,\"\")&IF((AJ101)=67,$BM$67,\"\")&IF((AJ101)=68,$BM$68,\"\")&IF((AJ101)=69,$BM$69,\"\")&IF((AJ101)=70,$BM$70,\"\")&IF((AJ101)=71,$BM$71,\"\")&IF((AJ101)=72,$BM$72,\"\")&IF((AJ101)=73,$BM$73,\"\")&IF((AJ101)=74,$BM$74,\"\")&IF((AJ101)=75,$BM$75,\"\")&IF((AJ101)=76,$BM$76,\"\")&IF((AJ101)=77,$BM$77,\"\")&IF((AJ101)=78,$BM$78,\"\")&IF((AJ101)=79,$BM$79,\"\")&IF((AJ101)=80,$BM$80,\"\")&IF((AJ101)=81,$BM$81,\"\")&IF((AJ101)=82,$BM$82,\"\")&IF((AJ101)=83,$BM$83,\"\")&IF((AJ101)=84,$BM$84,\"\")&IF((AJ101)=85,$BM$85,\"\")&IF((AJ101)=86,$BM$86,\"\")&IF((AJ101)=87,$BM$87,\"\")&IF((AJ101)=88,$BM$88,\"\")&IF((AJ101)=89,$BM$89,\"\")&IF((AJ101)=90,$BM$90,\"\")&IF((AJ101)=91,$BM$91,\"\")&IF((AJ101)=92,$BM$92,\"\")&IF((AJ101)=93,$BM$93,\"\")&IF((AJ101)=94,$BM$94,\"\")&IF((AJ101)=95,$BM$95,\"\")&IF((AJ101)=96,$BM$96,\"\")&IF((AJ101)=97,$BM$97,\"\")&IF((AJ101)=98,$BM$98,\"\")&IF((AJ101)=99,$BM$99,\"\")&IF((AJ101)=100,$BM$100,\"\")&IF((AJ101)=101,$BM$101,\"\")&IF((AJ101)=102,$BM$102,\"\")&IF((AJ101)=103,$BM$103,\"\")&IF((AJ101)=104,$BM$104,\"\")&IF((AJ101)=105,$BM$105,\"\")&IF((AJ101)=106,$BM$106,\"\")&IF((AJ101)=107,$BM$107,\"\")&IF((AJ101)=108,$BM$108,\"\")&IF((AJ101)=109,$BM$109,\"\")&IF((AJ101)=110,$BM$110,\"\")&IF((AJ101)=111,$BM$111,\"\")&IF((AJ101)=112,$BM$112,\"\")&IF((AJ101)=113,$BM$113,\"\")&IF((AJ101)=114,$BM$114,\"\")&IF((AJ101)=115,$BM$115,\"\")&IF((AJ101)=116,$BM$116,\"\")&IF((AJ101)=117,$BM$117,\"\")&IF((AJ101)=118,$BM$118,\"\")&IF((AJ101)=119,$BM$119,\"\")&IF((AJ101)=120,$BM$120,\"\")&IF((AJ101)=121,$BM$121,\"\")&IF((AJ101)=122,$BM$122,\"\")&IF((AJ101)=123,$BM$123,\"\")&IF((AJ101)=124,$BM$124,\"\")&IF((AJ101)=125,$BM$125,\"\")&IF((AJ101)=126,$BM$126,\"\")&IF((AJ101)=127,$BM$127,\"\")&IF((AJ101)=128,$BM$128,\"\")","v":""},null,{"$f":"IF((AJ101)=1,$BN$1,\"\")&IF((AJ101)=2,$BN$2,\"\")&IF((AJ101)=3,$BN$3,\"\")&IF((AJ101)=4,$BN$4,\"\")&IF((AJ101)=5,$BN$5,\"\")&IF((AJ101)=6,$BN$6,\"\")&IF((AJ101)=7,$BN$7,\"\")&IF((AJ101)=8,$BN$8,\"\")&IF((AJ101)=9,$BN$9,\"\")&IF((AJ101)=10,$BN$10,\"\")&IF((AJ101)=11,$BN$11,\"\")&IF((AJ101)=12,$BN$12,\"\")&IF((AJ101)=13,$BN$13,\"\")&IF((AJ101)=14,$BN$14,\"\")&IF((AJ101)=15,$BN$15,\"\")&IF((AJ101)=16,$BN$16,\"\")&IF((AJ101)=17,$BN$17,\"\")&IF((AJ101)=18,$BN$18,\"\")&IF((AJ101)=19,$BN$19,\"\")&IF((AJ101)=20,$BN$20,\"\")&IF((AJ101)=21,$BN$21,\"\")&IF((AJ101)=22,$BN$22,\"\")&IF((AJ101)=23,$BN$23,\"\")&IF((AJ101)=24,$BN$24,\"\")&IF((AJ101)=25,$BN$25,\"\")&IF((AJ101)=26,$BN$26,\"\")&IF((AJ101)=27,$BN$27,\"\")&IF((AJ101)=28,$BN$28,\"\")&IF((AJ101)=29,$BN$29,\"\")&IF((AJ101)=30,$BN$30,\"\")&IF((AJ101)=31,$BN$31,\"\")&IF((AJ101)=32,$BN$32,\"\")&IF((AJ101)=33,$BN$33,\"\")&IF((AJ101)=34,$BN$34,\"\")&IF((AJ101)=35,$BN$35,\"\")&IF((AJ101)=36,$BN$36,\"\")&IF((AJ101)=37,$BN$37,\"\")&IF((AJ101)=38,$BN$38,\"\")&IF((AJ101)=39,$BN$39,\"\")&IF((AJ101)=40,$BN$40,\"\")&IF((AJ101)=41,$BN$41,\"\")&IF((AJ101)=42,$BN$42,\"\")&IF((AJ101)=43,$BN$43,\"\")&IF((AJ101)=44,$BN$44,\"\")&IF((AJ101)=45,$BN$45,\"\")&IF((AJ101)=46,$BN$46,\"\")&IF((AJ101)=47,$BN$47,\"\")&IF((AJ101)=48,$BN$48,\"\")&IF((AJ101)=49,$BN$49,\"\")&IF((AJ101)=50,$BN$50,\"\")&IF((AJ101)=51,$BN$51,\"\")&IF((AJ101)=52,$BN$52,\"\")&IF((AJ101)=53,$BN$53,\"\")&IF((AJ101)=54,$BN$54,\"\")&IF((AJ101)=55,$BN$55,\"\")&IF((AJ101)=56,$BN$56,\"\")&IF((AJ101)=57,$BN$57,\"\")&IF((AJ101)=58,$BN$58,\"\")&IF((AJ101)=59,$BN$59,\"\")&IF((AJ101)=60,$BN$60,\"\")&IF((AJ101)=61,$BN$61,\"\")&IF((AJ101)=62,$BN$62,\"\")&IF((AJ101)=63,$BN$63,\"\")&IF((AJ101)=64,$BN$64,\"\")&IF((AJ101)=65,$BN$65,\"\")&IF((AJ101)=66,$BN$66,\"\")&IF((AJ101)=67,$BN$67,\"\")&IF((AJ101)=68,$BN$68,\"\")&IF((AJ101)=69,$BN$69,\"\")&IF((AJ101)=70,$BN$70,\"\")&IF((AJ101)=71,$BN$71,\"\")&IF((AJ101)=72,$BN$72,\"\")&IF((AJ101)=73,$BN$73,\"\")&IF((AJ101)=74,$BN$74,\"\")&IF((AJ101)=75,$BN$75,\"\")&IF((AJ101)=76,$BN$76,\"\")&IF((AJ101)=77,$BN$77,\"\")&IF((AJ101)=78,$BN$78,\"\")&IF((AJ101)=79,$BN$79,\"\")&IF((AJ101)=80,$BN$80,\"\")&IF((AJ101)=81,$BN$81,\"\")&IF((AJ101)=82,$BN$82,\"\")&IF((AJ101)=83,$BN$83,\"\")&IF((AJ101)=84,$BN$84,\"\")&IF((AJ101)=85,$BN$85,\"\")&IF((AJ101)=86,$BN$86,\"\")&IF((AJ101)=87,$BN$87,\"\")&IF((AJ101)=88,$BN$88,\"\")&IF((AJ101)=89,$BN$89,\"\")&IF((AJ101)=90,$BN$90,\"\")&IF((AJ101)=91,$BN$91,\"\")&IF((AJ101)=92,$BN$92,\"\")&IF((AJ101)=93,$BN$93,\"\")&IF((AJ101)=94,$BN$94,\"\")&IF((AJ101)=95,$BN$95,\"\")&IF((AJ101)=96,$BN$96,\"\")&IF((AJ101)=97,$BN$97,\"\")&IF((AJ101)=98,$BN$98,\"\")&IF((AJ101)=99,$BN$99,\"\")&IF((AJ101)=100,$BN$100,\"\")&IF((AJ101)=101,$BN$101,\"\")&IF((AJ101)=102,$BN$102,\"\")&IF((AJ101)=103,$BN$103,\"\")&IF((AJ101)=104,$BN$104,\"\")&IF((AJ101)=105,$BN$105,\"\")&IF((AJ101)=106,$BN$106,\"\")&IF((AJ101)=107,$BN$107,\"\")&IF((AJ101)=108,$BN$108,\"\")&IF((AJ101)=109,$BN$109,\"\")&IF((AJ101)=110,$BN$110,\"\")&IF((AJ101)=111,$BN$111,\"\")&IF((AJ101)=112,$BN$112,\"\")&IF((AJ101)=113,$BN$113,\"\")&IF((AJ101)=114,$BN$114,\"\")&IF((AJ101)=115,$BN$115,\"\")&IF((AJ101)=116,$BN$116,\"\")&IF((AJ101)=117,$BN$117,\"\")&IF((AJ101)=118,$BN$118,\"\")&IF((AJ101)=119,$BN$119,\"\")&IF((AJ101)=120,$BN$120,\"\")&IF((AJ101)=121,$BN$121,\"\")&IF((AJ101)=122,$BN$122,\"\")&IF((AJ101)=123,$BN$123,\"\")&IF((AJ101)=124,$BN$124,\"\")&IF((AJ101)=125,$BN$125,\"\")&IF((AJ101)=126,$BN$126,\"\")&IF((AJ101)=127,$BN$127,\"\")&IF((AJ101)=128,$BN$128,\"\")","v":""},null,{"$f":"IF((AN101)=1,$BM$1,\"\")&IF((AN101)=2,$BM$2,\"\")&IF((AN101)=3,$BM$3,\"\")&IF((AN101)=4,$BM$4,\"\")&IF((AN101)=5,$BM$5,\"\")&IF((AN101)=6,$BM$6,\"\")&IF((AN101)=7,$BM$7,\"\")&IF((AN101)=8,$BM$8,\"\")&IF((AN101)=9,$BM$9,\"\")&IF((AN101)=10,$BM$10,\"\")&IF((AN101)=11,$BM$11,\"\")&IF((AN101)=12,$BM$12,\"\")&IF((AN101)=13,$BM$13,\"\")&IF((AN101)=14,$BM$14,\"\")&IF((AN101)=15,$BM$15,\"\")&IF((AN101)=16,$BM$16,\"\")&IF((AN101)=17,$BM$17,\"\")&IF((AN101)=18,$BM$18,\"\")&IF((AN101)=19,$BM$19,\"\")&IF((AN101)=20,$BM$20,\"\")&IF((AN101)=21,$BM$21,\"\")&IF((AN101)=22,$BM$22,\"\")&IF((AN101)=23,$BM$23,\"\")&IF((AN101)=24,$BM$24,\"\")&IF((AN101)=25,$BM$25,\"\")&IF((AN101)=26,$BM$26,\"\")&IF((AN101)=27,$BM$27,\"\")&IF((AN101)=28,$BM$28,\"\")&IF((AN101)=29,$BM$29,\"\")&IF((AN101)=30,$BM$30,\"\")&IF((AN101)=31,$BM$31,\"\")&IF((AN101)=32,$BM$32,\"\")&IF((AN101)=33,$BM$33,\"\")&IF((AN101)=34,$BM$34,\"\")&IF((AN101)=35,$BM$35,\"\")&IF((AN101)=36,$BM$36,\"\")&IF((AN101)=37,$BM$37,\"\")&IF((AN101)=38,$BM$38,\"\")&IF((AN101)=39,$BM$39,\"\")&IF((AN101)=40,$BM$40,\"\")&IF((AN101)=41,$BM$41,\"\")&IF((AN101)=42,$BM$42,\"\")&IF((AN101)=43,$BM$43,\"\")&IF((AN101)=44,$BM$44,\"\")&IF((AN101)=45,$BM$45,\"\")&IF((AN101)=46,$BM$46,\"\")&IF((AN101)=47,$BM$47,\"\")&IF((AN101)=48,$BM$48,\"\")&IF((AN101)=49,$BM$49,\"\")&IF((AN101)=50,$BM$50,\"\")&IF((AN101)=51,$BM$51,\"\")&IF((AN101)=52,$BM$52,\"\")&IF((AN101)=53,$BM$53,\"\")&IF((AN101)=54,$BM$54,\"\")&IF((AN101)=55,$BM$55,\"\")&IF((AN101)=56,$BM$56,\"\")&IF((AN101)=57,$BM$57,\"\")&IF((AN101)=58,$BM$58,\"\")&IF((AN101)=59,$BM$59,\"\")&IF((AN101)=60,$BM$60,\"\")&IF((AN101)=61,$BM$61,\"\")&IF((AN101)=62,$BM$62,\"\")&IF((AN101)=63,$BM$63,\"\")&IF((AN101)=64,$BM$64,\"\")&IF((AN101)=65,$BM$65,\"\")&IF((AN101)=66,$BM$66,\"\")&IF((AN101)=67,$BM$67,\"\")&IF((AN101)=68,$BM$68,\"\")&IF((AN101)=69,$BM$69,\"\")&IF((AN101)=70,$BM$70,\"\")&IF((AN101)=71,$BM$71,\"\")&IF((AN101)=72,$BM$72,\"\")&IF((AN101)=73,$BM$73,\"\")&IF((AN101)=74,$BM$74,\"\")&IF((AN101)=75,$BM$75,\"\")&IF((AN101)=76,$BM$76,\"\")&IF((AN101)=77,$BM$77,\"\")&IF((AN101)=78,$BM$78,\"\")&IF((AN101)=79,$BM$79,\"\")&IF((AN101)=80,$BM$80,\"\")&IF((AN101)=81,$BM$81,\"\")&IF((AN101)=82,$BM$82,\"\")&IF((AN101)=83,$BM$83,\"\")&IF((AN101)=84,$BM$84,\"\")&IF((AN101)=85,$BM$85,\"\")&IF((AN101)=86,$BM$86,\"\")&IF((AN101)=87,$BM$87,\"\")&IF((AN101)=88,$BM$88,\"\")&IF((AN101)=89,$BM$89,\"\")&IF((AN101)=90,$BM$90,\"\")&IF((AN101)=91,$BM$91,\"\")&IF((AN101)=92,$BM$92,\"\")&IF((AN101)=93,$BM$93,\"\")&IF((AN101)=94,$BM$94,\"\")&IF((AN101)=95,$BM$95,\"\")&IF((AN101)=96,$BM$96,\"\")&IF((AN101)=97,$BM$97,\"\")&IF((AN101)=98,$BM$98,\"\")&IF((AN101)=99,$BM$99,\"\")&IF((AN101)=100,$BM$100,\"\")&IF((AN101)=101,$BM$101,\"\")&IF((AN101)=102,$BM$102,\"\")&IF((AN101)=103,$BM$103,\"\")&IF((AN101)=104,$BM$104,\"\")&IF((AN101)=105,$BM$105,\"\")&IF((AN101)=106,$BM$106,\"\")&IF((AN101)=107,$BM$107,\"\")&IF((AN101)=108,$BM$108,\"\")&IF((AN101)=109,$BM$109,\"\")&IF((AN101)=110,$BM$110,\"\")&IF((AN101)=111,$BM$111,\"\")&IF((AN101)=112,$BM$112,\"\")&IF((AN101)=113,$BM$113,\"\")&IF((AN101)=114,$BM$114,\"\")&IF((AN101)=115,$BM$115,\"\")&IF((AN101)=116,$BM$116,\"\")&IF((AN101)=117,$BM$117,\"\")&IF((AN101)=118,$BM$118,\"\")&IF((AN101)=119,$BM$119,\"\")&IF((AN101)=120,$BM$120,\"\")&IF((AN101)=121,$BM$121,\"\")&IF((AN101)=122,$BM$122,\"\")&IF((AN101)=123,$BM$123,\"\")&IF((AN101)=124,$BM$124,\"\")&IF((AN101)=125,$BM$125,\"\")&IF((AN101)=126,$BM$126,\"\")&IF((AN101)=127,$BM$127,\"\")&IF((AN101)=128,$BM$128,\"\")","v":""},null,{"$f":"IF((AN101)=1,$BN$1,\"\")&IF((AN101)=2,$BN$2,\"\")&IF((AN101)=3,$BN$3,\"\")&IF((AN101)=4,$BN$4,\"\")&IF((AN101)=5,$BN$5,\"\")&IF((AN101)=6,$BN$6,\"\")&IF((AN101)=7,$BN$7,\"\")&IF((AN101)=8,$BN$8,\"\")&IF((AN101)=9,$BN$9,\"\")&IF((AN101)=10,$BN$10,\"\")&IF((AN101)=11,$BN$11,\"\")&IF((AN101)=12,$BN$12,\"\")&IF((AN101)=13,$BN$13,\"\")&IF((AN101)=14,$BN$14,\"\")&IF((AN101)=15,$BN$15,\"\")&IF((AN101)=16,$BN$16,\"\")&IF((AN101)=17,$BN$17,\"\")&IF((AN101)=18,$BN$18,\"\")&IF((AN101)=19,$BN$19,\"\")&IF((AN101)=20,$BN$20,\"\")&IF((AN101)=21,$BN$21,\"\")&IF((AN101)=22,$BN$22,\"\")&IF((AN101)=23,$BN$23,\"\")&IF((AN101)=24,$BN$24,\"\")&IF((AN101)=25,$BN$25,\"\")&IF((AN101)=26,$BN$26,\"\")&IF((AN101)=27,$BN$27,\"\")&IF((AN101)=28,$BN$28,\"\")&IF((AN101)=29,$BN$29,\"\")&IF((AN101)=30,$BN$30,\"\")&IF((AN101)=31,$BN$31,\"\")&IF((AN101)=32,$BN$32,\"\")&IF((AN101)=33,$BN$33,\"\")&IF((AN101)=34,$BN$34,\"\")&IF((AN101)=35,$BN$35,\"\")&IF((AN101)=36,$BN$36,\"\")&IF((AN101)=37,$BN$37,\"\")&IF((AN101)=38,$BN$38,\"\")&IF((AN101)=39,$BN$39,\"\")&IF((AN101)=40,$BN$40,\"\")&IF((AN101)=41,$BN$41,\"\")&IF((AN101)=42,$BN$42,\"\")&IF((AN101)=43,$BN$43,\"\")&IF((AN101)=44,$BN$44,\"\")&IF((AN101)=45,$BN$45,\"\")&IF((AN101)=46,$BN$46,\"\")&IF((AN101)=47,$BN$47,\"\")&IF((AN101)=48,$BN$48,\"\")&IF((AN101)=49,$BN$49,\"\")&IF((AN101)=50,$BN$50,\"\")&IF((AN101)=51,$BN$51,\"\")&IF((AN101)=52,$BN$52,\"\")&IF((AN101)=53,$BN$53,\"\")&IF((AN101)=54,$BN$54,\"\")&IF((AN101)=55,$BN$55,\"\")&IF((AN101)=56,$BN$56,\"\")&IF((AN101)=57,$BN$57,\"\")&IF((AN101)=58,$BN$58,\"\")&IF((AN101)=59,$BN$59,\"\")&IF((AN101)=60,$BN$60,\"\")&IF((AN101)=61,$BN$61,\"\")&IF((AN101)=62,$BN$62,\"\")&IF((AN101)=63,$BN$63,\"\")&IF((AN101)=64,$BN$64,\"\")&IF((AN101)=65,$BN$65,\"\")&IF((AN101)=66,$BN$66,\"\")&IF((AN101)=67,$BN$67,\"\")&IF((AN101)=68,$BN$68,\"\")&IF((AN101)=69,$BN$69,\"\")&IF((AN101)=70,$BN$70,\"\")&IF((AN101)=71,$BN$71,\"\")&IF((AN101)=72,$BN$72,\"\")&IF((AN101)=73,$BN$73,\"\")&IF((AN101)=74,$BN$74,\"\")&IF((AN101)=75,$BN$75,\"\")&IF((AN101)=76,$BN$76,\"\")&IF((AN101)=77,$BN$77,\"\")&IF((AN101)=78,$BN$78,\"\")&IF((AN101)=79,$BN$79,\"\")&IF((AN101)=80,$BN$80,\"\")&IF((AN101)=81,$BN$81,\"\")&IF((AN101)=82,$BN$82,\"\")&IF((AN101)=83,$BN$83,\"\")&IF((AN101)=84,$BN$84,\"\")&IF((AN101)=85,$BN$85,\"\")&IF((AN101)=86,$BN$86,\"\")&IF((AN101)=87,$BN$87,\"\")&IF((AN101)=88,$BN$88,\"\")&IF((AN101)=89,$BN$89,\"\")&IF((AN101)=90,$BN$90,\"\")&IF((AN101)=91,$BN$91,\"\")&IF((AN101)=92,$BN$92,\"\")&IF((AN101)=93,$BN$93,\"\")&IF((AN101)=94,$BN$94,\"\")&IF((AN101)=95,$BN$95,\"\")&IF((AN101)=96,$BN$96,\"\")&IF((AN101)=97,$BN$97,\"\")&IF((AN101)=98,$BN$98,\"\")&IF((AN101)=99,$BN$99,\"\")&IF((AN101)=100,$BN$100,\"\")&IF((AN101)=101,$BN$101,\"\")&IF((AN101)=102,$BN$102,\"\")&IF((AN101)=103,$BN$103,\"\")&IF((AN101)=104,$BN$104,\"\")&IF((AN101)=105,$BN$105,\"\")&IF((AN101)=106,$BN$106,\"\")&IF((AN101)=107,$BN$107,\"\")&IF((AN101)=108,$BN$108,\"\")&IF((AN101)=109,$BN$109,\"\")&IF((AN101)=110,$BN$110,\"\")&IF((AN101)=111,$BN$111,\"\")&IF((AN101)=112,$BN$112,\"\")&IF((AN101)=113,$BN$113,\"\")&IF((AN101)=114,$BN$114,\"\")&IF((AN101)=115,$BN$115,\"\")&IF((AN101)=116,$BN$116,\"\")&IF((AN101)=117,$BN$117,\"\")&IF((AN101)=118,$BN$118,\"\")&IF((AN101)=119,$BN$119,\"\")&IF((AN101)=120,$BN$120,\"\")&IF((AN101)=121,$BN$121,\"\")&IF((AN101)=122,$BN$122,\"\")&IF((AN101)=123,$BN$123,\"\")&IF((AN101)=124,$BN$124,\"\")&IF((AN101)=125,$BN$125,\"\")&IF((AN101)=126,$BN$126,\"\")&IF((AN101)=127,$BN$127,\"\")&IF((AN101)=128,$BN$128,\"\")","v":""},null,null,null,{"$f":"IF((AT101)=1,$BM$1,\"\")&IF((AT101)=2,$BM$2,\"\")&IF((AT101)=3,$BM$3,\"\")&IF((AT101)=4,$BM$4,\"\")&IF((AT101)=5,$BM$5,\"\")&IF((AT101)=6,$BM$6,\"\")&IF((AT101)=7,$BM$7,\"\")&IF((AT101)=8,$BM$8,\"\")&IF((AT101)=9,$BM$9,\"\")&IF((AT101)=10,$BM$10,\"\")&IF((AT101)=11,$BM$11,\"\")&IF((AT101)=12,$BM$12,\"\")&IF((AT101)=13,$BM$13,\"\")&IF((AT101)=14,$BM$14,\"\")&IF((AT101)=15,$BM$15,\"\")&IF((AT101)=16,$BM$16,\"\")&IF((AT101)=17,$BM$17,\"\")&IF((AT101)=18,$BM$18,\"\")&IF((AT101)=19,$BM$19,\"\")&IF((AT101)=20,$BM$20,\"\")&IF((AT101)=21,$BM$21,\"\")&IF((AT101)=22,$BM$22,\"\")&IF((AT101)=23,$BM$23,\"\")&IF((AT101)=24,$BM$24,\"\")&IF((AT101)=25,$BM$25,\"\")&IF((AT101)=26,$BM$26,\"\")&IF((AT101)=27,$BM$27,\"\")&IF((AT101)=28,$BM$28,\"\")&IF((AT101)=29,$BM$29,\"\")&IF((AT101)=30,$BM$30,\"\")&IF((AT101)=31,$BM$31,\"\")&IF((AT101)=32,$BM$32,\"\")&IF((AT101)=33,$BM$33,\"\")&IF((AT101)=34,$BM$34,\"\")&IF((AT101)=35,$BM$35,\"\")&IF((AT101)=36,$BM$36,\"\")&IF((AT101)=37,$BM$37,\"\")&IF((AT101)=38,$BM$38,\"\")&IF((AT101)=39,$BM$39,\"\")&IF((AT101)=40,$BM$40,\"\")&IF((AT101)=41,$BM$41,\"\")&IF((AT101)=42,$BM$42,\"\")&IF((AT101)=43,$BM$43,\"\")&IF((AT101)=44,$BM$44,\"\")&IF((AT101)=45,$BM$45,\"\")&IF((AT101)=46,$BM$46,\"\")&IF((AT101)=47,$BM$47,\"\")&IF((AT101)=48,$BM$48,\"\")&IF((AT101)=49,$BM$49,\"\")&IF((AT101)=50,$BM$50,\"\")&IF((AT101)=51,$BM$51,\"\")&IF((AT101)=52,$BM$52,\"\")&IF((AT101)=53,$BM$53,\"\")&IF((AT101)=54,$BM$54,\"\")&IF((AT101)=55,$BM$55,\"\")&IF((AT101)=56,$BM$56,\"\")&IF((AT101)=57,$BM$57,\"\")&IF((AT101)=58,$BM$58,\"\")&IF((AT101)=59,$BM$59,\"\")&IF((AT101)=60,$BM$60,\"\")&IF((AT101)=61,$BM$61,\"\")&IF((AT101)=62,$BM$62,\"\")&IF((AT101)=63,$BM$63,\"\")&IF((AT101)=64,$BM$64,\"\")&IF((AT101)=65,$BM$65,\"\")&IF((AT101)=66,$BM$66,\"\")&IF((AT101)=67,$BM$67,\"\")&IF((AT101)=68,$BM$68,\"\")&IF((AT101)=69,$BM$69,\"\")&IF((AT101)=70,$BM$70,\"\")&IF((AT101)=71,$BM$71,\"\")&IF((AT101)=72,$BM$72,\"\")&IF((AT101)=73,$BM$73,\"\")&IF((AT101)=74,$BM$74,\"\")&IF((AT101)=75,$BM$75,\"\")&IF((AT101)=76,$BM$76,\"\")&IF((AT101)=77,$BM$77,\"\")&IF((AT101)=78,$BM$78,\"\")&IF((AT101)=79,$BM$79,\"\")&IF((AT101)=80,$BM$80,\"\")&IF((AT101)=81,$BM$81,\"\")&IF((AT101)=82,$BM$82,\"\")&IF((AT101)=83,$BM$83,\"\")&IF((AT101)=84,$BM$84,\"\")&IF((AT101)=85,$BM$85,\"\")&IF((AT101)=86,$BM$86,\"\")&IF((AT101)=87,$BM$87,\"\")&IF((AT101)=88,$BM$88,\"\")&IF((AT101)=89,$BM$89,\"\")&IF((AT101)=90,$BM$90,\"\")&IF((AT101)=91,$BM$91,\"\")&IF((AT101)=92,$BM$92,\"\")&IF((AT101)=93,$BM$93,\"\")&IF((AT101)=94,$BM$94,\"\")&IF((AT101)=95,$BM$95,\"\")&IF((AT101)=96,$BM$96,\"\")&IF((AT101)=97,$BM$97,\"\")&IF((AT101)=98,$BM$98,\"\")&IF((AT101)=99,$BM$99,\"\")&IF((AT101)=100,$BM$100,\"\")&IF((AT101)=101,$BM$101,\"\")&IF((AT101)=102,$BM$102,\"\")&IF((AT101)=103,$BM$103,\"\")&IF((AT101)=104,$BM$104,\"\")&IF((AT101)=105,$BM$105,\"\")&IF((AT101)=106,$BM$106,\"\")&IF((AT101)=107,$BM$107,\"\")&IF((AT101)=108,$BM$108,\"\")&IF((AT101)=109,$BM$109,\"\")&IF((AT101)=110,$BM$110,\"\")&IF((AT101)=111,$BM$111,\"\")&IF((AT101)=112,$BM$112,\"\")&IF((AT101)=113,$BM$113,\"\")&IF((AT101)=114,$BM$114,\"\")&IF((AT101)=115,$BM$115,\"\")&IF((AT101)=116,$BM$116,\"\")&IF((AT101)=117,$BM$117,\"\")&IF((AT101)=118,$BM$118,\"\")&IF((AT101)=119,$BM$119,\"\")&IF((AT101)=120,$BM$120,\"\")&IF((AT101)=121,$BM$121,\"\")&IF((AT101)=122,$BM$122,\"\")&IF((AT101)=123,$BM$123,\"\")&IF((AT101)=124,$BM$124,\"\")&IF((AT101)=125,$BM$125,\"\")&IF((AT101)=126,$BM$126,\"\")&IF((AT101)=127,$BM$127,\"\")&IF((AT101)=128,$BM$128,\"\")","v":""},null,{"$f":"IF((AT101)=1,$BN$1,\"\")&IF((AT101)=2,$BN$2,\"\")&IF((AT101)=3,$BN$3,\"\")&IF((AT101)=4,$BN$4,\"\")&IF((AT101)=5,$BN$5,\"\")&IF((AT101)=6,$BN$6,\"\")&IF((AT101)=7,$BN$7,\"\")&IF((AT101)=8,$BN$8,\"\")&IF((AT101)=9,$BN$9,\"\")&IF((AT101)=10,$BN$10,\"\")&IF((AT101)=11,$BN$11,\"\")&IF((AT101)=12,$BN$12,\"\")&IF((AT101)=13,$BN$13,\"\")&IF((AT101)=14,$BN$14,\"\")&IF((AT101)=15,$BN$15,\"\")&IF((AT101)=16,$BN$16,\"\")&IF((AT101)=17,$BN$17,\"\")&IF((AT101)=18,$BN$18,\"\")&IF((AT101)=19,$BN$19,\"\")&IF((AT101)=20,$BN$20,\"\")&IF((AT101)=21,$BN$21,\"\")&IF((AT101)=22,$BN$22,\"\")&IF((AT101)=23,$BN$23,\"\")&IF((AT101)=24,$BN$24,\"\")&IF((AT101)=25,$BN$25,\"\")&IF((AT101)=26,$BN$26,\"\")&IF((AT101)=27,$BN$27,\"\")&IF((AT101)=28,$BN$28,\"\")&IF((AT101)=29,$BN$29,\"\")&IF((AT101)=30,$BN$30,\"\")&IF((AT101)=31,$BN$31,\"\")&IF((AT101)=32,$BN$32,\"\")&IF((AT101)=33,$BN$33,\"\")&IF((AT101)=34,$BN$34,\"\")&IF((AT101)=35,$BN$35,\"\")&IF((AT101)=36,$BN$36,\"\")&IF((AT101)=37,$BN$37,\"\")&IF((AT101)=38,$BN$38,\"\")&IF((AT101)=39,$BN$39,\"\")&IF((AT101)=40,$BN$40,\"\")&IF((AT101)=41,$BN$41,\"\")&IF((AT101)=42,$BN$42,\"\")&IF((AT101)=43,$BN$43,\"\")&IF((AT101)=44,$BN$44,\"\")&IF((AT101)=45,$BN$45,\"\")&IF((AT101)=46,$BN$46,\"\")&IF((AT101)=47,$BN$47,\"\")&IF((AT101)=48,$BN$48,\"\")&IF((AT101)=49,$BN$49,\"\")&IF((AT101)=50,$BN$50,\"\")&IF((AT101)=51,$BN$51,\"\")&IF((AT101)=52,$BN$52,\"\")&IF((AT101)=53,$BN$53,\"\")&IF((AT101)=54,$BN$54,\"\")&IF((AT101)=55,$BN$55,\"\")&IF((AT101)=56,$BN$56,\"\")&IF((AT101)=57,$BN$57,\"\")&IF((AT101)=58,$BN$58,\"\")&IF((AT101)=59,$BN$59,\"\")&IF((AT101)=60,$BN$60,\"\")&IF((AT101)=61,$BN$61,\"\")&IF((AT101)=62,$BN$62,\"\")&IF((AT101)=63,$BN$63,\"\")&IF((AT101)=64,$BN$64,\"\")&IF((AT101)=65,$BN$65,\"\")&IF((AT101)=66,$BN$66,\"\")&IF((AT101)=67,$BN$67,\"\")&IF((AT101)=68,$BN$68,\"\")&IF((AT101)=69,$BN$69,\"\")&IF((AT101)=70,$BN$70,\"\")&IF((AT101)=71,$BN$71,\"\")&IF((AT101)=72,$BN$72,\"\")&IF((AT101)=73,$BN$73,\"\")&IF((AT101)=74,$BN$74,\"\")&IF((AT101)=75,$BN$75,\"\")&IF((AT101)=76,$BN$76,\"\")&IF((AT101)=77,$BN$77,\"\")&IF((AT101)=78,$BN$78,\"\")&IF((AT101)=79,$BN$79,\"\")&IF((AT101)=80,$BN$80,\"\")&IF((AT101)=81,$BN$81,\"\")&IF((AT101)=82,$BN$82,\"\")&IF((AT101)=83,$BN$83,\"\")&IF((AT101)=84,$BN$84,\"\")&IF((AT101)=85,$BN$85,\"\")&IF((AT101)=86,$BN$86,\"\")&IF((AT101)=87,$BN$87,\"\")&IF((AT101)=88,$BN$88,\"\")&IF((AT101)=89,$BN$89,\"\")&IF((AT101)=90,$BN$90,\"\")&IF((AT101)=91,$BN$91,\"\")&IF((AT101)=92,$BN$92,\"\")&IF((AT101)=93,$BN$93,\"\")&IF((AT101)=94,$BN$94,\"\")&IF((AT101)=95,$BN$95,\"\")&IF((AT101)=96,$BN$96,\"\")&IF((AT101)=97,$BN$97,\"\")&IF((AT101)=98,$BN$98,\"\")&IF((AT101)=99,$BN$99,\"\")&IF((AT101)=100,$BN$100,\"\")&IF((AT101)=101,$BN$101,\"\")&IF((AT101)=102,$BN$102,\"\")&IF((AT101)=103,$BN$103,\"\")&IF((AT101)=104,$BN$104,\"\")&IF((AT101)=105,$BN$105,\"\")&IF((AT101)=106,$BN$106,\"\")&IF((AT101)=107,$BN$107,\"\")&IF((AT101)=108,$BN$108,\"\")&IF((AT101)=109,$BN$109,\"\")&IF((AT101)=110,$BN$110,\"\")&IF((AT101)=111,$BN$111,\"\")&IF((AT101)=112,$BN$112,\"\")&IF((AT101)=113,$BN$113,\"\")&IF((AT101)=114,$BN$114,\"\")&IF((AT101)=115,$BN$115,\"\")&IF((AT101)=116,$BN$116,\"\")&IF((AT101)=117,$BN$117,\"\")&IF((AT101)=118,$BN$118,\"\")&IF((AT101)=119,$BN$119,\"\")&IF((AT101)=120,$BN$120,\"\")&IF((AT101)=121,$BN$121,\"\")&IF((AT101)=122,$BN$122,\"\")&IF((AT101)=123,$BN$123,\"\")&IF((AT101)=124,$BN$124,\"\")&IF((AT101)=125,$BN$125,\"\")&IF((AT101)=126,$BN$126,\"\")&IF((AT101)=127,$BN$127,\"\")&IF((AT101)=128,$BN$128,\"\")","v":""},null,{"$f":"IF((AX101)=1,$BM$1,\"\")&IF((AX101)=2,$BM$2,\"\")&IF((AX101)=3,$BM$3,\"\")&IF((AX101)=4,$BM$4,\"\")&IF((AX101)=5,$BM$5,\"\")&IF((AX101)=6,$BM$6,\"\")&IF((AX101)=7,$BM$7,\"\")&IF((AX101)=8,$BM$8,\"\")&IF((AX101)=9,$BM$9,\"\")&IF((AX101)=10,$BM$10,\"\")&IF((AX101)=11,$BM$11,\"\")&IF((AX101)=12,$BM$12,\"\")&IF((AX101)=13,$BM$13,\"\")&IF((AX101)=14,$BM$14,\"\")&IF((AX101)=15,$BM$15,\"\")&IF((AX101)=16,$BM$16,\"\")&IF((AX101)=17,$BM$17,\"\")&IF((AX101)=18,$BM$18,\"\")&IF((AX101)=19,$BM$19,\"\")&IF((AX101)=20,$BM$20,\"\")&IF((AX101)=21,$BM$21,\"\")&IF((AX101)=22,$BM$22,\"\")&IF((AX101)=23,$BM$23,\"\")&IF((AX101)=24,$BM$24,\"\")&IF((AX101)=25,$BM$25,\"\")&IF((AX101)=26,$BM$26,\"\")&IF((AX101)=27,$BM$27,\"\")&IF((AX101)=28,$BM$28,\"\")&IF((AX101)=29,$BM$29,\"\")&IF((AX101)=30,$BM$30,\"\")&IF((AX101)=31,$BM$31,\"\")&IF((AX101)=32,$BM$32,\"\")&IF((AX101)=33,$BM$33,\"\")&IF((AX101)=34,$BM$34,\"\")&IF((AX101)=35,$BM$35,\"\")&IF((AX101)=36,$BM$36,\"\")&IF((AX101)=37,$BM$37,\"\")&IF((AX101)=38,$BM$38,\"\")&IF((AX101)=39,$BM$39,\"\")&IF((AX101)=40,$BM$40,\"\")&IF((AX101)=41,$BM$41,\"\")&IF((AX101)=42,$BM$42,\"\")&IF((AX101)=43,$BM$43,\"\")&IF((AX101)=44,$BM$44,\"\")&IF((AX101)=45,$BM$45,\"\")&IF((AX101)=46,$BM$46,\"\")&IF((AX101)=47,$BM$47,\"\")&IF((AX101)=48,$BM$48,\"\")&IF((AX101)=49,$BM$49,\"\")&IF((AX101)=50,$BM$50,\"\")&IF((AX101)=51,$BM$51,\"\")&IF((AX101)=52,$BM$52,\"\")&IF((AX101)=53,$BM$53,\"\")&IF((AX101)=54,$BM$54,\"\")&IF((AX101)=55,$BM$55,\"\")&IF((AX101)=56,$BM$56,\"\")&IF((AX101)=57,$BM$57,\"\")&IF((AX101)=58,$BM$58,\"\")&IF((AX101)=59,$BM$59,\"\")&IF((AX101)=60,$BM$60,\"\")&IF((AX101)=61,$BM$61,\"\")&IF((AX101)=62,$BM$62,\"\")&IF((AX101)=63,$BM$63,\"\")&IF((AX101)=64,$BM$64,\"\")&IF((AX101)=65,$BM$65,\"\")&IF((AX101)=66,$BM$66,\"\")&IF((AX101)=67,$BM$67,\"\")&IF((AX101)=68,$BM$68,\"\")&IF((AX101)=69,$BM$69,\"\")&IF((AX101)=70,$BM$70,\"\")&IF((AX101)=71,$BM$71,\"\")&IF((AX101)=72,$BM$72,\"\")&IF((AX101)=73,$BM$73,\"\")&IF((AX101)=74,$BM$74,\"\")&IF((AX101)=75,$BM$75,\"\")&IF((AX101)=76,$BM$76,\"\")&IF((AX101)=77,$BM$77,\"\")&IF((AX101)=78,$BM$78,\"\")&IF((AX101)=79,$BM$79,\"\")&IF((AX101)=80,$BM$80,\"\")&IF((AX101)=81,$BM$81,\"\")&IF((AX101)=82,$BM$82,\"\")&IF((AX101)=83,$BM$83,\"\")&IF((AX101)=84,$BM$84,\"\")&IF((AX101)=85,$BM$85,\"\")&IF((AX101)=86,$BM$86,\"\")&IF((AX101)=87,$BM$87,\"\")&IF((AX101)=88,$BM$88,\"\")&IF((AX101)=89,$BM$89,\"\")&IF((AX101)=90,$BM$90,\"\")&IF((AX101)=91,$BM$91,\"\")&IF((AX101)=92,$BM$92,\"\")&IF((AX101)=93,$BM$93,\"\")&IF((AX101)=94,$BM$94,\"\")&IF((AX101)=95,$BM$95,\"\")&IF((AX101)=96,$BM$96,\"\")&IF((AX101)=97,$BM$97,\"\")&IF((AX101)=98,$BM$98,\"\")&IF((AX101)=99,$BM$99,\"\")&IF((AX101)=100,$BM$100,\"\")&IF((AX101)=101,$BM$101,\"\")&IF((AX101)=102,$BM$102,\"\")&IF((AX101)=103,$BM$103,\"\")&IF((AX101)=104,$BM$104,\"\")&IF((AX101)=105,$BM$105,\"\")&IF((AX101)=106,$BM$106,\"\")&IF((AX101)=107,$BM$107,\"\")&IF((AX101)=108,$BM$108,\"\")&IF((AX101)=109,$BM$109,\"\")&IF((AX101)=110,$BM$110,\"\")&IF((AX101)=111,$BM$111,\"\")&IF((AX101)=112,$BM$112,\"\")&IF((AX101)=113,$BM$113,\"\")&IF((AX101)=114,$BM$114,\"\")&IF((AX101)=115,$BM$115,\"\")&IF((AX101)=116,$BM$116,\"\")&IF((AX101)=117,$BM$117,\"\")&IF((AX101)=118,$BM$118,\"\")&IF((AX101)=119,$BM$119,\"\")&IF((AX101)=120,$BM$120,\"\")&IF((AX101)=121,$BM$121,\"\")&IF((AX101)=122,$BM$122,\"\")&IF((AX101)=123,$BM$123,\"\")&IF((AX101)=124,$BM$124,\"\")&IF((AX101)=125,$BM$125,\"\")&IF((AX101)=126,$BM$126,\"\")&IF((AX101)=127,$BM$127,\"\")&IF((AX101)=128,$BM$128,\"\")","v":""},null,{"$f":"IF((AX101)=1,$BN$1,\"\")&IF((AX101)=2,$BN$2,\"\")&IF((AX101)=3,$BN$3,\"\")&IF((AX101)=4,$BN$4,\"\")&IF((AX101)=5,$BN$5,\"\")&IF((AX101)=6,$BN$6,\"\")&IF((AX101)=7,$BN$7,\"\")&IF((AX101)=8,$BN$8,\"\")&IF((AX101)=9,$BN$9,\"\")&IF((AX101)=10,$BN$10,\"\")&IF((AX101)=11,$BN$11,\"\")&IF((AX101)=12,$BN$12,\"\")&IF((AX101)=13,$BN$13,\"\")&IF((AX101)=14,$BN$14,\"\")&IF((AX101)=15,$BN$15,\"\")&IF((AX101)=16,$BN$16,\"\")&IF((AX101)=17,$BN$17,\"\")&IF((AX101)=18,$BN$18,\"\")&IF((AX101)=19,$BN$19,\"\")&IF((AX101)=20,$BN$20,\"\")&IF((AX101)=21,$BN$21,\"\")&IF((AX101)=22,$BN$22,\"\")&IF((AX101)=23,$BN$23,\"\")&IF((AX101)=24,$BN$24,\"\")&IF((AX101)=25,$BN$25,\"\")&IF((AX101)=26,$BN$26,\"\")&IF((AX101)=27,$BN$27,\"\")&IF((AX101)=28,$BN$28,\"\")&IF((AX101)=29,$BN$29,\"\")&IF((AX101)=30,$BN$30,\"\")&IF((AX101)=31,$BN$31,\"\")&IF((AX101)=32,$BN$32,\"\")&IF((AX101)=33,$BN$33,\"\")&IF((AX101)=34,$BN$34,\"\")&IF((AX101)=35,$BN$35,\"\")&IF((AX101)=36,$BN$36,\"\")&IF((AX101)=37,$BN$37,\"\")&IF((AX101)=38,$BN$38,\"\")&IF((AX101)=39,$BN$39,\"\")&IF((AX101)=40,$BN$40,\"\")&IF((AX101)=41,$BN$41,\"\")&IF((AX101)=42,$BN$42,\"\")&IF((AX101)=43,$BN$43,\"\")&IF((AX101)=44,$BN$44,\"\")&IF((AX101)=45,$BN$45,\"\")&IF((AX101)=46,$BN$46,\"\")&IF((AX101)=47,$BN$47,\"\")&IF((AX101)=48,$BN$48,\"\")&IF((AX101)=49,$BN$49,\"\")&IF((AX101)=50,$BN$50,\"\")&IF((AX101)=51,$BN$51,\"\")&IF((AX101)=52,$BN$52,\"\")&IF((AX101)=53,$BN$53,\"\")&IF((AX101)=54,$BN$54,\"\")&IF((AX101)=55,$BN$55,\"\")&IF((AX101)=56,$BN$56,\"\")&IF((AX101)=57,$BN$57,\"\")&IF((AX101)=58,$BN$58,\"\")&IF((AX101)=59,$BN$59,\"\")&IF((AX101)=60,$BN$60,\"\")&IF((AX101)=61,$BN$61,\"\")&IF((AX101)=62,$BN$62,\"\")&IF((AX101)=63,$BN$63,\"\")&IF((AX101)=64,$BN$64,\"\")&IF((AX101)=65,$BN$65,\"\")&IF((AX101)=66,$BN$66,\"\")&IF((AX101)=67,$BN$67,\"\")&IF((AX101)=68,$BN$68,\"\")&IF((AX101)=69,$BN$69,\"\")&IF((AX101)=70,$BN$70,\"\")&IF((AX101)=71,$BN$71,\"\")&IF((AX101)=72,$BN$72,\"\")&IF((AX101)=73,$BN$73,\"\")&IF((AX101)=74,$BN$74,\"\")&IF((AX101)=75,$BN$75,\"\")&IF((AX101)=76,$BN$76,\"\")&IF((AX101)=77,$BN$77,\"\")&IF((AX101)=78,$BN$78,\"\")&IF((AX101)=79,$BN$79,\"\")&IF((AX101)=80,$BN$80,\"\")&IF((AX101)=81,$BN$81,\"\")&IF((AX101)=82,$BN$82,\"\")&IF((AX101)=83,$BN$83,\"\")&IF((AX101)=84,$BN$84,\"\")&IF((AX101)=85,$BN$85,\"\")&IF((AX101)=86,$BN$86,\"\")&IF((AX101)=87,$BN$87,\"\")&IF((AX101)=88,$BN$88,\"\")&IF((AX101)=89,$BN$89,\"\")&IF((AX101)=90,$BN$90,\"\")&IF((AX101)=91,$BN$91,\"\")&IF((AX101)=92,$BN$92,\"\")&IF((AX101)=93,$BN$93,\"\")&IF((AX101)=94,$BN$94,\"\")&IF((AX101)=95,$BN$95,\"\")&IF((AX101)=96,$BN$96,\"\")&IF((AX101)=97,$BN$97,\"\")&IF((AX101)=98,$BN$98,\"\")&IF((AX101)=99,$BN$99,\"\")&IF((AX101)=100,$BN$100,\"\")&IF((AX101)=101,$BN$101,\"\")&IF((AX101)=102,$BN$102,\"\")&IF((AX101)=103,$BN$103,\"\")&IF((AX101)=104,$BN$104,\"\")&IF((AX101)=105,$BN$105,\"\")&IF((AX101)=106,$BN$106,\"\")&IF((AX101)=107,$BN$107,\"\")&IF((AX101)=108,$BN$108,\"\")&IF((AX101)=109,$BN$109,\"\")&IF((AX101)=110,$BN$110,\"\")&IF((AX101)=111,$BN$111,\"\")&IF((AX101)=112,$BN$112,\"\")&IF((AX101)=113,$BN$113,\"\")&IF((AX101)=114,$BN$114,\"\")&IF((AX101)=115,$BN$115,\"\")&IF((AX101)=116,$BN$116,\"\")&IF((AX101)=117,$BN$117,\"\")&IF((AX101)=118,$BN$118,\"\")&IF((AX101)=119,$BN$119,\"\")&IF((AX101)=120,$BN$120,\"\")&IF((AX101)=121,$BN$121,\"\")&IF((AX101)=122,$BN$122,\"\")&IF((AX101)=123,$BN$123,\"\")&IF((AX101)=124,$BN$124,\"\")&IF((AX101)=125,$BN$125,\"\")&IF((AX101)=126,$BN$126,\"\")&IF((AX101)=127,$BN$127,\"\")&IF((AX101)=128,$BN$128,\"\")","v":""},null,null,null,{"$f":"IF((BD101)=1,$BM$1,\"\")&IF((BD101)=2,$BM$2,\"\")&IF((BD101)=3,$BM$3,\"\")&IF((BD101)=4,$BM$4,\"\")&IF((BD101)=5,$BM$5,\"\")&IF((BD101)=6,$BM$6,\"\")&IF((BD101)=7,$BM$7,\"\")&IF((BD101)=8,$BM$8,\"\")&IF((BD101)=9,$BM$9,\"\")&IF((BD101)=10,$BM$10,\"\")&IF((BD101)=11,$BM$11,\"\")&IF((BD101)=12,$BM$12,\"\")&IF((BD101)=13,$BM$13,\"\")&IF((BD101)=14,$BM$14,\"\")&IF((BD101)=15,$BM$15,\"\")&IF((BD101)=16,$BM$16,\"\")&IF((BD101)=17,$BM$17,\"\")&IF((BD101)=18,$BM$18,\"\")&IF((BD101)=19,$BM$19,\"\")&IF((BD101)=20,$BM$20,\"\")&IF((BD101)=21,$BM$21,\"\")&IF((BD101)=22,$BM$22,\"\")&IF((BD101)=23,$BM$23,\"\")&IF((BD101)=24,$BM$24,\"\")&IF((BD101)=25,$BM$25,\"\")&IF((BD101)=26,$BM$26,\"\")&IF((BD101)=27,$BM$27,\"\")&IF((BD101)=28,$BM$28,\"\")&IF((BD101)=29,$BM$29,\"\")&IF((BD101)=30,$BM$30,\"\")&IF((BD101)=31,$BM$31,\"\")&IF((BD101)=32,$BM$32,\"\")&IF((BD101)=33,$BM$33,\"\")&IF((BD101)=34,$BM$34,\"\")&IF((BD101)=35,$BM$35,\"\")&IF((BD101)=36,$BM$36,\"\")&IF((BD101)=37,$BM$37,\"\")&IF((BD101)=38,$BM$38,\"\")&IF((BD101)=39,$BM$39,\"\")&IF((BD101)=40,$BM$40,\"\")&IF((BD101)=41,$BM$41,\"\")&IF((BD101)=42,$BM$42,\"\")&IF((BD101)=43,$BM$43,\"\")&IF((BD101)=44,$BM$44,\"\")&IF((BD101)=45,$BM$45,\"\")&IF((BD101)=46,$BM$46,\"\")&IF((BD101)=47,$BM$47,\"\")&IF((BD101)=48,$BM$48,\"\")&IF((BD101)=49,$BM$49,\"\")&IF((BD101)=50,$BM$50,\"\")&IF((BD101)=51,$BM$51,\"\")&IF((BD101)=52,$BM$52,\"\")&IF((BD101)=53,$BM$53,\"\")&IF((BD101)=54,$BM$54,\"\")&IF((BD101)=55,$BM$55,\"\")&IF((BD101)=56,$BM$56,\"\")&IF((BD101)=57,$BM$57,\"\")&IF((BD101)=58,$BM$58,\"\")&IF((BD101)=59,$BM$59,\"\")&IF((BD101)=60,$BM$60,\"\")&IF((BD101)=61,$BM$61,\"\")&IF((BD101)=62,$BM$62,\"\")&IF((BD101)=63,$BM$63,\"\")&IF((BD101)=64,$BM$64,\"\")&IF((BD101)=65,$BM$65,\"\")&IF((BD101)=66,$BM$66,\"\")&IF((BD101)=67,$BM$67,\"\")&IF((BD101)=68,$BM$68,\"\")&IF((BD101)=69,$BM$69,\"\")&IF((BD101)=70,$BM$70,\"\")&IF((BD101)=71,$BM$71,\"\")&IF((BD101)=72,$BM$72,\"\")&IF((BD101)=73,$BM$73,\"\")&IF((BD101)=74,$BM$74,\"\")&IF((BD101)=75,$BM$75,\"\")&IF((BD101)=76,$BM$76,\"\")&IF((BD101)=77,$BM$77,\"\")&IF((BD101)=78,$BM$78,\"\")&IF((BD101)=79,$BM$79,\"\")&IF((BD101)=80,$BM$80,\"\")&IF((BD101)=81,$BM$81,\"\")&IF((BD101)=82,$BM$82,\"\")&IF((BD101)=83,$BM$83,\"\")&IF((BD101)=84,$BM$84,\"\")&IF((BD101)=85,$BM$85,\"\")&IF((BD101)=86,$BM$86,\"\")&IF((BD101)=87,$BM$87,\"\")&IF((BD101)=88,$BM$88,\"\")&IF((BD101)=89,$BM$89,\"\")&IF((BD101)=90,$BM$90,\"\")&IF((BD101)=91,$BM$91,\"\")&IF((BD101)=92,$BM$92,\"\")&IF((BD101)=93,$BM$93,\"\")&IF((BD101)=94,$BM$94,\"\")&IF((BD101)=95,$BM$95,\"\")&IF((BD101)=96,$BM$96,\"\")&IF((BD101)=97,$BM$97,\"\")&IF((BD101)=98,$BM$98,\"\")&IF((BD101)=99,$BM$99,\"\")&IF((BD101)=100,$BM$100,\"\")&IF((BD101)=101,$BM$101,\"\")&IF((BD101)=102,$BM$102,\"\")&IF((BD101)=103,$BM$103,\"\")&IF((BD101)=104,$BM$104,\"\")&IF((BD101)=105,$BM$105,\"\")&IF((BD101)=106,$BM$106,\"\")&IF((BD101)=107,$BM$107,\"\")&IF((BD101)=108,$BM$108,\"\")&IF((BD101)=109,$BM$109,\"\")&IF((BD101)=110,$BM$110,\"\")&IF((BD101)=111,$BM$111,\"\")&IF((BD101)=112,$BM$112,\"\")&IF((BD101)=113,$BM$113,\"\")&IF((BD101)=114,$BM$114,\"\")&IF((BD101)=115,$BM$115,\"\")&IF((BD101)=116,$BM$116,\"\")&IF((BD101)=117,$BM$117,\"\")&IF((BD101)=118,$BM$118,\"\")&IF((BD101)=119,$BM$119,\"\")&IF((BD101)=120,$BM$120,\"\")&IF((BD101)=121,$BM$121,\"\")&IF((BD101)=122,$BM$122,\"\")&IF((BD101)=123,$BM$123,\"\")&IF((BD101)=124,$BM$124,\"\")&IF((BD101)=125,$BM$125,\"\")&IF((BD101)=126,$BM$126,\"\")&IF((BD101)=127,$BM$127,\"\")&IF((BD101)=128,$BM$128,\"\")","v":""},null,{"$f":"IF((BD101)=1,$BN$1,\"\")&IF((BD101)=2,$BN$2,\"\")&IF((BD101)=3,$BN$3,\"\")&IF((BD101)=4,$BN$4,\"\")&IF((BD101)=5,$BN$5,\"\")&IF((BD101)=6,$BN$6,\"\")&IF((BD101)=7,$BN$7,\"\")&IF((BD101)=8,$BN$8,\"\")&IF((BD101)=9,$BN$9,\"\")&IF((BD101)=10,$BN$10,\"\")&IF((BD101)=11,$BN$11,\"\")&IF((BD101)=12,$BN$12,\"\")&IF((BD101)=13,$BN$13,\"\")&IF((BD101)=14,$BN$14,\"\")&IF((BD101)=15,$BN$15,\"\")&IF((BD101)=16,$BN$16,\"\")&IF((BD101)=17,$BN$17,\"\")&IF((BD101)=18,$BN$18,\"\")&IF((BD101)=19,$BN$19,\"\")&IF((BD101)=20,$BN$20,\"\")&IF((BD101)=21,$BN$21,\"\")&IF((BD101)=22,$BN$22,\"\")&IF((BD101)=23,$BN$23,\"\")&IF((BD101)=24,$BN$24,\"\")&IF((BD101)=25,$BN$25,\"\")&IF((BD101)=26,$BN$26,\"\")&IF((BD101)=27,$BN$27,\"\")&IF((BD101)=28,$BN$28,\"\")&IF((BD101)=29,$BN$29,\"\")&IF((BD101)=30,$BN$30,\"\")&IF((BD101)=31,$BN$31,\"\")&IF((BD101)=32,$BN$32,\"\")&IF((BD101)=33,$BN$33,\"\")&IF((BD101)=34,$BN$34,\"\")&IF((BD101)=35,$BN$35,\"\")&IF((BD101)=36,$BN$36,\"\")&IF((BD101)=37,$BN$37,\"\")&IF((BD101)=38,$BN$38,\"\")&IF((BD101)=39,$BN$39,\"\")&IF((BD101)=40,$BN$40,\"\")&IF((BD101)=41,$BN$41,\"\")&IF((BD101)=42,$BN$42,\"\")&IF((BD101)=43,$BN$43,\"\")&IF((BD101)=44,$BN$44,\"\")&IF((BD101)=45,$BN$45,\"\")&IF((BD101)=46,$BN$46,\"\")&IF((BD101)=47,$BN$47,\"\")&IF((BD101)=48,$BN$48,\"\")&IF((BD101)=49,$BN$49,\"\")&IF((BD101)=50,$BN$50,\"\")&IF((BD101)=51,$BN$51,\"\")&IF((BD101)=52,$BN$52,\"\")&IF((BD101)=53,$BN$53,\"\")&IF((BD101)=54,$BN$54,\"\")&IF((BD101)=55,$BN$55,\"\")&IF((BD101)=56,$BN$56,\"\")&IF((BD101)=57,$BN$57,\"\")&IF((BD101)=58,$BN$58,\"\")&IF((BD101)=59,$BN$59,\"\")&IF((BD101)=60,$BN$60,\"\")&IF((BD101)=61,$BN$61,\"\")&IF((BD101)=62,$BN$62,\"\")&IF((BD101)=63,$BN$63,\"\")&IF((BD101)=64,$BN$64,\"\")&IF((BD101)=65,$BN$65,\"\")&IF((BD101)=66,$BN$66,\"\")&IF((BD101)=67,$BN$67,\"\")&IF((BD101)=68,$BN$68,\"\")&IF((BD101)=69,$BN$69,\"\")&IF((BD101)=70,$BN$70,\"\")&IF((BD101)=71,$BN$71,\"\")&IF((BD101)=72,$BN$72,\"\")&IF((BD101)=73,$BN$73,\"\")&IF((BD101)=74,$BN$74,\"\")&IF((BD101)=75,$BN$75,\"\")&IF((BD101)=76,$BN$76,\"\")&IF((BD101)=77,$BN$77,\"\")&IF((BD101)=78,$BN$78,\"\")&IF((BD101)=79,$BN$79,\"\")&IF((BD101)=80,$BN$80,\"\")&IF((BD101)=81,$BN$81,\"\")&IF((BD101)=82,$BN$82,\"\")&IF((BD101)=83,$BN$83,\"\")&IF((BD101)=84,$BN$84,\"\")&IF((BD101)=85,$BN$85,\"\")&IF((BD101)=86,$BN$86,\"\")&IF((BD101)=87,$BN$87,\"\")&IF((BD101)=88,$BN$88,\"\")&IF((BD101)=89,$BN$89,\"\")&IF((BD101)=90,$BN$90,\"\")&IF((BD101)=91,$BN$91,\"\")&IF((BD101)=92,$BN$92,\"\")&IF((BD101)=93,$BN$93,\"\")&IF((BD101)=94,$BN$94,\"\")&IF((BD101)=95,$BN$95,\"\")&IF((BD101)=96,$BN$96,\"\")&IF((BD101)=97,$BN$97,\"\")&IF((BD101)=98,$BN$98,\"\")&IF((BD101)=99,$BN$99,\"\")&IF((BD101)=100,$BN$100,\"\")&IF((BD101)=101,$BN$101,\"\")&IF((BD101)=102,$BN$102,\"\")&IF((BD101)=103,$BN$103,\"\")&IF((BD101)=104,$BN$104,\"\")&IF((BD101)=105,$BN$105,\"\")&IF((BD101)=106,$BN$106,\"\")&IF((BD101)=107,$BN$107,\"\")&IF((BD101)=108,$BN$108,\"\")&IF((BD101)=109,$BN$109,\"\")&IF((BD101)=110,$BN$110,\"\")&IF((BD101)=111,$BN$111,\"\")&IF((BD101)=112,$BN$112,\"\")&IF((BD101)=113,$BN$113,\"\")&IF((BD101)=114,$BN$114,\"\")&IF((BD101)=115,$BN$115,\"\")&IF((BD101)=116,$BN$116,\"\")&IF((BD101)=117,$BN$117,\"\")&IF((BD101)=118,$BN$118,\"\")&IF((BD101)=119,$BN$119,\"\")&IF((BD101)=120,$BN$120,\"\")&IF((BD101)=121,$BN$121,\"\")&IF((BD101)=122,$BN$122,\"\")&IF((BD101)=123,$BN$123,\"\")&IF((BD101)=124,$BN$124,\"\")&IF((BD101)=125,$BN$125,\"\")&IF((BD101)=126,$BN$126,\"\")&IF((BD101)=127,$BN$127,\"\")&IF((BD101)=128,$BN$128,\"\")","v":""},null,{"$f":"IF((BH101)=1,$BM$1,\"\")&IF((BH101)=2,$BM$2,\"\")&IF((BH101)=3,$BM$3,\"\")&IF((BH101)=4,$BM$4,\"\")&IF((BH101)=5,$BM$5,\"\")&IF((BH101)=6,$BM$6,\"\")&IF((BH101)=7,$BM$7,\"\")&IF((BH101)=8,$BM$8,\"\")&IF((BH101)=9,$BM$9,\"\")&IF((BH101)=10,$BM$10,\"\")&IF((BH101)=11,$BM$11,\"\")&IF((BH101)=12,$BM$12,\"\")&IF((BH101)=13,$BM$13,\"\")&IF((BH101)=14,$BM$14,\"\")&IF((BH101)=15,$BM$15,\"\")&IF((BH101)=16,$BM$16,\"\")&IF((BH101)=17,$BM$17,\"\")&IF((BH101)=18,$BM$18,\"\")&IF((BH101)=19,$BM$19,\"\")&IF((BH101)=20,$BM$20,\"\")&IF((BH101)=21,$BM$21,\"\")&IF((BH101)=22,$BM$22,\"\")&IF((BH101)=23,$BM$23,\"\")&IF((BH101)=24,$BM$24,\"\")&IF((BH101)=25,$BM$25,\"\")&IF((BH101)=26,$BM$26,\"\")&IF((BH101)=27,$BM$27,\"\")&IF((BH101)=28,$BM$28,\"\")&IF((BH101)=29,$BM$29,\"\")&IF((BH101)=30,$BM$30,\"\")&IF((BH101)=31,$BM$31,\"\")&IF((BH101)=32,$BM$32,\"\")&IF((BH101)=33,$BM$33,\"\")&IF((BH101)=34,$BM$34,\"\")&IF((BH101)=35,$BM$35,\"\")&IF((BH101)=36,$BM$36,\"\")&IF((BH101)=37,$BM$37,\"\")&IF((BH101)=38,$BM$38,\"\")&IF((BH101)=39,$BM$39,\"\")&IF((BH101)=40,$BM$40,\"\")&IF((BH101)=41,$BM$41,\"\")&IF((BH101)=42,$BM$42,\"\")&IF((BH101)=43,$BM$43,\"\")&IF((BH101)=44,$BM$44,\"\")&IF((BH101)=45,$BM$45,\"\")&IF((BH101)=46,$BM$46,\"\")&IF((BH101)=47,$BM$47,\"\")&IF((BH101)=48,$BM$48,\"\")&IF((BH101)=49,$BM$49,\"\")&IF((BH101)=50,$BM$50,\"\")&IF((BH101)=51,$BM$51,\"\")&IF((BH101)=52,$BM$52,\"\")&IF((BH101)=53,$BM$53,\"\")&IF((BH101)=54,$BM$54,\"\")&IF((BH101)=55,$BM$55,\"\")&IF((BH101)=56,$BM$56,\"\")&IF((BH101)=57,$BM$57,\"\")&IF((BH101)=58,$BM$58,\"\")&IF((BH101)=59,$BM$59,\"\")&IF((BH101)=60,$BM$60,\"\")&IF((BH101)=61,$BM$61,\"\")&IF((BH101)=62,$BM$62,\"\")&IF((BH101)=63,$BM$63,\"\")&IF((BH101)=64,$BM$64,\"\")&IF((BH101)=65,$BM$65,\"\")&IF((BH101)=66,$BM$66,\"\")&IF((BH101)=67,$BM$67,\"\")&IF((BH101)=68,$BM$68,\"\")&IF((BH101)=69,$BM$69,\"\")&IF((BH101)=70,$BM$70,\"\")&IF((BH101)=71,$BM$71,\"\")&IF((BH101)=72,$BM$72,\"\")&IF((BH101)=73,$BM$73,\"\")&IF((BH101)=74,$BM$74,\"\")&IF((BH101)=75,$BM$75,\"\")&IF((BH101)=76,$BM$76,\"\")&IF((BH101)=77,$BM$77,\"\")&IF((BH101)=78,$BM$78,\"\")&IF((BH101)=79,$BM$79,\"\")&IF((BH101)=80,$BM$80,\"\")&IF((BH101)=81,$BM$81,\"\")&IF((BH101)=82,$BM$82,\"\")&IF((BH101)=83,$BM$83,\"\")&IF((BH101)=84,$BM$84,\"\")&IF((BH101)=85,$BM$85,\"\")&IF((BH101)=86,$BM$86,\"\")&IF((BH101)=87,$BM$87,\"\")&IF((BH101)=88,$BM$88,\"\")&IF((BH101)=89,$BM$89,\"\")&IF((BH101)=90,$BM$90,\"\")&IF((BH101)=91,$BM$91,\"\")&IF((BH101)=92,$BM$92,\"\")&IF((BH101)=93,$BM$93,\"\")&IF((BH101)=94,$BM$94,\"\")&IF((BH101)=95,$BM$95,\"\")&IF((BH101)=96,$BM$96,\"\")&IF((BH101)=97,$BM$97,\"\")&IF((BH101)=98,$BM$98,\"\")&IF((BH101)=99,$BM$99,\"\")&IF((BH101)=100,$BM$100,\"\")&IF((BH101)=101,$BM$101,\"\")&IF((BH101)=102,$BM$102,\"\")&IF((BH101)=103,$BM$103,\"\")&IF((BH101)=104,$BM$104,\"\")&IF((BH101)=105,$BM$105,\"\")&IF((BH101)=106,$BM$106,\"\")&IF((BH101)=107,$BM$107,\"\")&IF((BH101)=108,$BM$108,\"\")&IF((BH101)=109,$BM$109,\"\")&IF((BH101)=110,$BM$110,\"\")&IF((BH101)=111,$BM$111,\"\")&IF((BH101)=112,$BM$112,\"\")&IF((BH101)=113,$BM$113,\"\")&IF((BH101)=114,$BM$114,\"\")&IF((BH101)=115,$BM$115,\"\")&IF((BH101)=116,$BM$116,\"\")&IF((BH101)=117,$BM$117,\"\")&IF((BH101)=118,$BM$118,\"\")&IF((BH101)=119,$BM$119,\"\")&IF((BH101)=120,$BM$120,\"\")&IF((BH101)=121,$BM$121,\"\")&IF((BH101)=122,$BM$122,\"\")&IF((BH101)=123,$BM$123,\"\")&IF((BH101)=124,$BM$124,\"\")&IF((BH101)=125,$BM$125,\"\")&IF((BH101)=126,$BM$126,\"\")&IF((BH101)=127,$BM$127,\"\")&IF((BH101)=128,$BM$128,\"\")","v":""},null,{"$f":"IF((BH101)=1,$BN$1,\"\")&IF((BH101)=2,$BN$2,\"\")&IF((BH101)=3,$BN$3,\"\")&IF((BH101)=4,$BN$4,\"\")&IF((BH101)=5,$BN$5,\"\")&IF((BH101)=6,$BN$6,\"\")&IF((BH101)=7,$BN$7,\"\")&IF((BH101)=8,$BN$8,\"\")&IF((BH101)=9,$BN$9,\"\")&IF((BH101)=10,$BN$10,\"\")&IF((BH101)=11,$BN$11,\"\")&IF((BH101)=12,$BN$12,\"\")&IF((BH101)=13,$BN$13,\"\")&IF((BH101)=14,$BN$14,\"\")&IF((BH101)=15,$BN$15,\"\")&IF((BH101)=16,$BN$16,\"\")&IF((BH101)=17,$BN$17,\"\")&IF((BH101)=18,$BN$18,\"\")&IF((BH101)=19,$BN$19,\"\")&IF((BH101)=20,$BN$20,\"\")&IF((BH101)=21,$BN$21,\"\")&IF((BH101)=22,$BN$22,\"\")&IF((BH101)=23,$BN$23,\"\")&IF((BH101)=24,$BN$24,\"\")&IF((BH101)=25,$BN$25,\"\")&IF((BH101)=26,$BN$26,\"\")&IF((BH101)=27,$BN$27,\"\")&IF((BH101)=28,$BN$28,\"\")&IF((BH101)=29,$BN$29,\"\")&IF((BH101)=30,$BN$30,\"\")&IF((BH101)=31,$BN$31,\"\")&IF((BH101)=32,$BN$32,\"\")&IF((BH101)=33,$BN$33,\"\")&IF((BH101)=34,$BN$34,\"\")&IF((BH101)=35,$BN$35,\"\")&IF((BH101)=36,$BN$36,\"\")&IF((BH101)=37,$BN$37,\"\")&IF((BH101)=38,$BN$38,\"\")&IF((BH101)=39,$BN$39,\"\")&IF((BH101)=40,$BN$40,\"\")&IF((BH101)=41,$BN$41,\"\")&IF((BH101)=42,$BN$42,\"\")&IF((BH101)=43,$BN$43,\"\")&IF((BH101)=44,$BN$44,\"\")&IF((BH101)=45,$BN$45,\"\")&IF((BH101)=46,$BN$46,\"\")&IF((BH101)=47,$BN$47,\"\")&IF((BH101)=48,$BN$48,\"\")&IF((BH101)=49,$BN$49,\"\")&IF((BH101)=50,$BN$50,\"\")&IF((BH101)=51,$BN$51,\"\")&IF((BH101)=52,$BN$52,\"\")&IF((BH101)=53,$BN$53,\"\")&IF((BH101)=54,$BN$54,\"\")&IF((BH101)=55,$BN$55,\"\")&IF((BH101)=56,$BN$56,\"\")&IF((BH101)=57,$BN$57,\"\")&IF((BH101)=58,$BN$58,\"\")&IF((BH101)=59,$BN$59,\"\")&IF((BH101)=60,$BN$60,\"\")&IF((BH101)=61,$BN$61,\"\")&IF((BH101)=62,$BN$62,\"\")&IF((BH101)=63,$BN$63,\"\")&IF((BH101)=64,$BN$64,\"\")&IF((BH101)=65,$BN$65,\"\")&IF((BH101)=66,$BN$66,\"\")&IF((BH101)=67,$BN$67,\"\")&IF((BH101)=68,$BN$68,\"\")&IF((BH101)=69,$BN$69,\"\")&IF((BH101)=70,$BN$70,\"\")&IF((BH101)=71,$BN$71,\"\")&IF((BH101)=72,$BN$72,\"\")&IF((BH101)=73,$BN$73,\"\")&IF((BH101)=74,$BN$74,\"\")&IF((BH101)=75,$BN$75,\"\")&IF((BH101)=76,$BN$76,\"\")&IF((BH101)=77,$BN$77,\"\")&IF((BH101)=78,$BN$78,\"\")&IF((BH101)=79,$BN$79,\"\")&IF((BH101)=80,$BN$80,\"\")&IF((BH101)=81,$BN$81,\"\")&IF((BH101)=82,$BN$82,\"\")&IF((BH101)=83,$BN$83,\"\")&IF((BH101)=84,$BN$84,\"\")&IF((BH101)=85,$BN$85,\"\")&IF((BH101)=86,$BN$86,\"\")&IF((BH101)=87,$BN$87,\"\")&IF((BH101)=88,$BN$88,\"\")&IF((BH101)=89,$BN$89,\"\")&IF((BH101)=90,$BN$90,\"\")&IF((BH101)=91,$BN$91,\"\")&IF((BH101)=92,$BN$92,\"\")&IF((BH101)=93,$BN$93,\"\")&IF((BH101)=94,$BN$94,\"\")&IF((BH101)=95,$BN$95,\"\")&IF((BH101)=96,$BN$96,\"\")&IF((BH101)=97,$BN$97,\"\")&IF((BH101)=98,$BN$98,\"\")&IF((BH101)=99,$BN$99,\"\")&IF((BH101)=100,$BN$100,\"\")&IF((BH101)=101,$BN$101,\"\")&IF((BH101)=102,$BN$102,\"\")&IF((BH101)=103,$BN$103,\"\")&IF((BH101)=104,$BN$104,\"\")&IF((BH101)=105,$BN$105,\"\")&IF((BH101)=106,$BN$106,\"\")&IF((BH101)=107,$BN$107,\"\")&IF((BH101)=108,$BN$108,\"\")&IF((BH101)=109,$BN$109,\"\")&IF((BH101)=110,$BN$110,\"\")&IF((BH101)=111,$BN$111,\"\")&IF((BH101)=112,$BN$112,\"\")&IF((BH101)=113,$BN$113,\"\")&IF((BH101)=114,$BN$114,\"\")&IF((BH101)=115,$BN$115,\"\")&IF((BH101)=116,$BN$116,\"\")&IF((BH101)=117,$BN$117,\"\")&IF((BH101)=118,$BN$118,\"\")&IF((BH101)=119,$BN$119,\"\")&IF((BH101)=120,$BN$120,\"\")&IF((BH101)=121,$BN$121,\"\")&IF((BH101)=122,$BN$122,\"\")&IF((BH101)=123,$BN$123,\"\")&IF((BH101)=124,$BN$124,\"\")&IF((BH101)=125,$BN$125,\"\")&IF((BH101)=126,$BN$126,\"\")&IF((BH101)=127,$BN$127,\"\")&IF((BH101)=128,$BN$128,\"\")","v":""},null,null,null,null,{"$f":"resultat!AL6","v":6},{"$f":"resultat!AM6","v":"jacques"},null,null,null,null,"1 er tour",null,null,null,"Resultat"]
["Terrain",2,null,{"$f":"IF((F102)=1,$BM$1,\"\")&IF((F102)=2,$BM$2,\"\")&IF((F102)=3,$BM$3,\"\")&IF((F102)=4,$BM$4,\"\")&IF((F102)=5,$BM$5,\"\")&IF((F102)=6,$BM$6,\"\")&IF((F102)=7,$BM$7,\"\")&IF((F102)=8,$BM$8,\"\")&IF((F102)=9,$BM$9,\"\")&IF((F102)=10,$BM$10,\"\")&IF((F102)=11,$BM$11,\"\")&IF((F102)=12,$BM$12,\"\")&IF((F102)=13,$BM$13,\"\")&IF((F102)=14,$BM$14,\"\")&IF((F102)=15,$BM$15,\"\")&IF((F102)=16,$BM$16,\"\")&IF((F102)=17,$BM$17,\"\")&IF((F102)=18,$BM$18,\"\")&IF((F102)=19,$BM$19,\"\")&IF((F102)=20,$BM$20,\"\")&IF((F102)=21,$BM$21,\"\")&IF((F102)=22,$BM$22,\"\")&IF((F102)=23,$BM$23,\"\")&IF((F102)=24,$BM$24,\"\")&IF((F102)=25,$BM$25,\"\")&IF((F102)=26,$BM$26,\"\")&IF((F102)=27,$BM$27,\"\")&IF((F102)=28,$BM$28,\"\")&IF((F102)=29,$BM$29,\"\")&IF((F102)=30,$BM$30,\"\")&IF((F102)=31,$BM$31,\"\")&IF((F102)=32,$BM$32,\"\")&IF((F102)=33,$BM$33,\"\")&IF((F102)=34,$BM$34,\"\")&IF((F102)=35,$BM$35,\"\")&IF((F102)=36,$BM$36,\"\")&IF((F102)=37,$BM$37,\"\")&IF((F102)=38,$BM$38,\"\")&IF((F102)=39,$BM$39,\"\")&IF((F102)=40,$BM$40,\"\")&IF((F102)=41,$BM$41,\"\")&IF((F102)=42,$BM$42,\"\")&IF((F102)=43,$BM$43,\"\")&IF((F102)=44,$BM$44,\"\")&IF((F102)=45,$BM$45,\"\")&IF((F102)=46,$BM$46,\"\")&IF((F102)=47,$BM$47,\"\")&IF((F102)=48,$BM$48,\"\")&IF((F102)=49,$BM$49,\"\")&IF((F102)=50,$BM$50,\"\")&IF((F102)=51,$BM$51,\"\")&IF((F102)=52,$BM$52,\"\")&IF((F102)=53,$BM$53,\"\")&IF((F102)=54,$BM$54,\"\")&IF((F102)=55,$BM$55,\"\")&IF((F102)=56,$BM$56,\"\")&IF((F102)=57,$BM$57,\"\")&IF((F102)=58,$BM$58,\"\")&IF((F102)=59,$BM$59,\"\")&IF((F102)=60,$BM$60,\"\")&IF((F102)=61,$BM$61,\"\")&IF((F102)=62,$BM$62,\"\")&IF((F102)=63,$BM$63,\"\")&IF((F102)=64,$BM$64,\"\")&IF((F102)=65,$BM$65,\"\")&IF((F102)=66,$BM$66,\"\")&IF((F102)=67,$BM$67,\"\")&IF((F102)=68,$BM$68,\"\")&IF((F102)=69,$BM$69,\"\")&IF((F102)=70,$BM$70,\"\")&IF((F102)=71,$BM$71,\"\")&IF((F102)=72,$BM$72,\"\")&IF((F102)=73,$BM$73,\"\")&IF((F102)=74,$BM$74,\"\")&IF((F102)=75,$BM$75,\"\")&IF((F102)=76,$BM$76,\"\")&IF((F102)=77,$BM$77,\"\")&IF((F102)=78,$BM$78,\"\")&IF((F102)=79,$BM$79,\"\")&IF((F102)=80,$BM$80,\"\")&IF((F102)=81,$BM$81,\"\")&IF((F102)=82,$BM$82,\"\")&IF((F102)=83,$BM$83,\"\")&IF((F102)=84,$BM$84,\"\")&IF((F102)=85,$BM$85,\"\")&IF((F102)=86,$BM$86,\"\")&IF((F102)=87,$BM$87,\"\")&IF((F102)=88,$BM$88,\"\")&IF((F102)=89,$BM$89,\"\")&IF((F102)=90,$BM$90,\"\")&IF((F102)=91,$BM$91,\"\")&IF((F102)=92,$BM$92,\"\")&IF((F102)=93,$BM$93,\"\")&IF((F102)=94,$BM$94,\"\")&IF((F102)=95,$BM$95,\"\")&IF((F102)=96,$BM$96,\"\")&IF((F102)=97,$BM$97,\"\")&IF((F102)=98,$BM$98,\"\")&IF((F102)=99,$BM$99,\"\")&IF((F102)=100,$BM$100,\"\")&IF((F102)=101,$BM$101,\"\")&IF((F102)=102,$BM$102,\"\")&IF((F102)=103,$BM$103,\"\")&IF((F102)=104,$BM$104,\"\")&IF((F102)=105,$BM$105,\"\")&IF((F102)=106,$BM$106,\"\")&IF((F102)=107,$BM$107,\"\")&IF((F102)=108,$BM$108,\"\")&IF((F102)=109,$BM$109,\"\")&IF((F102)=110,$BM$110,\"\")&IF((F102)=111,$BM$111,\"\")&IF((F102)=112,$BM$112,\"\")&IF((F102)=113,$BM$113,\"\")&IF((F102)=114,$BM$114,\"\")&IF((F102)=115,$BM$115,\"\")&IF((F102)=116,$BM$116,\"\")&IF((F102)=117,$BM$117,\"\")&IF((F102)=118,$BM$118,\"\")&IF((F102)=119,$BM$119,\"\")&IF((F102)=120,$BM$120,\"\")&IF((F102)=121,$BM$121,\"\")&IF((F102)=122,$BM$122,\"\")&IF((F102)=123,$BM$123,\"\")&IF((F102)=124,$BM$124,\"\")&IF((F102)=125,$BM$125,\"\")&IF((F102)=126,$BM$126,\"\")&IF((F102)=127,$BM$127,\"\")&IF((F102)=128,$BM$128,\"\")","v":""},null,{"$f":"IF((F102)=1,$BN$1,\"\")&IF((F102)=2,$BN$2,\"\")&IF((F102)=3,$BN$3,\"\")&IF((F102)=4,$BN$4,\"\")&IF((F102)=5,$BN$5,\"\")&IF((F102)=6,$BN$6,\"\")&IF((F102)=7,$BN$7,\"\")&IF((F102)=8,$BN$8,\"\")&IF((F102)=9,$BN$9,\"\")&IF((F102)=10,$BN$10,\"\")&IF((F102)=11,$BN$11,\"\")&IF((F102)=12,$BN$12,\"\")&IF((F102)=13,$BN$13,\"\")&IF((F102)=14,$BN$14,\"\")&IF((F102)=15,$BN$15,\"\")&IF((F102)=16,$BN$16,\"\")&IF((F102)=17,$BN$17,\"\")&IF((F102)=18,$BN$18,\"\")&IF((F102)=19,$BN$19,\"\")&IF((F102)=20,$BN$20,\"\")&IF((F102)=21,$BN$21,\"\")&IF((F102)=22,$BN$22,\"\")&IF((F102)=23,$BN$23,\"\")&IF((F102)=24,$BN$24,\"\")&IF((F102)=25,$BN$25,\"\")&IF((F102)=26,$BN$26,\"\")&IF((F102)=27,$BN$27,\"\")&IF((F102)=28,$BN$28,\"\")&IF((F102)=29,$BN$29,\"\")&IF((F102)=30,$BN$30,\"\")&IF((F102)=31,$BN$31,\"\")&IF((F102)=32,$BN$32,\"\")&IF((F102)=33,$BN$33,\"\")&IF((F102)=34,$BN$34,\"\")&IF((F102)=35,$BN$35,\"\")&IF((F102)=36,$BN$36,\"\")&IF((F102)=37,$BN$37,\"\")&IF((F102)=38,$BN$38,\"\")&IF((F102)=39,$BN$39,\"\")&IF((F102)=40,$BN$40,\"\")&IF((F102)=41,$BN$41,\"\")&IF((F102)=42,$BN$42,\"\")&IF((F102)=43,$BN$43,\"\")&IF((F102)=44,$BN$44,\"\")&IF((F102)=45,$BN$45,\"\")&IF((F102)=46,$BN$46,\"\")&IF((F102)=47,$BN$47,\"\")&IF((F102)=48,$BN$48,\"\")&IF((F102)=49,$BN$49,\"\")&IF((F102)=50,$BN$50,\"\")&IF((F102)=51,$BN$51,\"\")&IF((F102)=52,$BN$52,\"\")&IF((F102)=53,$BN$53,\"\")&IF((F102)=54,$BN$54,\"\")&IF((F102)=55,$BN$55,\"\")&IF((F102)=56,$BN$56,\"\")&IF((F102)=57,$BN$57,\"\")&IF((F102)=58,$BN$58,\"\")&IF((F102)=59,$BN$59,\"\")&IF((F102)=60,$BN$60,\"\")&IF((F102)=61,$BN$61,\"\")&IF((F102)=62,$BN$62,\"\")&IF((F102)=63,$BN$63,\"\")&IF((F102)=64,$BN$64,\"\")&IF((F102)=65,$BN$65,\"\")&IF((F102)=66,$BN$66,\"\")&IF((F102)=67,$BN$67,\"\")&IF((F102)=68,$BN$68,\"\")&IF((F102)=69,$BN$69,\"\")&IF((F102)=70,$BN$70,\"\")&IF((F102)=71,$BN$71,\"\")&IF((F102)=72,$BN$72,\"\")&IF((F102)=73,$BN$73,\"\")&IF((F102)=74,$BN$74,\"\")&IF((F102)=75,$BN$75,\"\")&IF((F102)=76,$BN$76,\"\")&IF((F102)=77,$BN$77,\"\")&IF((F102)=78,$BN$78,\"\")&IF((F102)=79,$BN$79,\"\")&IF((F102)=80,$BN$80,\"\")&IF((F102)=81,$BN$81,\"\")&IF((F102)=82,$BN$82,\"\")&IF((F102)=83,$BN$83,\"\")&IF((F102)=84,$BN$84,\"\")&IF((F102)=85,$BN$85,\"\")&IF((F102)=86,$BN$86,\"\")&IF((F102)=87,$BN$87,\"\")&IF((F102)=88,$BN$88,\"\")&IF((F102)=89,$BN$89,\"\")&IF((F102)=90,$BN$90,\"\")&IF((F102)=91,$BN$91,\"\")&IF((F102)=92,$BN$92,\"\")&IF((F102)=93,$BN$93,\"\")&IF((F102)=94,$BN$94,\"\")&IF((F102)=95,$BN$95,\"\")&IF((F102)=96,$BN$96,\"\")&IF((F102)=97,$BN$97,\"\")&IF((F102)=98,$BN$98,\"\")&IF((F102)=99,$BN$99,\"\")&IF((F102)=100,$BN$100,\"\")&IF((F102)=101,$BN$101,\"\")&IF((F102)=102,$BN$102,\"\")&IF((F102)=103,$BN$103,\"\")&IF((F102)=104,$BN$104,\"\")&IF((F102)=105,$BN$105,\"\")&IF((F102)=106,$BN$106,\"\")&IF((F102)=107,$BN$107,\"\")&IF((F102)=108,$BN$108,\"\")&IF((F102)=109,$BN$109,\"\")&IF((F102)=110,$BN$110,\"\")&IF((F102)=111,$BN$111,\"\")&IF((F102)=112,$BN$112,\"\")&IF((F102)=113,$BN$113,\"\")&IF((F102)=114,$BN$114,\"\")&IF((F102)=115,$BN$115,\"\")&IF((F102)=116,$BN$116,\"\")&IF((F102)=117,$BN$117,\"\")&IF((F102)=118,$BN$118,\"\")&IF((F102)=119,$BN$119,\"\")&IF((F102)=120,$BN$120,\"\")&IF((F102)=121,$BN$121,\"\")&IF((F102)=122,$BN$122,\"\")&IF((F102)=123,$BN$123,\"\")&IF((F102)=124,$BN$124,\"\")&IF((F102)=125,$BN$125,\"\")&IF((F102)=126,$BN$126,\"\")&IF((F102)=127,$BN$127,\"\")&IF((F102)=128,$BN$128,\"\")","v":""},null,{"$f":"IF((J102)=1,$BM$1,\"\")&IF((J102)=2,$BM$2,\"\")&IF((J102)=3,$BM$3,\"\")&IF((J102)=4,$BM$4,\"\")&IF((J102)=5,$BM$5,\"\")&IF((J102)=6,$BM$6,\"\")&IF((J102)=7,$BM$7,\"\")&IF((J102)=8,$BM$8,\"\")&IF((J102)=9,$BM$9,\"\")&IF((J102)=10,$BM$10,\"\")&IF((J102)=11,$BM$11,\"\")&IF((J102)=12,$BM$12,\"\")&IF((J102)=13,$BM$13,\"\")&IF((J102)=14,$BM$14,\"\")&IF((J102)=15,$BM$15,\"\")&IF((J102)=16,$BM$16,\"\")&IF((J102)=17,$BM$17,\"\")&IF((J102)=18,$BM$18,\"\")&IF((J102)=19,$BM$19,\"\")&IF((J102)=20,$BM$20,\"\")&IF((J102)=21,$BM$21,\"\")&IF((J102)=22,$BM$22,\"\")&IF((J102)=23,$BM$23,\"\")&IF((J102)=24,$BM$24,\"\")&IF((J102)=25,$BM$25,\"\")&IF((J102)=26,$BM$26,\"\")&IF((J102)=27,$BM$27,\"\")&IF((J102)=28,$BM$28,\"\")&IF((J102)=29,$BM$29,\"\")&IF((J102)=30,$BM$30,\"\")&IF((J102)=31,$BM$31,\"\")&IF((J102)=32,$BM$32,\"\")&IF((J102)=33,$BM$33,\"\")&IF((J102)=34,$BM$34,\"\")&IF((J102)=35,$BM$35,\"\")&IF((J102)=36,$BM$36,\"\")&IF((J102)=37,$BM$37,\"\")&IF((J102)=38,$BM$38,\"\")&IF((J102)=39,$BM$39,\"\")&IF((J102)=40,$BM$40,\"\")&IF((J102)=41,$BM$41,\"\")&IF((J102)=42,$BM$42,\"\")&IF((J102)=43,$BM$43,\"\")&IF((J102)=44,$BM$44,\"\")&IF((J102)=45,$BM$45,\"\")&IF((J102)=46,$BM$46,\"\")&IF((J102)=47,$BM$47,\"\")&IF((J102)=48,$BM$48,\"\")&IF((J102)=49,$BM$49,\"\")&IF((J102)=50,$BM$50,\"\")&IF((J102)=51,$BM$51,\"\")&IF((J102)=52,$BM$52,\"\")&IF((J102)=53,$BM$53,\"\")&IF((J102)=54,$BM$54,\"\")&IF((J102)=55,$BM$55,\"\")&IF((J102)=56,$BM$56,\"\")&IF((J102)=57,$BM$57,\"\")&IF((J102)=58,$BM$58,\"\")&IF((J102)=59,$BM$59,\"\")&IF((J102)=60,$BM$60,\"\")&IF((J102)=61,$BM$61,\"\")&IF((J102)=62,$BM$62,\"\")&IF((J102)=63,$BM$63,\"\")&IF((J102)=64,$BM$64,\"\")&IF((J102)=65,$BM$65,\"\")&IF((J102)=66,$BM$66,\"\")&IF((J102)=67,$BM$67,\"\")&IF((J102)=68,$BM$68,\"\")&IF((J102)=69,$BM$69,\"\")&IF((J102)=70,$BM$70,\"\")&IF((J102)=71,$BM$71,\"\")&IF((J102)=72,$BM$72,\"\")&IF((J102)=73,$BM$73,\"\")&IF((J102)=74,$BM$74,\"\")&IF((J102)=75,$BM$75,\"\")&IF((J102)=76,$BM$76,\"\")&IF((J102)=77,$BM$77,\"\")&IF((J102)=78,$BM$78,\"\")&IF((J102)=79,$BM$79,\"\")&IF((J102)=80,$BM$80,\"\")&IF((J102)=81,$BM$81,\"\")&IF((J102)=82,$BM$82,\"\")&IF((J102)=83,$BM$83,\"\")&IF((J102)=84,$BM$84,\"\")&IF((J102)=85,$BM$85,\"\")&IF((J102)=86,$BM$86,\"\")&IF((J102)=87,$BM$87,\"\")&IF((J102)=88,$BM$88,\"\")&IF((J102)=89,$BM$89,\"\")&IF((J102)=90,$BM$90,\"\")&IF((J102)=91,$BM$91,\"\")&IF((J102)=92,$BM$92,\"\")&IF((J102)=93,$BM$93,\"\")&IF((J102)=94,$BM$94,\"\")&IF((J102)=95,$BM$95,\"\")&IF((J102)=96,$BM$96,\"\")&IF((J102)=97,$BM$97,\"\")&IF((J102)=98,$BM$98,\"\")&IF((J102)=99,$BM$99,\"\")&IF((J102)=100,$BM$100,\"\")&IF((J102)=101,$BM$101,\"\")&IF((J102)=102,$BM$102,\"\")&IF((J102)=103,$BM$103,\"\")&IF((J102)=104,$BM$104,\"\")&IF((J102)=105,$BM$105,\"\")&IF((J102)=106,$BM$106,\"\")&IF((J102)=107,$BM$107,\"\")&IF((J102)=108,$BM$108,\"\")&IF((J102)=109,$BM$109,\"\")&IF((J102)=110,$BM$110,\"\")&IF((J102)=111,$BM$111,\"\")&IF((J102)=112,$BM$112,\"\")&IF((J102)=113,$BM$113,\"\")&IF((J102)=114,$BM$114,\"\")&IF((J102)=115,$BM$115,\"\")&IF((J102)=116,$BM$116,\"\")&IF((J102)=117,$BM$117,\"\")&IF((J102)=118,$BM$118,\"\")&IF((J102)=119,$BM$119,\"\")&IF((J102)=120,$BM$120,\"\")&IF((J102)=121,$BM$121,\"\")&IF((J102)=122,$BM$122,\"\")&IF((J102)=123,$BM$123,\"\")&IF((J102)=124,$BM$124,\"\")&IF((J102)=125,$BM$125,\"\")&IF((J102)=126,$BM$126,\"\")&IF((J102)=127,$BM$127,\"\")&IF((J102)=128,$BM$128,\"\")","v":""},null,{"$f":"IF((J102)=1,$BN$1,\"\")&IF((J102)=2,$BN$2,\"\")&IF((J102)=3,$BN$3,\"\")&IF((J102)=4,$BN$4,\"\")&IF((J102)=5,$BN$5,\"\")&IF((J102)=6,$BN$6,\"\")&IF((J102)=7,$BN$7,\"\")&IF((J102)=8,$BN$8,\"\")&IF((J102)=9,$BN$9,\"\")&IF((J102)=10,$BN$10,\"\")&IF((J102)=11,$BN$11,\"\")&IF((J102)=12,$BN$12,\"\")&IF((J102)=13,$BN$13,\"\")&IF((J102)=14,$BN$14,\"\")&IF((J102)=15,$BN$15,\"\")&IF((J102)=16,$BN$16,\"\")&IF((J102)=17,$BN$17,\"\")&IF((J102)=18,$BN$18,\"\")&IF((J102)=19,$BN$19,\"\")&IF((J102)=20,$BN$20,\"\")&IF((J102)=21,$BN$21,\"\")&IF((J102)=22,$BN$22,\"\")&IF((J102)=23,$BN$23,\"\")&IF((J102)=24,$BN$24,\"\")&IF((J102)=25,$BN$25,\"\")&IF((J102)=26,$BN$26,\"\")&IF((J102)=27,$BN$27,\"\")&IF((J102)=28,$BN$28,\"\")&IF((J102)=29,$BN$29,\"\")&IF((J102)=30,$BN$30,\"\")&IF((J102)=31,$BN$31,\"\")&IF((J102)=32,$BN$32,\"\")&IF((J102)=33,$BN$33,\"\")&IF((J102)=34,$BN$34,\"\")&IF((J102)=35,$BN$35,\"\")&IF((J102)=36,$BN$36,\"\")&IF((J102)=37,$BN$37,\"\")&IF((J102)=38,$BN$38,\"\")&IF((J102)=39,$BN$39,\"\")&IF((J102)=40,$BN$40,\"\")&IF((J102)=41,$BN$41,\"\")&IF((J102)=42,$BN$42,\"\")&IF((J102)=43,$BN$43,\"\")&IF((J102)=44,$BN$44,\"\")&IF((J102)=45,$BN$45,\"\")&IF((J102)=46,$BN$46,\"\")&IF((J102)=47,$BN$47,\"\")&IF((J102)=48,$BN$48,\"\")&IF((J102)=49,$BN$49,\"\")&IF((J102)=50,$BN$50,\"\")&IF((J102)=51,$BN$51,\"\")&IF((J102)=52,$BN$52,\"\")&IF((J102)=53,$BN$53,\"\")&IF((J102)=54,$BN$54,\"\")&IF((J102)=55,$BN$55,\"\")&IF((J102)=56,$BN$56,\"\")&IF((J102)=57,$BN$57,\"\")&IF((J102)=58,$BN$58,\"\")&IF((J102)=59,$BN$59,\"\")&IF((J102)=60,$BN$60,\"\")&IF((J102)=61,$BN$61,\"\")&IF((J102)=62,$BN$62,\"\")&IF((J102)=63,$BN$63,\"\")&IF((J102)=64,$BN$64,\"\")&IF((J102)=65,$BN$65,\"\")&IF((J102)=66,$BN$66,\"\")&IF((J102)=67,$BN$67,\"\")&IF((J102)=68,$BN$68,\"\")&IF((J102)=69,$BN$69,\"\")&IF((J102)=70,$BN$70,\"\")&IF((J102)=71,$BN$71,\"\")&IF((J102)=72,$BN$72,\"\")&IF((J102)=73,$BN$73,\"\")&IF((J102)=74,$BN$74,\"\")&IF((J102)=75,$BN$75,\"\")&IF((J102)=76,$BN$76,\"\")&IF((J102)=77,$BN$77,\"\")&IF((J102)=78,$BN$78,\"\")&IF((J102)=79,$BN$79,\"\")&IF((J102)=80,$BN$80,\"\")&IF((J102)=81,$BN$81,\"\")&IF((J102)=82,$BN$82,\"\")&IF((J102)=83,$BN$83,\"\")&IF((J102)=84,$BN$84,\"\")&IF((J102)=85,$BN$85,\"\")&IF((J102)=86,$BN$86,\"\")&IF((J102)=87,$BN$87,\"\")&IF((J102)=88,$BN$88,\"\")&IF((J102)=89,$BN$89,\"\")&IF((J102)=90,$BN$90,\"\")&IF((J102)=91,$BN$91,\"\")&IF((J102)=92,$BN$92,\"\")&IF((J102)=93,$BN$93,\"\")&IF((J102)=94,$BN$94,\"\")&IF((J102)=95,$BN$95,\"\")&IF((J102)=96,$BN$96,\"\")&IF((J102)=97,$BN$97,\"\")&IF((J102)=98,$BN$98,\"\")&IF((J102)=99,$BN$99,\"\")&IF((J102)=100,$BN$100,\"\")&IF((J102)=101,$BN$101,\"\")&IF((J102)=102,$BN$102,\"\")&IF((J102)=103,$BN$103,\"\")&IF((J102)=104,$BN$104,\"\")&IF((J102)=105,$BN$105,\"\")&IF((J102)=106,$BN$106,\"\")&IF((J102)=107,$BN$107,\"\")&IF((J102)=108,$BN$108,\"\")&IF((J102)=109,$BN$109,\"\")&IF((J102)=110,$BN$110,\"\")&IF((J102)=111,$BN$111,\"\")&IF((J102)=112,$BN$112,\"\")&IF((J102)=113,$BN$113,\"\")&IF((J102)=114,$BN$114,\"\")&IF((J102)=115,$BN$115,\"\")&IF((J102)=116,$BN$116,\"\")&IF((J102)=117,$BN$117,\"\")&IF((J102)=118,$BN$118,\"\")&IF((J102)=119,$BN$119,\"\")&IF((J102)=120,$BN$120,\"\")&IF((J102)=121,$BN$121,\"\")&IF((J102)=122,$BN$122,\"\")&IF((J102)=123,$BN$123,\"\")&IF((J102)=124,$BN$124,\"\")&IF((J102)=125,$BN$125,\"\")&IF((J102)=126,$BN$126,\"\")&IF((J102)=127,$BN$127,\"\")&IF((J102)=128,$BN$128,\"\")","v":""},null,null,null,{"$f":"IF((P102)=1,$BM$1,\"\")&IF((P102)=2,$BM$2,\"\")&IF((P102)=3,$BM$3,\"\")&IF((P102)=4,$BM$4,\"\")&IF((P102)=5,$BM$5,\"\")&IF((P102)=6,$BM$6,\"\")&IF((P102)=7,$BM$7,\"\")&IF((P102)=8,$BM$8,\"\")&IF((P102)=9,$BM$9,\"\")&IF((P102)=10,$BM$10,\"\")&IF((P102)=11,$BM$11,\"\")&IF((P102)=12,$BM$12,\"\")&IF((P102)=13,$BM$13,\"\")&IF((P102)=14,$BM$14,\"\")&IF((P102)=15,$BM$15,\"\")&IF((P102)=16,$BM$16,\"\")&IF((P102)=17,$BM$17,\"\")&IF((P102)=18,$BM$18,\"\")&IF((P102)=19,$BM$19,\"\")&IF((P102)=20,$BM$20,\"\")&IF((P102)=21,$BM$21,\"\")&IF((P102)=22,$BM$22,\"\")&IF((P102)=23,$BM$23,\"\")&IF((P102)=24,$BM$24,\"\")&IF((P102)=25,$BM$25,\"\")&IF((P102)=26,$BM$26,\"\")&IF((P102)=27,$BM$27,\"\")&IF((P102)=28,$BM$28,\"\")&IF((P102)=29,$BM$29,\"\")&IF((P102)=30,$BM$30,\"\")&IF((P102)=31,$BM$31,\"\")&IF((P102)=32,$BM$32,\"\")&IF((P102)=33,$BM$33,\"\")&IF((P102)=34,$BM$34,\"\")&IF((P102)=35,$BM$35,\"\")&IF((P102)=36,$BM$36,\"\")&IF((P102)=37,$BM$37,\"\")&IF((P102)=38,$BM$38,\"\")&IF((P102)=39,$BM$39,\"\")&IF((P102)=40,$BM$40,\"\")&IF((P102)=41,$BM$41,\"\")&IF((P102)=42,$BM$42,\"\")&IF((P102)=43,$BM$43,\"\")&IF((P102)=44,$BM$44,\"\")&IF((P102)=45,$BM$45,\"\")&IF((P102)=46,$BM$46,\"\")&IF((P102)=47,$BM$47,\"\")&IF((P102)=48,$BM$48,\"\")&IF((P102)=49,$BM$49,\"\")&IF((P102)=50,$BM$50,\"\")&IF((P102)=51,$BM$51,\"\")&IF((P102)=52,$BM$52,\"\")&IF((P102)=53,$BM$53,\"\")&IF((P102)=54,$BM$54,\"\")&IF((P102)=55,$BM$55,\"\")&IF((P102)=56,$BM$56,\"\")&IF((P102)=57,$BM$57,\"\")&IF((P102)=58,$BM$58,\"\")&IF((P102)=59,$BM$59,\"\")&IF((P102)=60,$BM$60,\"\")&IF((P102)=61,$BM$61,\"\")&IF((P102)=62,$BM$62,\"\")&IF((P102)=63,$BM$63,\"\")&IF((P102)=64,$BM$64,\"\")&IF((P102)=65,$BM$65,\"\")&IF((P102)=66,$BM$66,\"\")&IF((P102)=67,$BM$67,\"\")&IF((P102)=68,$BM$68,\"\")&IF((P102)=69,$BM$69,\"\")&IF((P102)=70,$BM$70,\"\")&IF((P102)=71,$BM$71,\"\")&IF((P102)=72,$BM$72,\"\")&IF((P102)=73,$BM$73,\"\")&IF((P102)=74,$BM$74,\"\")&IF((P102)=75,$BM$75,\"\")&IF((P102)=76,$BM$76,\"\")&IF((P102)=77,$BM$77,\"\")&IF((P102)=78,$BM$78,\"\")&IF((P102)=79,$BM$79,\"\")&IF((P102)=80,$BM$80,\"\")&IF((P102)=81,$BM$81,\"\")&IF((P102)=82,$BM$82,\"\")&IF((P102)=83,$BM$83,\"\")&IF((P102)=84,$BM$84,\"\")&IF((P102)=85,$BM$85,\"\")&IF((P102)=86,$BM$86,\"\")&IF((P102)=87,$BM$87,\"\")&IF((P102)=88,$BM$88,\"\")&IF((P102)=89,$BM$89,\"\")&IF((P102)=90,$BM$90,\"\")&IF((P102)=91,$BM$91,\"\")&IF((P102)=92,$BM$92,\"\")&IF((P102)=93,$BM$93,\"\")&IF((P102)=94,$BM$94,\"\")&IF((P102)=95,$BM$95,\"\")&IF((P102)=96,$BM$96,\"\")&IF((P102)=97,$BM$97,\"\")&IF((P102)=98,$BM$98,\"\")&IF((P102)=99,$BM$99,\"\")&IF((P102)=100,$BM$100,\"\")&IF((P102)=101,$BM$101,\"\")&IF((P102)=102,$BM$102,\"\")&IF((P102)=103,$BM$103,\"\")&IF((P102)=104,$BM$104,\"\")&IF((P102)=105,$BM$105,\"\")&IF((P102)=106,$BM$106,\"\")&IF((P102)=107,$BM$107,\"\")&IF((P102)=108,$BM$108,\"\")&IF((P102)=109,$BM$109,\"\")&IF((P102)=110,$BM$110,\"\")&IF((P102)=111,$BM$111,\"\")&IF((P102)=112,$BM$112,\"\")&IF((P102)=113,$BM$113,\"\")&IF((P102)=114,$BM$114,\"\")&IF((P102)=115,$BM$115,\"\")&IF((P102)=116,$BM$116,\"\")&IF((P102)=117,$BM$117,\"\")&IF((P102)=118,$BM$118,\"\")&IF((P102)=119,$BM$119,\"\")&IF((P102)=120,$BM$120,\"\")&IF((P102)=121,$BM$121,\"\")&IF((P102)=122,$BM$122,\"\")&IF((P102)=123,$BM$123,\"\")&IF((P102)=124,$BM$124,\"\")&IF((P102)=125,$BM$125,\"\")&IF((P102)=126,$BM$126,\"\")&IF((P102)=127,$BM$127,\"\")&IF((P102)=128,$BM$128,\"\")","v":""},null,{"$f":"IF((P102)=1,$BN$1,\"\")&IF((P102)=2,$BN$2,\"\")&IF((P102)=3,$BN$3,\"\")&IF((P102)=4,$BN$4,\"\")&IF((P102)=5,$BN$5,\"\")&IF((P102)=6,$BN$6,\"\")&IF((P102)=7,$BN$7,\"\")&IF((P102)=8,$BN$8,\"\")&IF((P102)=9,$BN$9,\"\")&IF((P102)=10,$BN$10,\"\")&IF((P102)=11,$BN$11,\"\")&IF((P102)=12,$BN$12,\"\")&IF((P102)=13,$BN$13,\"\")&IF((P102)=14,$BN$14,\"\")&IF((P102)=15,$BN$15,\"\")&IF((P102)=16,$BN$16,\"\")&IF((P102)=17,$BN$17,\"\")&IF((P102)=18,$BN$18,\"\")&IF((P102)=19,$BN$19,\"\")&IF((P102)=20,$BN$20,\"\")&IF((P102)=21,$BN$21,\"\")&IF((P102)=22,$BN$22,\"\")&IF((P102)=23,$BN$23,\"\")&IF((P102)=24,$BN$24,\"\")&IF((P102)=25,$BN$25,\"\")&IF((P102)=26,$BN$26,\"\")&IF((P102)=27,$BN$27,\"\")&IF((P102)=28,$BN$28,\"\")&IF((P102)=29,$BN$29,\"\")&IF((P102)=30,$BN$30,\"\")&IF((P102)=31,$BN$31,\"\")&IF((P102)=32,$BN$32,\"\")&IF((P102)=33,$BN$33,\"\")&IF((P102)=34,$BN$34,\"\")&IF((P102)=35,$BN$35,\"\")&IF((P102)=36,$BN$36,\"\")&IF((P102)=37,$BN$37,\"\")&IF((P102)=38,$BN$38,\"\")&IF((P102)=39,$BN$39,\"\")&IF((P102)=40,$BN$40,\"\")&IF((P102)=41,$BN$41,\"\")&IF((P102)=42,$BN$42,\"\")&IF((P102)=43,$BN$43,\"\")&IF((P102)=44,$BN$44,\"\")&IF((P102)=45,$BN$45,\"\")&IF((P102)=46,$BN$46,\"\")&IF((P102)=47,$BN$47,\"\")&IF((P102)=48,$BN$48,\"\")&IF((P102)=49,$BN$49,\"\")&IF((P102)=50,$BN$50,\"\")&IF((P102)=51,$BN$51,\"\")&IF((P102)=52,$BN$52,\"\")&IF((P102)=53,$BN$53,\"\")&IF((P102)=54,$BN$54,\"\")&IF((P102)=55,$BN$55,\"\")&IF((P102)=56,$BN$56,\"\")&IF((P102)=57,$BN$57,\"\")&IF((P102)=58,$BN$58,\"\")&IF((P102)=59,$BN$59,\"\")&IF((P102)=60,$BN$60,\"\")&IF((P102)=61,$BN$61,\"\")&IF((P102)=62,$BN$62,\"\")&IF((P102)=63,$BN$63,\"\")&IF((P102)=64,$BN$64,\"\")&IF((P102)=65,$BN$65,\"\")&IF((P102)=66,$BN$66,\"\")&IF((P102)=67,$BN$67,\"\")&IF((P102)=68,$BN$68,\"\")&IF((P102)=69,$BN$69,\"\")&IF((P102)=70,$BN$70,\"\")&IF((P102)=71,$BN$71,\"\")&IF((P102)=72,$BN$72,\"\")&IF((P102)=73,$BN$73,\"\")&IF((P102)=74,$BN$74,\"\")&IF((P102)=75,$BN$75,\"\")&IF((P102)=76,$BN$76,\"\")&IF((P102)=77,$BN$77,\"\")&IF((P102)=78,$BN$78,\"\")&IF((P102)=79,$BN$79,\"\")&IF((P102)=80,$BN$80,\"\")&IF((P102)=81,$BN$81,\"\")&IF((P102)=82,$BN$82,\"\")&IF((P102)=83,$BN$83,\"\")&IF((P102)=84,$BN$84,\"\")&IF((P102)=85,$BN$85,\"\")&IF((P102)=86,$BN$86,\"\")&IF((P102)=87,$BN$87,\"\")&IF((P102)=88,$BN$88,\"\")&IF((P102)=89,$BN$89,\"\")&IF((P102)=90,$BN$90,\"\")&IF((P102)=91,$BN$91,\"\")&IF((P102)=92,$BN$92,\"\")&IF((P102)=93,$BN$93,\"\")&IF((P102)=94,$BN$94,\"\")&IF((P102)=95,$BN$95,\"\")&IF((P102)=96,$BN$96,\"\")&IF((P102)=97,$BN$97,\"\")&IF((P102)=98,$BN$98,\"\")&IF((P102)=99,$BN$99,\"\")&IF((P102)=100,$BN$100,\"\")&IF((P102)=101,$BN$101,\"\")&IF((P102)=102,$BN$102,\"\")&IF((P102)=103,$BN$103,\"\")&IF((P102)=104,$BN$104,\"\")&IF((P102)=105,$BN$105,\"\")&IF((P102)=106,$BN$106,\"\")&IF((P102)=107,$BN$107,\"\")&IF((P102)=108,$BN$108,\"\")&IF((P102)=109,$BN$109,\"\")&IF((P102)=110,$BN$110,\"\")&IF((P102)=111,$BN$111,\"\")&IF((P102)=112,$BN$112,\"\")&IF((P102)=113,$BN$113,\"\")&IF((P102)=114,$BN$114,\"\")&IF((P102)=115,$BN$115,\"\")&IF((P102)=116,$BN$116,\"\")&IF((P102)=117,$BN$117,\"\")&IF((P102)=118,$BN$118,\"\")&IF((P102)=119,$BN$119,\"\")&IF((P102)=120,$BN$120,\"\")&IF((P102)=121,$BN$121,\"\")&IF((P102)=122,$BN$122,\"\")&IF((P102)=123,$BN$123,\"\")&IF((P102)=124,$BN$124,\"\")&IF((P102)=125,$BN$125,\"\")&IF((P102)=126,$BN$126,\"\")&IF((P102)=127,$BN$127,\"\")&IF((P102)=128,$BN$128,\"\")","v":""},null,{"$f":"IF((T102)=1,$BM$1,\"\")&IF((T102)=2,$BM$2,\"\")&IF((T102)=3,$BM$3,\"\")&IF((T102)=4,$BM$4,\"\")&IF((T102)=5,$BM$5,\"\")&IF((T102)=6,$BM$6,\"\")&IF((T102)=7,$BM$7,\"\")&IF((T102)=8,$BM$8,\"\")&IF((T102)=9,$BM$9,\"\")&IF((T102)=10,$BM$10,\"\")&IF((T102)=11,$BM$11,\"\")&IF((T102)=12,$BM$12,\"\")&IF((T102)=13,$BM$13,\"\")&IF((T102)=14,$BM$14,\"\")&IF((T102)=15,$BM$15,\"\")&IF((T102)=16,$BM$16,\"\")&IF((T102)=17,$BM$17,\"\")&IF((T102)=18,$BM$18,\"\")&IF((T102)=19,$BM$19,\"\")&IF((T102)=20,$BM$20,\"\")&IF((T102)=21,$BM$21,\"\")&IF((T102)=22,$BM$22,\"\")&IF((T102)=23,$BM$23,\"\")&IF((T102)=24,$BM$24,\"\")&IF((T102)=25,$BM$25,\"\")&IF((T102)=26,$BM$26,\"\")&IF((T102)=27,$BM$27,\"\")&IF((T102)=28,$BM$28,\"\")&IF((T102)=29,$BM$29,\"\")&IF((T102)=30,$BM$30,\"\")&IF((T102)=31,$BM$31,\"\")&IF((T102)=32,$BM$32,\"\")&IF((T102)=33,$BM$33,\"\")&IF((T102)=34,$BM$34,\"\")&IF((T102)=35,$BM$35,\"\")&IF((T102)=36,$BM$36,\"\")&IF((T102)=37,$BM$37,\"\")&IF((T102)=38,$BM$38,\"\")&IF((T102)=39,$BM$39,\"\")&IF((T102)=40,$BM$40,\"\")&IF((T102)=41,$BM$41,\"\")&IF((T102)=42,$BM$42,\"\")&IF((T102)=43,$BM$43,\"\")&IF((T102)=44,$BM$44,\"\")&IF((T102)=45,$BM$45,\"\")&IF((T102)=46,$BM$46,\"\")&IF((T102)=47,$BM$47,\"\")&IF((T102)=48,$BM$48,\"\")&IF((T102)=49,$BM$49,\"\")&IF((T102)=50,$BM$50,\"\")&IF((T102)=51,$BM$51,\"\")&IF((T102)=52,$BM$52,\"\")&IF((T102)=53,$BM$53,\"\")&IF((T102)=54,$BM$54,\"\")&IF((T102)=55,$BM$55,\"\")&IF((T102)=56,$BM$56,\"\")&IF((T102)=57,$BM$57,\"\")&IF((T102)=58,$BM$58,\"\")&IF((T102)=59,$BM$59,\"\")&IF((T102)=60,$BM$60,\"\")&IF((T102)=61,$BM$61,\"\")&IF((T102)=62,$BM$62,\"\")&IF((T102)=63,$BM$63,\"\")&IF((T102)=64,$BM$64,\"\")&IF((T102)=65,$BM$65,\"\")&IF((T102)=66,$BM$66,\"\")&IF((T102)=67,$BM$67,\"\")&IF((T102)=68,$BM$68,\"\")&IF((T102)=69,$BM$69,\"\")&IF((T102)=70,$BM$70,\"\")&IF((T102)=71,$BM$71,\"\")&IF((T102)=72,$BM$72,\"\")&IF((T102)=73,$BM$73,\"\")&IF((T102)=74,$BM$74,\"\")&IF((T102)=75,$BM$75,\"\")&IF((T102)=76,$BM$76,\"\")&IF((T102)=77,$BM$77,\"\")&IF((T102)=78,$BM$78,\"\")&IF((T102)=79,$BM$79,\"\")&IF((T102)=80,$BM$80,\"\")&IF((T102)=81,$BM$81,\"\")&IF((T102)=82,$BM$82,\"\")&IF((T102)=83,$BM$83,\"\")&IF((T102)=84,$BM$84,\"\")&IF((T102)=85,$BM$85,\"\")&IF((T102)=86,$BM$86,\"\")&IF((T102)=87,$BM$87,\"\")&IF((T102)=88,$BM$88,\"\")&IF((T102)=89,$BM$89,\"\")&IF((T102)=90,$BM$90,\"\")&IF((T102)=91,$BM$91,\"\")&IF((T102)=92,$BM$92,\"\")&IF((T102)=93,$BM$93,\"\")&IF((T102)=94,$BM$94,\"\")&IF((T102)=95,$BM$95,\"\")&IF((T102)=96,$BM$96,\"\")&IF((T102)=97,$BM$97,\"\")&IF((T102)=98,$BM$98,\"\")&IF((T102)=99,$BM$99,\"\")&IF((T102)=100,$BM$100,\"\")&IF((T102)=101,$BM$101,\"\")&IF((T102)=102,$BM$102,\"\")&IF((T102)=103,$BM$103,\"\")&IF((T102)=104,$BM$104,\"\")&IF((T102)=105,$BM$105,\"\")&IF((T102)=106,$BM$106,\"\")&IF((T102)=107,$BM$107,\"\")&IF((T102)=108,$BM$108,\"\")&IF((T102)=109,$BM$109,\"\")&IF((T102)=110,$BM$110,\"\")&IF((T102)=111,$BM$111,\"\")&IF((T102)=112,$BM$112,\"\")&IF((T102)=113,$BM$113,\"\")&IF((T102)=114,$BM$114,\"\")&IF((T102)=115,$BM$115,\"\")&IF((T102)=116,$BM$116,\"\")&IF((T102)=117,$BM$117,\"\")&IF((T102)=118,$BM$118,\"\")&IF((T102)=119,$BM$119,\"\")&IF((T102)=120,$BM$120,\"\")&IF((T102)=121,$BM$121,\"\")&IF((T102)=122,$BM$122,\"\")&IF((T102)=123,$BM$123,\"\")&IF((T102)=124,$BM$124,\"\")&IF((T102)=125,$BM$125,\"\")&IF((T102)=126,$BM$126,\"\")&IF((T102)=127,$BM$127,\"\")&IF((T102)=128,$BM$128,\"\")","v":""},null,{"$f":"IF((T102)=1,$BN$1,\"\")&IF((T102)=2,$BN$2,\"\")&IF((T102)=3,$BN$3,\"\")&IF((T102)=4,$BN$4,\"\")&IF((T102)=5,$BN$5,\"\")&IF((T102)=6,$BN$6,\"\")&IF((T102)=7,$BN$7,\"\")&IF((T102)=8,$BN$8,\"\")&IF((T102)=9,$BN$9,\"\")&IF((T102)=10,$BN$10,\"\")&IF((T102)=11,$BN$11,\"\")&IF((T102)=12,$BN$12,\"\")&IF((T102)=13,$BN$13,\"\")&IF((T102)=14,$BN$14,\"\")&IF((T102)=15,$BN$15,\"\")&IF((T102)=16,$BN$16,\"\")&IF((T102)=17,$BN$17,\"\")&IF((T102)=18,$BN$18,\"\")&IF((T102)=19,$BN$19,\"\")&IF((T102)=20,$BN$20,\"\")&IF((T102)=21,$BN$21,\"\")&IF((T102)=22,$BN$22,\"\")&IF((T102)=23,$BN$23,\"\")&IF((T102)=24,$BN$24,\"\")&IF((T102)=25,$BN$25,\"\")&IF((T102)=26,$BN$26,\"\")&IF((T102)=27,$BN$27,\"\")&IF((T102)=28,$BN$28,\"\")&IF((T102)=29,$BN$29,\"\")&IF((T102)=30,$BN$30,\"\")&IF((T102)=31,$BN$31,\"\")&IF((T102)=32,$BN$32,\"\")&IF((T102)=33,$BN$33,\"\")&IF((T102)=34,$BN$34,\"\")&IF((T102)=35,$BN$35,\"\")&IF((T102)=36,$BN$36,\"\")&IF((T102)=37,$BN$37,\"\")&IF((T102)=38,$BN$38,\"\")&IF((T102)=39,$BN$39,\"\")&IF((T102)=40,$BN$40,\"\")&IF((T102)=41,$BN$41,\"\")&IF((T102)=42,$BN$42,\"\")&IF((T102)=43,$BN$43,\"\")&IF((T102)=44,$BN$44,\"\")&IF((T102)=45,$BN$45,\"\")&IF((T102)=46,$BN$46,\"\")&IF((T102)=47,$BN$47,\"\")&IF((T102)=48,$BN$48,\"\")&IF((T102)=49,$BN$49,\"\")&IF((T102)=50,$BN$50,\"\")&IF((T102)=51,$BN$51,\"\")&IF((T102)=52,$BN$52,\"\")&IF((T102)=53,$BN$53,\"\")&IF((T102)=54,$BN$54,\"\")&IF((T102)=55,$BN$55,\"\")&IF((T102)=56,$BN$56,\"\")&IF((T102)=57,$BN$57,\"\")&IF((T102)=58,$BN$58,\"\")&IF((T102)=59,$BN$59,\"\")&IF((T102)=60,$BN$60,\"\")&IF((T102)=61,$BN$61,\"\")&IF((T102)=62,$BN$62,\"\")&IF((T102)=63,$BN$63,\"\")&IF((T102)=64,$BN$64,\"\")&IF((T102)=65,$BN$65,\"\")&IF((T102)=66,$BN$66,\"\")&IF((T102)=67,$BN$67,\"\")&IF((T102)=68,$BN$68,\"\")&IF((T102)=69,$BN$69,\"\")&IF((T102)=70,$BN$70,\"\")&IF((T102)=71,$BN$71,\"\")&IF((T102)=72,$BN$72,\"\")&IF((T102)=73,$BN$73,\"\")&IF((T102)=74,$BN$74,\"\")&IF((T102)=75,$BN$75,\"\")&IF((T102)=76,$BN$76,\"\")&IF((T102)=77,$BN$77,\"\")&IF((T102)=78,$BN$78,\"\")&IF((T102)=79,$BN$79,\"\")&IF((T102)=80,$BN$80,\"\")&IF((T102)=81,$BN$81,\"\")&IF((T102)=82,$BN$82,\"\")&IF((T102)=83,$BN$83,\"\")&IF((T102)=84,$BN$84,\"\")&IF((T102)=85,$BN$85,\"\")&IF((T102)=86,$BN$86,\"\")&IF((T102)=87,$BN$87,\"\")&IF((T102)=88,$BN$88,\"\")&IF((T102)=89,$BN$89,\"\")&IF((T102)=90,$BN$90,\"\")&IF((T102)=91,$BN$91,\"\")&IF((T102)=92,$BN$92,\"\")&IF((T102)=93,$BN$93,\"\")&IF((T102)=94,$BN$94,\"\")&IF((T102)=95,$BN$95,\"\")&IF((T102)=96,$BN$96,\"\")&IF((T102)=97,$BN$97,\"\")&IF((T102)=98,$BN$98,\"\")&IF((T102)=99,$BN$99,\"\")&IF((T102)=100,$BN$100,\"\")&IF((T102)=101,$BN$101,\"\")&IF((T102)=102,$BN$102,\"\")&IF((T102)=103,$BN$103,\"\")&IF((T102)=104,$BN$104,\"\")&IF((T102)=105,$BN$105,\"\")&IF((T102)=106,$BN$106,\"\")&IF((T102)=107,$BN$107,\"\")&IF((T102)=108,$BN$108,\"\")&IF((T102)=109,$BN$109,\"\")&IF((T102)=110,$BN$110,\"\")&IF((T102)=111,$BN$111,\"\")&IF((T102)=112,$BN$112,\"\")&IF((T102)=113,$BN$113,\"\")&IF((T102)=114,$BN$114,\"\")&IF((T102)=115,$BN$115,\"\")&IF((T102)=116,$BN$116,\"\")&IF((T102)=117,$BN$117,\"\")&IF((T102)=118,$BN$118,\"\")&IF((T102)=119,$BN$119,\"\")&IF((T102)=120,$BN$120,\"\")&IF((T102)=121,$BN$121,\"\")&IF((T102)=122,$BN$122,\"\")&IF((T102)=123,$BN$123,\"\")&IF((T102)=124,$BN$124,\"\")&IF((T102)=125,$BN$125,\"\")&IF((T102)=126,$BN$126,\"\")&IF((T102)=127,$BN$127,\"\")&IF((T102)=128,$BN$128,\"\")","v":""},null,null,null,{"$f":"IF((Z102)=1,$BM$1,\"\")&IF((Z102)=2,$BM$2,\"\")&IF((Z102)=3,$BM$3,\"\")&IF((Z102)=4,$BM$4,\"\")&IF((Z102)=5,$BM$5,\"\")&IF((Z102)=6,$BM$6,\"\")&IF((Z102)=7,$BM$7,\"\")&IF((Z102)=8,$BM$8,\"\")&IF((Z102)=9,$BM$9,\"\")&IF((Z102)=10,$BM$10,\"\")&IF((Z102)=11,$BM$11,\"\")&IF((Z102)=12,$BM$12,\"\")&IF((Z102)=13,$BM$13,\"\")&IF((Z102)=14,$BM$14,\"\")&IF((Z102)=15,$BM$15,\"\")&IF((Z102)=16,$BM$16,\"\")&IF((Z102)=17,$BM$17,\"\")&IF((Z102)=18,$BM$18,\"\")&IF((Z102)=19,$BM$19,\"\")&IF((Z102)=20,$BM$20,\"\")&IF((Z102)=21,$BM$21,\"\")&IF((Z102)=22,$BM$22,\"\")&IF((Z102)=23,$BM$23,\"\")&IF((Z102)=24,$BM$24,\"\")&IF((Z102)=25,$BM$25,\"\")&IF((Z102)=26,$BM$26,\"\")&IF((Z102)=27,$BM$27,\"\")&IF((Z102)=28,$BM$28,\"\")&IF((Z102)=29,$BM$29,\"\")&IF((Z102)=30,$BM$30,\"\")&IF((Z102)=31,$BM$31,\"\")&IF((Z102)=32,$BM$32,\"\")&IF((Z102)=33,$BM$33,\"\")&IF((Z102)=34,$BM$34,\"\")&IF((Z102)=35,$BM$35,\"\")&IF((Z102)=36,$BM$36,\"\")&IF((Z102)=37,$BM$37,\"\")&IF((Z102)=38,$BM$38,\"\")&IF((Z102)=39,$BM$39,\"\")&IF((Z102)=40,$BM$40,\"\")&IF((Z102)=41,$BM$41,\"\")&IF((Z102)=42,$BM$42,\"\")&IF((Z102)=43,$BM$43,\"\")&IF((Z102)=44,$BM$44,\"\")&IF((Z102)=45,$BM$45,\"\")&IF((Z102)=46,$BM$46,\"\")&IF((Z102)=47,$BM$47,\"\")&IF((Z102)=48,$BM$48,\"\")&IF((Z102)=49,$BM$49,\"\")&IF((Z102)=50,$BM$50,\"\")&IF((Z102)=51,$BM$51,\"\")&IF((Z102)=52,$BM$52,\"\")&IF((Z102)=53,$BM$53,\"\")&IF((Z102)=54,$BM$54,\"\")&IF((Z102)=55,$BM$55,\"\")&IF((Z102)=56,$BM$56,\"\")&IF((Z102)=57,$BM$57,\"\")&IF((Z102)=58,$BM$58,\"\")&IF((Z102)=59,$BM$59,\"\")&IF((Z102)=60,$BM$60,\"\")&IF((Z102)=61,$BM$61,\"\")&IF((Z102)=62,$BM$62,\"\")&IF((Z102)=63,$BM$63,\"\")&IF((Z102)=64,$BM$64,\"\")&IF((Z102)=65,$BM$65,\"\")&IF((Z102)=66,$BM$66,\"\")&IF((Z102)=67,$BM$67,\"\")&IF((Z102)=68,$BM$68,\"\")&IF((Z102)=69,$BM$69,\"\")&IF((Z102)=70,$BM$70,\"\")&IF((Z102)=71,$BM$71,\"\")&IF((Z102)=72,$BM$72,\"\")&IF((Z102)=73,$BM$73,\"\")&IF((Z102)=74,$BM$74,\"\")&IF((Z102)=75,$BM$75,\"\")&IF((Z102)=76,$BM$76,\"\")&IF((Z102)=77,$BM$77,\"\")&IF((Z102)=78,$BM$78,\"\")&IF((Z102)=79,$BM$79,\"\")&IF((Z102)=80,$BM$80,\"\")&IF((Z102)=81,$BM$81,\"\")&IF((Z102)=82,$BM$82,\"\")&IF((Z102)=83,$BM$83,\"\")&IF((Z102)=84,$BM$84,\"\")&IF((Z102)=85,$BM$85,\"\")&IF((Z102)=86,$BM$86,\"\")&IF((Z102)=87,$BM$87,\"\")&IF((Z102)=88,$BM$88,\"\")&IF((Z102)=89,$BM$89,\"\")&IF((Z102)=90,$BM$90,\"\")&IF((Z102)=91,$BM$91,\"\")&IF((Z102)=92,$BM$92,\"\")&IF((Z102)=93,$BM$93,\"\")&IF((Z102)=94,$BM$94,\"\")&IF((Z102)=95,$BM$95,\"\")&IF((Z102)=96,$BM$96,\"\")&IF((Z102)=97,$BM$97,\"\")&IF((Z102)=98,$BM$98,\"\")&IF((Z102)=99,$BM$99,\"\")&IF((Z102)=100,$BM$100,\"\")&IF((Z102)=101,$BM$101,\"\")&IF((Z102)=102,$BM$102,\"\")&IF((Z102)=103,$BM$103,\"\")&IF((Z102)=104,$BM$104,\"\")&IF((Z102)=105,$BM$105,\"\")&IF((Z102)=106,$BM$106,\"\")&IF((Z102)=107,$BM$107,\"\")&IF((Z102)=108,$BM$108,\"\")&IF((Z102)=109,$BM$109,\"\")&IF((Z102)=110,$BM$110,\"\")&IF((Z102)=111,$BM$111,\"\")&IF((Z102)=112,$BM$112,\"\")&IF((Z102)=113,$BM$113,\"\")&IF((Z102)=114,$BM$114,\"\")&IF((Z102)=115,$BM$115,\"\")&IF((Z102)=116,$BM$116,\"\")&IF((Z102)=117,$BM$117,\"\")&IF((Z102)=118,$BM$118,\"\")&IF((Z102)=119,$BM$119,\"\")&IF((Z102)=120,$BM$120,\"\")&IF((Z102)=121,$BM$121,\"\")&IF((Z102)=122,$BM$122,\"\")&IF((Z102)=123,$BM$123,\"\")&IF((Z102)=124,$BM$124,\"\")&IF((Z102)=125,$BM$125,\"\")&IF((Z102)=126,$BM$126,\"\")&IF((Z102)=127,$BM$127,\"\")&IF((Z102)=128,$BM$128,\"\")","v":""},null,{"$f":"IF((Z102)=1,$BN$1,\"\")&IF((Z102)=2,$BN$2,\"\")&IF((Z102)=3,$BN$3,\"\")&IF((Z102)=4,$BN$4,\"\")&IF((Z102)=5,$BN$5,\"\")&IF((Z102)=6,$BN$6,\"\")&IF((Z102)=7,$BN$7,\"\")&IF((Z102)=8,$BN$8,\"\")&IF((Z102)=9,$BN$9,\"\")&IF((Z102)=10,$BN$10,\"\")&IF((Z102)=11,$BN$11,\"\")&IF((Z102)=12,$BN$12,\"\")&IF((Z102)=13,$BN$13,\"\")&IF((Z102)=14,$BN$14,\"\")&IF((Z102)=15,$BN$15,\"\")&IF((Z102)=16,$BN$16,\"\")&IF((Z102)=17,$BN$17,\"\")&IF((Z102)=18,$BN$18,\"\")&IF((Z102)=19,$BN$19,\"\")&IF((Z102)=20,$BN$20,\"\")&IF((Z102)=21,$BN$21,\"\")&IF((Z102)=22,$BN$22,\"\")&IF((Z102)=23,$BN$23,\"\")&IF((Z102)=24,$BN$24,\"\")&IF((Z102)=25,$BN$25,\"\")&IF((Z102)=26,$BN$26,\"\")&IF((Z102)=27,$BN$27,\"\")&IF((Z102)=28,$BN$28,\"\")&IF((Z102)=29,$BN$29,\"\")&IF((Z102)=30,$BN$30,\"\")&IF((Z102)=31,$BN$31,\"\")&IF((Z102)=32,$BN$32,\"\")&IF((Z102)=33,$BN$33,\"\")&IF((Z102)=34,$BN$34,\"\")&IF((Z102)=35,$BN$35,\"\")&IF((Z102)=36,$BN$36,\"\")&IF((Z102)=37,$BN$37,\"\")&IF((Z102)=38,$BN$38,\"\")&IF((Z102)=39,$BN$39,\"\")&IF((Z102)=40,$BN$40,\"\")&IF((Z102)=41,$BN$41,\"\")&IF((Z102)=42,$BN$42,\"\")&IF((Z102)=43,$BN$43,\"\")&IF((Z102)=44,$BN$44,\"\")&IF((Z102)=45,$BN$45,\"\")&IF((Z102)=46,$BN$46,\"\")&IF((Z102)=47,$BN$47,\"\")&IF((Z102)=48,$BN$48,\"\")&IF((Z102)=49,$BN$49,\"\")&IF((Z102)=50,$BN$50,\"\")&IF((Z102)=51,$BN$51,\"\")&IF((Z102)=52,$BN$52,\"\")&IF((Z102)=53,$BN$53,\"\")&IF((Z102)=54,$BN$54,\"\")&IF((Z102)=55,$BN$55,\"\")&IF((Z102)=56,$BN$56,\"\")&IF((Z102)=57,$BN$57,\"\")&IF((Z102)=58,$BN$58,\"\")&IF((Z102)=59,$BN$59,\"\")&IF((Z102)=60,$BN$60,\"\")&IF((Z102)=61,$BN$61,\"\")&IF((Z102)=62,$BN$62,\"\")&IF((Z102)=63,$BN$63,\"\")&IF((Z102)=64,$BN$64,\"\")&IF((Z102)=65,$BN$65,\"\")&IF((Z102)=66,$BN$66,\"\")&IF((Z102)=67,$BN$67,\"\")&IF((Z102)=68,$BN$68,\"\")&IF((Z102)=69,$BN$69,\"\")&IF((Z102)=70,$BN$70,\"\")&IF((Z102)=71,$BN$71,\"\")&IF((Z102)=72,$BN$72,\"\")&IF((Z102)=73,$BN$73,\"\")&IF((Z102)=74,$BN$74,\"\")&IF((Z102)=75,$BN$75,\"\")&IF((Z102)=76,$BN$76,\"\")&IF((Z102)=77,$BN$77,\"\")&IF((Z102)=78,$BN$78,\"\")&IF((Z102)=79,$BN$79,\"\")&IF((Z102)=80,$BN$80,\"\")&IF((Z102)=81,$BN$81,\"\")&IF((Z102)=82,$BN$82,\"\")&IF((Z102)=83,$BN$83,\"\")&IF((Z102)=84,$BN$84,\"\")&IF((Z102)=85,$BN$85,\"\")&IF((Z102)=86,$BN$86,\"\")&IF((Z102)=87,$BN$87,\"\")&IF((Z102)=88,$BN$88,\"\")&IF((Z102)=89,$BN$89,\"\")&IF((Z102)=90,$BN$90,\"\")&IF((Z102)=91,$BN$91,\"\")&IF((Z102)=92,$BN$92,\"\")&IF((Z102)=93,$BN$93,\"\")&IF((Z102)=94,$BN$94,\"\")&IF((Z102)=95,$BN$95,\"\")&IF((Z102)=96,$BN$96,\"\")&IF((Z102)=97,$BN$97,\"\")&IF((Z102)=98,$BN$98,\"\")&IF((Z102)=99,$BN$99,\"\")&IF((Z102)=100,$BN$100,\"\")&IF((Z102)=101,$BN$101,\"\")&IF((Z102)=102,$BN$102,\"\")&IF((Z102)=103,$BN$103,\"\")&IF((Z102)=104,$BN$104,\"\")&IF((Z102)=105,$BN$105,\"\")&IF((Z102)=106,$BN$106,\"\")&IF((Z102)=107,$BN$107,\"\")&IF((Z102)=108,$BN$108,\"\")&IF((Z102)=109,$BN$109,\"\")&IF((Z102)=110,$BN$110,\"\")&IF((Z102)=111,$BN$111,\"\")&IF((Z102)=112,$BN$112,\"\")&IF((Z102)=113,$BN$113,\"\")&IF((Z102)=114,$BN$114,\"\")&IF((Z102)=115,$BN$115,\"\")&IF((Z102)=116,$BN$116,\"\")&IF((Z102)=117,$BN$117,\"\")&IF((Z102)=118,$BN$118,\"\")&IF((Z102)=119,$BN$119,\"\")&IF((Z102)=120,$BN$120,\"\")&IF((Z102)=121,$BN$121,\"\")&IF((Z102)=122,$BN$122,\"\")&IF((Z102)=123,$BN$123,\"\")&IF((Z102)=124,$BN$124,\"\")&IF((Z102)=125,$BN$125,\"\")&IF((Z102)=126,$BN$126,\"\")&IF((Z102)=127,$BN$127,\"\")&IF((Z102)=128,$BN$128,\"\")","v":""},null,{"$f":"IF((AD102)=1,$BM$1,\"\")&IF((AD102)=2,$BM$2,\"\")&IF((AD102)=3,$BM$3,\"\")&IF((AD102)=4,$BM$4,\"\")&IF((AD102)=5,$BM$5,\"\")&IF((AD102)=6,$BM$6,\"\")&IF((AD102)=7,$BM$7,\"\")&IF((AD102)=8,$BM$8,\"\")&IF((AD102)=9,$BM$9,\"\")&IF((AD102)=10,$BM$10,\"\")&IF((AD102)=11,$BM$11,\"\")&IF((AD102)=12,$BM$12,\"\")&IF((AD102)=13,$BM$13,\"\")&IF((AD102)=14,$BM$14,\"\")&IF((AD102)=15,$BM$15,\"\")&IF((AD102)=16,$BM$16,\"\")&IF((AD102)=17,$BM$17,\"\")&IF((AD102)=18,$BM$18,\"\")&IF((AD102)=19,$BM$19,\"\")&IF((AD102)=20,$BM$20,\"\")&IF((AD102)=21,$BM$21,\"\")&IF((AD102)=22,$BM$22,\"\")&IF((AD102)=23,$BM$23,\"\")&IF((AD102)=24,$BM$24,\"\")&IF((AD102)=25,$BM$25,\"\")&IF((AD102)=26,$BM$26,\"\")&IF((AD102)=27,$BM$27,\"\")&IF((AD102)=28,$BM$28,\"\")&IF((AD102)=29,$BM$29,\"\")&IF((AD102)=30,$BM$30,\"\")&IF((AD102)=31,$BM$31,\"\")&IF((AD102)=32,$BM$32,\"\")&IF((AD102)=33,$BM$33,\"\")&IF((AD102)=34,$BM$34,\"\")&IF((AD102)=35,$BM$35,\"\")&IF((AD102)=36,$BM$36,\"\")&IF((AD102)=37,$BM$37,\"\")&IF((AD102)=38,$BM$38,\"\")&IF((AD102)=39,$BM$39,\"\")&IF((AD102)=40,$BM$40,\"\")&IF((AD102)=41,$BM$41,\"\")&IF((AD102)=42,$BM$42,\"\")&IF((AD102)=43,$BM$43,\"\")&IF((AD102)=44,$BM$44,\"\")&IF((AD102)=45,$BM$45,\"\")&IF((AD102)=46,$BM$46,\"\")&IF((AD102)=47,$BM$47,\"\")&IF((AD102)=48,$BM$48,\"\")&IF((AD102)=49,$BM$49,\"\")&IF((AD102)=50,$BM$50,\"\")&IF((AD102)=51,$BM$51,\"\")&IF((AD102)=52,$BM$52,\"\")&IF((AD102)=53,$BM$53,\"\")&IF((AD102)=54,$BM$54,\"\")&IF((AD102)=55,$BM$55,\"\")&IF((AD102)=56,$BM$56,\"\")&IF((AD102)=57,$BM$57,\"\")&IF((AD102)=58,$BM$58,\"\")&IF((AD102)=59,$BM$59,\"\")&IF((AD102)=60,$BM$60,\"\")&IF((AD102)=61,$BM$61,\"\")&IF((AD102)=62,$BM$62,\"\")&IF((AD102)=63,$BM$63,\"\")&IF((AD102)=64,$BM$64,\"\")&IF((AD102)=65,$BM$65,\"\")&IF((AD102)=66,$BM$66,\"\")&IF((AD102)=67,$BM$67,\"\")&IF((AD102)=68,$BM$68,\"\")&IF((AD102)=69,$BM$69,\"\")&IF((AD102)=70,$BM$70,\"\")&IF((AD102)=71,$BM$71,\"\")&IF((AD102)=72,$BM$72,\"\")&IF((AD102)=73,$BM$73,\"\")&IF((AD102)=74,$BM$74,\"\")&IF((AD102)=75,$BM$75,\"\")&IF((AD102)=76,$BM$76,\"\")&IF((AD102)=77,$BM$77,\"\")&IF((AD102)=78,$BM$78,\"\")&IF((AD102)=79,$BM$79,\"\")&IF((AD102)=80,$BM$80,\"\")&IF((AD102)=81,$BM$81,\"\")&IF((AD102)=82,$BM$82,\"\")&IF((AD102)=83,$BM$83,\"\")&IF((AD102)=84,$BM$84,\"\")&IF((AD102)=85,$BM$85,\"\")&IF((AD102)=86,$BM$86,\"\")&IF((AD102)=87,$BM$87,\"\")&IF((AD102)=88,$BM$88,\"\")&IF((AD102)=89,$BM$89,\"\")&IF((AD102)=90,$BM$90,\"\")&IF((AD102)=91,$BM$91,\"\")&IF((AD102)=92,$BM$92,\"\")&IF((AD102)=93,$BM$93,\"\")&IF((AD102)=94,$BM$94,\"\")&IF((AD102)=95,$BM$95,\"\")&IF((AD102)=96,$BM$96,\"\")&IF((AD102)=97,$BM$97,\"\")&IF((AD102)=98,$BM$98,\"\")&IF((AD102)=99,$BM$99,\"\")&IF((AD102)=100,$BM$100,\"\")&IF((AD102)=101,$BM$101,\"\")&IF((AD102)=102,$BM$102,\"\")&IF((AD102)=103,$BM$103,\"\")&IF((AD102)=104,$BM$104,\"\")&IF((AD102)=105,$BM$105,\"\")&IF((AD102)=106,$BM$106,\"\")&IF((AD102)=107,$BM$107,\"\")&IF((AD102)=108,$BM$108,\"\")&IF((AD102)=109,$BM$109,\"\")&IF((AD102)=110,$BM$110,\"\")&IF((AD102)=111,$BM$111,\"\")&IF((AD102)=112,$BM$112,\"\")&IF((AD102)=113,$BM$113,\"\")&IF((AD102)=114,$BM$114,\"\")&IF((AD102)=115,$BM$115,\"\")&IF((AD102)=116,$BM$116,\"\")&IF((AD102)=117,$BM$117,\"\")&IF((AD102)=118,$BM$118,\"\")&IF((AD102)=119,$BM$119,\"\")&IF((AD102)=120,$BM$120,\"\")&IF((AD102)=121,$BM$121,\"\")&IF((AD102)=122,$BM$122,\"\")&IF((AD102)=123,$BM$123,\"\")&IF((AD102)=124,$BM$124,\"\")&IF((AD102)=125,$BM$125,\"\")&IF((AD102)=126,$BM$126,\"\")&IF((AD102)=127,$BM$127,\"\")&IF((AD102)=128,$BM$128,\"\")","v":""},null,{"$f":"IF((AD102)=1,$BN$1,\"\")&IF((AD102)=2,$BN$2,\"\")&IF((AD102)=3,$BN$3,\"\")&IF((AD102)=4,$BN$4,\"\")&IF((AD102)=5,$BN$5,\"\")&IF((AD102)=6,$BN$6,\"\")&IF((AD102)=7,$BN$7,\"\")&IF((AD102)=8,$BN$8,\"\")&IF((AD102)=9,$BN$9,\"\")&IF((AD102)=10,$BN$10,\"\")&IF((AD102)=11,$BN$11,\"\")&IF((AD102)=12,$BN$12,\"\")&IF((AD102)=13,$BN$13,\"\")&IF((AD102)=14,$BN$14,\"\")&IF((AD102)=15,$BN$15,\"\")&IF((AD102)=16,$BN$16,\"\")&IF((AD102)=17,$BN$17,\"\")&IF((AD102)=18,$BN$18,\"\")&IF((AD102)=19,$BN$19,\"\")&IF((AD102)=20,$BN$20,\"\")&IF((AD102)=21,$BN$21,\"\")&IF((AD102)=22,$BN$22,\"\")&IF((AD102)=23,$BN$23,\"\")&IF((AD102)=24,$BN$24,\"\")&IF((AD102)=25,$BN$25,\"\")&IF((AD102)=26,$BN$26,\"\")&IF((AD102)=27,$BN$27,\"\")&IF((AD102)=28,$BN$28,\"\")&IF((AD102)=29,$BN$29,\"\")&IF((AD102)=30,$BN$30,\"\")&IF((AD102)=31,$BN$31,\"\")&IF((AD102)=32,$BN$32,\"\")&IF((AD102)=33,$BN$33,\"\")&IF((AD102)=34,$BN$34,\"\")&IF((AD102)=35,$BN$35,\"\")&IF((AD102)=36,$BN$36,\"\")&IF((AD102)=37,$BN$37,\"\")&IF((AD102)=38,$BN$38,\"\")&IF((AD102)=39,$BN$39,\"\")&IF((AD102)=40,$BN$40,\"\")&IF((AD102)=41,$BN$41,\"\")&IF((AD102)=42,$BN$42,\"\")&IF((AD102)=43,$BN$43,\"\")&IF((AD102)=44,$BN$44,\"\")&IF((AD102)=45,$BN$45,\"\")&IF((AD102)=46,$BN$46,\"\")&IF((AD102)=47,$BN$47,\"\")&IF((AD102)=48,$BN$48,\"\")&IF((AD102)=49,$BN$49,\"\")&IF((AD102)=50,$BN$50,\"\")&IF((AD102)=51,$BN$51,\"\")&IF((AD102)=52,$BN$52,\"\")&IF((AD102)=53,$BN$53,\"\")&IF((AD102)=54,$BN$54,\"\")&IF((AD102)=55,$BN$55,\"\")&IF((AD102)=56,$BN$56,\"\")&IF((AD102)=57,$BN$57,\"\")&IF((AD102)=58,$BN$58,\"\")&IF((AD102)=59,$BN$59,\"\")&IF((AD102)=60,$BN$60,\"\")&IF((AD102)=61,$BN$61,\"\")&IF((AD102)=62,$BN$62,\"\")&IF((AD102)=63,$BN$63,\"\")&IF((AD102)=64,$BN$64,\"\")&IF((AD102)=65,$BN$65,\"\")&IF((AD102)=66,$BN$66,\"\")&IF((AD102)=67,$BN$67,\"\")&IF((AD102)=68,$BN$68,\"\")&IF((AD102)=69,$BN$69,\"\")&IF((AD102)=70,$BN$70,\"\")&IF((AD102)=71,$BN$71,\"\")&IF((AD102)=72,$BN$72,\"\")&IF((AD102)=73,$BN$73,\"\")&IF((AD102)=74,$BN$74,\"\")&IF((AD102)=75,$BN$75,\"\")&IF((AD102)=76,$BN$76,\"\")&IF((AD102)=77,$BN$77,\"\")&IF((AD102)=78,$BN$78,\"\")&IF((AD102)=79,$BN$79,\"\")&IF((AD102)=80,$BN$80,\"\")&IF((AD102)=81,$BN$81,\"\")&IF((AD102)=82,$BN$82,\"\")&IF((AD102)=83,$BN$83,\"\")&IF((AD102)=84,$BN$84,\"\")&IF((AD102)=85,$BN$85,\"\")&IF((AD102)=86,$BN$86,\"\")&IF((AD102)=87,$BN$87,\"\")&IF((AD102)=88,$BN$88,\"\")&IF((AD102)=89,$BN$89,\"\")&IF((AD102)=90,$BN$90,\"\")&IF((AD102)=91,$BN$91,\"\")&IF((AD102)=92,$BN$92,\"\")&IF((AD102)=93,$BN$93,\"\")&IF((AD102)=94,$BN$94,\"\")&IF((AD102)=95,$BN$95,\"\")&IF((AD102)=96,$BN$96,\"\")&IF((AD102)=97,$BN$97,\"\")&IF((AD102)=98,$BN$98,\"\")&IF((AD102)=99,$BN$99,\"\")&IF((AD102)=100,$BN$100,\"\")&IF((AD102)=101,$BN$101,\"\")&IF((AD102)=102,$BN$102,\"\")&IF((AD102)=103,$BN$103,\"\")&IF((AD102)=104,$BN$104,\"\")&IF((AD102)=105,$BN$105,\"\")&IF((AD102)=106,$BN$106,\"\")&IF((AD102)=107,$BN$107,\"\")&IF((AD102)=108,$BN$108,\"\")&IF((AD102)=109,$BN$109,\"\")&IF((AD102)=110,$BN$110,\"\")&IF((AD102)=111,$BN$111,\"\")&IF((AD102)=112,$BN$112,\"\")&IF((AD102)=113,$BN$113,\"\")&IF((AD102)=114,$BN$114,\"\")&IF((AD102)=115,$BN$115,\"\")&IF((AD102)=116,$BN$116,\"\")&IF((AD102)=117,$BN$117,\"\")&IF((AD102)=118,$BN$118,\"\")&IF((AD102)=119,$BN$119,\"\")&IF((AD102)=120,$BN$120,\"\")&IF((AD102)=121,$BN$121,\"\")&IF((AD102)=122,$BN$122,\"\")&IF((AD102)=123,$BN$123,\"\")&IF((AD102)=124,$BN$124,\"\")&IF((AD102)=125,$BN$125,\"\")&IF((AD102)=126,$BN$126,\"\")&IF((AD102)=127,$BN$127,\"\")&IF((AD102)=128,$BN$128,\"\")","v":""},null,null,null,{"$f":"IF((AJ102)=1,$BM$1,\"\")&IF((AJ102)=2,$BM$2,\"\")&IF((AJ102)=3,$BM$3,\"\")&IF((AJ102)=4,$BM$4,\"\")&IF((AJ102)=5,$BM$5,\"\")&IF((AJ102)=6,$BM$6,\"\")&IF((AJ102)=7,$BM$7,\"\")&IF((AJ102)=8,$BM$8,\"\")&IF((AJ102)=9,$BM$9,\"\")&IF((AJ102)=10,$BM$10,\"\")&IF((AJ102)=11,$BM$11,\"\")&IF((AJ102)=12,$BM$12,\"\")&IF((AJ102)=13,$BM$13,\"\")&IF((AJ102)=14,$BM$14,\"\")&IF((AJ102)=15,$BM$15,\"\")&IF((AJ102)=16,$BM$16,\"\")&IF((AJ102)=17,$BM$17,\"\")&IF((AJ102)=18,$BM$18,\"\")&IF((AJ102)=19,$BM$19,\"\")&IF((AJ102)=20,$BM$20,\"\")&IF((AJ102)=21,$BM$21,\"\")&IF((AJ102)=22,$BM$22,\"\")&IF((AJ102)=23,$BM$23,\"\")&IF((AJ102)=24,$BM$24,\"\")&IF((AJ102)=25,$BM$25,\"\")&IF((AJ102)=26,$BM$26,\"\")&IF((AJ102)=27,$BM$27,\"\")&IF((AJ102)=28,$BM$28,\"\")&IF((AJ102)=29,$BM$29,\"\")&IF((AJ102)=30,$BM$30,\"\")&IF((AJ102)=31,$BM$31,\"\")&IF((AJ102)=32,$BM$32,\"\")&IF((AJ102)=33,$BM$33,\"\")&IF((AJ102)=34,$BM$34,\"\")&IF((AJ102)=35,$BM$35,\"\")&IF((AJ102)=36,$BM$36,\"\")&IF((AJ102)=37,$BM$37,\"\")&IF((AJ102)=38,$BM$38,\"\")&IF((AJ102)=39,$BM$39,\"\")&IF((AJ102)=40,$BM$40,\"\")&IF((AJ102)=41,$BM$41,\"\")&IF((AJ102)=42,$BM$42,\"\")&IF((AJ102)=43,$BM$43,\"\")&IF((AJ102)=44,$BM$44,\"\")&IF((AJ102)=45,$BM$45,\"\")&IF((AJ102)=46,$BM$46,\"\")&IF((AJ102)=47,$BM$47,\"\")&IF((AJ102)=48,$BM$48,\"\")&IF((AJ102)=49,$BM$49,\"\")&IF((AJ102)=50,$BM$50,\"\")&IF((AJ102)=51,$BM$51,\"\")&IF((AJ102)=52,$BM$52,\"\")&IF((AJ102)=53,$BM$53,\"\")&IF((AJ102)=54,$BM$54,\"\")&IF((AJ102)=55,$BM$55,\"\")&IF((AJ102)=56,$BM$56,\"\")&IF((AJ102)=57,$BM$57,\"\")&IF((AJ102)=58,$BM$58,\"\")&IF((AJ102)=59,$BM$59,\"\")&IF((AJ102)=60,$BM$60,\"\")&IF((AJ102)=61,$BM$61,\"\")&IF((AJ102)=62,$BM$62,\"\")&IF((AJ102)=63,$BM$63,\"\")&IF((AJ102)=64,$BM$64,\"\")&IF((AJ102)=65,$BM$65,\"\")&IF((AJ102)=66,$BM$66,\"\")&IF((AJ102)=67,$BM$67,\"\")&IF((AJ102)=68,$BM$68,\"\")&IF((AJ102)=69,$BM$69,\"\")&IF((AJ102)=70,$BM$70,\"\")&IF((AJ102)=71,$BM$71,\"\")&IF((AJ102)=72,$BM$72,\"\")&IF((AJ102)=73,$BM$73,\"\")&IF((AJ102)=74,$BM$74,\"\")&IF((AJ102)=75,$BM$75,\"\")&IF((AJ102)=76,$BM$76,\"\")&IF((AJ102)=77,$BM$77,\"\")&IF((AJ102)=78,$BM$78,\"\")&IF((AJ102)=79,$BM$79,\"\")&IF((AJ102)=80,$BM$80,\"\")&IF((AJ102)=81,$BM$81,\"\")&IF((AJ102)=82,$BM$82,\"\")&IF((AJ102)=83,$BM$83,\"\")&IF((AJ102)=84,$BM$84,\"\")&IF((AJ102)=85,$BM$85,\"\")&IF((AJ102)=86,$BM$86,\"\")&IF((AJ102)=87,$BM$87,\"\")&IF((AJ102)=88,$BM$88,\"\")&IF((AJ102)=89,$BM$89,\"\")&IF((AJ102)=90,$BM$90,\"\")&IF((AJ102)=91,$BM$91,\"\")&IF((AJ102)=92,$BM$92,\"\")&IF((AJ102)=93,$BM$93,\"\")&IF((AJ102)=94,$BM$94,\"\")&IF((AJ102)=95,$BM$95,\"\")&IF((AJ102)=96,$BM$96,\"\")&IF((AJ102)=97,$BM$97,\"\")&IF((AJ102)=98,$BM$98,\"\")&IF((AJ102)=99,$BM$99,\"\")&IF((AJ102)=100,$BM$100,\"\")&IF((AJ102)=101,$BM$101,\"\")&IF((AJ102)=102,$BM$102,\"\")&IF((AJ102)=103,$BM$103,\"\")&IF((AJ102)=104,$BM$104,\"\")&IF((AJ102)=105,$BM$105,\"\")&IF((AJ102)=106,$BM$106,\"\")&IF((AJ102)=107,$BM$107,\"\")&IF((AJ102)=108,$BM$108,\"\")&IF((AJ102)=109,$BM$109,\"\")&IF((AJ102)=110,$BM$110,\"\")&IF((AJ102)=111,$BM$111,\"\")&IF((AJ102)=112,$BM$112,\"\")&IF((AJ102)=113,$BM$113,\"\")&IF((AJ102)=114,$BM$114,\"\")&IF((AJ102)=115,$BM$115,\"\")&IF((AJ102)=116,$BM$116,\"\")&IF((AJ102)=117,$BM$117,\"\")&IF((AJ102)=118,$BM$118,\"\")&IF((AJ102)=119,$BM$119,\"\")&IF((AJ102)=120,$BM$120,\"\")&IF((AJ102)=121,$BM$121,\"\")&IF((AJ102)=122,$BM$122,\"\")&IF((AJ102)=123,$BM$123,\"\")&IF((AJ102)=124,$BM$124,\"\")&IF((AJ102)=125,$BM$125,\"\")&IF((AJ102)=126,$BM$126,\"\")&IF((AJ102)=127,$BM$127,\"\")&IF((AJ102)=128,$BM$128,\"\")","v":""},null,{"$f":"IF((AJ102)=1,$BN$1,\"\")&IF((AJ102)=2,$BN$2,\"\")&IF((AJ102)=3,$BN$3,\"\")&IF((AJ102)=4,$BN$4,\"\")&IF((AJ102)=5,$BN$5,\"\")&IF((AJ102)=6,$BN$6,\"\")&IF((AJ102)=7,$BN$7,\"\")&IF((AJ102)=8,$BN$8,\"\")&IF((AJ102)=9,$BN$9,\"\")&IF((AJ102)=10,$BN$10,\"\")&IF((AJ102)=11,$BN$11,\"\")&IF((AJ102)=12,$BN$12,\"\")&IF((AJ102)=13,$BN$13,\"\")&IF((AJ102)=14,$BN$14,\"\")&IF((AJ102)=15,$BN$15,\"\")&IF((AJ102)=16,$BN$16,\"\")&IF((AJ102)=17,$BN$17,\"\")&IF((AJ102)=18,$BN$18,\"\")&IF((AJ102)=19,$BN$19,\"\")&IF((AJ102)=20,$BN$20,\"\")&IF((AJ102)=21,$BN$21,\"\")&IF((AJ102)=22,$BN$22,\"\")&IF((AJ102)=23,$BN$23,\"\")&IF((AJ102)=24,$BN$24,\"\")&IF((AJ102)=25,$BN$25,\"\")&IF((AJ102)=26,$BN$26,\"\")&IF((AJ102)=27,$BN$27,\"\")&IF((AJ102)=28,$BN$28,\"\")&IF((AJ102)=29,$BN$29,\"\")&IF((AJ102)=30,$BN$30,\"\")&IF((AJ102)=31,$BN$31,\"\")&IF((AJ102)=32,$BN$32,\"\")&IF((AJ102)=33,$BN$33,\"\")&IF((AJ102)=34,$BN$34,\"\")&IF((AJ102)=35,$BN$35,\"\")&IF((AJ102)=36,$BN$36,\"\")&IF((AJ102)=37,$BN$37,\"\")&IF((AJ102)=38,$BN$38,\"\")&IF((AJ102)=39,$BN$39,\"\")&IF((AJ102)=40,$BN$40,\"\")&IF((AJ102)=41,$BN$41,\"\")&IF((AJ102)=42,$BN$42,\"\")&IF((AJ102)=43,$BN$43,\"\")&IF((AJ102)=44,$BN$44,\"\")&IF((AJ102)=45,$BN$45,\"\")&IF((AJ102)=46,$BN$46,\"\")&IF((AJ102)=47,$BN$47,\"\")&IF((AJ102)=48,$BN$48,\"\")&IF((AJ102)=49,$BN$49,\"\")&IF((AJ102)=50,$BN$50,\"\")&IF((AJ102)=51,$BN$51,\"\")&IF((AJ102)=52,$BN$52,\"\")&IF((AJ102)=53,$BN$53,\"\")&IF((AJ102)=54,$BN$54,\"\")&IF((AJ102)=55,$BN$55,\"\")&IF((AJ102)=56,$BN$56,\"\")&IF((AJ102)=57,$BN$57,\"\")&IF((AJ102)=58,$BN$58,\"\")&IF((AJ102)=59,$BN$59,\"\")&IF((AJ102)=60,$BN$60,\"\")&IF((AJ102)=61,$BN$61,\"\")&IF((AJ102)=62,$BN$62,\"\")&IF((AJ102)=63,$BN$63,\"\")&IF((AJ102)=64,$BN$64,\"\")&IF((AJ102)=65,$BN$65,\"\")&IF((AJ102)=66,$BN$66,\"\")&IF((AJ102)=67,$BN$67,\"\")&IF((AJ102)=68,$BN$68,\"\")&IF((AJ102)=69,$BN$69,\"\")&IF((AJ102)=70,$BN$70,\"\")&IF((AJ102)=71,$BN$71,\"\")&IF((AJ102)=72,$BN$72,\"\")&IF((AJ102)=73,$BN$73,\"\")&IF((AJ102)=74,$BN$74,\"\")&IF((AJ102)=75,$BN$75,\"\")&IF((AJ102)=76,$BN$76,\"\")&IF((AJ102)=77,$BN$77,\"\")&IF((AJ102)=78,$BN$78,\"\")&IF((AJ102)=79,$BN$79,\"\")&IF((AJ102)=80,$BN$80,\"\")&IF((AJ102)=81,$BN$81,\"\")&IF((AJ102)=82,$BN$82,\"\")&IF((AJ102)=83,$BN$83,\"\")&IF((AJ102)=84,$BN$84,\"\")&IF((AJ102)=85,$BN$85,\"\")&IF((AJ102)=86,$BN$86,\"\")&IF((AJ102)=87,$BN$87,\"\")&IF((AJ102)=88,$BN$88,\"\")&IF((AJ102)=89,$BN$89,\"\")&IF((AJ102)=90,$BN$90,\"\")&IF((AJ102)=91,$BN$91,\"\")&IF((AJ102)=92,$BN$92,\"\")&IF((AJ102)=93,$BN$93,\"\")&IF((AJ102)=94,$BN$94,\"\")&IF((AJ102)=95,$BN$95,\"\")&IF((AJ102)=96,$BN$96,\"\")&IF((AJ102)=97,$BN$97,\"\")&IF((AJ102)=98,$BN$98,\"\")&IF((AJ102)=99,$BN$99,\"\")&IF((AJ102)=100,$BN$100,\"\")&IF((AJ102)=101,$BN$101,\"\")&IF((AJ102)=102,$BN$102,\"\")&IF((AJ102)=103,$BN$103,\"\")&IF((AJ102)=104,$BN$104,\"\")&IF((AJ102)=105,$BN$105,\"\")&IF((AJ102)=106,$BN$106,\"\")&IF((AJ102)=107,$BN$107,\"\")&IF((AJ102)=108,$BN$108,\"\")&IF((AJ102)=109,$BN$109,\"\")&IF((AJ102)=110,$BN$110,\"\")&IF((AJ102)=111,$BN$111,\"\")&IF((AJ102)=112,$BN$112,\"\")&IF((AJ102)=113,$BN$113,\"\")&IF((AJ102)=114,$BN$114,\"\")&IF((AJ102)=115,$BN$115,\"\")&IF((AJ102)=116,$BN$116,\"\")&IF((AJ102)=117,$BN$117,\"\")&IF((AJ102)=118,$BN$118,\"\")&IF((AJ102)=119,$BN$119,\"\")&IF((AJ102)=120,$BN$120,\"\")&IF((AJ102)=121,$BN$121,\"\")&IF((AJ102)=122,$BN$122,\"\")&IF((AJ102)=123,$BN$123,\"\")&IF((AJ102)=124,$BN$124,\"\")&IF((AJ102)=125,$BN$125,\"\")&IF((AJ102)=126,$BN$126,\"\")&IF((AJ102)=127,$BN$127,\"\")&IF((AJ102)=128,$BN$128,\"\")","v":""},null,{"$f":"IF((AN102)=1,$BM$1,\"\")&IF((AN102)=2,$BM$2,\"\")&IF((AN102)=3,$BM$3,\"\")&IF((AN102)=4,$BM$4,\"\")&IF((AN102)=5,$BM$5,\"\")&IF((AN102)=6,$BM$6,\"\")&IF((AN102)=7,$BM$7,\"\")&IF((AN102)=8,$BM$8,\"\")&IF((AN102)=9,$BM$9,\"\")&IF((AN102)=10,$BM$10,\"\")&IF((AN102)=11,$BM$11,\"\")&IF((AN102)=12,$BM$12,\"\")&IF((AN102)=13,$BM$13,\"\")&IF((AN102)=14,$BM$14,\"\")&IF((AN102)=15,$BM$15,\"\")&IF((AN102)=16,$BM$16,\"\")&IF((AN102)=17,$BM$17,\"\")&IF((AN102)=18,$BM$18,\"\")&IF((AN102)=19,$BM$19,\"\")&IF((AN102)=20,$BM$20,\"\")&IF((AN102)=21,$BM$21,\"\")&IF((AN102)=22,$BM$22,\"\")&IF((AN102)=23,$BM$23,\"\")&IF((AN102)=24,$BM$24,\"\")&IF((AN102)=25,$BM$25,\"\")&IF((AN102)=26,$BM$26,\"\")&IF((AN102)=27,$BM$27,\"\")&IF((AN102)=28,$BM$28,\"\")&IF((AN102)=29,$BM$29,\"\")&IF((AN102)=30,$BM$30,\"\")&IF((AN102)=31,$BM$31,\"\")&IF((AN102)=32,$BM$32,\"\")&IF((AN102)=33,$BM$33,\"\")&IF((AN102)=34,$BM$34,\"\")&IF((AN102)=35,$BM$35,\"\")&IF((AN102)=36,$BM$36,\"\")&IF((AN102)=37,$BM$37,\"\")&IF((AN102)=38,$BM$38,\"\")&IF((AN102)=39,$BM$39,\"\")&IF((AN102)=40,$BM$40,\"\")&IF((AN102)=41,$BM$41,\"\")&IF((AN102)=42,$BM$42,\"\")&IF((AN102)=43,$BM$43,\"\")&IF((AN102)=44,$BM$44,\"\")&IF((AN102)=45,$BM$45,\"\")&IF((AN102)=46,$BM$46,\"\")&IF((AN102)=47,$BM$47,\"\")&IF((AN102)=48,$BM$48,\"\")&IF((AN102)=49,$BM$49,\"\")&IF((AN102)=50,$BM$50,\"\")&IF((AN102)=51,$BM$51,\"\")&IF((AN102)=52,$BM$52,\"\")&IF((AN102)=53,$BM$53,\"\")&IF((AN102)=54,$BM$54,\"\")&IF((AN102)=55,$BM$55,\"\")&IF((AN102)=56,$BM$56,\"\")&IF((AN102)=57,$BM$57,\"\")&IF((AN102)=58,$BM$58,\"\")&IF((AN102)=59,$BM$59,\"\")&IF((AN102)=60,$BM$60,\"\")&IF((AN102)=61,$BM$61,\"\")&IF((AN102)=62,$BM$62,\"\")&IF((AN102)=63,$BM$63,\"\")&IF((AN102)=64,$BM$64,\"\")&IF((AN102)=65,$BM$65,\"\")&IF((AN102)=66,$BM$66,\"\")&IF((AN102)=67,$BM$67,\"\")&IF((AN102)=68,$BM$68,\"\")&IF((AN102)=69,$BM$69,\"\")&IF((AN102)=70,$BM$70,\"\")&IF((AN102)=71,$BM$71,\"\")&IF((AN102)=72,$BM$72,\"\")&IF((AN102)=73,$BM$73,\"\")&IF((AN102)=74,$BM$74,\"\")&IF((AN102)=75,$BM$75,\"\")&IF((AN102)=76,$BM$76,\"\")&IF((AN102)=77,$BM$77,\"\")&IF((AN102)=78,$BM$78,\"\")&IF((AN102)=79,$BM$79,\"\")&IF((AN102)=80,$BM$80,\"\")&IF((AN102)=81,$BM$81,\"\")&IF((AN102)=82,$BM$82,\"\")&IF((AN102)=83,$BM$83,\"\")&IF((AN102)=84,$BM$84,\"\")&IF((AN102)=85,$BM$85,\"\")&IF((AN102)=86,$BM$86,\"\")&IF((AN102)=87,$BM$87,\"\")&IF((AN102)=88,$BM$88,\"\")&IF((AN102)=89,$BM$89,\"\")&IF((AN102)=90,$BM$90,\"\")&IF((AN102)=91,$BM$91,\"\")&IF((AN102)=92,$BM$92,\"\")&IF((AN102)=93,$BM$93,\"\")&IF((AN102)=94,$BM$94,\"\")&IF((AN102)=95,$BM$95,\"\")&IF((AN102)=96,$BM$96,\"\")&IF((AN102)=97,$BM$97,\"\")&IF((AN102)=98,$BM$98,\"\")&IF((AN102)=99,$BM$99,\"\")&IF((AN102)=100,$BM$100,\"\")&IF((AN102)=101,$BM$101,\"\")&IF((AN102)=102,$BM$102,\"\")&IF((AN102)=103,$BM$103,\"\")&IF((AN102)=104,$BM$104,\"\")&IF((AN102)=105,$BM$105,\"\")&IF((AN102)=106,$BM$106,\"\")&IF((AN102)=107,$BM$107,\"\")&IF((AN102)=108,$BM$108,\"\")&IF((AN102)=109,$BM$109,\"\")&IF((AN102)=110,$BM$110,\"\")&IF((AN102)=111,$BM$111,\"\")&IF((AN102)=112,$BM$112,\"\")&IF((AN102)=113,$BM$113,\"\")&IF((AN102)=114,$BM$114,\"\")&IF((AN102)=115,$BM$115,\"\")&IF((AN102)=116,$BM$116,\"\")&IF((AN102)=117,$BM$117,\"\")&IF((AN102)=118,$BM$118,\"\")&IF((AN102)=119,$BM$119,\"\")&IF((AN102)=120,$BM$120,\"\")&IF((AN102)=121,$BM$121,\"\")&IF((AN102)=122,$BM$122,\"\")&IF((AN102)=123,$BM$123,\"\")&IF((AN102)=124,$BM$124,\"\")&IF((AN102)=125,$BM$125,\"\")&IF((AN102)=126,$BM$126,\"\")&IF((AN102)=127,$BM$127,\"\")&IF((AN102)=128,$BM$128,\"\")","v":""},null,{"$f":"IF((AN102)=1,$BN$1,\"\")&IF((AN102)=2,$BN$2,\"\")&IF((AN102)=3,$BN$3,\"\")&IF((AN102)=4,$BN$4,\"\")&IF((AN102)=5,$BN$5,\"\")&IF((AN102)=6,$BN$6,\"\")&IF((AN102)=7,$BN$7,\"\")&IF((AN102)=8,$BN$8,\"\")&IF((AN102)=9,$BN$9,\"\")&IF((AN102)=10,$BN$10,\"\")&IF((AN102)=11,$BN$11,\"\")&IF((AN102)=12,$BN$12,\"\")&IF((AN102)=13,$BN$13,\"\")&IF((AN102)=14,$BN$14,\"\")&IF((AN102)=15,$BN$15,\"\")&IF((AN102)=16,$BN$16,\"\")&IF((AN102)=17,$BN$17,\"\")&IF((AN102)=18,$BN$18,\"\")&IF((AN102)=19,$BN$19,\"\")&IF((AN102)=20,$BN$20,\"\")&IF((AN102)=21,$BN$21,\"\")&IF((AN102)=22,$BN$22,\"\")&IF((AN102)=23,$BN$23,\"\")&IF((AN102)=24,$BN$24,\"\")&IF((AN102)=25,$BN$25,\"\")&IF((AN102)=26,$BN$26,\"\")&IF((AN102)=27,$BN$27,\"\")&IF((AN102)=28,$BN$28,\"\")&IF((AN102)=29,$BN$29,\"\")&IF((AN102)=30,$BN$30,\"\")&IF((AN102)=31,$BN$31,\"\")&IF((AN102)=32,$BN$32,\"\")&IF((AN102)=33,$BN$33,\"\")&IF((AN102)=34,$BN$34,\"\")&IF((AN102)=35,$BN$35,\"\")&IF((AN102)=36,$BN$36,\"\")&IF((AN102)=37,$BN$37,\"\")&IF((AN102)=38,$BN$38,\"\")&IF((AN102)=39,$BN$39,\"\")&IF((AN102)=40,$BN$40,\"\")&IF((AN102)=41,$BN$41,\"\")&IF((AN102)=42,$BN$42,\"\")&IF((AN102)=43,$BN$43,\"\")&IF((AN102)=44,$BN$44,\"\")&IF((AN102)=45,$BN$45,\"\")&IF((AN102)=46,$BN$46,\"\")&IF((AN102)=47,$BN$47,\"\")&IF((AN102)=48,$BN$48,\"\")&IF((AN102)=49,$BN$49,\"\")&IF((AN102)=50,$BN$50,\"\")&IF((AN102)=51,$BN$51,\"\")&IF((AN102)=52,$BN$52,\"\")&IF((AN102)=53,$BN$53,\"\")&IF((AN102)=54,$BN$54,\"\")&IF((AN102)=55,$BN$55,\"\")&IF((AN102)=56,$BN$56,\"\")&IF((AN102)=57,$BN$57,\"\")&IF((AN102)=58,$BN$58,\"\")&IF((AN102)=59,$BN$59,\"\")&IF((AN102)=60,$BN$60,\"\")&IF((AN102)=61,$BN$61,\"\")&IF((AN102)=62,$BN$62,\"\")&IF((AN102)=63,$BN$63,\"\")&IF((AN102)=64,$BN$64,\"\")&IF((AN102)=65,$BN$65,\"\")&IF((AN102)=66,$BN$66,\"\")&IF((AN102)=67,$BN$67,\"\")&IF((AN102)=68,$BN$68,\"\")&IF((AN102)=69,$BN$69,\"\")&IF((AN102)=70,$BN$70,\"\")&IF((AN102)=71,$BN$71,\"\")&IF((AN102)=72,$BN$72,\"\")&IF((AN102)=73,$BN$73,\"\")&IF((AN102)=74,$BN$74,\"\")&IF((AN102)=75,$BN$75,\"\")&IF((AN102)=76,$BN$76,\"\")&IF((AN102)=77,$BN$77,\"\")&IF((AN102)=78,$BN$78,\"\")&IF((AN102)=79,$BN$79,\"\")&IF((AN102)=80,$BN$80,\"\")&IF((AN102)=81,$BN$81,\"\")&IF((AN102)=82,$BN$82,\"\")&IF((AN102)=83,$BN$83,\"\")&IF((AN102)=84,$BN$84,\"\")&IF((AN102)=85,$BN$85,\"\")&IF((AN102)=86,$BN$86,\"\")&IF((AN102)=87,$BN$87,\"\")&IF((AN102)=88,$BN$88,\"\")&IF((AN102)=89,$BN$89,\"\")&IF((AN102)=90,$BN$90,\"\")&IF((AN102)=91,$BN$91,\"\")&IF((AN102)=92,$BN$92,\"\")&IF((AN102)=93,$BN$93,\"\")&IF((AN102)=94,$BN$94,\"\")&IF((AN102)=95,$BN$95,\"\")&IF((AN102)=96,$BN$96,\"\")&IF((AN102)=97,$BN$97,\"\")&IF((AN102)=98,$BN$98,\"\")&IF((AN102)=99,$BN$99,\"\")&IF((AN102)=100,$BN$100,\"\")&IF((AN102)=101,$BN$101,\"\")&IF((AN102)=102,$BN$102,\"\")&IF((AN102)=103,$BN$103,\"\")&IF((AN102)=104,$BN$104,\"\")&IF((AN102)=105,$BN$105,\"\")&IF((AN102)=106,$BN$106,\"\")&IF((AN102)=107,$BN$107,\"\")&IF((AN102)=108,$BN$108,\"\")&IF((AN102)=109,$BN$109,\"\")&IF((AN102)=110,$BN$110,\"\")&IF((AN102)=111,$BN$111,\"\")&IF((AN102)=112,$BN$112,\"\")&IF((AN102)=113,$BN$113,\"\")&IF((AN102)=114,$BN$114,\"\")&IF((AN102)=115,$BN$115,\"\")&IF((AN102)=116,$BN$116,\"\")&IF((AN102)=117,$BN$117,\"\")&IF((AN102)=118,$BN$118,\"\")&IF((AN102)=119,$BN$119,\"\")&IF((AN102)=120,$BN$120,\"\")&IF((AN102)=121,$BN$121,\"\")&IF((AN102)=122,$BN$122,\"\")&IF((AN102)=123,$BN$123,\"\")&IF((AN102)=124,$BN$124,\"\")&IF((AN102)=125,$BN$125,\"\")&IF((AN102)=126,$BN$126,\"\")&IF((AN102)=127,$BN$127,\"\")&IF((AN102)=128,$BN$128,\"\")","v":""},null,null,null,{"$f":"IF((AT102)=1,$BM$1,\"\")&IF((AT102)=2,$BM$2,\"\")&IF((AT102)=3,$BM$3,\"\")&IF((AT102)=4,$BM$4,\"\")&IF((AT102)=5,$BM$5,\"\")&IF((AT102)=6,$BM$6,\"\")&IF((AT102)=7,$BM$7,\"\")&IF((AT102)=8,$BM$8,\"\")&IF((AT102)=9,$BM$9,\"\")&IF((AT102)=10,$BM$10,\"\")&IF((AT102)=11,$BM$11,\"\")&IF((AT102)=12,$BM$12,\"\")&IF((AT102)=13,$BM$13,\"\")&IF((AT102)=14,$BM$14,\"\")&IF((AT102)=15,$BM$15,\"\")&IF((AT102)=16,$BM$16,\"\")&IF((AT102)=17,$BM$17,\"\")&IF((AT102)=18,$BM$18,\"\")&IF((AT102)=19,$BM$19,\"\")&IF((AT102)=20,$BM$20,\"\")&IF((AT102)=21,$BM$21,\"\")&IF((AT102)=22,$BM$22,\"\")&IF((AT102)=23,$BM$23,\"\")&IF((AT102)=24,$BM$24,\"\")&IF((AT102)=25,$BM$25,\"\")&IF((AT102)=26,$BM$26,\"\")&IF((AT102)=27,$BM$27,\"\")&IF((AT102)=28,$BM$28,\"\")&IF((AT102)=29,$BM$29,\"\")&IF((AT102)=30,$BM$30,\"\")&IF((AT102)=31,$BM$31,\"\")&IF((AT102)=32,$BM$32,\"\")&IF((AT102)=33,$BM$33,\"\")&IF((AT102)=34,$BM$34,\"\")&IF((AT102)=35,$BM$35,\"\")&IF((AT102)=36,$BM$36,\"\")&IF((AT102)=37,$BM$37,\"\")&IF((AT102)=38,$BM$38,\"\")&IF((AT102)=39,$BM$39,\"\")&IF((AT102)=40,$BM$40,\"\")&IF((AT102)=41,$BM$41,\"\")&IF((AT102)=42,$BM$42,\"\")&IF((AT102)=43,$BM$43,\"\")&IF((AT102)=44,$BM$44,\"\")&IF((AT102)=45,$BM$45,\"\")&IF((AT102)=46,$BM$46,\"\")&IF((AT102)=47,$BM$47,\"\")&IF((AT102)=48,$BM$48,\"\")&IF((AT102)=49,$BM$49,\"\")&IF((AT102)=50,$BM$50,\"\")&IF((AT102)=51,$BM$51,\"\")&IF((AT102)=52,$BM$52,\"\")&IF((AT102)=53,$BM$53,\"\")&IF((AT102)=54,$BM$54,\"\")&IF((AT102)=55,$BM$55,\"\")&IF((AT102)=56,$BM$56,\"\")&IF((AT102)=57,$BM$57,\"\")&IF((AT102)=58,$BM$58,\"\")&IF((AT102)=59,$BM$59,\"\")&IF((AT102)=60,$BM$60,\"\")&IF((AT102)=61,$BM$61,\"\")&IF((AT102)=62,$BM$62,\"\")&IF((AT102)=63,$BM$63,\"\")&IF((AT102)=64,$BM$64,\"\")&IF((AT102)=65,$BM$65,\"\")&IF((AT102)=66,$BM$66,\"\")&IF((AT102)=67,$BM$67,\"\")&IF((AT102)=68,$BM$68,\"\")&IF((AT102)=69,$BM$69,\"\")&IF((AT102)=70,$BM$70,\"\")&IF((AT102)=71,$BM$71,\"\")&IF((AT102)=72,$BM$72,\"\")&IF((AT102)=73,$BM$73,\"\")&IF((AT102)=74,$BM$74,\"\")&IF((AT102)=75,$BM$75,\"\")&IF((AT102)=76,$BM$76,\"\")&IF((AT102)=77,$BM$77,\"\")&IF((AT102)=78,$BM$78,\"\")&IF((AT102)=79,$BM$79,\"\")&IF((AT102)=80,$BM$80,\"\")&IF((AT102)=81,$BM$81,\"\")&IF((AT102)=82,$BM$82,\"\")&IF((AT102)=83,$BM$83,\"\")&IF((AT102)=84,$BM$84,\"\")&IF((AT102)=85,$BM$85,\"\")&IF((AT102)=86,$BM$86,\"\")&IF((AT102)=87,$BM$87,\"\")&IF((AT102)=88,$BM$88,\"\")&IF((AT102)=89,$BM$89,\"\")&IF((AT102)=90,$BM$90,\"\")&IF((AT102)=91,$BM$91,\"\")&IF((AT102)=92,$BM$92,\"\")&IF((AT102)=93,$BM$93,\"\")&IF((AT102)=94,$BM$94,\"\")&IF((AT102)=95,$BM$95,\"\")&IF((AT102)=96,$BM$96,\"\")&IF((AT102)=97,$BM$97,\"\")&IF((AT102)=98,$BM$98,\"\")&IF((AT102)=99,$BM$99,\"\")&IF((AT102)=100,$BM$100,\"\")&IF((AT102)=101,$BM$101,\"\")&IF((AT102)=102,$BM$102,\"\")&IF((AT102)=103,$BM$103,\"\")&IF((AT102)=104,$BM$104,\"\")&IF((AT102)=105,$BM$105,\"\")&IF((AT102)=106,$BM$106,\"\")&IF((AT102)=107,$BM$107,\"\")&IF((AT102)=108,$BM$108,\"\")&IF((AT102)=109,$BM$109,\"\")&IF((AT102)=110,$BM$110,\"\")&IF((AT102)=111,$BM$111,\"\")&IF((AT102)=112,$BM$112,\"\")&IF((AT102)=113,$BM$113,\"\")&IF((AT102)=114,$BM$114,\"\")&IF((AT102)=115,$BM$115,\"\")&IF((AT102)=116,$BM$116,\"\")&IF((AT102)=117,$BM$117,\"\")&IF((AT102)=118,$BM$118,\"\")&IF((AT102)=119,$BM$119,\"\")&IF((AT102)=120,$BM$120,\"\")&IF((AT102)=121,$BM$121,\"\")&IF((AT102)=122,$BM$122,\"\")&IF((AT102)=123,$BM$123,\"\")&IF((AT102)=124,$BM$124,\"\")&IF((AT102)=125,$BM$125,\"\")&IF((AT102)=126,$BM$126,\"\")&IF((AT102)=127,$BM$127,\"\")&IF((AT102)=128,$BM$128,\"\")","v":""},null,{"$f":"IF((AT102)=1,$BN$1,\"\")&IF((AT102)=2,$BN$2,\"\")&IF((AT102)=3,$BN$3,\"\")&IF((AT102)=4,$BN$4,\"\")&IF((AT102)=5,$BN$5,\"\")&IF((AT102)=6,$BN$6,\"\")&IF((AT102)=7,$BN$7,\"\")&IF((AT102)=8,$BN$8,\"\")&IF((AT102)=9,$BN$9,\"\")&IF((AT102)=10,$BN$10,\"\")&IF((AT102)=11,$BN$11,\"\")&IF((AT102)=12,$BN$12,\"\")&IF((AT102)=13,$BN$13,\"\")&IF((AT102)=14,$BN$14,\"\")&IF((AT102)=15,$BN$15,\"\")&IF((AT102)=16,$BN$16,\"\")&IF((AT102)=17,$BN$17,\"\")&IF((AT102)=18,$BN$18,\"\")&IF((AT102)=19,$BN$19,\"\")&IF((AT102)=20,$BN$20,\"\")&IF((AT102)=21,$BN$21,\"\")&IF((AT102)=22,$BN$22,\"\")&IF((AT102)=23,$BN$23,\"\")&IF((AT102)=24,$BN$24,\"\")&IF((AT102)=25,$BN$25,\"\")&IF((AT102)=26,$BN$26,\"\")&IF((AT102)=27,$BN$27,\"\")&IF((AT102)=28,$BN$28,\"\")&IF((AT102)=29,$BN$29,\"\")&IF((AT102)=30,$BN$30,\"\")&IF((AT102)=31,$BN$31,\"\")&IF((AT102)=32,$BN$32,\"\")&IF((AT102)=33,$BN$33,\"\")&IF((AT102)=34,$BN$34,\"\")&IF((AT102)=35,$BN$35,\"\")&IF((AT102)=36,$BN$36,\"\")&IF((AT102)=37,$BN$37,\"\")&IF((AT102)=38,$BN$38,\"\")&IF((AT102)=39,$BN$39,\"\")&IF((AT102)=40,$BN$40,\"\")&IF((AT102)=41,$BN$41,\"\")&IF((AT102)=42,$BN$42,\"\")&IF((AT102)=43,$BN$43,\"\")&IF((AT102)=44,$BN$44,\"\")&IF((AT102)=45,$BN$45,\"\")&IF((AT102)=46,$BN$46,\"\")&IF((AT102)=47,$BN$47,\"\")&IF((AT102)=48,$BN$48,\"\")&IF((AT102)=49,$BN$49,\"\")&IF((AT102)=50,$BN$50,\"\")&IF((AT102)=51,$BN$51,\"\")&IF((AT102)=52,$BN$52,\"\")&IF((AT102)=53,$BN$53,\"\")&IF((AT102)=54,$BN$54,\"\")&IF((AT102)=55,$BN$55,\"\")&IF((AT102)=56,$BN$56,\"\")&IF((AT102)=57,$BN$57,\"\")&IF((AT102)=58,$BN$58,\"\")&IF((AT102)=59,$BN$59,\"\")&IF((AT102)=60,$BN$60,\"\")&IF((AT102)=61,$BN$61,\"\")&IF((AT102)=62,$BN$62,\"\")&IF((AT102)=63,$BN$63,\"\")&IF((AT102)=64,$BN$64,\"\")&IF((AT102)=65,$BN$65,\"\")&IF((AT102)=66,$BN$66,\"\")&IF((AT102)=67,$BN$67,\"\")&IF((AT102)=68,$BN$68,\"\")&IF((AT102)=69,$BN$69,\"\")&IF((AT102)=70,$BN$70,\"\")&IF((AT102)=71,$BN$71,\"\")&IF((AT102)=72,$BN$72,\"\")&IF((AT102)=73,$BN$73,\"\")&IF((AT102)=74,$BN$74,\"\")&IF((AT102)=75,$BN$75,\"\")&IF((AT102)=76,$BN$76,\"\")&IF((AT102)=77,$BN$77,\"\")&IF((AT102)=78,$BN$78,\"\")&IF((AT102)=79,$BN$79,\"\")&IF((AT102)=80,$BN$80,\"\")&IF((AT102)=81,$BN$81,\"\")&IF((AT102)=82,$BN$82,\"\")&IF((AT102)=83,$BN$83,\"\")&IF((AT102)=84,$BN$84,\"\")&IF((AT102)=85,$BN$85,\"\")&IF((AT102)=86,$BN$86,\"\")&IF((AT102)=87,$BN$87,\"\")&IF((AT102)=88,$BN$88,\"\")&IF((AT102)=89,$BN$89,\"\")&IF((AT102)=90,$BN$90,\"\")&IF((AT102)=91,$BN$91,\"\")&IF((AT102)=92,$BN$92,\"\")&IF((AT102)=93,$BN$93,\"\")&IF((AT102)=94,$BN$94,\"\")&IF((AT102)=95,$BN$95,\"\")&IF((AT102)=96,$BN$96,\"\")&IF((AT102)=97,$BN$97,\"\")&IF((AT102)=98,$BN$98,\"\")&IF((AT102)=99,$BN$99,\"\")&IF((AT102)=100,$BN$100,\"\")&IF((AT102)=101,$BN$101,\"\")&IF((AT102)=102,$BN$102,\"\")&IF((AT102)=103,$BN$103,\"\")&IF((AT102)=104,$BN$104,\"\")&IF((AT102)=105,$BN$105,\"\")&IF((AT102)=106,$BN$106,\"\")&IF((AT102)=107,$BN$107,\"\")&IF((AT102)=108,$BN$108,\"\")&IF((AT102)=109,$BN$109,\"\")&IF((AT102)=110,$BN$110,\"\")&IF((AT102)=111,$BN$111,\"\")&IF((AT102)=112,$BN$112,\"\")&IF((AT102)=113,$BN$113,\"\")&IF((AT102)=114,$BN$114,\"\")&IF((AT102)=115,$BN$115,\"\")&IF((AT102)=116,$BN$116,\"\")&IF((AT102)=117,$BN$117,\"\")&IF((AT102)=118,$BN$118,\"\")&IF((AT102)=119,$BN$119,\"\")&IF((AT102)=120,$BN$120,\"\")&IF((AT102)=121,$BN$121,\"\")&IF((AT102)=122,$BN$122,\"\")&IF((AT102)=123,$BN$123,\"\")&IF((AT102)=124,$BN$124,\"\")&IF((AT102)=125,$BN$125,\"\")&IF((AT102)=126,$BN$126,\"\")&IF((AT102)=127,$BN$127,\"\")&IF((AT102)=128,$BN$128,\"\")","v":""},null,{"$f":"IF((AX102)=1,$BM$1,\"\")&IF((AX102)=2,$BM$2,\"\")&IF((AX102)=3,$BM$3,\"\")&IF((AX102)=4,$BM$4,\"\")&IF((AX102)=5,$BM$5,\"\")&IF((AX102)=6,$BM$6,\"\")&IF((AX102)=7,$BM$7,\"\")&IF((AX102)=8,$BM$8,\"\")&IF((AX102)=9,$BM$9,\"\")&IF((AX102)=10,$BM$10,\"\")&IF((AX102)=11,$BM$11,\"\")&IF((AX102)=12,$BM$12,\"\")&IF((AX102)=13,$BM$13,\"\")&IF((AX102)=14,$BM$14,\"\")&IF((AX102)=15,$BM$15,\"\")&IF((AX102)=16,$BM$16,\"\")&IF((AX102)=17,$BM$17,\"\")&IF((AX102)=18,$BM$18,\"\")&IF((AX102)=19,$BM$19,\"\")&IF((AX102)=20,$BM$20,\"\")&IF((AX102)=21,$BM$21,\"\")&IF((AX102)=22,$BM$22,\"\")&IF((AX102)=23,$BM$23,\"\")&IF((AX102)=24,$BM$24,\"\")&IF((AX102)=25,$BM$25,\"\")&IF((AX102)=26,$BM$26,\"\")&IF((AX102)=27,$BM$27,\"\")&IF((AX102)=28,$BM$28,\"\")&IF((AX102)=29,$BM$29,\"\")&IF((AX102)=30,$BM$30,\"\")&IF((AX102)=31,$BM$31,\"\")&IF((AX102)=32,$BM$32,\"\")&IF((AX102)=33,$BM$33,\"\")&IF((AX102)=34,$BM$34,\"\")&IF((AX102)=35,$BM$35,\"\")&IF((AX102)=36,$BM$36,\"\")&IF((AX102)=37,$BM$37,\"\")&IF((AX102)=38,$BM$38,\"\")&IF((AX102)=39,$BM$39,\"\")&IF((AX102)=40,$BM$40,\"\")&IF((AX102)=41,$BM$41,\"\")&IF((AX102)=42,$BM$42,\"\")&IF((AX102)=43,$BM$43,\"\")&IF((AX102)=44,$BM$44,\"\")&IF((AX102)=45,$BM$45,\"\")&IF((AX102)=46,$BM$46,\"\")&IF((AX102)=47,$BM$47,\"\")&IF((AX102)=48,$BM$48,\"\")&IF((AX102)=49,$BM$49,\"\")&IF((AX102)=50,$BM$50,\"\")&IF((AX102)=51,$BM$51,\"\")&IF((AX102)=52,$BM$52,\"\")&IF((AX102)=53,$BM$53,\"\")&IF((AX102)=54,$BM$54,\"\")&IF((AX102)=55,$BM$55,\"\")&IF((AX102)=56,$BM$56,\"\")&IF((AX102)=57,$BM$57,\"\")&IF((AX102)=58,$BM$58,\"\")&IF((AX102)=59,$BM$59,\"\")&IF((AX102)=60,$BM$60,\"\")&IF((AX102)=61,$BM$61,\"\")&IF((AX102)=62,$BM$62,\"\")&IF((AX102)=63,$BM$63,\"\")&IF((AX102)=64,$BM$64,\"\")&IF((AX102)=65,$BM$65,\"\")&IF((AX102)=66,$BM$66,\"\")&IF((AX102)=67,$BM$67,\"\")&IF((AX102)=68,$BM$68,\"\")&IF((AX102)=69,$BM$69,\"\")&IF((AX102)=70,$BM$70,\"\")&IF((AX102)=71,$BM$71,\"\")&IF((AX102)=72,$BM$72,\"\")&IF((AX102)=73,$BM$73,\"\")&IF((AX102)=74,$BM$74,\"\")&IF((AX102)=75,$BM$75,\"\")&IF((AX102)=76,$BM$76,\"\")&IF((AX102)=77,$BM$77,\"\")&IF((AX102)=78,$BM$78,\"\")&IF((AX102)=79,$BM$79,\"\")&IF((AX102)=80,$BM$80,\"\")&IF((AX102)=81,$BM$81,\"\")&IF((AX102)=82,$BM$82,\"\")&IF((AX102)=83,$BM$83,\"\")&IF((AX102)=84,$BM$84,\"\")&IF((AX102)=85,$BM$85,\"\")&IF((AX102)=86,$BM$86,\"\")&IF((AX102)=87,$BM$87,\"\")&IF((AX102)=88,$BM$88,\"\")&IF((AX102)=89,$BM$89,\"\")&IF((AX102)=90,$BM$90,\"\")&IF((AX102)=91,$BM$91,\"\")&IF((AX102)=92,$BM$92,\"\")&IF((AX102)=93,$BM$93,\"\")&IF((AX102)=94,$BM$94,\"\")&IF((AX102)=95,$BM$95,\"\")&IF((AX102)=96,$BM$96,\"\")&IF((AX102)=97,$BM$97,\"\")&IF((AX102)=98,$BM$98,\"\")&IF((AX102)=99,$BM$99,\"\")&IF((AX102)=100,$BM$100,\"\")&IF((AX102)=101,$BM$101,\"\")&IF((AX102)=102,$BM$102,\"\")&IF((AX102)=103,$BM$103,\"\")&IF((AX102)=104,$BM$104,\"\")&IF((AX102)=105,$BM$105,\"\")&IF((AX102)=106,$BM$106,\"\")&IF((AX102)=107,$BM$107,\"\")&IF((AX102)=108,$BM$108,\"\")&IF((AX102)=109,$BM$109,\"\")&IF((AX102)=110,$BM$110,\"\")&IF((AX102)=111,$BM$111,\"\")&IF((AX102)=112,$BM$112,\"\")&IF((AX102)=113,$BM$113,\"\")&IF((AX102)=114,$BM$114,\"\")&IF((AX102)=115,$BM$115,\"\")&IF((AX102)=116,$BM$116,\"\")&IF((AX102)=117,$BM$117,\"\")&IF((AX102)=118,$BM$118,\"\")&IF((AX102)=119,$BM$119,\"\")&IF((AX102)=120,$BM$120,\"\")&IF((AX102)=121,$BM$121,\"\")&IF((AX102)=122,$BM$122,\"\")&IF((AX102)=123,$BM$123,\"\")&IF((AX102)=124,$BM$124,\"\")&IF((AX102)=125,$BM$125,\"\")&IF((AX102)=126,$BM$126,\"\")&IF((AX102)=127,$BM$127,\"\")&IF((AX102)=128,$BM$128,\"\")","v":""},null,{"$f":"IF((AX102)=1,$BN$1,\"\")&IF((AX102)=2,$BN$2,\"\")&IF((AX102)=3,$BN$3,\"\")&IF((AX102)=4,$BN$4,\"\")&IF((AX102)=5,$BN$5,\"\")&IF((AX102)=6,$BN$6,\"\")&IF((AX102)=7,$BN$7,\"\")&IF((AX102)=8,$BN$8,\"\")&IF((AX102)=9,$BN$9,\"\")&IF((AX102)=10,$BN$10,\"\")&IF((AX102)=11,$BN$11,\"\")&IF((AX102)=12,$BN$12,\"\")&IF((AX102)=13,$BN$13,\"\")&IF((AX102)=14,$BN$14,\"\")&IF((AX102)=15,$BN$15,\"\")&IF((AX102)=16,$BN$16,\"\")&IF((AX102)=17,$BN$17,\"\")&IF((AX102)=18,$BN$18,\"\")&IF((AX102)=19,$BN$19,\"\")&IF((AX102)=20,$BN$20,\"\")&IF((AX102)=21,$BN$21,\"\")&IF((AX102)=22,$BN$22,\"\")&IF((AX102)=23,$BN$23,\"\")&IF((AX102)=24,$BN$24,\"\")&IF((AX102)=25,$BN$25,\"\")&IF((AX102)=26,$BN$26,\"\")&IF((AX102)=27,$BN$27,\"\")&IF((AX102)=28,$BN$28,\"\")&IF((AX102)=29,$BN$29,\"\")&IF((AX102)=30,$BN$30,\"\")&IF((AX102)=31,$BN$31,\"\")&IF((AX102)=32,$BN$32,\"\")&IF((AX102)=33,$BN$33,\"\")&IF((AX102)=34,$BN$34,\"\")&IF((AX102)=35,$BN$35,\"\")&IF((AX102)=36,$BN$36,\"\")&IF((AX102)=37,$BN$37,\"\")&IF((AX102)=38,$BN$38,\"\")&IF((AX102)=39,$BN$39,\"\")&IF((AX102)=40,$BN$40,\"\")&IF((AX102)=41,$BN$41,\"\")&IF((AX102)=42,$BN$42,\"\")&IF((AX102)=43,$BN$43,\"\")&IF((AX102)=44,$BN$44,\"\")&IF((AX102)=45,$BN$45,\"\")&IF((AX102)=46,$BN$46,\"\")&IF((AX102)=47,$BN$47,\"\")&IF((AX102)=48,$BN$48,\"\")&IF((AX102)=49,$BN$49,\"\")&IF((AX102)=50,$BN$50,\"\")&IF((AX102)=51,$BN$51,\"\")&IF((AX102)=52,$BN$52,\"\")&IF((AX102)=53,$BN$53,\"\")&IF((AX102)=54,$BN$54,\"\")&IF((AX102)=55,$BN$55,\"\")&IF((AX102)=56,$BN$56,\"\")&IF((AX102)=57,$BN$57,\"\")&IF((AX102)=58,$BN$58,\"\")&IF((AX102)=59,$BN$59,\"\")&IF((AX102)=60,$BN$60,\"\")&IF((AX102)=61,$BN$61,\"\")&IF((AX102)=62,$BN$62,\"\")&IF((AX102)=63,$BN$63,\"\")&IF((AX102)=64,$BN$64,\"\")&IF((AX102)=65,$BN$65,\"\")&IF((AX102)=66,$BN$66,\"\")&IF((AX102)=67,$BN$67,\"\")&IF((AX102)=68,$BN$68,\"\")&IF((AX102)=69,$BN$69,\"\")&IF((AX102)=70,$BN$70,\"\")&IF((AX102)=71,$BN$71,\"\")&IF((AX102)=72,$BN$72,\"\")&IF((AX102)=73,$BN$73,\"\")&IF((AX102)=74,$BN$74,\"\")&IF((AX102)=75,$BN$75,\"\")&IF((AX102)=76,$BN$76,\"\")&IF((AX102)=77,$BN$77,\"\")&IF((AX102)=78,$BN$78,\"\")&IF((AX102)=79,$BN$79,\"\")&IF((AX102)=80,$BN$80,\"\")&IF((AX102)=81,$BN$81,\"\")&IF((AX102)=82,$BN$82,\"\")&IF((AX102)=83,$BN$83,\"\")&IF((AX102)=84,$BN$84,\"\")&IF((AX102)=85,$BN$85,\"\")&IF((AX102)=86,$BN$86,\"\")&IF((AX102)=87,$BN$87,\"\")&IF((AX102)=88,$BN$88,\"\")&IF((AX102)=89,$BN$89,\"\")&IF((AX102)=90,$BN$90,\"\")&IF((AX102)=91,$BN$91,\"\")&IF((AX102)=92,$BN$92,\"\")&IF((AX102)=93,$BN$93,\"\")&IF((AX102)=94,$BN$94,\"\")&IF((AX102)=95,$BN$95,\"\")&IF((AX102)=96,$BN$96,\"\")&IF((AX102)=97,$BN$97,\"\")&IF((AX102)=98,$BN$98,\"\")&IF((AX102)=99,$BN$99,\"\")&IF((AX102)=100,$BN$100,\"\")&IF((AX102)=101,$BN$101,\"\")&IF((AX102)=102,$BN$102,\"\")&IF((AX102)=103,$BN$103,\"\")&IF((AX102)=104,$BN$104,\"\")&IF((AX102)=105,$BN$105,\"\")&IF((AX102)=106,$BN$106,\"\")&IF((AX102)=107,$BN$107,\"\")&IF((AX102)=108,$BN$108,\"\")&IF((AX102)=109,$BN$109,\"\")&IF((AX102)=110,$BN$110,\"\")&IF((AX102)=111,$BN$111,\"\")&IF((AX102)=112,$BN$112,\"\")&IF((AX102)=113,$BN$113,\"\")&IF((AX102)=114,$BN$114,\"\")&IF((AX102)=115,$BN$115,\"\")&IF((AX102)=116,$BN$116,\"\")&IF((AX102)=117,$BN$117,\"\")&IF((AX102)=118,$BN$118,\"\")&IF((AX102)=119,$BN$119,\"\")&IF((AX102)=120,$BN$120,\"\")&IF((AX102)=121,$BN$121,\"\")&IF((AX102)=122,$BN$122,\"\")&IF((AX102)=123,$BN$123,\"\")&IF((AX102)=124,$BN$124,\"\")&IF((AX102)=125,$BN$125,\"\")&IF((AX102)=126,$BN$126,\"\")&IF((AX102)=127,$BN$127,\"\")&IF((AX102)=128,$BN$128,\"\")","v":""},null,null,null,{"$f":"IF((BD102)=1,$BM$1,\"\")&IF((BD102)=2,$BM$2,\"\")&IF((BD102)=3,$BM$3,\"\")&IF((BD102)=4,$BM$4,\"\")&IF((BD102)=5,$BM$5,\"\")&IF((BD102)=6,$BM$6,\"\")&IF((BD102)=7,$BM$7,\"\")&IF((BD102)=8,$BM$8,\"\")&IF((BD102)=9,$BM$9,\"\")&IF((BD102)=10,$BM$10,\"\")&IF((BD102)=11,$BM$11,\"\")&IF((BD102)=12,$BM$12,\"\")&IF((BD102)=13,$BM$13,\"\")&IF((BD102)=14,$BM$14,\"\")&IF((BD102)=15,$BM$15,\"\")&IF((BD102)=16,$BM$16,\"\")&IF((BD102)=17,$BM$17,\"\")&IF((BD102)=18,$BM$18,\"\")&IF((BD102)=19,$BM$19,\"\")&IF((BD102)=20,$BM$20,\"\")&IF((BD102)=21,$BM$21,\"\")&IF((BD102)=22,$BM$22,\"\")&IF((BD102)=23,$BM$23,\"\")&IF((BD102)=24,$BM$24,\"\")&IF((BD102)=25,$BM$25,\"\")&IF((BD102)=26,$BM$26,\"\")&IF((BD102)=27,$BM$27,\"\")&IF((BD102)=28,$BM$28,\"\")&IF((BD102)=29,$BM$29,\"\")&IF((BD102)=30,$BM$30,\"\")&IF((BD102)=31,$BM$31,\"\")&IF((BD102)=32,$BM$32,\"\")&IF((BD102)=33,$BM$33,\"\")&IF((BD102)=34,$BM$34,\"\")&IF((BD102)=35,$BM$35,\"\")&IF((BD102)=36,$BM$36,\"\")&IF((BD102)=37,$BM$37,\"\")&IF((BD102)=38,$BM$38,\"\")&IF((BD102)=39,$BM$39,\"\")&IF((BD102)=40,$BM$40,\"\")&IF((BD102)=41,$BM$41,\"\")&IF((BD102)=42,$BM$42,\"\")&IF((BD102)=43,$BM$43,\"\")&IF((BD102)=44,$BM$44,\"\")&IF((BD102)=45,$BM$45,\"\")&IF((BD102)=46,$BM$46,\"\")&IF((BD102)=47,$BM$47,\"\")&IF((BD102)=48,$BM$48,\"\")&IF((BD102)=49,$BM$49,\"\")&IF((BD102)=50,$BM$50,\"\")&IF((BD102)=51,$BM$51,\"\")&IF((BD102)=52,$BM$52,\"\")&IF((BD102)=53,$BM$53,\"\")&IF((BD102)=54,$BM$54,\"\")&IF((BD102)=55,$BM$55,\"\")&IF((BD102)=56,$BM$56,\"\")&IF((BD102)=57,$BM$57,\"\")&IF((BD102)=58,$BM$58,\"\")&IF((BD102)=59,$BM$59,\"\")&IF((BD102)=60,$BM$60,\"\")&IF((BD102)=61,$BM$61,\"\")&IF((BD102)=62,$BM$62,\"\")&IF((BD102)=63,$BM$63,\"\")&IF((BD102)=64,$BM$64,\"\")&IF((BD102)=65,$BM$65,\"\")&IF((BD102)=66,$BM$66,\"\")&IF((BD102)=67,$BM$67,\"\")&IF((BD102)=68,$BM$68,\"\")&IF((BD102)=69,$BM$69,\"\")&IF((BD102)=70,$BM$70,\"\")&IF((BD102)=71,$BM$71,\"\")&IF((BD102)=72,$BM$72,\"\")&IF((BD102)=73,$BM$73,\"\")&IF((BD102)=74,$BM$74,\"\")&IF((BD102)=75,$BM$75,\"\")&IF((BD102)=76,$BM$76,\"\")&IF((BD102)=77,$BM$77,\"\")&IF((BD102)=78,$BM$78,\"\")&IF((BD102)=79,$BM$79,\"\")&IF((BD102)=80,$BM$80,\"\")&IF((BD102)=81,$BM$81,\"\")&IF((BD102)=82,$BM$82,\"\")&IF((BD102)=83,$BM$83,\"\")&IF((BD102)=84,$BM$84,\"\")&IF((BD102)=85,$BM$85,\"\")&IF((BD102)=86,$BM$86,\"\")&IF((BD102)=87,$BM$87,\"\")&IF((BD102)=88,$BM$88,\"\")&IF((BD102)=89,$BM$89,\"\")&IF((BD102)=90,$BM$90,\"\")&IF((BD102)=91,$BM$91,\"\")&IF((BD102)=92,$BM$92,\"\")&IF((BD102)=93,$BM$93,\"\")&IF((BD102)=94,$BM$94,\"\")&IF((BD102)=95,$BM$95,\"\")&IF((BD102)=96,$BM$96,\"\")&IF((BD102)=97,$BM$97,\"\")&IF((BD102)=98,$BM$98,\"\")&IF((BD102)=99,$BM$99,\"\")&IF((BD102)=100,$BM$100,\"\")&IF((BD102)=101,$BM$101,\"\")&IF((BD102)=102,$BM$102,\"\")&IF((BD102)=103,$BM$103,\"\")&IF((BD102)=104,$BM$104,\"\")&IF((BD102)=105,$BM$105,\"\")&IF((BD102)=106,$BM$106,\"\")&IF((BD102)=107,$BM$107,\"\")&IF((BD102)=108,$BM$108,\"\")&IF((BD102)=109,$BM$109,\"\")&IF((BD102)=110,$BM$110,\"\")&IF((BD102)=111,$BM$111,\"\")&IF((BD102)=112,$BM$112,\"\")&IF((BD102)=113,$BM$113,\"\")&IF((BD102)=114,$BM$114,\"\")&IF((BD102)=115,$BM$115,\"\")&IF((BD102)=116,$BM$116,\"\")&IF((BD102)=117,$BM$117,\"\")&IF((BD102)=118,$BM$118,\"\")&IF((BD102)=119,$BM$119,\"\")&IF((BD102)=120,$BM$120,\"\")&IF((BD102)=121,$BM$121,\"\")&IF((BD102)=122,$BM$122,\"\")&IF((BD102)=123,$BM$123,\"\")&IF((BD102)=124,$BM$124,\"\")&IF((BD102)=125,$BM$125,\"\")&IF((BD102)=126,$BM$126,\"\")&IF((BD102)=127,$BM$127,\"\")&IF((BD102)=128,$BM$128,\"\")","v":""},null,{"$f":"IF((BD102)=1,$BN$1,\"\")&IF((BD102)=2,$BN$2,\"\")&IF((BD102)=3,$BN$3,\"\")&IF((BD102)=4,$BN$4,\"\")&IF((BD102)=5,$BN$5,\"\")&IF((BD102)=6,$BN$6,\"\")&IF((BD102)=7,$BN$7,\"\")&IF((BD102)=8,$BN$8,\"\")&IF((BD102)=9,$BN$9,\"\")&IF((BD102)=10,$BN$10,\"\")&IF((BD102)=11,$BN$11,\"\")&IF((BD102)=12,$BN$12,\"\")&IF((BD102)=13,$BN$13,\"\")&IF((BD102)=14,$BN$14,\"\")&IF((BD102)=15,$BN$15,\"\")&IF((BD102)=16,$BN$16,\"\")&IF((BD102)=17,$BN$17,\"\")&IF((BD102)=18,$BN$18,\"\")&IF((BD102)=19,$BN$19,\"\")&IF((BD102)=20,$BN$20,\"\")&IF((BD102)=21,$BN$21,\"\")&IF((BD102)=22,$BN$22,\"\")&IF((BD102)=23,$BN$23,\"\")&IF((BD102)=24,$BN$24,\"\")&IF((BD102)=25,$BN$25,\"\")&IF((BD102)=26,$BN$26,\"\")&IF((BD102)=27,$BN$27,\"\")&IF((BD102)=28,$BN$28,\"\")&IF((BD102)=29,$BN$29,\"\")&IF((BD102)=30,$BN$30,\"\")&IF((BD102)=31,$BN$31,\"\")&IF((BD102)=32,$BN$32,\"\")&IF((BD102)=33,$BN$33,\"\")&IF((BD102)=34,$BN$34,\"\")&IF((BD102)=35,$BN$35,\"\")&IF((BD102)=36,$BN$36,\"\")&IF((BD102)=37,$BN$37,\"\")&IF((BD102)=38,$BN$38,\"\")&IF((BD102)=39,$BN$39,\"\")&IF((BD102)=40,$BN$40,\"\")&IF((BD102)=41,$BN$41,\"\")&IF((BD102)=42,$BN$42,\"\")&IF((BD102)=43,$BN$43,\"\")&IF((BD102)=44,$BN$44,\"\")&IF((BD102)=45,$BN$45,\"\")&IF((BD102)=46,$BN$46,\"\")&IF((BD102)=47,$BN$47,\"\")&IF((BD102)=48,$BN$48,\"\")&IF((BD102)=49,$BN$49,\"\")&IF((BD102)=50,$BN$50,\"\")&IF((BD102)=51,$BN$51,\"\")&IF((BD102)=52,$BN$52,\"\")&IF((BD102)=53,$BN$53,\"\")&IF((BD102)=54,$BN$54,\"\")&IF((BD102)=55,$BN$55,\"\")&IF((BD102)=56,$BN$56,\"\")&IF((BD102)=57,$BN$57,\"\")&IF((BD102)=58,$BN$58,\"\")&IF((BD102)=59,$BN$59,\"\")&IF((BD102)=60,$BN$60,\"\")&IF((BD102)=61,$BN$61,\"\")&IF((BD102)=62,$BN$62,\"\")&IF((BD102)=63,$BN$63,\"\")&IF((BD102)=64,$BN$64,\"\")&IF((BD102)=65,$BN$65,\"\")&IF((BD102)=66,$BN$66,\"\")&IF((BD102)=67,$BN$67,\"\")&IF((BD102)=68,$BN$68,\"\")&IF((BD102)=69,$BN$69,\"\")&IF((BD102)=70,$BN$70,\"\")&IF((BD102)=71,$BN$71,\"\")&IF((BD102)=72,$BN$72,\"\")&IF((BD102)=73,$BN$73,\"\")&IF((BD102)=74,$BN$74,\"\")&IF((BD102)=75,$BN$75,\"\")&IF((BD102)=76,$BN$76,\"\")&IF((BD102)=77,$BN$77,\"\")&IF((BD102)=78,$BN$78,\"\")&IF((BD102)=79,$BN$79,\"\")&IF((BD102)=80,$BN$80,\"\")&IF((BD102)=81,$BN$81,\"\")&IF((BD102)=82,$BN$82,\"\")&IF((BD102)=83,$BN$83,\"\")&IF((BD102)=84,$BN$84,\"\")&IF((BD102)=85,$BN$85,\"\")&IF((BD102)=86,$BN$86,\"\")&IF((BD102)=87,$BN$87,\"\")&IF((BD102)=88,$BN$88,\"\")&IF((BD102)=89,$BN$89,\"\")&IF((BD102)=90,$BN$90,\"\")&IF((BD102)=91,$BN$91,\"\")&IF((BD102)=92,$BN$92,\"\")&IF((BD102)=93,$BN$93,\"\")&IF((BD102)=94,$BN$94,\"\")&IF((BD102)=95,$BN$95,\"\")&IF((BD102)=96,$BN$96,\"\")&IF((BD102)=97,$BN$97,\"\")&IF((BD102)=98,$BN$98,\"\")&IF((BD102)=99,$BN$99,\"\")&IF((BD102)=100,$BN$100,\"\")&IF((BD102)=101,$BN$101,\"\")&IF((BD102)=102,$BN$102,\"\")&IF((BD102)=103,$BN$103,\"\")&IF((BD102)=104,$BN$104,\"\")&IF((BD102)=105,$BN$105,\"\")&IF((BD102)=106,$BN$106,\"\")&IF((BD102)=107,$BN$107,\"\")&IF((BD102)=108,$BN$108,\"\")&IF((BD102)=109,$BN$109,\"\")&IF((BD102)=110,$BN$110,\"\")&IF((BD102)=111,$BN$111,\"\")&IF((BD102)=112,$BN$112,\"\")&IF((BD102)=113,$BN$113,\"\")&IF((BD102)=114,$BN$114,\"\")&IF((BD102)=115,$BN$115,\"\")&IF((BD102)=116,$BN$116,\"\")&IF((BD102)=117,$BN$117,\"\")&IF((BD102)=118,$BN$118,\"\")&IF((BD102)=119,$BN$119,\"\")&IF((BD102)=120,$BN$120,\"\")&IF((BD102)=121,$BN$121,\"\")&IF((BD102)=122,$BN$122,\"\")&IF((BD102)=123,$BN$123,\"\")&IF((BD102)=124,$BN$124,\"\")&IF((BD102)=125,$BN$125,\"\")&IF((BD102)=126,$BN$126,\"\")&IF((BD102)=127,$BN$127,\"\")&IF((BD102)=128,$BN$128,\"\")","v":""},null,{"$f":"IF((BH102)=1,$BM$1,\"\")&IF((BH102)=2,$BM$2,\"\")&IF((BH102)=3,$BM$3,\"\")&IF((BH102)=4,$BM$4,\"\")&IF((BH102)=5,$BM$5,\"\")&IF((BH102)=6,$BM$6,\"\")&IF((BH102)=7,$BM$7,\"\")&IF((BH102)=8,$BM$8,\"\")&IF((BH102)=9,$BM$9,\"\")&IF((BH102)=10,$BM$10,\"\")&IF((BH102)=11,$BM$11,\"\")&IF((BH102)=12,$BM$12,\"\")&IF((BH102)=13,$BM$13,\"\")&IF((BH102)=14,$BM$14,\"\")&IF((BH102)=15,$BM$15,\"\")&IF((BH102)=16,$BM$16,\"\")&IF((BH102)=17,$BM$17,\"\")&IF((BH102)=18,$BM$18,\"\")&IF((BH102)=19,$BM$19,\"\")&IF((BH102)=20,$BM$20,\"\")&IF((BH102)=21,$BM$21,\"\")&IF((BH102)=22,$BM$22,\"\")&IF((BH102)=23,$BM$23,\"\")&IF((BH102)=24,$BM$24,\"\")&IF((BH102)=25,$BM$25,\"\")&IF((BH102)=26,$BM$26,\"\")&IF((BH102)=27,$BM$27,\"\")&IF((BH102)=28,$BM$28,\"\")&IF((BH102)=29,$BM$29,\"\")&IF((BH102)=30,$BM$30,\"\")&IF((BH102)=31,$BM$31,\"\")&IF((BH102)=32,$BM$32,\"\")&IF((BH102)=33,$BM$33,\"\")&IF((BH102)=34,$BM$34,\"\")&IF((BH102)=35,$BM$35,\"\")&IF((BH102)=36,$BM$36,\"\")&IF((BH102)=37,$BM$37,\"\")&IF((BH102)=38,$BM$38,\"\")&IF((BH102)=39,$BM$39,\"\")&IF((BH102)=40,$BM$40,\"\")&IF((BH102)=41,$BM$41,\"\")&IF((BH102)=42,$BM$42,\"\")&IF((BH102)=43,$BM$43,\"\")&IF((BH102)=44,$BM$44,\"\")&IF((BH102)=45,$BM$45,\"\")&IF((BH102)=46,$BM$46,\"\")&IF((BH102)=47,$BM$47,\"\")&IF((BH102)=48,$BM$48,\"\")&IF((BH102)=49,$BM$49,\"\")&IF((BH102)=50,$BM$50,\"\")&IF((BH102)=51,$BM$51,\"\")&IF((BH102)=52,$BM$52,\"\")&IF((BH102)=53,$BM$53,\"\")&IF((BH102)=54,$BM$54,\"\")&IF((BH102)=55,$BM$55,\"\")&IF((BH102)=56,$BM$56,\"\")&IF((BH102)=57,$BM$57,\"\")&IF((BH102)=58,$BM$58,\"\")&IF((BH102)=59,$BM$59,\"\")&IF((BH102)=60,$BM$60,\"\")&IF((BH102)=61,$BM$61,\"\")&IF((BH102)=62,$BM$62,\"\")&IF((BH102)=63,$BM$63,\"\")&IF((BH102)=64,$BM$64,\"\")&IF((BH102)=65,$BM$65,\"\")&IF((BH102)=66,$BM$66,\"\")&IF((BH102)=67,$BM$67,\"\")&IF((BH102)=68,$BM$68,\"\")&IF((BH102)=69,$BM$69,\"\")&IF((BH102)=70,$BM$70,\"\")&IF((BH102)=71,$BM$71,\"\")&IF((BH102)=72,$BM$72,\"\")&IF((BH102)=73,$BM$73,\"\")&IF((BH102)=74,$BM$74,\"\")&IF((BH102)=75,$BM$75,\"\")&IF((BH102)=76,$BM$76,\"\")&IF((BH102)=77,$BM$77,\"\")&IF((BH102)=78,$BM$78,\"\")&IF((BH102)=79,$BM$79,\"\")&IF((BH102)=80,$BM$80,\"\")&IF((BH102)=81,$BM$81,\"\")&IF((BH102)=82,$BM$82,\"\")&IF((BH102)=83,$BM$83,\"\")&IF((BH102)=84,$BM$84,\"\")&IF((BH102)=85,$BM$85,\"\")&IF((BH102)=86,$BM$86,\"\")&IF((BH102)=87,$BM$87,\"\")&IF((BH102)=88,$BM$88,\"\")&IF((BH102)=89,$BM$89,\"\")&IF((BH102)=90,$BM$90,\"\")&IF((BH102)=91,$BM$91,\"\")&IF((BH102)=92,$BM$92,\"\")&IF((BH102)=93,$BM$93,\"\")&IF((BH102)=94,$BM$94,\"\")&IF((BH102)=95,$BM$95,\"\")&IF((BH102)=96,$BM$96,\"\")&IF((BH102)=97,$BM$97,\"\")&IF((BH102)=98,$BM$98,\"\")&IF((BH102)=99,$BM$99,\"\")&IF((BH102)=100,$BM$100,\"\")&IF((BH102)=101,$BM$101,\"\")&IF((BH102)=102,$BM$102,\"\")&IF((BH102)=103,$BM$103,\"\")&IF((BH102)=104,$BM$104,\"\")&IF((BH102)=105,$BM$105,\"\")&IF((BH102)=106,$BM$106,\"\")&IF((BH102)=107,$BM$107,\"\")&IF((BH102)=108,$BM$108,\"\")&IF((BH102)=109,$BM$109,\"\")&IF((BH102)=110,$BM$110,\"\")&IF((BH102)=111,$BM$111,\"\")&IF((BH102)=112,$BM$112,\"\")&IF((BH102)=113,$BM$113,\"\")&IF((BH102)=114,$BM$114,\"\")&IF((BH102)=115,$BM$115,\"\")&IF((BH102)=116,$BM$116,\"\")&IF((BH102)=117,$BM$117,\"\")&IF((BH102)=118,$BM$118,\"\")&IF((BH102)=119,$BM$119,\"\")&IF((BH102)=120,$BM$120,\"\")&IF((BH102)=121,$BM$121,\"\")&IF((BH102)=122,$BM$122,\"\")&IF((BH102)=123,$BM$123,\"\")&IF((BH102)=124,$BM$124,\"\")&IF((BH102)=125,$BM$125,\"\")&IF((BH102)=126,$BM$126,\"\")&IF((BH102)=127,$BM$127,\"\")&IF((BH102)=128,$BM$128,\"\")","v":""},null,{"$f":"IF((BH102)=1,$BN$1,\"\")&IF((BH102)=2,$BN$2,\"\")&IF((BH102)=3,$BN$3,\"\")&IF((BH102)=4,$BN$4,\"\")&IF((BH102)=5,$BN$5,\"\")&IF((BH102)=6,$BN$6,\"\")&IF((BH102)=7,$BN$7,\"\")&IF((BH102)=8,$BN$8,\"\")&IF((BH102)=9,$BN$9,\"\")&IF((BH102)=10,$BN$10,\"\")&IF((BH102)=11,$BN$11,\"\")&IF((BH102)=12,$BN$12,\"\")&IF((BH102)=13,$BN$13,\"\")&IF((BH102)=14,$BN$14,\"\")&IF((BH102)=15,$BN$15,\"\")&IF((BH102)=16,$BN$16,\"\")&IF((BH102)=17,$BN$17,\"\")&IF((BH102)=18,$BN$18,\"\")&IF((BH102)=19,$BN$19,\"\")&IF((BH102)=20,$BN$20,\"\")&IF((BH102)=21,$BN$21,\"\")&IF((BH102)=22,$BN$22,\"\")&IF((BH102)=23,$BN$23,\"\")&IF((BH102)=24,$BN$24,\"\")&IF((BH102)=25,$BN$25,\"\")&IF((BH102)=26,$BN$26,\"\")&IF((BH102)=27,$BN$27,\"\")&IF((BH102)=28,$BN$28,\"\")&IF((BH102)=29,$BN$29,\"\")&IF((BH102)=30,$BN$30,\"\")&IF((BH102)=31,$BN$31,\"\")&IF((BH102)=32,$BN$32,\"\")&IF((BH102)=33,$BN$33,\"\")&IF((BH102)=34,$BN$34,\"\")&IF((BH102)=35,$BN$35,\"\")&IF((BH102)=36,$BN$36,\"\")&IF((BH102)=37,$BN$37,\"\")&IF((BH102)=38,$BN$38,\"\")&IF((BH102)=39,$BN$39,\"\")&IF((BH102)=40,$BN$40,\"\")&IF((BH102)=41,$BN$41,\"\")&IF((BH102)=42,$BN$42,\"\")&IF((BH102)=43,$BN$43,\"\")&IF((BH102)=44,$BN$44,\"\")&IF((BH102)=45,$BN$45,\"\")&IF((BH102)=46,$BN$46,\"\")&IF((BH102)=47,$BN$47,\"\")&IF((BH102)=48,$BN$48,\"\")&IF((BH102)=49,$BN$49,\"\")&IF((BH102)=50,$BN$50,\"\")&IF((BH102)=51,$BN$51,\"\")&IF((BH102)=52,$BN$52,\"\")&IF((BH102)=53,$BN$53,\"\")&IF((BH102)=54,$BN$54,\"\")&IF((BH102)=55,$BN$55,\"\")&IF((BH102)=56,$BN$56,\"\")&IF((BH102)=57,$BN$57,\"\")&IF((BH102)=58,$BN$58,\"\")&IF((BH102)=59,$BN$59,\"\")&IF((BH102)=60,$BN$60,\"\")&IF((BH102)=61,$BN$61,\"\")&IF((BH102)=62,$BN$62,\"\")&IF((BH102)=63,$BN$63,\"\")&IF((BH102)=64,$BN$64,\"\")&IF((BH102)=65,$BN$65,\"\")&IF((BH102)=66,$BN$66,\"\")&IF((BH102)=67,$BN$67,\"\")&IF((BH102)=68,$BN$68,\"\")&IF((BH102)=69,$BN$69,\"\")&IF((BH102)=70,$BN$70,\"\")&IF((BH102)=71,$BN$71,\"\")&IF((BH102)=72,$BN$72,\"\")&IF((BH102)=73,$BN$73,\"\")&IF((BH102)=74,$BN$74,\"\")&IF((BH102)=75,$BN$75,\"\")&IF((BH102)=76,$BN$76,\"\")&IF((BH102)=77,$BN$77,\"\")&IF((BH102)=78,$BN$78,\"\")&IF((BH102)=79,$BN$79,\"\")&IF((BH102)=80,$BN$80,\"\")&IF((BH102)=81,$BN$81,\"\")&IF((BH102)=82,$BN$82,\"\")&IF((BH102)=83,$BN$83,\"\")&IF((BH102)=84,$BN$84,\"\")&IF((BH102)=85,$BN$85,\"\")&IF((BH102)=86,$BN$86,\"\")&IF((BH102)=87,$BN$87,\"\")&IF((BH102)=88,$BN$88,\"\")&IF((BH102)=89,$BN$89,\"\")&IF((BH102)=90,$BN$90,\"\")&IF((BH102)=91,$BN$91,\"\")&IF((BH102)=92,$BN$92,\"\")&IF((BH102)=93,$BN$93,\"\")&IF((BH102)=94,$BN$94,\"\")&IF((BH102)=95,$BN$95,\"\")&IF((BH102)=96,$BN$96,\"\")&IF((BH102)=97,$BN$97,\"\")&IF((BH102)=98,$BN$98,\"\")&IF((BH102)=99,$BN$99,\"\")&IF((BH102)=100,$BN$100,\"\")&IF((BH102)=101,$BN$101,\"\")&IF((BH102)=102,$BN$102,\"\")&IF((BH102)=103,$BN$103,\"\")&IF((BH102)=104,$BN$104,\"\")&IF((BH102)=105,$BN$105,\"\")&IF((BH102)=106,$BN$106,\"\")&IF((BH102)=107,$BN$107,\"\")&IF((BH102)=108,$BN$108,\"\")&IF((BH102)=109,$BN$109,\"\")&IF((BH102)=110,$BN$110,\"\")&IF((BH102)=111,$BN$111,\"\")&IF((BH102)=112,$BN$112,\"\")&IF((BH102)=113,$BN$113,\"\")&IF((BH102)=114,$BN$114,\"\")&IF((BH102)=115,$BN$115,\"\")&IF((BH102)=116,$BN$116,\"\")&IF((BH102)=117,$BN$117,\"\")&IF((BH102)=118,$BN$118,\"\")&IF((BH102)=119,$BN$119,\"\")&IF((BH102)=120,$BN$120,\"\")&IF((BH102)=121,$BN$121,\"\")&IF((BH102)=122,$BN$122,\"\")&IF((BH102)=123,$BN$123,\"\")&IF((BH102)=124,$BN$124,\"\")&IF((BH102)=125,$BN$125,\"\")&IF((BH102)=126,$BN$126,\"\")&IF((BH102)=127,$BN$127,\"\")&IF((BH102)=128,$BN$128,\"\")","v":""},null,null,null,null,{"$f":"resultat!AL7","v":7},{"$f":"resultat!AM7","v":"Pierre"},null,null,"Terrain  ",{"$f":"B6","v":1},{"$f":"D6","v":""},{"$f":"F6","v":""},{"$f":"H6","v":""},{"$f":"J6","v":""},{"$f":"K6","v":0},{"$f":"L6","v":0}]
["Terrain",3,null,"",null,"",null,"",null,"",null,null,null,"",null,"",null,"",null,"",null,null,null,"",null,"",null,"",null,"",null,null,null,"",null,"",null,"",null,"",null,null,null,"",null,"",null,"",null,"",null,null,null,"",null,"",null,"",null,"",null,null,null,null,{"$f":"resultat!AL8","v":8},{"$f":"resultat!AM8","v":"Marcel"},null,null,"Terrain  ",2,"","","",{"$f":"J7","v":""},0,0]
["Terrain",4,null,"",null,"",null,"",null,"",null,null,null,"",null,"",null,"",null,"",null,null,null,"",null,"",null,"",null,"",null,null,null,"",null,"",null,"",null,"",null,null,null,"",null,"",null,"",null,"",null,null,null,"",null,"",null,"",null,"",null,null,null,null,{"$f":"resultat!AL9","v":9},{"$f":"resultat!AM9","v":"Sébastien"},null,null,"Terrain  ",3,"","","","",0,0]
["Terrain",5,null,"",null,"",null,"",null,"",null,null,null,"",null,"",null,"",null,"",null,null,null,"",null,"",null,"",null,"",null,null,null,"",null,"",null,"",null,"",null,null,null,"",null,"",null,"",null,"",null,null,null,"",null,"",null,"",null,"",null,null,null,null,{"$f":"resultat!AL10","v":10},{"$f":"resultat!AM10","v":"Florian"},null,null,"Terrain  ",4,"","","","",0,0]
["Terrain",6,null,"",null,"",null,"",null,"",null,null,null,"",null,"",null,"",null,"",null,null,null,"",null,"",null,"",null,"",null,null,null,"",null,"",null,"",null,"",null,null,null,"",null,"",null,"",null,"",null,null,null,"",null,"",null,"",null,"",null,null,null,null,{"$f":"resultat!AL11","v":11},{"$f":"resultat!AM11","v":"Eric / Yvonnick"},null,null,"Terrain  ",5,"","","","",0,0]
["Terrain",7,null,"",null,"",null,"",null,"",null,null,null,"",null,"",null,"",null,"",null,null,null,"",null,"",null,"",null,"",null,null,null,"",null,"",null,"",null,"",null,null,null,"",null,"",null,"",null,"",null,null,null,"",null,"",null,"",null,"",null,null,null,null,{"$f":"resultat!AL12","v":12},{"$f":"resultat!AM12","v":"Alain / Joël"},null,null,"Terrain  ",6,"","","","",0,0]
["Terrain",8,null,"",null,"",null,"",null,"",null,null,null,"",null,"",null,"",null,"",null,null,null,"",null,"",null,"",null,"",null,null,null,"",null,"",null,"",null,"",null,null,null,"",null,"",null,"",null,"",null,null,null,"",null,"",null,"",null,"",null,null,null,null,{"$f":"resultat!AL13","v":13},{"$f":"resultat!AM13","v":"L'archi / Jean-Pierre"},null,null,"Terrain  ",7,"","","","",0,0]
["Terrain",9,null,"",null,"",null,"",null,"",null,null,null,"",null,"",null,"",null,"",null,null,null,"",null,"",null,"",null,"",null,null,null,"",null,"",null,"",null,"",null,null,null,"",null,"",null,"",null,"",null,null,null,"",null,"",null,"",null,"",null,null,null,null,{"$f":"resultat!AL14","v":14},{"$f":"resultat!AM14","v":"Alain / Christophe"},null,null,"Terrain  ",8,"","","","",0,0]
["Terrain",10,null,"",null,"",null,"",null,"",null,null,null,"",null,"",null,"",null,"",null,null,null,"",null,"",null,"",null,"",null,null,null,"",null,"",null,"",null,"",null,null,null,"",null,"",null,"",null,"",null,null,null,"",null,"",null,"",null,"",null,null,null,null,{"$f":"resultat!AL15","v":15},{"$f":"resultat!AM15","v":"Ben / Jimmy"},null,null,"Terrain  ",9,"","","","",0,0]
["Terrain",11,null,"",null,"",null,"",null,"",null,null,null,"",null,"",null,"",null,"",null,null,null,"",null,"",null,"",null,"",null,null,null,"",null,"",null,"",null,"",null,null,null,"",null,"",null,"",null,"",null,null,null,"",null,"",null,"",null,"",null,null,null,null,{"$f":"resultat!AL16","v":16},{"$f":"resultat!AM16","v":"Le Suisse / Yoyo"},null,null,"Terrain  ",10,"","","","",0,0]
["Terrain",12,null,"",null,"",null,"",null,"",null,null,null,"",null,"",null,"",null,"",null,null,null,"",null,"",null,"",null,"",null,null,null,"",null,"",null,"",null,"",null,null,null,"",null,"",null,"",null,"",null,null,null,"",null,"",null,"",null,"",null,null,null,null,{"$f":"resultat!AL17","v":17},{"$f":"resultat!AM17","v":"Laurent / Mickaël"},null,null,"Terrain  ",11,"","","","",0,0]
["Terrain",13,null,"",null,"",null,"",null,"",null,null,null,"",null,"",null,"",null,"",null,null,null,"",null,"",null,"",null,"",null,null,null,"",null,"",null,"",null,"",null,null,null,"",null,"",null,"",null,"",null,null,null,"",null,"",null,"",null,"",null,null,null,null,{"$f":"resultat!AL18","v":18},{"$f":"resultat!AM18","v":"Charles/ Nénesse"},null,null,"Terrain  ",12,"","","","",0,0]
["Terrain",14,null,"",null,"",null,"",null,"",null,null,null,"",null,"",null,"",null,"",null,null,null,"",null,"",null,"",null,"",null,null,null,"",null,"",null,"",null,"",null,null,null,"",null,"",null,"",null,"",null,null,null,"",null,"",null,"",null,"",null,null,null,null,{"$f":"resultat!AL19","v":19},{"$f":"resultat!AM19","v":"Sylvain / Julien"},null,null,"Terrain  ",13,"","","","",0,0]
["Terrain",15,null,"",null,"",null,"",null,"",null,null,null,"",null,"",null,"",null,"",null,null,null,"",null,"",null,"",null,"",null,null,null,"",null,"",null,"",null,"",null,null,null,"",null,"",null,"",null,"",null,null,null,"",null,"",null,"",null,"",null,null,null,null,{"$f":"resultat!AL20","v":20},{"$f":"resultat!AM20","v":"Fanfan / Jonathan"},null,null,"Terrain  ",14,"","","","",0,0]
["Terrain",16,null,"",null,"",null,"",null,"",null,null,null,"",null,"",null,"",null,"",null,null,null,"",null,"",null,"",null,"",null,null,null,"",null,"",null,"",null,"",null,null,null,"",null,"",null,"",null,"",null,null,null,"",null,"",null,"",null,"",null,null,null,null,{"$f":"resultat!AL21","v":21},{"$f":"resultat!AM21","v":"Gégé / Eric"},null,null,"Terrain  ",15,"","","","",0,0]
["Terrain",17,null,"",null,"",null,"",null,"",null,null,null,"",null,"",null,"",null,"",null,null,null,"",null,"",null,"",null,"",null,null,null,"",null,"",null,"",null,"",null,null,null,"",null,"",null,"",null,"",null,null,null,"",null,"",null,"",null,"",null,null,null,null,{"$f":"resultat!AL22","v":22},{"$f":"resultat!AM22","v":"Landry / Martial"},null,null,"Terrain  ",16,"","","","",0,0]
["Terrain",18,null,"",null,"",null,"",null,"",null,null,null,"",null,"",null,"",null,"",null,null,null,"",null,"",null,"",null,"",null,null,null,"",null,"",null,"",null,"",null,null,null,"",null,"",null,"",null,"",null,null,null,"",null,"",null,"",null,"",null,null,null,null,{"$f":"resultat!AL23","v":23},{"$f":"resultat!AM23","v":"Mickaël / Freddy"},null,null,"Terrain  ",17,"","","","",0,0]
["Terrain",19,null,"",null,"",null,"",null,"",null,null,null,"",null,"",null,"",null,"",null,null,null,"",null,"",null,"",null,"",null,null,null,"",null,"",null,"",null,"",null,null,null,"",null,"",null,"",null,"",null,null,null,"",null,"",null,"",null,"",null,null,null,null,{"$f":"resultat!AL24","v":24},{"$f":"resultat!AM24","v":"Jacques / Michel"},null,null,"Terrain  ",18,"","","","",0,0]
["Terrain",20,null,"",null,"",null,"",null,"",null,null,null,"",null,"",null,"",null,"",null,null,null,"",null,"",null,"",null,"",null,null,null,"",null,"",null,"",null,"",null,null,null,"",null,"",null,"",null,"",null,null,null,"",null,"",null,"",null,"",null,null,null,null,{"$f":"resultat!AL25","v":25},{"$f":"resultat!AM25","v":"Aurélien / Didier"},null,null,"Terrain  ",19,"","","","",0,0]
["Terrain",21,null,"",null,"",null,"",null,"",null,null,null,"",null,"",null,"",null,"",null,null,null,"",null,"",null,"",null,"",null,null,null,"",null,"",null,"",null,"",null,null,null,"",null,"",null,"",null,"",null,null,null,"",null,"",null,"",null,"",null,null,null,null,{"$f":"resultat!AL26","v":26},{"$f":"resultat!AM26","v":"Thierry / Damien"},null,null,"Terrain  ",20,"","","","",0,0]
["Terrain",22,null,"",null,"",null,"",null,"",null,null,null,"",null,"",null,"",null,"",null,null,null,"",null,"",null,"",null,"",null,null,null,"",null,"",null,"",null,"",null,null,null,"",null,"",null,"",null,"",null,null,null,"",null,"",null,"",null,"",null,null,null,null,{"$f":"resultat!AL27","v":27},{"$f":"resultat!AM27","v":"Phillipe / Michel"},null,null,"Terrain  ",21,"","","","",0,0]
["Terrain",23,null,"",null,"",null,"",null,"",null,null,null,"",null,"",null,"",null,"",null,null,null,"",null,"",null,"",null,"",null,null,null,"",null,"",null,"",null,"",null,null,null,"",null,"",null,"",null,"",null,null,null,"",null,"",null,"",null,"",null,null,null,null,{"$f":"resultat!AL28","v":28},{"$f":"resultat!AM28","v":"René / Robert"},null,null,"Terrain  ",22,"","","","",0,0]
["Terrain",24,null,"",null,"",null,"",null,"",null,null,null,"",null,"",null,"",null,"",null,null,null,"",null,"",null,"",null,"",null,null,null,"",null,"",null,"",null,"",null,null,null,"",null,"",null,"",null,"",null,null,null,"",null,"",null,"",null,"",null,null,null,null,{"$f":"resultat!AL29","v":29},{"$f":"resultat!AM29","v":"Yoann / Christian"},null,null,"Terrain  ",23,"","","","",0,0]
["Terrain",25,null,"",null,"",null,"",null,"",null,null,null,"",null,"",null,"",null,"",null,null,null,"",null,"",null,"",null,"",null,null,null,"",null,"",null,"",null,"",null,null,null,"",null,"",null,"",null,"",null,null,null,"",null,"",null,"",null,"",null,null,null,null,{"$f":"resultat!AL30","v":30},{"$f":"resultat!AM30","v":"Patrick / Roger"},null,null,"Terrain  ",24,"","","","",0,0]
["Terrain",26,null,"",null,"",null,"",null,"",null,null,null,"",null,"",null,"",null,"",null,null,null,"",null,"",null,"",null,"",null,null,null,"",null,"",null,"",null,"",null,null,null,"",null,"",null,"",null,"",null,null,null,"",null,"",null,"",null,"",null,null,null,null,{"$f":"resultat!AL31","v":31},{"$f":"resultat!AM31","v":"Gérard / Edouard"},null,null,"Terrain  ",25,"","","","",0,0]
["Terrain",27,null,"",null,"",null,"",null,"",null,null,null,"",null,"",null,"",null,"",null,null,null,"",null,"",null,"",null,"",null,null,null,"",null,"",null,"",null,"",null,null,null,"",null,"",null,"",null,"",null,null,null,"",null,"",null,"",null,"",null,null,null,null,{"$f":"resultat!AL32","v":32},{"$f":"resultat!AM32","v":"Adeline / Mathieu"},null,null,"Terrain  ",26,"","","","",0,0]
["Terrain",28,null,"",null,"",null,"",null,"",null,null,null,"",null,"",null,"",null,"",null,null,null,"",null,"",null,"",null,"",null,null,null,"",null,"",null,"",null,"",null,null,null,"",null,"",null,"",null,"",null,null,null,"",null,"",null,"",null,"",null,null,null,null,{"$f":"resultat!AL33","v":33},{"$f":"resultat!AM33","v":"Bruno/Philippe"},null,null,"Terrain  ",27,"","","","",0,0]
["Terrain",29,null,"",null,"",null,"",null,"",null,null,null,"",null,"",null,"",null,"",null,null,null,"",null,"",null,"",null,"",null,null,null,"",null,"",null,"",null,"",null,null,null,"",null,"",null,"",null,"",null,null,null,"",null,"",null,"",null,"",null,null,null,null,{"$f":"resultat!AL34","v":34},{"$f":"resultat!AM34","v":"Joe/Geo"},null,null,"Terrain  ",28,"","","","",0,0]
["Terrain",30,null,"",null,"",null,"",null,"",null,null,null,"",null,"",null,"",null,"",null,null,null,"",null,"",null,"",null,"",null,null,null,"",null,"",null,"",null,"",null,null,null,"",null,"",null,"",null,"",null,null,null,"",null,"",null,"",null,"",null,null,null,null,{"$f":"resultat!AL35","v":35},{"$f":"resultat!AM35","v":"Frères MARTIN"},null,null,"Terrain  ",29,"","","","",0,0]
["Terrain",31,null,"",null,"",null,"",null,"",null,null,null,"",null,"",null,"",null,"",null,null,null,"",null,"",null,"",null,"",null,null,null,"",null,"",null,"",null,"",null,null,null,"",null,"",null,"",null,"",null,null,null,"",null,"",null,"",null,"",null,null,null,null,{"$f":"resultat!AL36","v":36},{"$f":"resultat!AM36","v":"Alcide/ Henri"},null,null,"Terrain  ",30,"","","","",0,0]
["Terrain",32,null,"",null,"",null,"",null,"",null,null,null,"",null,"",null,"",null,"",null,null,null,"",null,"",null,"",null,"",null,null,null,"",null,"",null,"",null,"",null,null,null,"",null,"",null,"",null,"",null,null,null,"",null,"",null,"",null,"",null,null,null,null,{"$f":"resultat!AL37","v":37},{"$f":"resultat!AM37","v":"Clément/Charles"},null,null,"Terrain  ",31,"","","","",0,0]
[null,null,"Equ",null,null,null,"Equ",null,null,null,null,null,"Equ",null,null,null,"Equ",null,null,null,null,null,"Equ",null,null,null,"Equ",null,null,null,null,null,"Equ",null,null,null,"Equ",null,null,null,null,null,"Equ",null,null,null,"Equ",null,null,null,null,null,"Equ",null,null,null,"Equ",null,null,null,null,null,null,null,{"$f":"resultat!AL38","v":38},{"$f":"resultat!AM38","v":"Romain/Florian"},null,null,"Terrain  ",32,"","","","",0,0]
[null,null,"Equ",null,null,null,"Equ",null,null,null,null,null,"Equ",null,null,null,"Equ",null,null,null,null,null,"Equ",null,null,null,"Equ",null,null,null,null,null,"Equ",null,null,null,"Equ",null,null,null,null,null,"Equ",null,null,null,"Equ",null,null,null,null,null,"Equ",null,null,null,"Equ",null,null,null,null,null,null,null,{"$f":"resultat!AL39","v":39},{"$f":"resultat!AM39","v":"Philippe/Nico"},null,null,"Terrain  ",0,0,{"$f":"#REF!","v":{"$error":"#REF!"}},{"$f":"#REF!","v":{"$error":"#REF!"}},{"$f":"#REF!","v":{"$error":"#REF!"}},{"$f":"#REF!","v":{"$error":"#REF!"}},{"$f":"#REF!","v":{"$error":"#REF!"}}]
[null,null,"Equ",null,null,null,"Equ",null,null,null,null,null,"Equ",null,null,null,"Equ",null,null,null,null,null,"Equ",null,null,null,"Equ",null,null,null,null,null,"Equ",null,null,null,"Equ",null,null,null,null,null,"Equ",null,null,null,"Equ",null,null,null,null,null,"Equ",null,null,null,"Equ",null,null,null,null,null,null,null,{"$f":"resultat!AL40","v":40},{"$f":"resultat!AM40","v":"Vincent/François"},null,null,"Terrain  ",{"$f":"#REF!","v":{"$error":"#REF!"}},0,0,0,{"$f":"J39","v":0},0,0]
[null,null,"Equ",null,null,null,"Equ",null,null,null,null,null,"Equ",null,null,null,"Equ",null,null,null,null,null,"Equ",null,null,null,"Equ",null,null,null,null,null,"Equ",null,null,null,"Equ",null,null,null,null,null,"Equ",null,null,null,"Equ",null,null,null,null,null,"Equ",null,null,null,"Equ",null,null,null,null,null,null,null,{"$f":"resultat!AL41","v":41},{"$f":"resultat!AM41","v":"Jean/Etienne"},null,null,"Terrain  ",{"$f":"#REF!","v":{"$error":"#REF!"}},0,0,0,0,0,0]
[null,null,"Equ",null,null,null,"Equ",null,null,null,null,null,"Equ",null,null,null,"Equ",null,null,null,null,null,"Equ",null,null,null,"Equ",null,null,null,null,null,"Equ",null,null,null,"Equ",null,null,null,null,null,"Equ",null,null,null,"Equ",null,null,null,null,null,"Equ",null,null,null,"Equ",null,null,null,null,null,null,null,{"$f":"resultat!AL42","v":42},{"$f":"resultat!AM42","v":"Freddy/Benoit"},null,null,"Terrain  ",{"$f":"#REF!","v":{"$error":"#REF!"}},0,0,0,0,0,0]
[null,null,"Equ",null,null,null,"Equ",null,null,null,null,null,"Equ",null,null,null,"Equ",null,null,null,null,null,"Equ",null,null,null,"Equ",null,null,null,null,null,"Equ",null,null,null,"Equ",null,null,null,null,null,"Equ",null,null,null,"Equ",null,null,null,null,null,"Equ",null,null,null,"Equ",null,null,null,null,null,null,null,{"$f":"resultat!AL43","v":43},{"$f":"resultat!AM43","v":"Frères ALLAIRE"},null,null,"Terrain  ",{"$f":"#REF!","v":{"$error":"#REF!"}},0,0,0,0,0,0]
[null,null,"Equ",null,null,null,"Equ",null,null,null,null,null,"Equ",null,null,null,"Equ",null,null,null,null,null,"Equ",null,null,null,"Equ",null,null,null,null,null,"Equ",null,null,null,"Equ",null,null,null,null,null,"Equ",null,null,null,"Equ",null,null,null,null,null,"Equ",null,null,null,"Equ",null,null,null,null,null,null,null,{"$f":"resultat!AL44","v":44},{"$f":"resultat!AM44","v":"Guy/Jean BARREAU"},null,null,"Terrain  ",{"$f":"#REF!","v":{"$error":"#REF!"}},0,0,0,0,0,0]
[null,null,"Equ",null,null,null,"Equ",null,null,null,null,null,"Equ",null,null,null,"Equ",null,null,null,null,null,"Equ",null,null,null,"Equ",null,null,null,null,null,"Equ",null,null,null,"Equ",null,null,null,null,null,"Equ",null,null,null,"Equ",null,null,null,null,null,"Equ",null,null,null,"Equ",null,null,null,null,null,null,null,{"$f":"resultat!AL45","v":45},{"$f":"resultat!AM45","v":"Carl/Edouard"},null,null,"Terrain  ",{"$f":"#REF!","v":{"$error":"#REF!"}},0,0,0,0,0,0]
[null,null,"Equ",null,null,null,"Equ",null,null,null,null,null,"Equ",null,null,null,"Equ",null,null,null,null,null,"Equ",null,null,null,"Equ",null,null,null,null,null,"Equ",null,null,null,"Equ",null,null,null,null,null,"Equ",null,null,null,"Equ",null,null,null,null,null,"Equ",null,null,null,"Equ",null,null,null,null,null,null,null,{"$f":"resultat!AL46","v":46},{"$f":"resultat!AM46","v":"Serge/Philippe"},null,null,"Terrain  ",{"$f":"#REF!","v":{"$error":"#REF!"}},0,0,0,0,0,0]
[null,null,"Equ",null,null,null,"Equ",null,null,null,null,null,"Equ",null,null,null,"Equ",null,null,null,null,null,"Equ",null,null,null,"Equ",null,null,null,null,null,"Equ",null,null,null,"Equ",null,null,null,null,null,"Equ",null,null,null,"Equ",null,null,null,null,null,"Equ",null,null,null,"Equ",null,null,null,null,null,null,null,{"$f":"resultat!AL47","v":47},{"$f":"resultat!AM47","v":"Boubou"},null,null,"Terrain  ",{"$f":"#REF!","v":{"$error":"#REF!"}},0,0,0,0,0,0]
[null,null,"Equ",null,null,null,"Equ",null,null,null,null,null,"Equ",null,null,null,"Equ",null,null,null,null,null,"Equ",null,null,null,"Equ",null,null,null,null,null,"Equ",null,null,null,"Equ",null,null,null,null,null,"Equ",null,null,null,"Equ",null,null,null,null,null,"Equ",null,null,null,"Equ",null,null,null,null,null,null,null,{"$f":"resultat!AL48","v":48},{"$f":"resultat!AM48","v":"Luc"},null,null,"Terrain  ",{"$f":"#REF!","v":{"$error":"#REF!"}},0,0,0,0,0,0]
[null,null,"Equ",null,null,null,"Equ",null,null,null,null,null,"Equ",null,null,null,"Equ",null,null,null,null,null,"Equ",null,null,null,"Equ",null,null,null,null,null,"Equ",null,null,null,"Equ",null,null,null,null,null,"Equ",null,null,null,"Equ",null,null,null,null,null,"Equ",null,null,null,"Equ",null,null,null,null,null,null,null,{"$f":"resultat!AL49","v":49},{"$f":"resultat!AM49","v":"Jacky/Olivier"},null,null,"Terrain  ",{"$f":"#REF!","v":{"$error":"#REF!"}},0,0,0,0,0,0]
[null,null,"Equ",null,null,null,"Equ",null,null,null,null,null,"Equ",null,null,null,"Equ",null,null,null,null,null,"Equ",null,null,null,"Equ",null,null,null,null,null,"Equ",null,null,null,"Equ",null,null,null,null,null,"Equ",null,null,null,"Equ",null,null,null,null,null,"Equ",null,null,null,"Equ",null,null,null,null,null,null,null,{"$f":"resultat!AL50","v":50},{"$f":"resultat!AM50","v":"Adeline / Mathieu"},null,null,"Terrain  ",{"$f":"#REF!","v":{"$error":"#REF!"}},0,0,0,0,0,0]
[null,null,"Equ",null,null,null,"Equ",null,null,null,null,null,"Equ",null,null,null,"Equ",null,null,null,null,null,"Equ",null,null,null,"Equ",null,null,null,null,null,"Equ",null,null,null,"Equ",null,null,null,null,null,"Equ",null,null,null,"Equ",null,null,null,null,null,"Equ",null,null,null,"Equ",null,null,null,null,null,null,null,{"$f":"resultat!AL51","v":51},{"$f":"resultat!AM51","v":"Mickaël / Freddy"},null,null,"Terrain  ",{"$f":"#REF!","v":{"$error":"#REF!"}},0,0,0,0,0,0]
[null,null,"Equ",null,null,null,"Equ",null,null,null,null,null,"Equ",null,null,null,"Equ",null,null,null,null,null,"Equ",null,null,null,"Equ",null,null,null,null,null,"Equ",null,null,null,"Equ",null,null,null,null,null,"Equ",null,null,null,"Equ",null,null,null,null,null,"Equ",null,null,null,"Equ",null,null,null,null,null,null,null,{"$f":"resultat!AL52","v":52},{"$f":"resultat!AM52","v":"Jacques / Michel"},null,null,"Terrain  ",{"$f":"#REF!","v":{"$error":"#REF!"}},0,{"$f":"#REF!","v":{"$error":"#REF!"}},{"$f":"#REF!","v":{"$error":"#REF!"}},{"$f":"#REF!","v":{"$error":"#REF!"}},{"$f":"#REF!","v":{"$error":"#REF!"}},{"$f":"#REF!","v":{"$error":"#REF!"}}]
[null,null,"Equ",null,null,null,"Equ",null,null,null,null,null,"Equ",null,null,null,"Equ",null,null,null,null,null,"Equ",null,null,null,"Equ",null,null,null,null,null,"Equ",null,null,null,"Equ",null,null,null,null,null,"Equ",null,null,null,"Equ",null,null,null,null,null,"Equ",null,null,null,"Equ",null,null,null,null,null,null,null,{"$f":"resultat!AL53","v":53},{"$f":"resultat!AM53","v":"Aurélien / Didier"},null,null,"Terrain  ",{"$f":"#REF!","v":{"$error":"#REF!"}},0,0,0,0,0,0]
[null,null,"Equ",null,null,null,"Equ",null,null,null,null,null,"Equ",null,null,null,"Equ",null,null,null,null,null,"Equ",null,null,null,"Equ",null,null,null,null,null,"Equ",null,null,null,"Equ",null,null,null,null,null,"Equ",null,null,null,"Equ",null,null,null,null,null,"Equ",null,null,null,"Equ",null,null,null,null,null,null,null,{"$f":"resultat!AL54","v":54},{"$f":"resultat!AM54","v":"Thierry / Damien"},null,null,"Terrain  ",{"$f":"#REF!","v":{"$error":"#REF!"}},0,0,0,0,0,0]
[null,null,"Equ",null,null,null,"Equ",null,null,null,null,null,"Equ",null,null,null,"Equ",null,null,null,null,null,"Equ",null,null,null,"Equ",null,null,null,null,null,"Equ",null,null,null,"Equ",null,null,null,null,null,"Equ",null,null,null,"Equ",null,null,null,null,null,"Equ",null,null,null,"Equ",null,null,null,null,null,null,null,{"$f":"resultat!AL55","v":55},{"$f":"resultat!AM55","v":"Phillipe / Michel"},null,null,"Terrain  ",0,0,0,0,0,0,0]
[null,null,"Equ",null,null,null,"Equ",null,null,null,null,null,"Equ",null,null,null,"Equ",null,null,null,null,null,"Equ",null,null,null,"Equ",null,null,null,null,null,"Equ",null,null,null,"Equ",null,null,null,null,null,"Equ",null,null,null,"Equ",null,null,null,null,null,"Equ",null,null,null,"Equ",null,null,null,null,null,null,null,{"$f":"resultat!AL56","v":56},{"$f":"resultat!AM56","v":"René / Robert"},null,null,"Terrain  ",0,0,0,0,0,0,0]
[null,null,"Equ",null,null,null,"Equ",null,null,null,null,null,"Equ",null,null,null,"Equ",null,null,null,null,null,"Equ",null,null,null,"Equ",null,null,null,null,null,"Equ",null,null,null,"Equ",null,null,null,null,null,"Equ",null,null,null,"Equ",null,null,null,null,null,"Equ",null,null,null,"Equ",null,null,null,null,null,null,null,{"$f":"resultat!AL57","v":57},{"$f":"resultat!AM57","v":"Julot"},null,null,"Terrain  ",0,0,0,0,0,0,0]
[null,null,"Equ",null,null,null,"Equ",null,null,null,null,null,"Equ",null,null,null,"Equ",null,null,null,null,null,"Equ",null,null,null,"Equ",null,null,null,null,null,"Equ",null,null,null,"Equ",null,null,null,null,null,"Equ",null,null,null,"Equ",null,null,null,null,null,"Equ",null,null,null,"Equ",null,null,null,null,null,null,null,{"$f":"resultat!AL58","v":58},{"$f":"resultat!AM58","v":"Francis"},null,null,"Terrain  ",0,0,0,0,0,0,0]
[null,null,"Equ",null,null,null,"Equ",null,null,null,null,null,"Equ",null,null,null,"Equ",null,null,null,null,null,"Equ",null,null,null,"Equ",null,null,null,null,null,"Equ",null,null,null,"Equ",null,null,null,null,null,"Equ",null,null,null,"Equ",null,null,null,null,null,"Equ",null,null,null,"Equ",null,null,null,null,null,null,null,{"$f":"resultat!AL59","v":59},{"$f":"resultat!AM59","v":"marco"},null,null,"Terrain  ",0,0,0,0,0,0,0]
[null,null,"Equ",null,null,null,"Equ",null,null,null,null,null,"Equ",null,null,null,"Equ",null,null,null,null,null,"Equ",null,null,null,"Equ",null,null,null,null,null,"Equ",null,null,null,"Equ",null,null,null,null,null,"Equ",null,null,null,"Equ",null,null,null,null,null,"Equ",null,null,null,"Equ",null,null,null,null,null,null,null,{"$f":"resultat!AL60","v":60},{"$f":"resultat!AM60","v":"Denise"},null,null,"Terrain  ",0,0,0,0,0,0,0]
[null,null,"Equ",null,null,null,"Equ",null,null,null,null,null,"Equ",null,null,null,"Equ",null,null,null,null,null,"Equ",null,null,null,"Equ",null,null,null,null,null,"Equ",null,null,null,"Equ",null,null,null,null,null,"Equ",null,null,null,"Equ",null,null,null,null,null,"Equ",null,null,null,"Equ",null,null,null,null,null,null,null,{"$f":"resultat!AL61","v":61},{"$f":"resultat!AM61","v":"yvon"},null,null,"Terrain  ",0,0,0,0,0,0,0]
[null,null,"Equ",null,null,null,"Equ",null,null,null,null,null,"Equ",null,null,null,"Equ",null,null,null,null,null,"Equ",null,null,null,"Equ",null,null,null,null,null,"Equ",null,null,null,"Equ",null,null,null,null,null,"Equ",null,null,null,"Equ",null,null,null,null,null,"Equ",null,null,null,"Equ",null,null,null,null,null,null,null,{"$f":"resultat!AL62","v":62},{"$f":"resultat!AM62","v":"jacques"},null,null,"Terrain  ",0,0,0,0,0,0,0]
[null,null,"Equ",null,null,null,"Equ",null,null,null,null,null,"Equ",null,null,null,"Equ",null,null,null,null,null,"Equ",null,null,null,"Equ",null,null,null,null,null,"Equ",null,null,null,"Equ",null,null,null,null,null,"Equ",null,null,null,"Equ",null,null,null,null,null,"Equ",null,null,null,"Equ",null,null,null,null,null,null,null,{"$f":"resultat!AL63","v":63},{"$f":"resultat!AM63","v":"Pierre"},null,null,"Terrain  ",0,0,0,0,0,0,0]
[null,null,"Equ",null,null,null,"Equ",null,null,null,null,null,"Equ",null,null,null,"Equ",null,null,null,null,null,"Equ",null,null,null,"Equ",null,null,null,null,null,"Equ",null,null,null,"Equ",null,null,null,null,null,"Equ",null,null,null,"Equ",null,null,null,null,null,"Equ",null,null,null,"Equ",null,null,null,null,null,null,null,{"$f":"resultat!AL64","v":64},{"$f":"resultat!AM64","v":"Marcel"},null,null,"Terrain  ",0,0,0,0,0,0,0]
[null,null,"Equ",null,null,null,"Equ",null,null,null,null,null,"Equ",null,null,null,"Equ",null,null,null,null,null,"Equ",null,null,null,"Equ",null,null,null,null,null,"Equ",null,null,null,"Equ",null,null,null,null,null,"Equ",null,null,null,"Equ",null,null,null,null,null,"Equ",null,null,null,"Equ",null,null,null,null,null,null,null,{"$f":"resultat!AL65","v":65},{"$f":"resultat!AM65","v":"Sébastien"},null,null,"Terrain  ",0,0,0,0,0,0,0]
[null,null,"Equ",null,null,null,"Equ",null,null,null,null,null,"Equ",null,null,null,"Equ",null,null,null,null,null,"Equ",null,null,null,"Equ",null,null,null,null,null,"Equ",null,null,null,"Equ",null,null,null,null,null,"Equ",null,null,null,"Equ",null,null,null,null,null,"Equ",null,null,null,"Equ",null,null,null,null,null,null,null,{"$f":"resultat!AL66","v":66},{"$f":"resultat!AM66","v":"Florian"},null,null,"Terrain  ",0,0,0,0,0,0,0]
[null,null,"Equ",null,null,null,"Equ",null,null,null,null,null,"Equ",null,null,null,"Equ",null,null,null,null,null,"Equ",null,null,null,"Equ",null,null,null,null,null,"Equ",null,null,null,"Equ",null,null,null,null,null,"Equ",null,null,null,"Equ",null,null,null,null,null,"Equ",null,null,null,"Equ",null,null,null,null,null,null,null,{"$f":"resultat!AL67","v":67},{"$f":"resultat!AM67","v":"Eric / Yvonnick"},null,null,"Terrain  ",0,0,0,0,0,0,0]
[null,null,"Equ",null,null,null,"Equ",null,null,null,null,null,"Equ",null,null,null,"Equ",null,null,null,null,null,"Equ",null,null,null,"Equ",null,null,null,null,null,"Equ",null,null,null,"Equ",null,null,null,null,null,"Equ",null,null,null,"Equ",null,null,null,null,null,"Equ",null,null,null,"Equ",null,null,null,null,null,null,null,{"$f":"resultat!AL68","v":68},{"$f":"resultat!AM68","v":"Alain / Joël"},null,null,"Terrain  ",0,0,0,0,0,0,0]
[null,null,"Equ",null,null,null,"Equ",null,null,null,null,null,"Equ",null,null,null,"Equ",null,null,null,null,null,"Equ",null,null,null,"Equ",null,null,null,null,null,"Equ",null,null,null,"Equ",null,null,null,null,null,"Equ",null,null,null,"Equ",null,null,null,null,null,"Equ",null,null,null,"Equ",null,null,null,null,null,null,null,{"$f":"resultat!AL69","v":69},{"$f":"resultat!AM69","v":"L'archi / Jean-Pierre"},null,null,"Terrain  ",0,0,0,0,0,0,0]
[null,null,null,null,null,null,null,null,null,null,null,null,null,null,null,null,null,null,null,null,null,null,null,null,null,null,null,null,null,null,null,null,null,null,null,null,null,null,null,null,null,null,null,null,null,null,null,null,null,null,null,null,null,null,null,null,null,null,null,null,null,null,null,null,{"$f":"resultat!AL70","v":70},{"$f":"resultat!AM70","v":"Alain / Christophe"},null,null,"Terrain  ",0,0,0,0,0,0,0]
[null,null,null,null,null,{"$f":"IF((F166)=1,$BN$1,\"\")&IF((F166)=2,$BN$2,\"\")&IF((F166)=3,$BN$3,\"\")&IF((F166)=4,$BN$4,\"\")&IF((F166)=5,$BN$5,\"\")&IF((F166)=6,$BN$6,\"\")&IF((F166)=7,$BN$7,\"\")&IF((F166)=8,$BN$8,\"\")&IF((F166)=9,$BN$9,\"\")&IF((F166)=10,$BN$10,\"\")&IF((F166)=11,$BN$11,\"\")&IF((F166)=12,$BN$12,\"\")&IF((F166)=13,$BN$13,\"\")&IF((F166)=14,$BN$14,\"\")&IF((F166)=15,$BN$15,\"\")&IF((F166)=16,$BN$16,\"\")&IF((F166)=17,$BN$17,\"\")&IF((F166)=18,$BN$18,\"\")&IF((F166)=19,$BN$19,\"\")&IF((F166)=20,$BN$20,\"\")&IF((F166)=21,$BN$21,\"\")&IF((F166)=22,$BN$22,\"\")&IF((F166)=23,$BN$23,\"\")&IF((F166)=24,$BN$24,\"\")&IF((F166)=25,$BN$25,\"\")&IF((F166)=26,$BN$26,\"\")&IF((F166)=27,$BN$27,\"\")&IF((F166)=28,$BN$28,\"\")&IF((F166)=29,$BN$29,\"\")&IF((F166)=30,$BN$30,\"\")&IF((F166)=31,$BN$31,\"\")&IF((F166)=32,$BN$32,\"\")&IF((F166)=33,$BN$33,\"\")&IF((F166)=34,$BN$34,\"\")&IF((F166)=35,$BN$35,\"\")&IF((F166)=36,$BN$36,\"\")&IF((F166)=37,$BN$37,\"\")&IF((F166)=38,$BN$38,\"\")&IF((F166)=39,$BN$39,\"\")&IF((F166)=40,$BN$40,\"\")&IF((F166)=41,$BN$41,\"\")&IF((F166)=42,$BN$42,\"\")&IF((F166)=43,$BN$43,\"\")&IF((F166)=44,$BN$44,\"\")&IF((F166)=45,$BN$45,\"\")&IF((F166)=46,$BN$46,\"\")&IF((F166)=47,$BN$47,\"\")&IF((F166)=48,$BN$48,\"\")&IF((F166)=49,$BN$49,\"\")&IF((F166)=50,$BN$50,\"\")&IF((F166)=51,$BN$51,\"\")&IF((F166)=52,$BN$52,\"\")&IF((F166)=53,$BN$53,\"\")&IF((F166)=54,$BN$54,\"\")&IF((F166)=55,$BN$55,\"\")&IF((F166)=56,$BN$56,\"\")&IF((F166)=57,$BN$57,\"\")&IF((F166)=58,$BN$58,\"\")&IF((F166)=59,$BN$59,\"\")&IF((F166)=60,$BN$60,\"\")&IF((F166)=61,$BN$61,\"\")&IF((F166)=62,$BN$62,\"\")&IF((F166)=63,$BN$63,\"\")&IF((F166)=64,$BN$64,\"\")&IF((F166)=65,$BN$65,\"\")&IF((F166)=66,$BN$66,\"\")&IF((F166)=67,$BN$67,\"\")&IF((F166)=68,$BN$68,\"\")&IF((F166)=69,$BN$69,\"\")&IF((F166)=70,$BN$70,\"\")&IF((F166)=71,$BN$71,\"\")&IF((F166)=72,$BN$72,\"\")&IF((F166)=73,$BN$73,\"\")&IF((F166)=74,$BN$74,\"\")&IF((F166)=75,$BN$75,\"\")&IF((F166)=76,$BN$76,\"\")&IF((F166)=77,$BN$77,\"\")&IF((F166)=78,$BN$78,\"\")&IF((F166)=79,$BN$79,\"\")&IF((F166)=80,$BN$80,\"\")&IF((F166)=81,$BN$81,\"\")&IF((F166)=82,$BN$82,\"\")&IF((F166)=83,$BN$83,\"\")&IF((F166)=84,$BN$84,\"\")&IF((F166)=85,$BN$85,\"\")&IF((F166)=86,$BN$86,\"\")&IF((F166)=87,$BN$87,\"\")&IF((F166)=88,$BN$88,\"\")&IF((F166)=89,$BN$89,\"\")&IF((F166)=90,$BN$90,\"\")&IF((F166)=91,$BN$91,\"\")&IF((F166)=92,$BN$92,\"\")&IF((F166)=93,$BN$93,\"\")&IF((F166)=94,$BN$94,\"\")&IF((F166)=95,$BN$95,\"\")&IF((F166)=96,$BN$96,\"\")&IF((F166)=97,$BN$97,\"\")&IF((F166)=98,$BN$98,\"\")&IF((F166)=99,$BN$99,\"\")&IF((F166)=100,$BN$100,\"\")&IF((F166)=101,$BN$101,\"\")&IF((F166)=102,$BN$102,\"\")&IF((F166)=103,$BN$103,\"\")&IF((F166)=104,$BN$104,\"\")&IF((F166)=105,$BN$105,\"\")&IF((F166)=106,$BN$106,\"\")&IF((F166)=107,$BN$107,\"\")&IF((F166)=108,$BN$108,\"\")&IF((F166)=109,$BN$109,\"\")&IF((F166)=110,$BN$110,\"\")&IF((F166)=111,$BN$111,\"\")&IF((F166)=112,$BN$112,\"\")&IF((F166)=113,$BN$113,\"\")&IF((F166)=114,$BN$114,\"\")&IF((F166)=115,$BN$115,\"\")&IF((F166)=116,$BN$116,\"\")&IF((F166)=117,$BN$117,\"\")&IF((F166)=118,$BN$118,\"\")&IF((F166)=119,$BN$119,\"\")&IF((F166)=120,$BN$120,\"\")&IF((F166)=121,$BN$121,\"\")&IF((F166)=122,$BN$122,\"\")&IF((F166)=123,$BN$123,\"\")&IF((F166)=124,$BN$124,\"\")","v":""},null,null,null,null,null,null,null,null,null,null,null,null,null,null,null,null,null,null,null,null,null,null,null,null,null,null,null,null,null,null,null,null,null,null,null,null,null,null,null,null,null,null,null,null,null,null,null,null,null,null,null,null,null,null,null,null,null,null,{"$f":"resultat!AL71","v":71},{"$f":"resultat!AM71","v":"Ben / Jimmy"}]
[null,null,null,null,null,"",null,null,null,null,null,null,null,null,null,null,null,null,null,null,null,null,null,null,null,null,null,null,null,null,null,null,null,null,null,null,null,null,null,null,null,null,null,null,null,null,null,null,null,null,null,null,null,null,null,null,null,null,null,null,null,null,null,null,{"$f":"resultat!AL72","v":72},{"$f":"resultat!AM72","v":"Le Suisse / Yoyo"}]
[null,null,null,null,null,null,null,null,null,null,null,null,null,null,null,null,null,null,null,null,null,null,null,null,null,null,null,null,null,null,null,null,null,null,null,null,null,null,null,null,null,null,null,null,null,null,null,null,null,null,null,null,null,null,null,null,null,null,null,null,null,null,null,null,{"$f":"resultat!AL73","v":73},{"$f":"resultat!AM73","v":"Laurent / Mickaël"},null,null,null,null," 2 è tour",null,null,null,"Resultat"]
[null,null,null,null,null,null,null,null,null,null,null,null,null,null,null,null,null,null,null,null,null,null,null,null,null,null,null,null,null,null,null,null,null,null,null,null,null,null,null,null,null,null,null,null,null,null,null,null,null,null,null,null,null,null,null,null,null,null,null,null,null,null,null,null,{"$f":"resultat!AL74","v":74},{"$f":"resultat!AM74","v":"Charles/ Nénesse"},null,null,"Terrain  ",{"$f":"B6","v":1},{"$f":"N6","v":""},{"$f":"P6","v":""},{"$f":"R6","v":""},{"$f":"T6","v":""},{"$f":"U6","v":0},{"$f":"V6","v":0}]
[null,null,null,null,null,null,null,null,null,null,null,null,null,null,null,null,null,null,null,null,"Copie résultat 1",null,null,null,null,null,null,null,null,null,null,null,null,null,null,null,null,null,null,null,null,null,null,null,null,null,null,null,null,null,null,null,null,null,null,null,null,null,null,null,null,null,null,null,{"$f":"resultat!AL75","v":75},{"$f":"resultat!AM75","v":"Sylvain / Julien"},null,null,"Terrain  ",{"$f":"B7","v":2},{"$f":"N7","v":""},{"$f":"P7","v":""},{"$f":"R7","v":""},{"$f":"T7","v":""},0,0]
[null,null,null,null,null,null,null,null,null,null,null,null,null,null,null,null,null,null,null,null,null,null,null,null,null,null,null,null,null,null,null,null,null,null,null,null,null,null,null,null,null,null,null,null,null,null,null,null,null,null,null,null,null,null,null,null,null,null,null,null,null,null,null,null,{"$f":"resultat!AL76","v":76},{"$f":"resultat!AM76","v":"Fanfan / Jonathan"},null,null,"Terrain  ",3,"","","","",0,0]
[null,null,null,null,null,null,null,null,null,null,null,null,null,null,null,null,null,null,null,null,null,null,null,null,null,null,null,null,null,null,null,null,null,null,null,null,null,null,null,null,null,null,null,null,null,null,null,null,null,null,null,null,null,null,null,null,null,null,null,null,null,null,null,null,{"$f":"resultat!AL77","v":77},{"$f":"resultat!AM77","v":"Gégé / Eric"},null,null,"Terrain  ",4,"","","","",0,0]
[null,null,null,null,null,null,null,null,null,null,null,null,null,null,null,null,null,null,null,null,null,null,null,null,null,null,null,null,null,null,null,null,null,null,null,null,null,null,null,null,null,null,null,null,null,null,null,null,null,null,null,null,null,null,null,null,null,null,null,null,null,null,null,null,{"$f":"resultat!AL78","v":78},{"$f":"resultat!AM78","v":"Landry / Martial"},null,null,"Terrain  ",5,"","","","",0,0]
[null,null,null,null,null,null,null,null,null,null,null,null,null,null,null,null,null,null,null,null,null,null,null,null,null,null,null,null,null,null,null,null,null,null,null,null,null,null,null,null,null,null,null,null,null,null,null,null,null,null,null,null,null,null,null,null,null,null,null,null,null,null,null,null,{"$f":"resultat!AL79","v":79},{"$f":"resultat!AM79","v":"Mickaël / Freddy"},null,null,"Terrain  ",6,"","","","",0,0]
[null,null,null,null,null,null,null,null,null,null,null,null,null,null,null,null,null,null,null,null,null,null,null,null,null,null,null,null,null,null,null,null,null,null,null,null,null,null,null,null,null,null,null,null,null,null,null,null,null,null,null,null,null,null,null,null,null,null,null,null,null,null,null,null,{"$f":"resultat!AL80","v":80},{"$f":"resultat!AM80","v":"Jacques / Michel"},null,null,"Terrain  ",7,"","","","",0,0]
[null,null,null,null,null,null,null,null,null,null,null,null,null,null,null,null,null,null,null,null,null,null,null,null,null,null,null,null,null,null,null,null,null,null,null,null,null,null,null,null,null,null,null,null,null,null,null,null,null,null,null,null,null,null,null,null,null,null,null,null,null,null,null,null,{"$f":"resultat!AL81","v":81},{"$f":"resultat!AM81","v":"Aurélien / Didier"},null,null,"Terrain  ",8,"","","","",0,0]
[null,null,null,null,null,null,null,null,null,null,null,null,null,null,null,null,null,null,null,null,null,null,null,null,null,null,null,null,null,null,null,null,null,null,null,null,null,null,null,null,null,null,null,null,null,null,null,null,null,null,null,null,null,null,null,null,null,null,null,null,null,null,null,null,{"$f":"resultat!AL82","v":82},{"$f":"resultat!AM82","v":"Thierry / Damien"},null,null,"Terrain  ",9,"","","","",0,0]
[null,null,null,null,null,null,null,null,null,null,null,null,null,null,null,null,null,null,null,null,null,null,null,null,null,null,null,null,null,null,null,null,null,null,null,null,null,null,null,null,null,null,null,null,null,null,null,null,null,null,null,null,null,null,null,null,null,null,null,null,null,null,null,null,{"$f":"resultat!AL83","v":83},{"$f":"resultat!AM83","v":"Phillipe / Michel"},null,null,"Terrain  ",10,"","","","",0,0]
[null,null,null,null,null,null,null,null,null,null,null,null,null,null,null,null,null,null,null,null,null,null,null,null,null,null,null,null,null,null,null,null,null,null,null,null,null,null,null,null,null,null,null,null,null,null,null,null,null,null,null,null,null,null,null,null,null,null,null,null,null,null,null,null,{"$f":"resultat!AL84","v":84},{"$f":"resultat!AM84","v":"René / Robert"},null,null,"Terrain  ",11,"","","","",0,0]
[null,null,null,null,null,null,null,null,null,null,null,null,null,null,null,null,null,null,null,null,null,null,null,null,null,null,null,null,null,null,null,null,null,null,null,null,null,null,null,null,null,null,null,null,null,null,null,null,null,null,null,null,null,null,null,null,null,null,null,null,null,null,null,null,{"$f":"resultat!AL85","v":85},{"$f":"resultat!AM85","v":"Yoann / Christian"},null,null,"Terrain  ",12,"","","","",0,0]
[null,null,null,null,null,null,null,null,null,null,null,null,null,null,null,null,null,null,null,null,null,null,null,null,null,null,null,null,null,null,null,null,null,null,null,null,null,null,null,null,null,null,null,null,null,null,null,null,null,null,null,null,null,null,null,null,null,null,null,null,null,null,null,null,{"$f":"resultat!AL86","v":86},{"$f":"resultat!AM86","v":"Patrick / Roger"},null,null,"Terrain  ",13,"","","","",0,0]
[null,null,null,null,null,null,null,null,null,null,null,null,null,null,null,null,null,null,null,null,null,null,null,null,null,null,null,null,null,null,null,null,null,null,null,null,null,null,null,null,null,null,null,null,null,null,null,null,null,null,null,null,null,null,null,null,null,null,null,null,null,null,null,null,{"$f":"resultat!AL87","v":87},{"$f":"resultat!AM87","v":"Gérard / Edouard"},null,null,"Terrain  ",14,"","","","",0,0]
[null,null,null,null,null,null,null,null,null,null,null,null,null,null,null,null,null,null,null,null,null,null,null,null,null,null,null,null,null,null,null,null,null,null,null,null,null,null,null,null,null,null,null,null,null,null,null,null,null,null,null,null,null,null,null,null,null,null,null,null,null,null,null,null,{"$f":"resultat!AL88","v":88},{"$f":"resultat!AM88","v":"Adeline / Mathieu"},null,null,"Terrain  ",15,"","","","",0,0]
[null,null,null,null,null,null,null,null,null,null,null,null,null,null,null,null,null,null,null,null,null,null,null,null,null,null,null,null,null,null,null,null,null,null,null,null,null,null,null,null,null,null,null,null,null,null,null,null,null,null,null,null,null,null,null,null,null,null,null,null,null,null,null,null,{"$f":"resultat!AL89","v":89},{"$f":"resultat!AM89","v":"Bruno/Philippe"},null,null,"Terrain  ",16,"","","","",0,0]
[null,null,null,null,null,null,null,null,null,null,null,null,null,null,null,null,null,null,null,null,null,null,null,null,null,null,null,null,null,null,null,null,null,null,null,null,null,null,null,null,null,null,null,null,null,null,null,null,null,null,null,null,null,null,null,null,null,null,null,null,null,null,null,null,{"$f":"resultat!AL90","v":90},{"$f":"resultat!AM90","v":"Joe/Geo"},null,null,"Terrain  ",17,"","","","",0,0]
[null,null,null,null,null,null,null,null,null,null,null,null,null,null,null,null,null,null,null,null,null,null,null,null,null,null,null,null,null,null,null,null,null,null,null,null,null,null,null,null,null,null,null,null,null,null,null,null,null,null,null,null,null,null,null,null,null,null,null,null,null,null,null,null,{"$f":"resultat!AL91","v":91},{"$f":"resultat!AM91","v":"Frères MARTIN"},null,null,"Terrain  ",18,"","","",{"$f":"T23","v":""},0,0]
[null,null,null,null,null,null,null,null,null,null,null,null,null,null,null,null,null,null,null,null,null,null,null,null,null,null,null,null,null,null,null,null,null,null,null,null,null,null,null,null,null,null,null,null,null,null,null,null,null,null,null,null,null,null,null,null,null,null,null,null,null,null,null,null,{"$f":"resultat!AL92","v":92},{"$f":"resultat!AM92","v":"Alcide/ Henri"},null,null,"Terrain  ",19,"","","","",0,0]
[null,null,null,null,null,null,null,null,null,null,null,null,null,null,null,null,null,null,null,null,null,null,null,null,null,null,null,null,null,null,null,null,null,null,null,null,null,null,null,null,null,null,null,null,null,null,null,null,null,null,null,null,null,null,null,null,null,null,null,null,null,null,null,null,{"$f":"resultat!AL93","v":93},{"$f":"resultat!AM93","v":"Clément/Charles"},null,null,"Terrain  ",20,"","","","",0,0]
[null,null,null,null,null,null,null,null,null,null,null,null,null,null,null,null,null,null,null,null,null,null,null,null,null,null,null,null,null,null,null,null,null,null,null,null,null,null,null,null,null,null,null,null,null,null,null,null,null,null,null,null,null,null,null,null,null,null,null,null,null,null,null,null,{"$f":"resultat!AL94","v":94},{"$f":"resultat!AM94","v":"Romain/Florian"},null,null,"Terrain  ",21,"","","","",0,0]
[null,null,null,null,null,null,null,null,null,null,null,null,null,null,null,null,null,null,null,null,null,null,null,null,null,null,null,null,null,null,null,null,null,null,null,null,null,null,null,null,null,null,null,null,null,null,null,null,null,null,null,null,null,null,null,null,null,null,null,null,null,null,null,null,{"$f":"resultat!AL95","v":95},{"$f":"resultat!AM95","v":"Philippe/Nico"},null,null,"Terrain  ",22,"","","","",0,0]
[null,null,null,null,null,null,null,null,null,null,null,null,null,null,null,null,null,null,null,null,null,null,null,null,null,null,null,null,null,null,null,null,null,null,null,null,null,null,null,null,null,null,null,null,null,null,null,null,null,null,null,null,null,null,null,null,null,null,null,null,null,null,null,null,{"$f":"resultat!AL96","v":96},{"$f":"resultat!AM96","v":"Vincent/François"},null,null,"Terrain  ",23,"","","","",0,0]
[null,null,null,null,null,null,null,null,null,null,null,null,null,null,null,null,null,null,null,null,null,null,null,null,null,null,null,null,null,null,null,null,null,null,null,null,null,null,null,null,null,null,null,null,null,null,null,null,null,null,null,null,null,null,null,null,null,null,null,null,null,null,null,null,{"$f":"resultat!AL97","v":97},{"$f":"resultat!AM97","v":"Jean/Etienne"},null,null,"Terrain  ",24,"","","","",0,0]
[null,null,null,null,null,null,null,null,null,null,null,null,null,null,null,null,null,null,null,null,null,null,null,null,null,null,null,null,null,null,null,null,null,null,null,null,null,null,null,null,null,null,null,null,null,null,null,null,null,null,null,null,null,null,null,null,null,null,null,null,null,null,null,null,{"$f":"resultat!AL98","v":98},{"$f":"resultat!AM98","v":"Freddy/Benoit"},null,null,"Terrain  ",25,"","","","",0,0]
[null,null,null,null,null,null,null,null,null,null,null,null,null,null,null,null,null,null,null,null,null,null,null,null,null,null,null,null,null,null,null,null,null,null,null,null,null,null,null,null,null,null,null,null,null,null,null,null,null,null,null,null,null,null,null,null,null,null,null,null,null,null,null,null,{"$f":"resultat!AL99","v":99},{"$f":"resultat!AM99","v":"Frères ALLAIRE"},null,null,"Terrain  ",26,"","","","",0,0]
[null,null,null,null,null,null,null,null,null,null,null,null,null,null,null,null,null,null,null,null,null,null,null,null,null,null,null,null,null,null,null,null,null,null,null,null,null,null,null,null,null,null,null,null,null,null,null,null,null,null,null,null,null,null,null,null,null,null,null,null,null,null,null,null,{"$f":"resultat!AL100","v":100},{"$f":"resultat!AM100","v":"Guy/Jean BARREAU"},null,null,"Terrain  ",27,"","","","",0,0]
[null,null,"Equ",null,null,null,null,null,null,null,null,null,null,null,null,null,null,null,null,null,null,null,null,null,null,null,null,null,null,null,null,null,null,null,null,null,null,null,null,null,null,null,null,null,null,null,null,null,null,null,null,null,null,null,null,null,null,null,null,null,null,null,null,null,{"$f":"resultat!AL101","v":101},{"$f":"resultat!AM101","v":"Carl/Edouard"},null,null,"Terrain  ",28,"","","","",0,0]
[null,null,"Equ",null,null,null,null,null,null,null,null,null,null,null,null,null,null,null,null,null,null,null,null,null,null,null,null,null,null,null,null,null,null,null,null,null,null,null,null,null,null,null,null,null,null,null,null,null,null,null,null,null,null,null,null,null,null,null,null,null,null,null,null,null,{"$f":"resultat!AL102","v":102},{"$f":"resultat!AM102","v":"Serge/Philippe"},null,null,"Terrain  ",29,"","","","",0,0]
[null,null,"Equ",null,null,null,null,null,null,null,null,null,null,null,null,null,null,null,null,null,null,null,null,null,null,null,null,null,null,null,null,null,null,null,null,null,null,null,null,null,null,null,null,null,null,null,null,null,null,null,null,null,null,null,null,null,null,null,null,null,null,null,null,null,{"$f":"resultat!AL103","v":103},{"$f":"resultat!AM103","v":"Boubou"},null,null,"Terrain  ",30,"","","","",0,0]
[null,null,"Equ",null,null,null,null,null,null,null,null,null,null,null,null,null,null,null,null,null,null,null,null,null,null,null,null,null,null,null,null,null,null,null,null,null,null,null,null,null,null,null,null,null,null,null,null,null,null,null,null,null,null,null,null,null,null,null,null,null,null,null,null,null,{"$f":"resultat!AL104","v":104},{"$f":"resultat!AM104","v":"Luc"},null,null,"Terrain  ",31,"","","","",0,0]
[null,null,"Equ",null,null,null,null,null,null,null,null,null,null,null,null,null,null,null,null,null,null,null,null,null,null,null,null,null,null,null,null,null,null,null,null,null,null,null,null,null,null,null,null,null,null,null,null,null,null,null,null,null,null,null,null,null,null,null,null,null,null,null,null,null,{"$f":"resultat!AL105","v":105},{"$f":"resultat!AM105","v":"Jacky/Olivier"},null,null,"Terrain  ",32,"","","","",0,0]
[null,null,"Equ",null,null,null,null,null,null,null,null,null,null,null,null,null,null,null,null,null,null,null,null,null,null,null,null,null,null,null,null,null,null,null,null,null,null,null,null,null,null,null,null,null,null,null,null,null,null,null,null,null,null,null,null,null,null,null,null,null,null,null,null,null,{"$f":"resultat!AL106","v":106},{"$f":"resultat!AM106","v":"Adeline / Mathieu"},null,null,"Terrain  ",0,{"$f":"#REF!","v":{"$error":"#REF!"}},{"$f":"#REF!","v":{"$error":"#REF!"}},{"$f":"#REF!","v":{"$error":"#REF!"}},{"$f":"#REF!","v":{"$error":"#REF!"}},{"$f":"#REF!","v":{"$error":"#REF!"}},{"$f":"#REF!","v":{"$error":"#REF!"}}]
[null,null,"Equ",null,null,null,null,null,null,null,null,null,null,null,null,null,null,null,null,null,null,null,null,null,null,null,null,null,null,null,null,null,null,null,null,null,null,null,null,null,null,null,null,null,null,null,null,null,null,null,null,null,null,null,null,null,null,null,null,null,null,null,null,null,{"$f":"resultat!AL107","v":107},{"$f":"resultat!AM107","v":"Julot"},null,null,"Terrain  ",{"$f":"#REF!","v":{"$error":"#REF!"}},0,0,0,{"$f":"T39","v":0},0,0]
[null,null,"Equ",null,null,null,null,null,null,null,null,null,null,null,null,null,null,null,null,null,null,null,null,null,null,null,null,null,null,null,null,null,null,null,null,null,null,null,null,null,null,null,null,null,null,null,null,null,null,null,null,null,null,null,null,null,null,null,null,null,null,null,null,null,{"$f":"resultat!AL108","v":108},{"$f":"resultat!AM108","v":"Francis"},null,null,"Terrain  ",{"$f":"#REF!","v":{"$error":"#REF!"}},0,0,0,0,0,0]
[null,null,"Equ",null,null,null,null,null,null,null,null,null,null,null,null,null,null,null,null,null,null,null,null,null,null,null,null,null,null,null,null,null,null,null,null,null,null,null,null,null,null,null,null,null,null,null,null,null,null,null,null,null,null,null,null,null,null,null,null,null,null,null,null,null,{"$f":"resultat!AL109","v":109},{"$f":"resultat!AM109","v":"marco"},null,null,"Terrain  ",{"$f":"#REF!","v":{"$error":"#REF!"}},0,0,0,0,0,0]
[null,null,"Equ",null,null,null,null,null,null,null,null,null,null,null,null,null,null,null,null,null,null,null,null,null,null,null,null,null,null,null,null,null,null,null,null,null,null,null,null,null,null,null,null,null,null,null,null,null,null,null,null,null,null,null,null,null,null,null,null,null,null,null,null,null,{"$f":"resultat!AL110","v":110},{"$f":"resultat!AM110","v":"Denise"},null,null,"Terrain  ",{"$f":"#REF!","v":{"$error":"#REF!"}},0,0,0,0,0,0]
[null,null,"Equ",null,null,null,null,null,null,null,null,null,null,null,null,null,null,null,null,null,null,null,null,null,null,null,null,null,null,null,null,null,null,null,null,null,null,null,null,null,null,null,null,null,null,null,null,null,null,null,null,null,null,null,null,null,null,null,null,null,null,null,null,null,{"$f":"resultat!AL111","v":111},{"$f":"resultat!AM111","v":"yvon"},null,null,"Terrain  ",{"$f":"#REF!","v":{"$error":"#REF!"}},0,0,0,0,0,0]
[null,null,"Equ",null,null,null,null,null,null,null,null,null,null,null,null,null,null,null,null,null,null,null,null,null,null,null,null,null,null,null,null,null,null,null,null,null,null,null,null,null,null,null,null,null,null,null,null,null,null,null,null,null,null,null,null,null,null,null,null,null,null,null,null,null,{"$f":"resultat!AL112","v":112},{"$f":"resultat!AM112","v":"jacques"},null,null,"Terrain  ",{"$f":"#REF!","v":{"$error":"#REF!"}},0,0,0,0,0,0]
[null,null,"Equ",null,null,null,null,null,null,null,null,null,null,null,null,null,null,null,null,null,null,null,null,null,null,null,null,null,null,null,null,null,null,null,null,null,null,null,null,null,null,null,null,null,null,null,null,null,null,null,null,null,null,null,null,null,null,null,null,null,null,null,null,null,{"$f":"resultat!AL113","v":113},{"$f":"resultat!AM113","v":"Pierre"},null,null,"Terrain  ",{"$f":"#REF!","v":{"$error":"#REF!"}},0,0,0,0,0,0]
[null,null,"Equ",null,null,null,null,null,null,null,null,null,null,null,null,null,null,null,null,null,null,null,null,null,null,null,null,null,null,null,null,null,null,null,null,null,null,null,null,null,null,null,null,null,null,null,null,null,null,null,null,null,null,null,null,null,null,null,null,null,null,null,null,null,{"$f":"resultat!AL114","v":114},{"$f":"resultat!AM114","v":"Marcel"},null,null,"Terrain  ",{"$f":"#REF!","v":{"$error":"#REF!"}},0,0,0,0,0,0]
[null,null,"Equ",null,null,null,null,null,null,null,null,null,null,null,null,null,null,null,null,null,null,null,null,null,null,null,null,null,null,null,null,null,null,null,null,null,null,null,null,null,null,null,null,null,null,null,null,null,null,null,null,null,null,null,null,null,null,null,null,null,null,null,null,null,{"$f":"resultat!AL115","v":115},{"$f":"resultat!AM115","v":"Sébastien"},null,null,"Terrain  ",{"$f":"#REF!","v":{"$error":"#REF!"}},0,0,0,0,0,0]
[null,null,"Equ",null,null,null,null,null,null,null,null,null,null,null,null,null,null,null,null,null,null,null,null,null,null,null,null,null,null,null,null,null,null,null,null,null,null,null,null,null,null,null,null,null,null,null,null,null,null,null,null,null,null,null,null,null,null,null,null,null,null,null,null,null,{"$f":"resultat!AL116","v":116},{"$f":"resultat!AM116","v":"Florian"},null,null,"Terrain  ",{"$f":"#REF!","v":{"$error":"#REF!"}},0,0,0,0,0,0]
[null,null,"Equ",null,null,null,null,null,null,null,null,null,null,null,null,null,null,null,null,null,null,null,null,null,null,null,null,null,null,null,null,null,null,null,null,null,null,null,null,null,null,null,null,null,null,null,null,null,null,null,null,null,null,null,null,null,null,null,null,null,null,null,null,null,{"$f":"resultat!AL117","v":117},{"$f":"resultat!AM117","v":"Eric / Yvonnick"},null,null,"Terrain  ",{"$f":"#REF!","v":{"$error":"#REF!"}},0,0,0,0,0,0]
[null,null,"Equ",null,null,null,null,null,null,null,null,null,null,null,null,null,null,null,null,null,null,null,null,null,null,null,null,null,null,null,null,null,null,null,null,null,null,null,null,null,null,null,null,null,null,null,null,null,null,null,null,null,null,null,null,null,null,null,null,null,null,null,null,null,{"$f":"resultat!AL118","v":118},{"$f":"resultat!AM118","v":"Alain / Joël"},null,null,"Terrain  ",{"$f":"#REF!","v":{"$error":"#REF!"}},0,0,0,0,0,0]
[null,null,"Equ",null,null,null,null,null,null,null,null,null,null,null,null,null,null,null,null,null,null,null,null,null,null,null,null,null,null,null,null,null,null,null,null,null,null,null,null,null,null,null,null,null,null,null,null,null,null,null,null,null,null,null,null,null,null,null,null,null,null,null,null,null,{"$f":"resultat!AL119","v":119},{"$f":"resultat!AM119","v":"L'archi / Jean-Pierre"},null,null,"Terrain  ",{"$f":"#REF!","v":{"$error":"#REF!"}},{"$f":"#REF!","v":{"$error":"#REF!"}},{"$f":"#REF!","v":{"$error":"#REF!"}},{"$f":"#REF!","v":{"$error":"#REF!"}},{"$f":"#REF!","v":{"$error":"#REF!"}},{"$f":"#REF!","v":{"$error":"#REF!"}},{"$f":"#REF!","v":{"$error":"#REF!"}}]
[null,null,"Equ",null,null,null,null,null,null,null,null,null,null,null,null,null,null,null,null,null,null,null,null,null,null,null,null,null,null,null,null,null,null,null,null,null,null,null,null,null,null,null,null,null,null,null,null,null,null,null,null,null,null,null,null,null,null,null,null,null,null,null,null,null,{"$f":"resultat!AL120","v":120},{"$f":"resultat!AM120","v":"Alain / Christophe"},null,null,"Terrain  ",{"$f":"#REF!","v":{"$error":"#REF!"}},0,0,0,0,0,0]
[null,null,"Equ",null,null,null,null,null,null,null,null,null,null,null,null,null,null,null,null,null,null,null,null,null,null,null,null,null,null,null,null,null,null,null,null,null,null,null,null,null,null,null,null,null,null,null,null,null,null,null,null,null,null,null,null,null,null,null,null,null,null,null,null,null,{"$f":"resultat!AL121","v":121},{"$f":"resultat!AM121","v":"Ben / Jimmy"},null,null,"Terrain  ",{"$f":"#REF!","v":{"$error":"#REF!"}},0,0,0,0,0,0]
[null,null,"Equ",null,null,null,null,null,null,null,null,null,null,null,null,null,null,null,null,null,null,null,null,null,null,null,null,null,null,null,null,null,null,null,null,null,null,null,null,null,null,null,null,null,null,null,null,null,null,null,null,null,null,null,null,null,null,null,null,null,null,null,null,null,{"$f":"resultat!AL122","v":122},{"$f":"resultat!AM122","v":"Le Suisse / Yoyo"},null,null,"Terrain  ",0,0,0,0,0,0,0]
[null,null,"Equ",null,null,null,null,null,null,null,null,null,null,null,null,null,null,null,null,null,null,null,null,null,null,null,null,null,null,null,null,null,null,null,null,null,null,null,null,null,null,null,null,null,null,null,null,null,null,null,null,null,null,null,null,null,null,null,null,null,null,null,null,null,{"$f":"resultat!AL123","v":123},{"$f":"resultat!AM123","v":"Laurent / Mickaël"},null,null,"Terrain  ",0,0,0,0,{"$f":"T55","v":0},0,0]
[null,null,"Equ",null,null,null,null,null,null,null,null,null,null,null,null,null,null,null,null,null,null,null,null,null,null,null,null,null,null,null,null,null,null,null,null,null,null,null,null,null,null,null,null,null,null,null,null,null,null,null,null,null,null,null,null,null,null,null,null,null,null,null,null,null,{"$f":"resultat!AL124","v":124},{"$f":"resultat!AM124","v":"Charles/ Nénesse"},null,null,"Terrain  ",0,0,0,0,0,0,0]
[null,null,"Equ",null,null,null,null,null,null,null,null,null,null,null,null,null,null,null,null,null,null,null,null,null,null,null,null,null,null,null,null,null,null,null,null,null,null,null,null,null,null,null,null,null,null,null,null,null,null,null,null,null,null,null,null,null,null,null,null,null,null,null,null,null,{"$f":"resultat!AL125","v":125},{"$f":"resultat!AM125","v":"Sylvain / Julien"},null,null,"Terrain  ",0,0,0,0,0,0,0]
[null,null,"Equ",null,null,null,null,null,null,null,null,null,null,null,null,null,null,null,null,null,null,null,null,null,null,null,null,null,null,null,null,null,null,null,null,null,null,null,null,null,null,null,null,null,null,null,null,null,null,null,null,null,null,null,null,null,null,null,null,null,null,null,null,null,{"$f":"resultat!AL126","v":126},{"$f":"resultat!AM126","v":"Fanfan / Jonathan"},null,null,"Terrain  ",0,0,0,0,0,0,0]
[null,null,"Equ",null,null,null,null,null,null,null,null,null,null,null,null,null,null,null,null,null,null,null,null,null,null,null,null,null,null,null,null,null,null,null,null,null,null,null,null,null,null,null,null,null,null,null,null,null,null,null,null,null,null,null,null,null,null,null,null,null,null,null,null,null,{"$f":"resultat!AL127","v":127},{"$f":"resultat!AM127","v":"Gégé / Eric"},null,null,"Terrain  ",0,0,0,0,0,0,0]
[null,null,"Equ",null,null,null,null,null,null,null,null,null,null,null,null,null,null,null,null,null,null,null,null,null,null,null,null,null,null,null,null,null,null,null,null,null,null,null,null,null,null,null,null,null,null,null,null,null,null,null,null,null,null,null,null,null,null,null,null,null,null,null,null,null,{"$f":"resultat!AL128","v":128},{"$f":"resultat!AM128","v":"Landry / Martial"},null,null,"Terrain  ",0,0,0,0,0,0,0]
[null,null,"Equ",null,null,null,null,null,null,null,null,null,null,null,null,null,null,null,null,null,null,null,null,null,null,null,null,null,null,null,null,null,null,null,null,null,null,null,null,null,null,null,null,null,null,null,null,null,null,null,null,null,null,null,null,null,null,null,null,null,null,null,null,null,null,null,null,null,"Terrain  ",0,0,0,0,0,0,0]
[null,null,"Equ",null,null,null,null,null,null,null,null,null,null,null,null,null,null,null,null,null,null,null,null,null,null,null,null,null,null,null,null,null,null,null,null,null,null,null,null,null,null,null,null,null,null,null,null,null,null,null,null,null,null,null,null,null,null,null,null,null,null,null,null,null,null,null,null,null,"Terrain  ",0,0,0,0,0,0,0]
[null,null,"Equ",null,null,null,null,null,null,null,null,null,null,null,null,null,null,null,null,null,null,null,null,null,null,null,null,null,null,null,null,null,null,null,null,null,null,null,null,null,null,null,null,null,null,null,null,null,null,null,null,null,null,null,null,null,null,null,null,null,null,null,null,null,null,null,null,null,"Terrain  ",0,0,0,0,0,0,0]
[null,null,"Equ",null,null,null,null,null,null,null,null,null,null,null,null,null,null,null,null,null,null,null,null,null,null,null,null,null,null,null,null,null,null,null,null,null,null,null,null,null,null,null,null,null,null,null,null,null,null,null,null,null,null,null,null,null,null,null,null,null,null,null,null,null,null,null,null,null,"Terrain  ",0,0,0,0,0,0,0]
[null,null,"Equ",null,null,null,null,null,null,null,null,null,null,null,null,null,null,null,null,null,null,null,null,null,null,null,null,null,null,null,null,null,null,null,null,null,null,null,null,null,null,null,null,null,null,null,null,null,null,null,null,null,null,null,null,null,null,null,null,null,null,null,null,null,null,null,null,null,"Terrain  ",0,0,0,0,0,0,0]
[null,null,"Equ",null,null,null,null,null,null,null,null,null,null,null,null,null,null,null,null,null,null,null,null,null,null,null,null,null,null,null,null,null,null,null,null,null,null,null,null,null,null,null,null,null,null,null,null,null,null,null,null,null,null,null,null,null,null,null,null,null,null,null,null,null,null,null,null,null,"Terrain  ",0,0,0,0,0,0,0]
[null,null,"Equ",null,null,null,null,null,null,null,null,null,null,null,null,null,null,null,null,null,null,null,null,null,null,null,null,null,null,null,null,null,null,null,null,null,null,null,null,null,null,null,null,null,null,null,null,null,null,null,null,null,null,null,null,null,null,null,null,null,null,null,null,null,null,null,null,null,"Terrain  ",0,0,0,0,0,0,0]
[null,null,"Equ",null,null,null,null,null,null,null,null,null,null,null,null,null,null,null,null,null,null,null,null,null,null,null,null,null,null,null,null,null,null,null,null,null,null,null,null,null,null,null,null,null,null,null,null,null,null,null,null,null,null,null,null,null,null,null,null,null,null,null,null,null,null,null,null,null,"Terrain  ",0,0,0,0,0,0,0]
[null,null,"Equ",null,null,null,null,null,null,null,null,null,null,null,null,null,null,null,null,null,null,null,null,null,null,null,null,null,null,null,null,null,null,null,null,null,null,null,null,null,null,null,null,null,null,null,null,null,null,null,null,null,null,null,null,null,null,null,null,null,null,null,null,null,null,null,null,null,"Terrain  ",0,0,0,0,0,0,0]
[null,null,"Equ"]
[null,null,"Equ"]
[null,null,"Equ",null,null,null,null,null,null,null,null,null,null,null,null,null,null,null,null,null,null,null,null,null,null,null,null,null,null,null,null,null,null,null,null,null,null,null,null,null,null,null,null,null,null,null,null,null,null,null,null,null,null,null,null,null,null,null,null,null,null,null,null,null,null,null,null,null,null,null,"3 è tour",null,null,null,"Resultat"]
[null,null,"Equ",null,null,null,null,null,null,null,null,null,null,null,null,null,null,null,null,null,null,null,null,null,null,null,null,null,null,null,null,null,null,null,null,null,null,null,null,null,null,null,null,null,null,null,null,null,null,null,null,null,null,null,null,null,null,null,null,null,null,null,null,null,null,null,null,null,"Terrain  ",{"$f":"B6","v":1},{"$f":"X6","v":""},{"$f":"Z6","v":""},{"$f":"AB6","v":""},{"$f":"AD6","v":""},{"$f":"AE6","v":0},0]
[null,null,"Equ",null,null,null,null,null,null,null,null,null,null,null,null,null,null,null,null,null,null,null,null,null,null,null,null,null,null,null,null,null,null,null,null,null,null,null,null,null,null,null,null,null,null,null,null,null,null,null,null,null,null,null,null,null,null,null,null,null,null,null,null,null,null,null,null,null,"Terrain  ",{"$f":"B7","v":2},{"$f":"X7","v":""},{"$f":"Z7","v":""},{"$f":"AB7","v":""},{"$f":"AD7","v":""},0,0]
[null,null,"Equ",null,null,null,null,null,null,null,null,null,null,null,null,null,null,null,null,null,null,null,null,null,null,null,null,null,null,null,null,null,null,null,null,null,null,null,null,null,null,null,null,null,null,null,null,null,null,null,null,null,null,null,null,null,null,null,null,null,null,null,null,null,null,null,null,null,"Terrain  ",3,"","","","",0,0]
[null,null,"Equ",null,null,null,null,null,null,null,null,null,null,null,null,null,null,null,null,null,null,null,null,null,null,null,null,null,null,null,null,null,null,null,null,null,null,null,null,null,null,null,null,null,null,null,null,null,null,null,null,null,null,null,null,null,null,null,null,null,null,null,null,null,null,null,null,null,"Terrain  ",4,"","","","",0,0]
[null,null,"Equ",null,null,null,null,null,null,null,null,null,null,null,null,null,null,null,null,null,null,null,null,null,null,null,null,null,null,null,null,null,null,null,null,null,null,null,null,null,null,null,null,null,null,null,null,null,null,null,null,null,null,null,null,null,null,null,null,null,null,null,null,null,null,null,null,null,"Terrain  ",5,"","","","",0,0]
[null,null,"Equ",null,null,null,null,null,null,null,null,null,null,null,null,null,null,null,null,null,null,null,null,null,null,null,null,null,null,null,null,null,null,null,null,null,null,null,null,null,null,null,null,null,null,null,null,null,null,null,null,null,null,null,null,null,null,null,null,null,null,null,null,null,null,null,null,null,"Terrain  ",6,"","","","",0,0]
[null,null,"Equ",null,null,null,null,null,null,null,null,null,null,null,null,null,null,null,null,null,null,null,null,null,null,null,null,null,null,null,null,null,null,null,null,null,null,null,null,null,null,null,null,null,null,null,null,null,null,null,null,null,null,null,null,null,null,null,null,null,null,null,null,null,null,null,null,null,"Terrain  ",7,"","","","",0,0]
[null,null,"Equ",null,null,null,null,null,null,null,null,null,null,null,null,null,null,null,null,null,null,null,null,null,null,null,null,null,null,null,null,null,null,null,null,null,null,null,null,null,null,null,null,null,null,null,null,null,null,null,null,null,null,null,null,null,null,null,null,null,null,null,null,null,null,null,null,null,"Terrain  ",8,"","","","",0,0]
[null,null,"Equ",null,null,null,null,null,null,null,null,null,null,null,null,null,null,null,null,null,null,null,null,null,null,null,null,null,null,null,null,null,null,null,null,null,null,null,null,null,null,null,null,null,null,null,null,null,null,null,null,null,null,null,null,null,null,null,null,null,null,null,null,null,null,null,null,null,"Terrain  ",9,"","","","",0,0]
[null,null,"Equ",null,null,null,null,null,null,null,null,null,null,null,null,null,null,null,null,null,null,null,null,null,null,null,null,null,null,null,null,null,null,null,null,null,null,null,null,null,null,null,null,null,null,null,null,null,null,null,null,null,null,null,null,null,null,null,null,null,null,null,null,null,null,null,null,null,"Terrain  ",10,"","","","",0,0]
[null,null,"Equ",null,null,null,null,null,null,null,null,null,null,null,null,null,null,null,null,null,null,null,null,null,null,null,null,null,null,null,null,null,null,null,null,null,null,null,null,null,null,null,null,null,null,null,null,null,null,null,null,null,null,null,null,null,null,null,null,null,null,null,null,null,null,null,null,null,"Terrain  ",11,"","","","",0,0]
[null,null,"Equ",null,null,null,null,null,null,null,null,null,null,null,null,null,null,null,null,null,null,null,null,null,null,null,null,null,null,null,null,null,null,null,null,null,null,null,null,null,null,null,null,null,null,null,null,null,null,null,null,null,null,null,null,null,null,null,null,null,null,null,null,null,null,null,null,null,"Terrain  ",12,"","","","",0,0]
[null,null,"Equ",null,null,null,null,null,null,null,null,null,null,null,null,null,null,null,null,null,null,null,null,null,null,null,null,null,null,null,null,null,null,null,null,null,null,null,null,null,null,null,null,null,null,null,null,null,null,null,null,null,null,null,null,null,null,null,null,null,null,null,null,null,null,null,null,null,"Terrain  ",13,"","","","",0,0]
[null,null,"Equ",null,null,null,null,null,null,null,null,null,null,null,null,null,null,null,null,null,null,null,null,null,null,null,null,null,null,null,null,null,null,null,null,null,null,null,null,null,null,null,null,null,null,null,null,null,null,null,null,null,null,null,null,null,null,null,null,null,null,null,null,null,null,null,null,null,"Terrain  ",14,"","","","",0,0]
[null,null,"Equ",null,null,null,null,null,null,null,null,null,null,null,null,null,null,null,null,null,null,null,null,null,null,null,null,null,null,null,null,null,null,null,null,null,null,null,null,null,null,null,null,null,null,null,null,null,null,null,null,null,null,null,null,null,null,null,null,null,null,null,null,null,null,null,null,null,"Terrain  ",15,"","","","",0,0]
[null,null,"Equ",null,null,null,null,null,null,null,null,null,null,null,null,null,null,null,null,null,null,null,null,null,null,null,null,null,null,null,null,null,null,null,null,null,null,null,null,null,null,null,null,null,null,null,null,null,null,null,null,null,null,null,null,null,null,null,null,null,null,null,null,null,null,null,null,null,"Terrain  ",16,"","","","",0,0]
[null,null,"Equ",null,null,null,null,null,null,null,null,null,null,null,null,null,null,null,null,null,null,null,null,null,null,null,null,null,null,null,null,null,null,null,null,null,null,null,null,null,null,null,null,null,null,null,null,null,null,null,null,null,null,null,null,null,null,null,null,null,null,null,null,null,null,null,null,null,"Terrain  ",17,"","","","",0,0]
[null,null,"Equ",null,null,null,null,null,null,null,null,null,null,null,null,null,null,null,null,null,null,null,null,null,null,null,null,null,null,null,null,null,null,null,null,null,null,null,null,null,null,null,null,null,null,null,null,null,null,null,null,null,null,null,null,null,null,null,null,null,null,null,null,null,null,null,null,null,"Terrain  ",18,"","","","",0,0]
[null,null,"Equ",null,null,null,null,null,null,null,null,null,null,null,null,null,null,null,null,null,null,null,null,null,null,null,null,null,null,null,null,null,null,null,null,null,null,null,null,null,null,null,null,null,null,null,null,null,null,null,null,null,null,null,null,null,null,null,null,null,null,null,null,null,null,null,null,null,"Terrain  ",19,"","","","",0,0]
[null,null,"Equ",null,null,null,null,null,null,null,null,null,null,null,null,null,null,null,null,null,null,null,null,null,null,null,null,null,null,null,null,null,null,null,null,null,null,null,null,null,null,null,null,null,null,null,null,null,null,null,null,null,null,null,null,null,null,null,null,null,null,null,null,null,null,null,null,null,"Terrain  ",20,"","","","",0,0]
[null,null,"Equ",null,null,null,null,null,null,null,null,null,null,null,null,null,null,null,null,null,null,null,null,null,null,null,null,null,null,null,null,null,null,null,null,null,null,null,null,null,null,null,null,null,null,null,null,null,null,null,null,null,null,null,null,null,null,null,null,null,null,null,null,null,null,null,null,null,"Terrain  ",21,"","","","",0,0]
[null,null,"Equ",null,null,null,null,null,null,null,null,null,null,null,null,null,null,null,null,null,null,null,null,null,null,null,null,null,null,null,null,null,null,null,null,null,null,null,null,null,null,null,null,null,null,null,null,null,null,null,null,null,null,null,null,null,null,null,null,null,null,null,null,null,null,null,null,null,"Terrain  ",22,"","","","",0,0]
[null,null,"Equ",null,null,null,null,null,null,null,null,null,null,null,null,null,null,null,null,null,null,null,null,null,null,null,null,null,null,null,null,null,null,null,null,null,null,null,null,null,null,null,null,null,null,null,null,null,null,null,null,null,null,null,null,null,null,null,null,null,null,null,null,null,null,null,null,null,"Terrain  ",23,"","","","",0,0]
[null,null,"Equ",null,null,null,null,null,null,null,null,null,null,null,null,null,null,null,null,null,null,null,null,null,null,null,null,null,null,null,null,null,null,null,null,null,null,null,null,null,null,null,null,null,null,null,null,null,null,null,null,null,null,null,null,null,null,null,null,null,null,null,null,null,null,null,null,null,"Terrain  ",24,"","","","",0,0]
[null,null,null,null,null,null,null,null,null,null,null,null,null,null,null,null,null,null,null,null,null,null,null,null,null,null,null,null,null,null,null,null,null,null,null,null,null,null,null,null,null,null,null,null,null,null,null,null,null,null,null,null,null,null,null,null,null,null,null,null,null,null,null,null,null,null,null,null,"Terrain  ",25,"","","","",0,0]
[null,null,null,null,null,null,null,null,null,null,null,null,null,null,null,null,null,null,null,null,null,null,null,null,null,null,null,null,null,null,null,null,null,null,null,null,null,null,null,null,null,null,null,null,null,null,null,null,null,null,null,null,null,null,null,null,null,null,null,null,null,null,null,null,null,null,null,null,"Terrain  ",26,"","","","",0,0]
[null,null,null,null,null,null,null,null,null,null,null,null,null,null,null,null,null,null,null,null,null,null,null,null,null,null,null,null,null,null,null,null,null,null,null,null,null,null,null,null,null,null,null,null,null,null,null,null,null,null,null,null,null,null,null,null,null,null,null,null,null,null,null,null,null,null,null,null,"Terrain  ",27,"","","","",0,0]
[null,null,null,null,null,null,null,null,null,null,null,null,null,null,null,null,null,null,null,null,null,null,null,null,null,null,null,null,null,null,null,null,null,null,null,null,null,null,null,null,null,null,null,null,null,null,null,null,null,null,null,null,null,null,null,null,null,null,null,null,null,null,null,null,null,null,null,null,"Terrain  ",28,"","","","",0,0]
[null,null,null,null,null,null,null,null,null,null,null,null,null,null,null,null,null,null,null,null,null,null,null,null,null,null,null,null,null,null,null,null,null,null,null,null,null,null,null,null,null,null,null,null,null,null,null,null,null,null,null,null,null,null,null,null,null,null,null,null,null,null,null,null,null,null,null,null,"Terrain  ",29,"","","","",0,0]
[null,null,null,null,null,null,null,null,null,null,null,null,null,null,null,null,null,null,null,null,null,null,null,null,null,null,null,null,null,null,null,null,null,null,null,null,null,null,null,null,null,null,null,null,null,null,null,null,null,null,null,null,null,null,null,null,null,null,null,null,null,null,null,null,null,null,null,null,"Terrain  ",30,"","","","",0,0]
[null,null,null,null,null,null,null,null,null,null,null,null,null,null,null,null,null,null,null,null,null,null,null,null,null,null,null,null,null,null,null,null,null,null,null,null,null,null,null,null,null,null,null,null,null,null,null,null,null,null,null,null,null,null,null,null,null,null,null,null,null,null,null,null,null,null,null,null,"Terrain  ",31,"","","","",0,0]
[null,null,null,null,null,null,null,null,null,null,null,null,null,null,null,null,null,null,null,null,null,null,null,null,null,null,null,null,null,null,null,null,null,null,null,null,null,null,null,null,null,null,null,null,null,null,null,null,null,null,null,null,null,null,null,null,null,null,null,null,null,null,null,null,null,null,null,null,"Terrain  ",32,"","","","",0,0]
[null,null,null,null,null,null,null,null,null,null,null,null,null,null,null,null,null,null,null,null,null,null,null,null,null,null,null,null,null,null,null,null,null,null,null,null,null,null,null,null,null,null,null,null,null,null,null,null,null,null,null,null,null,null,null,null,null,null,null,null,null,null,null,null,null,null,null,null,"Terrain  ",0,{"$f":"#REF!","v":{"$error":"#REF!"}},{"$f":"#REF!","v":{"$error":"#REF!"}},{"$f":"#REF!","v":{"$error":"#REF!"}},{"$f":"#REF!","v":{"$error":"#REF!"}},{"$f":"#REF!","v":{"$error":"#REF!"}},{"$f":"#REF!","v":{"$error":"#REF!"}}]
[null,null,null,null,null,null,null,null,null,null,null,null,null,null,null,null,null,null,null,null,null,null,null,null,null,null,null,null,null,null,null,null,null,null,null,null,null,null,null,null,null,null,null,null,null,null,null,null,null,null,null,null,null,null,null,null,null,null,null,null,null,null,null,null,null,null,null,null,"Terrain  ",{"$f":"#REF!","v":{"$error":"#REF!"}},0,0,0,0,0,0]
[null,null,null,null,null,null,null,null,null,null,null,null,null,null,null,null,null,null,null,null,null,null,null,null,null,null,null,null,null,null,null,null,null,null,null,null,null,null,null,null,null,null,null,null,null,null,null,null,null,null,null,null,null,null,null,null,null,null,null,null,null,null,null,null,null,null,null,null,"Terrain  ",{"$f":"#REF!","v":{"$error":"#REF!"}},0,0,0,0,0,0]
[null,null,null,null,null,null,null,null,null,null,null,null,null,null,null,null,null,null,null,null,null,null,null,null,null,null,null,null,null,null,null,null,null,null,null,null,null,null,null,null,null,null,null,null,null,null,null,null,null,null,null,null,null,null,null,null,null,null,null,null,null,null,null,null,null,null,null,null,"Terrain  ",{"$f":"#REF!","v":{"$error":"#REF!"}},0,0,0,0,0,0]
[null,null,null,null,null,null,null,null,null,null,null,null,null,null,null,null,null,null,null,null,null,null,null,null,null,null,null,null,null,null,null,null,null,null,null,null,null,null,null,null,null,null,null,null,null,null,null,null,null,null,null,null,null,null,null,null,null,null,null,null,null,null,null,null,null,null,null,null,"Terrain  ",{"$f":"#REF!","v":{"$error":"#REF!"}},0,0,0,0,0,0]
[null,null,null,null,null,null,null,null,null,null,null,null,null,null,null,null,null,null,null,null,null,null,null,null,null,null,null,null,null,null,null,null,null,null,null,null,null,null,null,null,null,null,null,null,null,null,null,null,null,null,null,null,null,null,null,null,null,null,null,null,null,null,null,null,null,null,null,null,"Terrain  ",{"$f":"#REF!","v":{"$error":"#REF!"}},0,0,0,0,0,0]
[null,null,null,null,null,null,null,null,null,null,null,null,null,null,null,null,null,null,null,null,null,null,null,null,null,null,null,null,null,null,null,null,null,null,null,null,null,null,null,null,null,null,null,null,null,null,null,null,null,null,null,null,null,null,null,null,null,null,null,null,null,null,null,null,null,null,null,null,"Terrain  ",{"$f":"#REF!","v":{"$error":"#REF!"}},0,0,0,0,0,0]
[null,null,null,null,null,null,null,null,null,null,null,null,null,null,null,null,null,null,null,null,null,null,null,null,null,null,null,null,null,null,null,null,null,null,null,null,null,null,null,null,null,null,null,null,null,null,null,null,null,null,null,null,null,null,null,null,null,null,null,null,null,null,null,null,null,null,null,null,"Terrain  ",{"$f":"#REF!","v":{"$error":"#REF!"}},0,0,0,0,0,0]
[null,null,null,null,null,null,null,null,null,null,null,null,null,null,null,null,null,null,null,null,null,null,null,null,null,null,null,null,null,null,null,null,null,null,null,null,null,null,null,null,null,null,null,null,null,null,null,null,null,null,null,null,null,null,null,null,null,null,null,null,null,null,null,null,null,null,null,null,"Terrain  ",{"$f":"#REF!","v":{"$error":"#REF!"}},0,0,0,0,0,0]
[null,null,null,null,null,null,null,null,null,null,null,null,null,null,null,null,null,null,null,null,null,null,null,null,null,null,null,null,null,null,null,null,null,null,null,null,null,null,null,null,null,null,null,null,null,null,null,null,null,null,null,null,null,null,null,null,null,null,null,null,null,null,null,null,null,null,null,null,"Terrain  ",{"$f":"#REF!","v":{"$error":"#REF!"}},0,0,0,0,0,0]
[null,null,null,null,null,null,null,null,null,null,null,null,null,null,null,null,null,null,null,null,null,null,null,null,null,null,null,null,null,null,null,null,null,null,null,null,null,null,null,null,null,null,null,null,null,null,null,null,null,null,null,null,null,null,null,null,null,null,null,null,null,null,null,null,null,null,null,null,"Terrain  ",{"$f":"#REF!","v":{"$error":"#REF!"}},0,0,0,0,0,0]
[null,null,null,null,null,null,null,null,null,null,null,null,null,null,null,null,null,null,null,null,null,null,null,null,null,null,null,null,null,null,null,null,null,null,null,null,null,null,null,null,null,null,null,null,null,null,null,null,null,null,null,null,null,null,null,null,null,null,null,null,null,null,null,null,null,null,null,null,"Terrain  ",{"$f":"#REF!","v":{"$error":"#REF!"}},0,0,0,0,0,0]
[null,null,null,null,null,null,null,null,null,null,null,null,null,null,null,null,null,null,null,null,null,null,null,null,null,null,null,null,null,null,null,null,null,null,null,null,null,null,null,null,null,null,null,null,null,null,null,null,null,null,null,null,null,null,null,null,null,null,null,null,null,null,null,null,null,null,null,null,"Terrain  ",{"$f":"#REF!","v":{"$error":"#REF!"}},0,0,0,0,0,0]
[null,null,null,null,null,null,null,null,null,null,null,null,null,null,null,null,null,null,null,null,null,null,null,null,null,null,null,null,null,null,null,null,null,null,null,null,null,null,null,null,null,null,null,null,null,null,null,null,null,null,null,null,null,null,null,null,null,null,null,null,null,null,null,null,null,null,null,null,"Terrain  ",{"$f":"#REF!","v":{"$error":"#REF!"}},{"$f":"#REF!","v":{"$error":"#REF!"}},{"$f":"#REF!","v":{"$error":"#REF!"}},{"$f":"#REF!","v":{"$error":"#REF!"}},{"$f":"#REF!","v":{"$error":"#REF!"}},{"$f":"#REF!","v":{"$error":"#REF!"}},{"$f":"#REF!","v":{"$error":"#REF!"}}]
[null,null,null,null,null,null,null,null,null,null,null,null,null,null,null,null,null,null,null,null,null,null,null,null,null,null,null,null,null,null,null,null,null,null,null,null,null,null,null,null,null,null,null,null,null,null,null,null,null,null,null,null,null,null,null,null,null,null,null,null,null,null,null,null,null,null,null,null,"Terrain  ",{"$f":"#REF!","v":{"$error":"#REF!"}},0,0,0,0,0,0]
[null,null,null,null,null,null,null,null,null,null,null,null,null,null,null,null,null,null,null,null,null,null,null,null,null,null,null,null,null,null,null,null,null,null,null,null,null,null,null,null,null,null,null,null,null,null,null,null,null,null,null,null,null,null,null,null,null,null,null,null,null,null,null,null,null,null,null,null,"Terrain  ",{"$f":"#REF!","v":{"$error":"#REF!"}},0,0,0,0,0,0]
[null,null,null,null,null,null,null,null,null,null,null,null,null,null,null,null,null,null,null,null,null,null,null,null,null,null,null,null,null,null,null,null,null,null,null,null,null,null,null,null,null,null,null,null,null,null,null,null,null,null,null,null,null,null,null,null,null,null,null,null,null,null,null,null,null,null,null,null,"Terrain  ",0,0,0,0,0,0,0]
[null,null,null,null,null,null,null,null,null,null,null,null,null,null,null,null,null,null,null,null,null,null,null,null,null,null,null,null,null,null,null,null,null,null,null,null,null,null,null,null,null,null,null,null,null,null,null,null,null,null,null,null,null,null,null,null,null,null,null,null,null,null,null,null,null,null,null,null,"Terrain  ",0,0,0,0,0,0,0]
[null,null,null,null,null,null,null,null,null,null,null,null,null,null,null,null,null,null,null,null,null,null,null,null,null,null,null,null,null,null,null,null,null,null,null,null,null,null,null,null,null,null,null,null,null,null,null,null,null,null,null,null,null,null,null,null,null,null,null,null,null,null,null,null,null,null,null,null,"Terrain  ",0,0,0,0,0,0,0]
[null,null,null,null,null,null,null,null,null,null,null,null,null,null,null,null,null,null,null,null,null,null,null,null,null,null,null,null,null,null,null,null,null,null,null,null,null,null,null,null,null,null,null,null,null,null,null,null,null,null,null,null,null,null,null,null,null,null,null,null,null,null,null,null,null,null,null,null,"Terrain  ",0,0,0,0,0,0,0]
[null,null,null,null,null,null,null,null,null,null,null,null,null,null,null,null,null,null,null,null,null,null,null,null,null,null,null,null,null,null,null,null,null,null,null,null,null,null,null,null,null,null,null,null,null,null,null,null,null,null,null,null,null,null,null,null,null,null,null,null,null,null,null,null,null,null,null,null,"Terrain  ",0,0,0,0,0,0,0]
[null,null,null,null,null,null,null,null,null,null,null,null,null,null,null,null,null,null,null,null,null,null,null,null,null,null,null,null,null,null,null,null,null,null,null,null,null,null,null,null,null,null,null,null,null,null,null,null,null,null,null,null,null,null,null,null,null,null,null,null,null,null,null,null,null,null,null,null,"Terrain  ",0,0,0,0,0,0,0]
[null,null,null,null,null,null,null,null,null,null,null,null,null,null,null,null,null,null,null,null,null,null,null,null,null,null,null,null,null,null,null,null,null,null,null,null,null,null,null,null,null,null,null,null,null,null,null,null,null,null,null,null,null,null,null,null,null,null,null,null,null,null,null,null,null,null,null,null,"Terrain  ",0,0,0,0,0,0,0]
[null,null,null,null,null,null,null,null,null,null,null,null,null,null,null,null,null,null,null,null,null,null,null,null,null,null,null,null,null,null,null,null,null,null,null,null,null,null,null,null,null,15,null,null,null,null,null,null,null,null,null,null,null,null,null,null,null,null,null,null,null,null,null,null,null,null,null,null,"Terrain  ",0,0,0,0,0,0,0]
[null,null,null,null,null,null,null,null,null,null,null,null,null,null,null,null,null,null,null,null,null,null,null,null,null,null,null,null,null,null,null,null,null,null,null,null,null,null,null,null,null,15,null,null,null,null,null,null,null,null,null,null,null,null,null,null,null,null,null,null,null,null,null,null,null,null,null,null,"Terrain  ",0,0,0,0,0,0,0]
[null,null,null,null,null,null,null,null,null,null,null,null,null,null,null,null,null,null,null,null,null,null,null,null,null,null,null,null,null,null,null,null,null,null,null,null,null,null,null,null,null,15,null,null,null,null,null,null,null,null,null,null,null,null,null,null,null,null,null,null,null,null,null,null,null,null,null,null,"Terrain  ",0,0,0,0,0,0,0]
[null,null,null,null,null,null,null,null,null,null,null,null,null,null,null,null,null,null,null,null,null,null,null,null,null,null,null,null,null,null,null,null,null,null,null,null,null,null,null,null,null,15,null,null,null,null,null,null,null,null,null,null,null,null,null,null,null,null,null,null,null,null,null,null,null,null,null,null,"Terrain  ",0,0,0,0,0,0,0]
[null,null,null,null,null,null,null,null,null,null,null,null,null,null,null,null,null,null,null,null,null,null,null,null,null,null,null,null,null,null,null,null,null,null,null,null,null,null,null,null,null,15,null,null,null,null,null,null,null,null,null,null,null,null,null,null,null,null,null,null,null,null,null,null,null,null,null,null,"Terrain  ",0,0,0,0,0,0,0]
[null,null,null,null,null,null,null,null,null,null,null,null,null,null,null,null,null,null,null,null,null,null,null,null,null,null,null,null,null,null,null,null,null,null,null,null,null,null,null,null,null,15,null,null,null,null,null,null,null,null,null,null,null,null,null,null,null,null,null,null,null,null,null,null,null,null,null,null,"Terrain  ",0,0,0,0,0,0,0]
[null,null,null,null,null,null,null,null,null,null,null,null,null,null,null,null,null,null,null,null,null,null,null,null,null,null,null,null,null,null,null,null,null,null,null,null,null,null,null,null,null,15,null,null,null,null,null,null,null,null,null,null,null,null,null,null,null,null,null,null,null,null,null,null,null,null,null,null,"Terrain  ",0,0,0,0,0,0,0]
[null,null,null,null,null,null,null,null,null,null,null,null,null,null,null,null,null,null,null,null,null,null,null,null,null,null,null,null,null,null,null,null,null,null,null,null,null,null,null,null,null,15,null,null,null,null,null,null,null,null,null,null,null,null,null,null,null,null,null,null,null,null,null,null,null,null,null,null,"Terrain  ",0,0,0,0,0,0,0]
[null,null,null,null,null,null,null,null,null,null,null,null,null,null,null,null,null,null,null,null,null,null,null,null,null,null,null,null,null,null,null,null,null,null,null,null,null,null,null,null,null,15,null,null,null,null,null,null,null,null,null,null,null,null,null,null,null,null,null,null,null,null,null,null,null,null,null,null,"Terrain  ",0,0,0,0,0,0,0]
[null,null,null,null,null,null,null,null,null,null,null,null,null,null,null,null,null,null,null,null,null,null,null,null,null,null,null,null,null,null,null,null,null,null,null,null,null,null,null,null,null,15]
[null,null,null,null,null,null,null,null,null,null,null,null,null,null,null,null,null,null,null,null,null,null,null,null,null,null,null,null,null,null,null,null,null,null,null,null,null,null,null,null,null,15]
[null,null,null,null,null,null,null,null,null,null,null,null,null,null,null,null,null,null,null,null,null,null,null,null,null,null,null,null,null,null,null,null,null,null,null,null,null,null,null,null,null,15,null,null,null,null,null,null,null,null,null,null,null,null,null,null,null,null,null,null,null,null,null,null,null,null,null,null,null,null,"4 è tour",null,null,null,"Resultat"]
[null,null,null,null,null,null,null,null,null,null,null,null,null,null,null,null,null,null,null,null,null,null,null,null,null,null,null,null,null,null,null,null,null,null,null,null,null,null,null,null,null,15,null,null,null,null,null,null,null,null,null,null,null,null,null,null,null,null,null,null,null,null,null,null,null,null,null,null,"Terrain  ",{"$f":"B6","v":1},{"$f":"AH6","v":""},{"$f":"AJ6","v":""},{"$f":"AL6","v":""},{"$f":"AN6","v":""},0,0]
[null,null,null,null,null,null,null,null,null,null,null,null,null,null,null,null,null,null,null,null,null,null,null,null,null,null,null,null,null,null,null,null,null,null,null,null,null,null,null,null,null,15,null,null,null,null,null,null,null,null,null,null,null,null,null,null,null,null,null,null,null,null,null,null,null,null,null,null,"Terrain  ",2,"","","","",0,0]
[null,null,null,null,null,null,null,null,null,null,null,null,null,null,null,null,null,null,null,null,null,null,null,null,null,null,null,null,null,null,null,null,null,null,null,null,null,null,null,null,null,15,null,null,null,null,null,null,null,null,null,null,null,null,null,null,null,null,null,null,null,null,null,null,null,null,null,null,"Terrain  ",3,"","","","",0,0]
[null,null,null,null,null,null,null,null,null,null,null,null,null,null,null,null,null,null,null,null,null,null,null,null,null,null,null,null,null,null,null,null,null,null,null,null,null,null,null,null,null,15,null,null,null,null,null,null,null,null,null,null,null,null,null,null,null,null,null,null,null,null,null,null,null,null,null,null,"Terrain  ",4,"","","","",0,0]
[null,null,null,null,null,null,null,null,null,null,null,null,null,null,null,null,null,null,null,null,null,null,null,null,null,null,null,null,null,null,null,null,null,null,null,null,null,null,null,null,null,15,null,null,null,null,null,null,null,null,null,null,null,null,null,null,null,null,null,null,null,null,null,null,null,null,null,null,"Terrain  ",5,"","","","",0,0]
[null,null,null,null,null,null,null,null,null,null,null,null,null,null,null,null,null,null,null,null,null,null,null,null,null,null,null,null,null,null,null,null,null,null,null,null,null,null,null,null,null,15,null,null,null,null,null,null,null,null,null,null,null,null,null,null,null,null,null,null,null,null,null,null,null,null,null,null,"Terrain  ",6,"","","","",0,0]
[null,null,null,null,null,null,null,null,null,null,null,null,null,null,null,null,null,null,null,null,null,null,null,null,null,null,null,null,null,null,null,null,null,null,null,null,null,null,null,null,null,15,null,null,null,null,null,null,null,null,null,null,null,null,null,null,null,null,null,null,null,null,null,null,null,null,null,null,"Terrain  ",7,"","","","",0,0]
[null,null,null,null,null,null,null,null,null,null,null,null,null,null,null,null,null,null,null,null,null,null,null,null,null,null,null,null,null,null,null,null,null,null,null,null,null,null,null,null,null,15,null,null,null,null,null,null,null,null,null,null,null,null,null,null,null,null,null,null,null,null,null,null,null,null,null,null,"Terrain  ",8,"","","","",0,0]
[null,null,null,null,null,null,null,null,null,null,null,null,null,null,null,null,null,null,null,null,null,null,null,null,null,null,null,null,null,null,null,null,null,null,null,null,null,null,null,null,null,15,null,null,null,null,null,null,null,null,null,null,null,null,null,null,null,null,null,null,null,null,null,null,null,null,null,null,"Terrain  ",9,"","","","",0,0]
[null,null,null,null,null,null,null,null,null,null,null,null,null,null,null,null,null,null,null,null,null,null,null,null,null,null,null,null,null,null,null,null,null,null,null,null,null,null,null,null,null,15,null,null,null,null,null,null,null,null,null,null,null,null,null,null,null,null,null,null,null,null,null,null,null,null,null,null,"Terrain  ",10,"","","","",0,0]
[null,null,null,null,null,null,null,null,null,null,null,null,null,null,null,null,null,null,null,null,null,null,null,null,null,null,null,null,null,null,null,null,null,null,null,null,null,null,null,null,null,15,null,null,null,null,null,null,null,null,null,null,null,null,null,null,null,null,null,null,null,null,null,null,null,null,null,null,"Terrain  ",11,"","","","",0,0]
[null,null,null,null,null,null,null,null,null,null,null,null,null,null,null,null,null,null,null,null,null,null,null,null,null,null,null,null,null,null,null,null,null,null,null,null,null,null,null,null,null,null,null,null,null,null,null,null,null,null,null,null,null,null,null,null,null,null,null,null,null,null,null,null,null,null,null,null,"Terrain  ",12,"","","","",0,0]
[null,null,null,null,null,null,null,null,null,null,null,null,null,null,null,null,null,null,null,null,null,null,null,null,null,null,null,null,null,null,null,null,null,null,null,null,null,null,null,null,null,null,null,null,null,null,null,null,null,null,null,null,null,null,null,null,null,null,null,null,null,null,null,null,null,null,null,null,"Terrain  ",13,"","","","",0,0]
[null,null,null,null,null,null,null,null,null,null,null,null,null,null,null,null,null,null,null,null,null,null,null,null,null,null,null,null,null,null,null,null,null,null,null,null,null,null,null,null,null,null,null,null,null,null,null,null,null,null,null,null,null,null,null,null,null,null,null,null,null,null,null,null,null,null,null,null,"Terrain  ",14,"","","","",0,0]
[null,null,null,null,null,null,null,null,null,null,null,null,null,null,null,null,null,null,null,null,null,null,null,null,null,null,null,null,null,null,null,null,null,null,null,null,null,null,null,null,null,null,null,null,null,null,null,null,null,null,null,null,null,null,null,null,null,null,null,null,null,null,null,null,null,null,null,null,"Terrain  ",15,"","","","",0,0]
[null,null,null,null,null,null,null,null,null,null,null,null,null,null,null,null,null,null,null,null,null,null,null,null,null,null,null,null,null,null,null,null,null,null,null,null,null,null,null,null,null,null,null,null,null,null,null,null,null,null,null,null,null,null,null,null,null,null,null,null,null,null,null,null,null,null,null,null,"Terrain  ",16,"","","","",0,0]
[null,null,null,null,null,null,null,null,null,null,null,null,null,null,null,null,null,null,null,null,null,null,null,null,null,null,null,null,null,null,null,null,null,null,null,null,null,null,null,null,null,null,null,null,null,null,null,null,null,null,null,null,null,null,null,null,null,null,null,null,null,null,null,null,null,null,null,null,"Terrain  ",17,"","","","",0,0]
[null,null,null,null,null,null,null,null,null,null,null,null,null,null,null,null,null,null,null,null,null,null,null,null,null,null,null,null,null,null,null,null,null,null,null,null,null,null,null,null,null,null,null,null,null,null,null,null,null,null,null,null,null,null,null,null,null,null,null,null,null,null,null,null,null,null,null,null,"Terrain  ",18,"","","","",0,0]
[null,null,null,null,null,null,null,null,null,null,null,null,null,null,null,null,null,null,null,null,null,null,null,null,null,null,null,null,null,null,null,null,null,null,null,null,null,null,null,null,null,null,null,null,null,null,null,null,null,null,null,null,null,null,null,null,null,null,null,null,null,null,null,null,null,null,null,null,"Terrain  ",19,"","","","",0,0]
[null,null,null,null,null,null,null,null,null,null,null,null,null,null,null,null,null,null,null,null,null,null,null,null,null,null,null,null,null,null,null,null,null,null,null,null,null,null,null,null,null,null,null,null,null,null,null,null,null,null,null,null,null,null,null,null,null,null,null,null,null,null,null,null,null,null,null,null,"Terrain  ",20,"","","","",0,0]
[null,null,null,null,null,null,null,null,null,null,null,null,null,null,null,null,null,null,null,null,null,null,null,null,null,null,null,null,null,null,null,null,null,null,null,null,null,null,null,null,null,null,null,null,null,null,null,null,null,null,null,null,null,null,null,null,null,null,null,null,null,null,null,null,null,null,null,null,"Terrain  ",21,"","","","",0,0]
[null,null,null,null,null,null,null,null,null,null,null,null,null,null,null,null,null,null,null,null,null,null,null,null,null,null,null,null,null,null,null,null,null,null,null,null,null,null,null,null,null,null,null,null,null,null,null,null,null,null,null,null,null,null,null,null,null,null,null,null,null,null,null,null,null,null,null,null,"Terrain  ",22,"","","","",0,0]
[null,null,null,null,null,null,null,null,null,null,null,null,null,null,null,null,null,null,null,null,null,null,null,null,null,null,null,null,null,null,null,null,null,null,null,null,null,null,null,null,null,null,null,null,null,null,null,null,null,null,null,null,null,null,null,null,null,null,null,null,null,null,null,null,null,null,null,null,"Terrain  ",23,"","","","",0,0]
[null,null,null,null,null,null,null,null,null,null,null,null,null,null,null,null,null,null,null,null,null,null,null,null,null,null,null,null,null,null,null,null,null,null,null,null,null,null,null,null,null,null,null,null,null,null,null,null,null,null,null,null,null,null,null,null,null,null,null,null,null,null,null,null,null,null,null,null,"Terrain  ",24,"","","","",0,0]
[null,null,null,null,null,null,null,null,null,null,null,null,null,null,null,null,null,null,null,null,null,null,null,null,null,null,null,null,null,null,null,null,null,null,null,null,null,null,null,null,null,null,null,null,null,null,null,null,null,null,null,null,null,null,null,null,null,null,null,null,null,null,null,null,null,null,null,null,"Terrain  ",25,"","","","",0,0]
[null,null,null,null,null,null,null,null,null,null,null,null,null,null,null,null,null,null,null,null,null,null,null,null,null,null,null,null,null,null,null,null,null,null,null,null,null,null,null,null,null,null,null,null,null,null,null,null,null,null,null,null,null,null,null,null,null,null,null,null,null,null,null,null,null,null,null,null,"Terrain  ",26,"","","","",0,0]
[null,null,null,null,null,null,null,null,null,null,null,null,null,null,null,null,null,null,null,null,null,null,null,null,null,null,null,null,null,null,null,null,null,null,null,null,null,null,null,null,null,null,null,null,null,null,null,null,null,null,null,null,null,null,null,null,null,null,null,null,null,null,null,null,null,null,null,null,"Terrain  ",27,"","","","",0,0]
[null,null,null,null,null,null,null,null,null,null,null,null,null,null,null,null,null,null,null,null,null,null,null,null,null,null,null,null,null,null,null,null,null,null,null,null,null,null,null,null,null,null,null,null,null,null,null,null,null,null,null,null,null,null,null,null,null,null,null,null,null,null,null,null,null,null,null,null,"Terrain  ",28,"","","","",0,0]
[null,null,null,null,null,null,null,null,null,null,null,null,null,null,null,null,null,null,null,null,null,null,null,null,null,null,null,null,null,null,null,null,null,null,null,null,null,null,null,null,null,null,null,null,null,null,null,null,null,null,null,null,null,null,null,null,null,null,null,null,null,null,null,null,null,null,null,null,"Terrain  ",29,"","","","",0,0]
[null,null,null,null,null,null,null,null,null,null,null,null,null,null,null,null,null,null,null,null,null,null,null,null,null,null,null,null,null,null,null,null,null,null,null,null,null,null,null,null,null,null,null,null,null,null,null,null,null,null,null,null,null,null,null,null,null,null,null,null,null,null,null,null,null,null,null,null,"Terrain  ",30,"","","","",0,0]
[null,null,null,null,null,null,null,null,null,null,null,null,null,null,null,null,null,null,null,null,null,null,null,null,null,null,null,null,null,null,null,null,null,null,null,null,null,null,null,null,null,null,null,null,null,null,null,null,null,null,null,null,null,null,null,null,null,null,null,null,null,null,null,null,null,null,null,null,"Terrain  ",31,"","","","",0,0]
[null,null,null,null,null,null,null,null,null,null,null,null,null,null,null,null,null,null,null,null,null,null,null,null,null,null,null,null,null,null,null,null,null,null,null,null,null,null,null,null,null,null,null,null,null,null,null,null,null,null,null,null,null,null,null,null,null,null,null,null,null,null,null,null,null,null,null,null,"Terrain  ",32,"","","","",0,0]
[null,null,null,null,null,null,null,null,null,null,null,null,null,null,null,null,null,null,null,null,null,null,null,null,null,null,null,null,null,null,null,null,null,null,null,null,null,null,null,null,null,null,null,null,null,null,null,null,null,null,null,null,null,null,null,null,null,null,null,null,null,null,null,null,null,null,null,null,"Terrain  ",0,{"$f":"#REF!","v":{"$error":"#REF!"}},{"$f":"#REF!","v":{"$error":"#REF!"}},{"$f":"#REF!","v":{"$error":"#REF!"}},{"$f":"#REF!","v":{"$error":"#REF!"}},{"$f":"#REF!","v":{"$error":"#REF!"}},{"$f":"#REF!","v":{"$error":"#REF!"}}]
[null,null,null,null,null,null,null,null,null,null,null,null,null,null,null,null,null,null,null,null,null,null,null,null,null,null,null,null,null,null,null,null,null,null,null,null,null,null,null,null,null,null,null,null,null,null,null,null,null,null,null,null,null,null,null,null,null,null,null,null,null,null,null,null,null,null,null,null,"Terrain  ",{"$f":"#REF!","v":{"$error":"#REF!"}},0,0,0,{"$f":"AN39","v":0},0,0]
[null,null,null,null,null,null,null,null,null,null,null,null,null,null,null,null,null,null,null,null,null,null,null,null,null,null,null,null,null,null,null,null,null,null,null,null,null,null,null,null,null,null,null,null,null,null,null,null,null,null,null,null,null,null,null,null,null,null,null,null,null,null,null,null,null,null,null,null,"Terrain  ",{"$f":"#REF!","v":{"$error":"#REF!"}},0,0,0,0,0,0]
[null,null,null,null,null,null,null,null,null,null,null,null,null,null,null,null,null,null,null,null,null,null,null,null,null,null,null,null,null,null,null,null,null,null,null,null,null,null,null,null,null,null,null,null,null,null,null,null,null,null,null,null,null,null,null,null,null,null,null,null,null,null,null,null,null,null,null,null,"Terrain  ",{"$f":"#REF!","v":{"$error":"#REF!"}},0,0,0,0,0,0]
[null,null,null,null,null,null,null,null,null,null,null,null,null,null,null,null,null,null,null,null,null,null,null,null,null,null,null,null,null,null,null,null,null,null,null,null,null,null,null,null,null,null,null,null,null,null,null,null,null,null,null,null,null,null,null,null,null,null,null,null,null,null,null,null,null,null,null,null,"Terrain  ",{"$f":"#REF!","v":{"$error":"#REF!"}},0,0,0,0,0,0]
[null,null,null,null,null,null,null,null,null,null,null,null,null,null,null,null,null,null,null,null,null,null,null,null,null,null,null,null,null,null,null,null,null,null,null,null,null,null,null,null,null,null,null,null,null,null,null,null,null,null,null,null,null,null,null,null,null,null,null,null,null,null,null,null,null,null,null,null,"Terrain  ",{"$f":"#REF!","v":{"$error":"#REF!"}},0,0,0,0,0,0]
[null,null,null,null,null,null,null,null,null,null,null,null,null,null,null,null,null,null,null,null,null,null,null,null,null,null,null,null,null,null,null,null,null,null,null,null,null,null,null,null,null,null,null,null,null,null,null,null,null,null,null,null,null,null,null,null,null,null,null,null,null,null,null,null,null,null,null,null,"Terrain  ",{"$f":"#REF!","v":{"$error":"#REF!"}},0,0,0,0,0,0]
[null,null,null,null,null,null,null,null,null,null,null,null,null,null,null,null,null,null,null,null,null,null,null,null,null,null,null,null,null,null,null,null,null,null,null,null,null,null,null,null,null,null,null,null,null,null,null,null,null,null,null,null,null,null,null,null,null,null,null,null,null,null,null,null,null,null,null,null,"Terrain  ",{"$f":"#REF!","v":{"$error":"#REF!"}},0,0,0,0,0,0]
[null,null,null,null,null,null,null,null,null,null,null,null,null,null,null,null,null,null,null,null,null,null,null,null,null,null,null,null,null,null,null,null,null,null,null,null,null,null,null,null,null,null,null,null,null,null,null,null,null,null,null,null,null,null,null,null,null,null,null,null,null,null,null,null,null,null,null,null,"Terrain  ",{"$f":"#REF!","v":{"$error":"#REF!"}},0,0,0,0,0,0]
[null,null,null,null,null,null,null,null,null,null,null,null,null,null,null,null,null,null,null,null,null,null,null,null,null,null,null,null,null,null,null,null,null,null,null,null,null,null,null,null,null,null,null,null,null,null,null,null,null,null,null,null,null,null,null,null,null,null,null,null,null,null,null,null,null,null,null,null,"Terrain  ",{"$f":"#REF!","v":{"$error":"#REF!"}},0,0,0,0,0,0]
[null,null,null,null,null,null,null,null,null,null,null,null,null,null,null,null,null,null,null,null,null,null,null,null,null,null,null,null,null,null,null,null,null,null,null,null,null,null,null,null,null,null,null,null,null,null,null,null,null,null,null,null,null,null,null,null,null,null,null,null,null,null,null,null,null,null,null,null,"Terrain  ",{"$f":"#REF!","v":{"$error":"#REF!"}},0,0,0,0,0,0]
[null,null,null,null,null,null,null,null,null,null,null,null,null,null,null,null,null,null,null,null,null,null,null,null,null,null,null,null,null,null,null,null,null,null,null,null,null,null,null,null,null,null,null,null,null,null,null,null,null,null,null,null,null,null,null,null,null,null,null,null,null,null,null,null,null,null,null,null,"Terrain  ",{"$f":"#REF!","v":{"$error":"#REF!"}},0,0,0,0,0,0]
[null,null,null,null,null,null,null,null,null,null,null,null,null,null,null,null,null,null,null,null,null,null,null,null,null,null,null,null,null,null,null,null,null,null,null,null,null,null,null,null,null,null,null,null,null,null,null,null,null,null,null,null,null,null,null,null,null,null,null,null,null,null,null,null,null,null,null,null,"Terrain  ",{"$f":"#REF!","v":{"$error":"#REF!"}},0,0,0,0,0,0]
[null,null,null,null,null,null,null,null,null,null,null,null,null,null,null,null,null,null,null,null,null,null,null,null,null,null,null,null,null,null,null,null,null,null,null,null,null,null,null,null,null,null,null,null,null,null,null,null,null,null,null,null,null,null,null,null,null,null,null,null,null,null,null,null,null,null,null,null,"Terrain  ",{"$f":"#REF!","v":{"$error":"#REF!"}},{"$f":"#REF!","v":{"$error":"#REF!"}},{"$f":"#REF!","v":{"$error":"#REF!"}},{"$f":"#REF!","v":{"$error":"#REF!"}},{"$f":"#REF!","v":{"$error":"#REF!"}},{"$f":"#REF!","v":{"$error":"#REF!"}},{"$f":"#REF!","v":{"$error":"#REF!"}}]
[null,null,null,null,null,null,null,null,null,null,null,null,null,null,null,null,null,null,null,null,null,null,null,null,null,null,null,null,null,null,null,null,null,null,null,null,null,null,null,null,null,null,null,null,null,null,null,null,null,null,null,null,null,null,null,null,null,null,null,null,null,null,null,null,null,null,null,null,"Terrain  ",{"$f":"#REF!","v":{"$error":"#REF!"}},0,0,0,0,0,0]
[null,null,null,null,null,null,null,null,null,null,null,null,null,null,null,null,null,null,null,null,null,null,null,null,null,null,null,null,null,null,null,null,null,null,null,null,null,null,null,null,null,null,null,null,null,null,null,null,null,null,null,null,null,null,null,null,null,null,null,null,null,null,null,null,null,null,null,null,"Terrain  ",{"$f":"#REF!","v":{"$error":"#REF!"}},0,0,0,0,0,0]
[null,null,null,null,null,null,null,null,null,null,null,null,null,null,null,null,null,null,null,null,null,null,null,null,null,null,null,null,null,null,null,null,null,null,null,null,null,null,null,null,null,null,null,null,null,null,null,null,null,null,null,null,null,null,null,null,null,null,null,null,null,null,null,null,null,null,null,null,"Terrain  ",0,0,0,0,0,0,0]
[null,null,null,null,null,null,null,null,null,null,null,null,null,null,null,null,null,null,null,null,null,null,null,null,null,null,null,null,null,null,null,null,null,null,null,null,null,null,null,null,null,null,null,null,null,null,null,null,null,null,null,null,null,null,null,null,null,null,null,null,null,null,null,null,null,null,null,null,"Terrain  ",0,0,0,0,0,0,0]
[null,null,null,null,null,null,null,null,null,null,null,null,null,null,null,null,null,null,null,null,null,null,null,null,null,null,null,null,null,null,null,null,null,null,null,null,null,null,null,null,null,null,null,null,null,null,null,null,null,null,null,null,null,null,null,null,null,null,null,null,null,null,null,null,null,null,null,null,"Terrain  ",0,0,0,0,0,0,0]
[null,null,null,null,null,null,null,null,null,null,null,null,null,null,null,null,null,null,null,null,null,null,null,null,null,null,null,null,null,null,null,null,null,null,null,null,null,null,null,null,null,null,null,null,null,null,null,null,null,null,null,null,null,null,null,null,null,null,null,null,null,null,null,null,null,null,null,null,"Terrain  ",0,0,0,0,0,0,0]
[null,null,null,null,null,null,null,null,null,null,null,null,null,null,null,null,null,null,null,null,null,null,null,null,null,null,null,null,null,null,null,null,null,null,null,null,null,null,null,null,null,null,null,null,null,null,null,null,null,null,null,null,null,null,null,null,null,null,null,null,null,null,null,null,null,null,null,null,"Terrain  ",0,0,0,0,0,0,0]
[null,null,null,null,null,null,null,null,null,null,null,null,null,null,null,null,null,null,null,null,null,null,null,null,null,null,null,null,null,null,null,null,null,null,null,null,null,null,null,null,null,null,null,null,null,null,null,null,null,null,null,null,null,null,null,null,null,null,null,null,null,null,null,null,null,null,null,null,"Terrain  ",0,0,0,0,0,0,0]
[null,null,null,null,null,null,null,null,null,null,null,null,null,null,null,null,null,null,null,null,null,null,null,null,null,null,null,null,null,null,null,null,null,null,null,null,null,null,null,null,null,null,null,null,null,null,null,null,null,null,null,null,null,null,null,null,null,null,null,null,null,null,null,null,null,null,null,null,"Terrain  ",0,0,0,0,0,0,0]
[null,null,null,null,null,null,null,null,null,null,null,null,null,null,null,null,null,null,null,null,null,null,null,null,null,null,null,null,null,null,null,null,null,null,null,null,null,null,null,null,null,null,null,null,null,null,null,null,null,null,null,null,null,null,null,null,null,null,null,null,null,null,null,null,null,null,null,null,"Terrain  ",0,0,0,0,0,0,0]
[null,null,null,null,null,null,null,null,null,null,null,null,null,null,null,null,null,null,null,null,null,null,null,null,null,null,null,null,null,null,null,null,null,null,null,null,null,null,null,null,null,null,null,null,null,null,null,null,null,null,null,null,null,null,null,null,null,null,null,null,null,null,null,null,null,null,null,null,"Terrain  ",0,0,0,0,0,0,0]
[null,null,null,null,null,null,null,null,null,null,null,null,null,null,null,null,null,null,null,null,null,null,null,null,null,null,null,null,null,null,null,null,null,null,null,null,null,null,null,null,null,null,null,null,null,null,null,null,null,null,null,null,null,null,null,null,null,null,null,null,null,null,null,null,null,null,null,null,"Terrain  ",0,0,0,0,0,0,0]
[null,null,null,null,null,null,null,null,null,null,null,null,null,null,null,null,null,null,null,null,null,null,null,null,null,null,null,null,null,null,null,null,null,null,null,null,null,null,null,null,null,null,null,null,null,null,null,null,null,null,null,null,null,null,null,null,null,null,null,null,null,null,null,null,null,null,null,null,"Terrain  ",0,0,0,0,0,0,0]
[null,null,null,null,null,null,null,null,null,null,null,null,null,null,null,null,null,null,null,null,null,null,null,null,null,null,null,null,null,null,null,null,null,null,null,null,null,null,null,null,null,null,null,null,null,null,null,null,null,null,null,null,null,null,null,null,null,null,null,null,null,null,null,null,null,null,null,null,"Terrain  ",0,0,0,0,0,0,0]
[null,null,null,null,null,null,null,null,null,null,null,null,null,null,null,null,null,null,null,null,null,null,null,null,null,null,null,null,null,null,null,null,null,null,null,null,null,null,null,null,null,null,null,null,null,null,null,null,null,null,null,null,null,null,null,null,null,null,null,null,null,null,null,null,null,null,null,null,"Terrain  ",0,0,0,0,0,0,0]
[null,null,null,null,null,null,null,null,null,null,null,null,null,null,null,null,null,null,null,null,null,null,null,null,null,null,null,null,null,null,null,null,null,null,null,null,null,null,null,null,null,null,null,null,null,null,null,null,null,null,null,null,null,null,null,null,null,null,null,null,null,null,null,null,null,null,null,null,"Terrain  ",0,0,0,0,0,0,0]
[null,null,null,null,null,null,null,null,null,null,null,null,null,null,null,null,null,null,null,null,null,null,null,null,null,null,null,null,null,null,null,null,null,null,null,null,null,null,null,null,null,null,null,null,null,null,null,null,null,null,null,null,null,null,null,null,null,null,null,null,null,null,null,null,null,null,null,null,"Terrain  ",0,0,0,0,0,0,0]
[null,null,null,null,null,null,null,null,null,null,null,null,null,null,null,null,null,null,null,null,null,null,null,null,null,null,null,null,null,null,null,null,null,null,null,null,null,null,null,null,null,null,null,null,null,null,null,null,null,null,null,null,null,null,null,null,null,null,null,null,null,null,null,null,null,null,null,null,"Terrain  ",0,0,0,0,0,0,0]
[]
[]
[null,null,null,null,null,null,null,null,null,null,null,null,null,null,null,null,null,null,null,null,null,null,null,null,null,null,null,null,null,null,null,null,null,null,null,null,null,null,null,null,null,null,null,null,null,null,null,null,null,null,null,null,null,null,null,null,null,null,null,null,null,null,null,null,null,null,null,null,null,null,"5 è tour",null,null,null,"Resultat"]
[null,null,null,null,null,null,null,null,null,null,null,null,null,null,null,null,null,null,null,null,null,null,null,null,null,null,null,null,null,null,null,null,null,null,null,null,null,null,null,null,null,null,null,null,null,null,null,null,null,null,null,null,null,null,null,null,null,null,null,null,null,null,null,null,null,null,null,null,"Terrain  ",{"$f":"B6","v":1},{"$f":"AR6","v":""},{"$f":"AT6","v":""},{"$f":"AV6","v":""},{"$f":"AX6","v":""},0,0]
[null,null,null,null,null,null,null,null,null,null,null,null,null,null,null,null,null,null,null,null,null,null,null,null,null,null,null,null,null,null,null,null,null,null,null,null,null,null,null,null,null,null,null,null,null,null,null,null,null,null,null,null,null,null,null,null,null,null,null,null,null,null,null,null,null,null,null,null,"Terrain  ",2,"","","","",0,0]
[null,null,null,null,null,null,null,null,null,null,null,null,null,null,null,null,null,null,null,null,null,null,null,null,null,null,null,null,null,null,null,null,null,null,null,null,null,null,null,null,null,null,null,null,null,null,null,null,null,null,null,null,null,null,null,null,null,null,null,null,null,null,null,null,null,null,null,null,"Terrain  ",3,"","","","",0,0]
[null,null,null,null,null,null,null,null,null,null,null,null,null,null,null,null,null,null,null,null,null,null,null,null,null,null,null,null,null,null,null,null,null,null,null,null,null,null,null,null,null,null,null,null,null,null,null,null,null,null,null,null,null,null,null,null,null,null,null,null,null,null,null,null,null,null,null,null,"Terrain  ",4,"","","","",0,0]
[null,null,null,null,null,null,null,null,null,null,null,null,null,null,null,null,null,null,null,null,null,null,null,null,null,null,null,null,null,null,null,null,null,null,null,null,null,null,null,null,null,null,null,null,null,null,null,null,null,null,null,null,null,null,null,null,null,null,null,null,null,null,null,null,null,null,null,null,"Terrain  ",5,"","","","",0,0]
[null,null,null,null,null,null,null,null,null,null,null,null,null,null,null,null,null,null,null,null,null,null,null,null,null,null,null,null,null,null,null,null,null,null,null,null,null,null,null,null,null,null,null,null,null,null,null,null,null,null,null,null,null,null,null,null,null,null,null,null,null,null,null,null,null,null,null,null,"Terrain  ",6,"","","","",0,0]
[null,null,null,null,null,null,null,null,null,null,null,null,null,null,null,null,null,null,null,null,null,null,null,null,null,null,null,null,null,null,null,null,null,null,null,null,null,null,null,null,null,null,null,null,null,null,null,null,null,null,null,null,null,null,null,null,null,null,null,null,null,null,null,null,null,null,null,null,"Terrain  ",7,"","","","",0,0]
[null,null,null,null,null,null,null,null,null,null,null,null,null,null,null,null,null,null,null,null,null,null,null,null,null,null,null,null,null,null,null,null,null,null,null,null,null,null,null,null,null,null,null,null,null,null,null,null,null,null,null,null,null,null,null,null,null,null,null,null,null,null,null,null,null,null,null,null,"Terrain  ",8,"","","","",0,0]
[null,null,null,null,null,null,null,null,null,null,null,null,null,null,null,null,null,null,null,null,null,null,null,null,null,null,null,null,null,null,null,null,null,null,null,null,null,null,null,null,null,null,null,null,null,null,null,null,null,null,null,null,null,null,null,null,null,null,null,null,null,null,null,null,null,null,null,null,"Terrain  ",9,"","","","",0,0]
[null,null,null,null,null,null,null,null,null,null,null,null,null,null,null,null,null,null,null,null,null,null,null,null,null,null,null,null,null,null,null,null,null,null,null,null,null,null,null,null,null,null,null,null,null,null,null,null,null,null,null,null,null,null,null,null,null,null,null,null,null,null,null,null,null,null,null,null,"Terrain  ",10,"","","","",0,0]
[null,null,null,null,null,null,null,null,null,null,null,null,null,null,null,null,null,null,null,null,null,null,null,null,null,null,null,null,null,null,null,null,null,null,null,null,null,null,null,null,null,null,null,null,null,null,null,null,null,null,null,null,null,null,null,null,null,null,null,null,null,null,null,null,null,null,null,null,"Terrain  ",11,"","","","",0,0]
[null,null,null,null,null,null,null,null,null,null,null,null,null,null,null,null,null,null,null,null,null,null,null,null,null,null,null,null,null,null,null,null,null,null,null,null,null,null,null,null,null,null,null,null,null,null,null,null,null,null,null,null,null,null,null,null,null,null,null,null,null,null,null,null,null,null,null,null,"Terrain  ",12,"","","","",0,0]
[null,null,null,null,null,null,null,null,null,null,null,null,null,null,null,null,null,null,null,null,null,null,null,null,null,null,null,null,null,null,null,null,null,null,null,null,null,null,null,null,null,null,null,null,null,null,null,null,null,null,null,null,null,null,null,null,null,null,null,null,null,null,null,null,null,null,null,null,"Terrain  ",13,"","","","",0,0]
[null,null,null,null,null,null,null,null,null,null,null,null,null,null,null,null,null,null,null,null,null,null,null,null,null,null,null,null,null,null,null,null,null,null,null,null,null,null,null,null,null,null,null,null,null,null,null,null,null,null,null,null,null,null,null,null,null,null,null,null,null,null,null,null,null,null,null,null,"Terrain  ",14,"","","","",0,0]
[null,null,null,null,null,null,null,null,null,null,null,null,null,null,null,null,null,null,null,null,null,null,null,null,null,null,null,null,null,null,null,null,null,null,null,null,null,null,null,null,null,null,null,null,null,null,null,null,null,null,null,null,null,null,null,null,null,null,null,null,null,null,null,null,null,null,null,null,"Terrain  ",15,"","","","",0,0]
[null,null,null,null,null,null,null,null,null,null,null,null,null,null,null,null,null,null,null,null,null,null,null,null,null,null,null,null,null,null,null,null,null,null,null,null,null,null,null,null,null,null,null,null,null,null,null,null,null,null,null,null,null,null,null,null,null,null,null,null,null,null,null,null,null,null,null,null,"Terrain  ",16,"","","","",0,0]
[null,null,null,null,null,null,null,null,null,null,null,null,null,null,null,null,null,null,null,null,null,null,null,null,null,null,null,null,null,null,null,null,null,null,null,null,null,null,null,null,null,null,null,null,null,null,null,null,null,null,null,null,null,null,null,null,null,null,null,null,null,null,null,null,null,null,null,null,"Terrain  ",17,"","","","",0,0]
[null,null,null,null,null,null,null,null,null,null,null,null,null,null,null,null,null,null,null,null,null,null,null,null,null,null,null,null,null,null,null,null,null,null,null,null,null,null,null,null,null,null,null,null,null,null,null,null,null,null,null,null,null,null,null,null,null,null,null,null,null,null,null,null,null,null,null,null,"Terrain  ",18,"","","","",0,0]
[null,null,null,null,null,null,null,null,null,null,null,null,null,null,null,null,null,null,null,null,null,null,null,null,null,null,null,null,null,null,null,null,null,null,null,null,null,null,null,null,null,null,null,null,null,null,null,null,null,null,null,null,null,null,null,null,null,null,null,null,null,null,null,null,null,null,null,null,"Terrain  ",19,"","","","",0,0]
[null,null,null,null,null,null,null,null,null,null,null,null,null,null,null,null,null,null,null,null,null,null,null,null,null,null,null,null,null,null,null,null,null,null,null,null,null,null,null,null,null,null,null,null,null,null,null,null,null,null,null,null,null,null,null,null,null,null,null,null,null,null,null,null,null,null,null,null,"Terrain  ",20,"","","","",0,0]
[null,null,null,null,null,null,null,null,null,null,null,null,null,null,null,null,null,null,null,null,null,null,null,null,null,null,null,null,null,null,null,null,null,null,null,null,null,null,null,null,null,null,null,null,null,null,null,null,null,null,null,null,null,null,null,null,null,null,null,null,null,null,null,null,null,null,null,null,"Terrain  ",21,"","","","",0,0]
[null,null,null,null,null,null,null,null,null,null,null,null,null,null,null,null,null,null,null,null,null,null,null,null,null,null,null,null,null,null,null,null,null,null,null,null,null,null,null,null,null,null,null,null,null,null,null,null,null,null,null,null,null,null,null,null,null,null,null,null,null,null,null,null,null,null,null,null,"Terrain  ",22,"","","","",0,0]
[null,null,null,null,null,null,null,null,null,null,null,null,null,null,null,null,null,null,null,null,null,null,null,null,null,null,null,null,null,null,null,null,null,null,null,null,null,null,null,null,null,null,null,null,null,null,null,null,null,null,null,null,null,null,null,null,null,null,null,null,null,null,null,null,null,null,null,null,"Terrain  ",23,"","","","",0,0]
[null,null,null,null,null,null,null,null,null,null,null,null,null,null,null,null,null,null,null,null,null,null,null,null,null,null,null,null,null,null,null,null,null,null,null,null,null,null,null,null,null,null,null,null,null,null,null,null,null,null,null,null,null,null,null,null,null,null,null,null,null,null,null,null,null,null,null,null,"Terrain  ",24,"","","","",0,0]
[null,null,null,null,null,null,null,null,null,null,null,null,null,null,null,null,null,null,null,null,null,null,null,null,null,null,null,null,null,null,null,null,null,null,null,null,null,null,null,null,null,null,null,null,null,null,null,null,null,null,null,null,null,null,null,null,null,null,null,null,null,null,null,null,null,null,null,null,"Terrain  ",25,"","","","",0,0]
[null,null,null,null,null,null,null,null,null,null,null,null,null,null,null,null,null,null,null,null,null,null,null,null,null,null,null,null,null,null,null,null,null,null,null,null,null,null,null,null,null,null,null,null,null,null,null,null,null,null,null,null,null,null,null,null,null,null,null,null,null,null,null,null,null,null,null,null,"Terrain  ",26,"","","","",0,0]
[null,null,null,null,null,null,null,null,null,null,null,null,null,null,null,null,null,null,null,null,null,null,null,null,null,null,null,null,null,null,null,null,null,null,null,null,null,null,null,null,null,null,null,null,null,null,null,null,null,null,null,null,null,null,null,null,null,null,null,null,null,null,null,null,null,null,null,null,"Terrain  ",27,"","","","",0,0]
[null,null,null,null,null,null,null,null,null,null,null,null,null,null,null,null,null,null,null,null,null,null,null,null,null,null,null,null,null,null,null,null,null,null,null,null,null,null,null,null,null,null,null,null,null,null,null,null,null,null,null,null,null,null,null,null,null,null,null,null,null,null,null,null,null,null,null,null,"Terrain  ",28,"","","","",0,0]
[null,null,null,null,null,null,null,null,null,null,null,null,null,null,null,null,null,null,null,null,null,null,null,null,null,null,null,null,null,null,null,null,null,null,null,null,null,null,null,null,null,null,null,null,null,null,null,null,null,null,null,null,null,null,null,null,null,null,null,null,null,null,null,null,null,null,null,null,"Terrain  ",29,"","","","",0,0]
[null,null,null,null,null,null,null,null,null,null,null,null,null,null,null,null,null,null,null,null,null,null,null,null,null,null,null,null,null,null,null,null,null,null,null,null,null,null,null,null,null,null,null,null,null,null,null,null,null,null,null,null,null,null,null,null,null,null,null,null,null,null,null,null,null,null,null,null,"Terrain  ",30,"","","","",0,0]
[null,null,null,null,null,null,null,null,null,null,null,null,null,null,null,null,null,null,null,null,null,null,null,null,null,null,null,null,null,null,null,null,null,null,null,null,null,null,null,null,null,null,null,null,null,null,null,null,null,null,null,null,null,null,null,null,null,null,null,null,null,null,null,null,null,null,null,null,"Terrain  ",31,"","","","",0,0]
[null,null,null,null,null,null,null,null,null,null,null,null,null,null,null,null,null,null,null,null,null,null,null,null,null,null,null,null,null,null,null,null,null,null,null,null,null,null,null,null,null,null,null,null,null,null,null,null,null,null,null,null,null,null,null,null,null,null,null,null,null,null,null,null,null,null,null,null,"Terrain  ",32,"","","","",0,0]
[null,null,null,null,null,null,null,null,null,null,null,null,null,null,null,null,null,null,null,null,null,null,null,null,null,null,null,null,null,null,null,null,null,null,null,null,null,null,null,null,null,null,null,null,null,null,null,null,null,null,null,null,null,null,null,null,null,null,null,null,null,null,null,null,null,null,null,null,"Terrain  ",0,{"$f":"#REF!","v":{"$error":"#REF!"}},{"$f":"#REF!","v":{"$error":"#REF!"}},{"$f":"#REF!","v":{"$error":"#REF!"}},{"$f":"#REF!","v":{"$error":"#REF!"}},{"$f":"#REF!","v":{"$error":"#REF!"}},{"$f":"#REF!","v":{"$error":"#REF!"}}]
[null,null,null,null,null,null,null,null,null,null,null,null,null,null,null,null,null,null,null,null,null,null,null,null,null,null,null,null,null,null,null,null,null,null,null,null,null,null,null,null,null,null,null,null,null,null,null,null,null,null,null,null,null,null,null,null,null,null,null,null,null,null,null,null,null,null,null,null,"Terrain  ",{"$f":"#REF!","v":{"$error":"#REF!"}},0,0,0,{"$f":"AX39","v":0},0,0]
[null,null,null,null,null,null,null,null,null,null,null,null,null,null,null,null,null,null,null,null,null,null,null,null,null,null,null,null,null,null,null,null,null,null,null,null,null,null,null,null,null,null,null,null,null,null,null,null,null,null,null,null,null,null,null,null,null,null,null,null,null,null,null,null,null,null,null,null,"Terrain  ",{"$f":"#REF!","v":{"$error":"#REF!"}},0,0,0,0,0,0]
[null,null,null,null,null,null,null,null,null,null,null,null,null,null,null,null,null,null,null,null,null,null,null,null,null,null,null,null,null,null,null,null,null,null,null,null,null,null,null,null,null,null,null,null,null,null,null,null,null,null,null,null,null,null,null,null,null,null,null,null,null,null,null,null,null,null,null,null,"Terrain  ",{"$f":"#REF!","v":{"$error":"#REF!"}},0,0,0,0,0,0]
[null,null,null,null,null,null,null,null,null,null,null,null,null,null,null,null,null,null,null,null,null,null,null,null,null,null,null,null,null,null,null,null,null,null,null,null,null,null,null,null,null,null,null,null,null,null,null,null,null,null,null,null,null,null,null,null,null,null,null,null,null,null,null,null,null,null,null,null,"Terrain  ",{"$f":"#REF!","v":{"$error":"#REF!"}},0,0,0,0,0,0]
[null,null,null,null,null,null,null,null,null,null,null,null,null,null,null,null,null,null,null,null,null,null,null,null,null,null,null,null,null,null,null,null,null,null,null,null,null,null,null,null,null,null,null,null,null,null,null,null,null,null,null,null,null,null,null,null,null,null,null,null,null,null,null,null,null,null,null,null,"Terrain  ",{"$f":"#REF!","v":{"$error":"#REF!"}},0,0,0,0,0,0]
[null,null,null,null,null,null,null,null,null,null,null,null,null,null,null,null,null,null,null,null,null,null,null,null,null,null,null,null,null,null,null,null,null,null,null,null,null,null,null,null,null,null,null,null,null,null,null,null,null,null,null,null,null,null,null,null,null,null,null,null,null,null,null,null,null,null,null,null,"Terrain  ",{"$f":"#REF!","v":{"$error":"#REF!"}},0,0,0,0,0,0]
[null,null,null,null,null,null,null,null,null,null,null,null,null,null,null,null,null,null,null,null,null,null,null,null,null,null,null,null,null,null,null,null,null,null,null,null,null,null,null,null,null,null,null,null,null,null,null,null,null,null,null,null,null,null,null,null,null,null,null,null,null,null,null,null,null,null,null,null,"Terrain  ",{"$f":"#REF!","v":{"$error":"#REF!"}},0,0,0,0,0,0]
[null,null,null,null,null,null,null,null,null,null,null,null,null,null,null,null,null,null,null,null,null,null,null,null,null,null,null,null,null,null,null,null,null,null,null,null,null,null,null,null,null,null,null,null,null,null,null,null,null,null,null,null,null,null,null,null,null,null,null,null,null,null,null,null,null,null,null,null,"Terrain  ",{"$f":"#REF!","v":{"$error":"#REF!"}},0,0,0,0,0,0]
[null,null,null,null,null,null,null,null,null,null,null,null,null,null,null,null,null,null,null,null,null,null,null,null,null,null,null,null,null,null,null,null,null,null,null,null,null,null,null,null,null,null,null,null,null,null,null,null,null,null,null,null,null,null,null,null,null,null,null,null,null,null,null,null,null,null,null,null,"Terrain  ",{"$f":"#REF!","v":{"$error":"#REF!"}},0,0,0,0,0,0]
[null,null,null,null,null,null,null,null,null,null,null,null,null,null,null,null,null,null,null,null,null,null,null,null,null,null,null,null,null,null,null,null,null,null,null,null,null,null,null,null,null,null,null,null,null,null,null,null,null,null,null,null,null,null,null,null,null,null,null,null,null,null,null,null,null,null,null,null,"Terrain  ",{"$f":"#REF!","v":{"$error":"#REF!"}},0,0,0,0,0,0]
[null,null,null,null,null,null,null,null,null,null,null,null,null,null,null,null,null,null,null,null,null,null,null,null,null,null,null,null,null,null,null,null,null,null,null,null,null,null,null,null,null,null,null,null,null,null,null,null,null,null,null,null,null,null,null,null,null,null,null,null,null,null,null,null,null,null,null,null,"Terrain  ",{"$f":"#REF!","v":{"$error":"#REF!"}},0,0,0,0,0,0]
[null,null,null,null,null,null,null,null,null,null,null,null,null,null,null,null,null,null,null,null,null,null,null,null,null,null,null,null,null,null,null,null,null,null,null,null,null,null,null,null,null,null,null,null,null,null,null,null,null,null,null,null,null,null,null,null,null,null,null,null,null,null,null,null,null,null,null,null,"Terrain  ",{"$f":"#REF!","v":{"$error":"#REF!"}},0,0,0,0,0,0]
[null,null,null,null,null,null,null,null,null,null,null,null,null,null,null,null,null,null,null,null,null,null,null,null,null,null,null,null,null,null,null,null,null,null,null,null,null,null,null,null,null,null,null,null,null,null,null,null,null,null,null,null,null,null,null,null,null,null,null,null,null,null,null,null,null,null,null,null,"Terrain  ",{"$f":"#REF!","v":{"$error":"#REF!"}},{"$f":"#REF!","v":{"$error":"#REF!"}},{"$f":"#REF!","v":{"$error":"#REF!"}},{"$f":"#REF!","v":{"$error":"#REF!"}},{"$f":"#REF!","v":{"$error":"#REF!"}},{"$f":"#REF!","v":{"$error":"#REF!"}},{"$f":"#REF!","v":{"$error":"#REF!"}}]
[null,null,null,null,null,null,null,null,null,null,null,null,null,null,null,null,null,null,null,null,null,null,null,null,null,null,null,null,null,null,null,null,null,null,null,null,null,null,null,null,null,null,null,null,null,null,null,null,null,null,null,null,null,null,null,null,null,null,null,null,null,null,null,null,null,null,null,null,"Terrain  ",{"$f":"#REF!","v":{"$error":"#REF!"}},0,0,0,0,0,0]
[null,null,null,null,null,null,null,null,null,null,null,null,null,null,null,null,null,null,null,null,null,null,null,null,null,null,null,null,null,null,null,null,null,null,null,null,null,null,null,null,null,null,null,null,null,null,null,null,null,null,null,null,null,null,null,null,null,null,null,null,null,null,null,null,null,null,null,null,"Terrain  ",{"$f":"#REF!","v":{"$error":"#REF!"}},0,0,0,0,0,0]
[null,null,null,null,null,null,null,null,null,null,null,null,null,null,null,null,null,null,null,null,null,null,null,null,null,null,null,null,null,null,null,null,null,null,null,null,null,null,null,null,null,null,null,null,null,null,null,null,null,null,null,null,null,null,null,null,null,null,null,null,null,null,null,null,null,null,null,null,"Terrain  ",0,0,0,0,0,0,0]
[null,null,null,null,null,null,null,null,null,null,null,null,null,null,null,null,null,null,null,null,null,null,null,null,null,null,null,null,null,null,null,null,null,null,null,null,null,null,null,null,null,null,null,null,null,null,null,null,null,null,null,null,null,null,null,null,null,null,null,null,null,null,null,null,null,null,null,null,"Terrain  ",0,0,0,0,0,0,0]
[null,null,null,null,null,null,null,null,null,null,null,null,null,null,null,null,null,null,null,null,null,null,null,null,null,null,null,null,null,null,null,null,null,null,null,null,null,null,null,null,null,null,null,null,null,null,null,null,null,null,null,null,null,null,null,null,null,null,null,null,null,null,null,null,null,null,null,null,"Terrain  ",0,0,0,0,0,0,0]
[null,null,null,null,null,null,null,null,null,null,null,null,null,null,null,null,null,null,null,null,null,null,null,null,null,null,null,null,null,null,null,null,null,null,null,null,null,null,null,null,null,null,null,null,null,null,null,null,null,null,null,null,null,null,null,null,null,null,null,null,null,null,null,null,null,null,null,null,"Terrain  ",0,0,0,0,0,0,0]
[null,null,null,null,null,null,null,null,null,null,null,null,null,null,null,null,null,null,null,null,null,null,null,null,null,null,null,null,null,null,null,null,null,null,null,null,null,null,null,null,null,null,null,null,null,null,null,null,null,null,null,null,null,null,null,null,null,null,null,null,null,null,null,null,null,null,null,null,"Terrain  ",0,0,0,0,0,0,0]
[null,null,null,null,null,null,null,null,null,null,null,null,null,null,null,null,null,null,null,null,null,null,null,null,null,null,null,null,null,null,null,null,null,null,null,null,null,null,null,null,null,null,null,null,null,null,null,null,null,null,null,null,null,null,null,null,null,null,null,null,null,null,null,null,null,null,null,null,"Terrain  ",0,0,0,0,0,0,0]
[null,null,null,null,null,null,null,null,null,null,null,null,null,null,null,null,null,null,null,null,null,null,null,null,null,null,null,null,null,null,null,null,null,null,null,null,null,null,null,null,null,null,null,null,null,null,null,null,null,null,null,null,null,null,null,null,null,null,null,null,null,null,null,null,null,null,null,null,"Terrain  ",0,0,0,0,0,0,0]
[null,null,null,null,null,null,null,null,null,null,null,null,null,null,null,null,null,null,null,null,null,null,null,null,null,null,null,null,null,null,null,null,null,null,null,null,null,null,null,null,null,null,null,null,null,null,null,null,null,null,null,null,null,null,null,null,null,null,null,null,null,null,null,null,null,null,null,null,"Terrain  ",0,0,0,0,0,0,0]
[null,null,null,null,null,null,null,null,null,null,null,null,null,null,null,null,null,null,null,null,null,null,null,null,null,null,null,null,null,null,null,null,null,null,null,null,null,null,null,null,null,null,null,null,null,null,null,null,null,null,null,null,null,null,null,null,null,null,null,null,null,null,null,null,null,null,null,null,"Terrain  ",0,0,0,0,0,0,0]
[null,null,null,null,null,null,null,null,null,null,null,null,null,null,null,null,null,null,null,null,null,null,null,null,null,null,null,null,null,null,null,null,null,null,null,null,null,null,null,null,null,null,null,null,null,null,null,null,null,null,null,null,null,null,null,null,null,null,null,null,null,null,null,null,null,null,null,null,"Terrain  ",0,0,0,0,0,0,0]
[null,null,null,null,null,null,null,null,null,null,null,null,null,null,null,null,null,null,null,null,null,null,null,null,null,null,null,null,null,null,null,null,null,null,null,null,null,null,null,null,null,null,null,null,null,null,null,null,null,null,null,null,null,null,null,null,null,null,null,null,null,null,null,null,null,null,null,null,"Terrain  ",0,0,0,0,0,0,0]
[null,null,null,null,null,null,null,null,null,null,null,null,null,null,null,null,null,null,null,null,null,null,null,null,null,null,null,null,null,null,null,null,null,null,null,null,null,null,null,null,null,null,null,null,null,null,null,null,null,null,null,null,null,null,null,null,null,null,null,null,null,null,null,null,null,null,null,null,"Terrain  ",0,0,0,0,0,0,0]
[null,null,null,null,null,null,null,null,null,null,null,null,null,null,null,null,null,null,null,null,null,null,null,null,null,null,null,null,null,null,null,null,null,null,null,null,null,null,null,null,null,null,null,null,null,null,null,null,null,null,null,null,null,null,null,null,null,null,null,null,null,null,null,null,null,null,null,null,"Terrain  ",0,0,0,0,0,0,0]
[null,null,null,null,null,null,null,null,null,null,null,null,null,null,null,null,null,null,null,null,null,null,null,null,null,null,null,null,null,null,null,null,null,null,null,null,null,null,null,null,null,null,null,null,null,null,null,null,null,null,null,null,null,null,null,null,null,null,null,null,null,null,null,null,null,null,null,null,"Terrain  ",0,0,0,0,0,0,0]
[null,null,null,null,null,null,null,null,null,null,null,null,null,null,null,null,null,null,null,null,null,null,null,null,null,null,null,null,null,null,null,null,null,null,null,null,null,null,null,null,null,null,null,null,null,null,null,null,null,null,null,null,null,null,null,null,null,null,null,null,null,null,null,null,null,null,null,null,"Terrain  ",0,0,0,0,0,0,0]
[null,null,null,null,null,null,null,null,null,null,null,null,null,null,null,null,null,null,null,null,null,null,null,null,null,null,null,null,null,null,null,null,null,null,null,null,null,null,null,null,null,null,null,null,null,null,null,null,null,null,null,null,null,null,null,null,null,null,null,null,null,null,null,null,null,null,null,null,"Terrain  ",0,0,0,0,0,0,0]
[]
[]
[null,null,null,null,null,null,null,null,null,null,null,null,null,null,null,null,null,null,null,null,null,null,null,null,null,null,null,null,null,null,null,null,null,null,null,null,null,null,null,null,null,null,null,null,null,null,null,null,null,null,null,null,null,null,null,null,null,null,null,null,null,null,null,null,null,null,null,null,null,null,"6 è tour",null,null,null,"Resultat"]
[null,null,null,null,null,null,null,null,null,null,null,null,null,null,null,null,null,null,null,null,null,null,null,null,null,null,null,null,null,null,null,null,null,null,null,null,null,null,null,null,null,null,null,null,null,null,null,null,null,null,null,null,null,null,null,null,null,null,null,null,null,null,null,null,null,null,null,null,"Terrain  ",{"$f":"B6","v":1},{"$f":"BB6","v":""},{"$f":"BD6","v":""},{"$f":"BF6","v":""},{"$f":"BH6","v":""},0,0]
[null,null,null,null,null,null,null,null,null,null,null,null,null,null,null,null,null,null,null,null,null,null,null,null,null,null,null,null,null,null,null,null,null,null,null,null,null,null,null,null,null,null,null,null,null,null,null,null,null,null,null,null,null,null,null,null,null,null,null,null,null,null,null,null,null,null,null,null,"Terrain  ",2,"","","","",0,0]
[null,null,null,null,null,null,null,null,null,null,null,null,null,null,null,null,null,null,null,null,null,null,null,null,null,null,null,null,null,null,null,null,null,null,null,null,null,null,null,null,null,null,null,null,null,null,null,null,null,null,null,null,null,null,null,null,null,null,null,null,null,null,null,null,null,null,null,null,"Terrain  ",3,"","","","",0,0]
[null,null,null,null,null,null,null,null,null,null,null,null,null,null,null,null,null,null,null,null,null,null,null,null,null,null,null,null,null,null,null,null,null,null,null,null,null,null,null,null,null,null,null,null,null,null,null,null,null,null,null,null,null,null,null,null,null,null,null,null,null,null,null,null,null,null,null,null,"Terrain  ",4,"","","","",0,0]
[null,null,null,null,null,null,null,null,null,null,null,null,null,null,null,null,null,null,null,null,null,null,null,null,null,null,null,null,null,null,null,null,null,null,null,null,null,null,null,null,null,null,null,null,null,null,null,null,null,null,null,null,null,null,null,null,null,null,null,null,null,null,null,null,null,null,null,null,"Terrain  ",5,"","","","",0,0]
[null,null,null,null,null,null,null,null,null,null,null,null,null,null,null,null,null,null,null,null,null,null,null,null,null,null,null,null,null,null,null,null,null,null,null,null,null,null,null,null,null,null,null,null,null,null,null,null,null,null,null,null,null,null,null,null,null,null,null,null,null,null,null,null,null,null,null,null,"Terrain  ",6,"","","","",0,0]
[null,null,null,null,null,null,null,null,null,null,null,null,null,null,null,null,null,null,null,null,null,null,null,null,null,null,null,null,null,null,null,null,null,null,null,null,null,null,null,null,null,null,null,null,null,null,null,null,null,null,null,null,null,null,null,null,null,null,null,null,null,null,null,null,null,null,null,null,"Terrain  ",7,"","","","",0,0]
[null,null,null,null,null,null,null,null,null,null,null,null,null,null,null,null,null,null,null,null,null,null,null,null,null,null,null,null,null,null,null,null,null,null,null,null,null,null,null,null,null,null,null,null,null,null,null,null,null,null,null,null,null,null,null,null,null,null,null,null,null,null,null,null,null,null,null,null,"Terrain  ",8,"","","","",0,0]
[null,null,null,null,null,null,null,null,null,null,null,null,null,null,null,null,null,null,null,null,null,null,null,null,null,null,null,null,null,null,null,null,null,null,null,null,null,null,null,null,null,null,null,null,null,null,null,null,null,null,null,null,null,null,null,null,null,null,null,null,null,null,null,null,null,null,null,null,"Terrain  ",9,"","","","",0,0]
[null,null,null,null,null,null,null,null,null,null,null,null,null,null,null,null,null,null,null,null,null,null,null,null,null,null,null,null,null,null,null,null,null,null,null,null,null,null,null,null,null,null,null,null,null,null,null,null,null,null,null,null,null,null,null,null,null,null,null,null,null,null,null,null,null,null,null,null,"Terrain  ",10,"","","","",0,0]
[null,null,null,null,null,null,null,null,null,null,null,null,null,null,null,null,null,null,null,null,null,null,null,null,null,null,null,null,null,null,null,null,null,null,null,null,null,null,null,null,null,null,null,null,null,null,null,null,null,null,null,null,null,null,null,null,null,null,null,null,null,null,null,null,null,null,null,null,"Terrain  ",11,"","","","",0,0]
[null,null,null,null,null,null,null,null,null,null,null,null,null,null,null,null,null,null,null,null,null,null,null,null,null,null,null,null,null,null,null,null,null,null,null,null,null,null,null,null,null,null,null,null,null,null,null,null,null,null,null,null,null,null,null,null,null,null,null,null,null,null,null,null,null,null,null,null,"Terrain  ",12,"","","","",0,0]
[null,null,null,null,null,null,null,null,null,null,null,null,null,null,null,null,null,null,null,null,null,null,null,null,null,null,null,null,null,null,null,null,null,null,null,null,null,null,null,null,null,null,null,null,null,null,null,null,null,null,null,null,null,null,null,null,null,null,null,null,null,null,null,null,null,null,null,null,"Terrain  ",13,"","","","",0,0]
[null,null,null,null,null,null,null,null,null,null,null,null,null,null,null,null,null,null,null,null,null,null,null,null,null,null,null,null,null,null,null,null,null,null,null,null,null,null,null,null,null,null,null,null,null,null,null,null,null,null,null,null,null,null,null,null,null,null,null,null,null,null,null,null,null,null,null,null,"Terrain  ",14,"","","","",0,0]
[null,null,null,null,null,null,null,null,null,null,null,null,null,null,null,null,null,null,null,null,null,null,null,null,null,null,null,null,null,null,null,null,null,null,null,null,null,null,null,null,null,null,null,null,null,null,null,null,null,null,null,null,null,null,null,null,null,null,null,null,null,null,null,null,null,null,null,null,"Terrain  ",15,"","","","",0,0]
[null,null,null,null,null,null,null,null,null,null,null,null,null,null,null,null,null,null,null,null,null,null,null,null,null,null,null,null,null,null,null,null,null,null,null,null,null,null,null,null,null,null,null,null,null,null,null,null,null,null,null,null,null,null,null,null,null,null,null,null,null,null,null,null,null,null,null,null,"Terrain  ",16,"","","","",0,0]
[null,null,null,null,null,null,null,null,null,null,null,null,null,null,null,null,null,null,null,null,null,null,null,null,null,null,null,null,null,null,null,null,null,null,null,null,null,null,null,null,null,null,null,null,null,null,null,null,null,null,null,null,null,null,null,null,null,null,null,null,null,null,null,null,null,null,null,null,"Terrain  ",17,"","","","",0,0]
[null,null,null,null,null,null,null,null,null,null,null,null,null,null,null,null,null,null,null,null,null,null,null,null,null,null,null,null,null,null,null,null,null,null,null,null,null,null,null,null,null,null,null,null,null,null,null,null,null,null,null,null,null,null,null,null,null,null,null,null,null,null,null,null,null,null,null,null,"Terrain  ",18,"","","","",0,0]
[null,null,null,null,null,null,null,null,null,null,null,null,null,null,null,null,null,null,null,null,null,null,null,null,null,null,null,null,null,null,null,null,null,null,null,null,null,null,null,null,null,null,null,null,null,null,null,null,null,null,null,null,null,null,null,null,null,null,null,null,null,null,null,null,null,null,null,null,"Terrain  ",19,"","","","",0,0]
[null,null,null,null,null,null,null,null,null,null,null,null,null,null,null,null,null,null,null,null,null,null,null,null,null,null,null,null,null,null,null,null,null,null,null,null,null,null,null,null,null,null,null,null,null,null,null,null,null,null,null,null,null,null,null,null,null,null,null,null,null,null,null,null,null,null,null,null,"Terrain  ",20,"","","","",0,0]
[null,null,null,null,null,null,null,null,null,null,null,null,null,null,null,null,null,null,null,null,null,null,null,null,null,null,null,null,null,null,null,null,null,null,null,null,null,null,null,null,null,null,null,null,null,null,null,null,null,null,null,null,null,null,null,null,null,null,null,null,null,null,null,null,null,null,null,null,"Terrain  ",21,"","","","",0,0]
[null,null,null,null,null,null,null,null,null,null,null,null,null,null,null,null,null,null,null,null,null,null,null,null,null,null,null,null,null,null,null,null,null,null,null,null,null,null,null,null,null,null,null,null,null,null,null,null,null,null,null,null,null,null,null,null,null,null,null,null,null,null,null,null,null,null,null,null,"Terrain  ",22,"","","","",0,0]
[null,null,null,null,null,null,null,null,null,null,null,null,null,null,null,null,null,null,null,null,null,null,null,null,null,null,null,null,null,null,null,null,null,null,null,null,null,null,null,null,null,null,null,null,null,null,null,null,null,null,null,null,null,null,null,null,null,null,null,null,null,null,null,null,null,null,null,null,"Terrain  ",23,"","","","",0,0]
[null,null,null,null,null,null,null,null,null,null,null,null,null,null,null,null,null,null,null,null,null,null,null,null,null,null,null,null,null,null,null,null,null,null,null,null,null,null,null,null,null,null,null,null,null,null,null,null,null,null,null,null,null,null,null,null,null,null,null,null,null,null,null,null,null,null,null,null,"Terrain  ",24,"","","","",0,0]
[null,null,null,null,null,null,null,null,null,null,null,null,null,null,null,null,null,null,null,null,null,null,null,null,null,null,null,null,null,null,null,null,null,null,null,null,null,null,null,null,null,null,null,null,null,null,null,null,null,null,null,null,null,null,null,null,null,null,null,null,null,null,null,null,null,null,null,null,"Terrain  ",25,"","","","",0,0]
[null,null,null,null,null,null,null,null,null,null,null,null,null,null,null,null,null,null,null,null,null,null,null,null,null,null,null,null,null,null,null,null,null,null,null,null,null,null,null,null,null,null,null,null,null,null,null,null,null,null,null,null,null,null,null,null,null,null,null,null,null,null,null,null,null,null,null,null,"Terrain  ",26,"","","","",0,0]
[null,null,null,null,null,null,null,null,null,null,null,null,null,null,null,null,null,null,null,null,null,null,null,null,null,null,null,null,null,null,null,null,null,null,null,null,null,null,null,null,null,null,null,null,null,null,null,null,null,null,null,null,null,null,null,null,null,null,null,null,null,null,null,null,null,null,null,null,"Terrain  ",27,"","","","",0,0]
[null,null,null,null,null,null,null,null,null,null,null,null,null,null,null,null,null,null,null,null,null,null,null,null,null,null,null,null,null,null,null,null,null,null,null,null,null,null,null,null,null,null,null,null,null,null,null,null,null,null,null,null,null,null,null,null,null,null,null,null,null,null,null,null,null,null,null,null,"Terrain  ",28,"","","","",0,0]
[null,null,null,null,null,null,null,null,null,null,null,null,null,null,null,null,null,null,null,null,null,null,null,null,null,null,null,null,null,null,null,null,null,null,null,null,null,null,null,null,null,null,null,null,null,null,null,null,null,null,null,null,null,null,null,null,null,null,null,null,null,null,null,null,null,null,null,null,"Terrain  ",29,"","","","",0,0]
[null,null,null,null,null,null,null,null,null,null,null,null,null,null,null,null,null,null,null,null,null,null,null,null,null,null,null,null,null,null,null,null,null,null,null,null,null,null,null,null,null,null,null,null,null,null,null,null,null,null,null,null,null,null,null,null,null,null,null,null,null,null,null,null,null,null,null,null,"Terrain  ",30,"","","","",0,0]
[null,null,null,null,null,null,null,null,null,null,null,null,null,null,null,null,null,null,null,null,null,null,null,null,null,null,null,null,null,null,null,null,null,null,null,null,null,null,null,null,null,null,null,null,null,null,null,null,null,null,null,null,null,null,null,null,null,null,null,null,null,null,null,null,null,null,null,null,"Terrain  ",31,"","","","",0,0]
[null,null,null,null,null,null,null,null,null,null,null,null,null,null,null,null,null,null,null,null,null,null,null,null,null,null,null,null,null,null,null,null,null,null,null,null,null,null,null,null,null,null,null,null,null,null,null,null,null,null,null,null,null,null,null,null,null,null,null,null,null,null,null,null,null,null,null,null,"Terrain  ",32,"","","","",0,0]
[null,null,null,null,null,null,null,null,null,null,null,null,null,null,null,null,null,null,null,null,null,null,null,null,null,null,null,null,null,null,null,null,null,null,null,null,null,null,null,null,null,null,null,null,null,null,null,null,null,null,null,null,null,null,null,null,null,null,null,null,null,null,null,null,null,null,null,null,"Terrain  ",0,{"$f":"#REF!","v":{"$error":"#REF!"}},{"$f":"#REF!","v":{"$error":"#REF!"}},{"$f":"#REF!","v":{"$error":"#REF!"}},{"$f":"#REF!","v":{"$error":"#REF!"}},{"$f":"#REF!","v":{"$error":"#REF!"}},{"$f":"#REF!","v":{"$error":"#REF!"}}]
[null,null,null,null,null,null,null,null,null,null,null,null,null,null,null,null,null,null,null,null,null,null,null,null,null,null,null,null,null,null,null,null,null,null,null,null,null,null,null,null,null,null,null,null,null,null,null,null,null,null,null,null,null,null,null,null,null,null,null,null,null,null,null,null,null,null,null,null,"Terrain  ",{"$f":"#REF!","v":{"$error":"#REF!"}},0,0,0,{"$f":"BH39","v":0},0,0]
[null,null,null,null,null,null,null,null,null,null,null,null,null,null,null,null,null,null,null,null,null,null,null,null,null,null,null,null,null,null,null,null,null,null,null,null,null,null,null,null,null,null,null,null,null,null,null,null,null,null,null,null,null,null,null,null,null,null,null,null,null,null,null,null,null,null,null,null,"Terrain  ",{"$f":"#REF!","v":{"$error":"#REF!"}},0,0,0,0,0,0]
[null,null,null,null,null,null,null,null,null,null,null,null,null,null,null,null,null,null,null,null,null,null,null,null,null,null,null,null,null,null,null,null,null,null,null,null,null,null,null,null,null,null,null,null,null,null,null,null,null,null,null,null,null,null,null,null,null,null,null,null,null,null,null,null,null,null,null,null,"Terrain  ",{"$f":"#REF!","v":{"$error":"#REF!"}},0,0,0,0,0,0]
[null,null,null,null,null,null,null,null,null,null,null,null,null,null,null,null,null,null,null,null,null,null,null,null,null,null,null,null,null,null,null,null,null,null,null,null,null,null,null,null,null,null,null,null,null,null,null,null,null,null,null,null,null,null,null,null,null,null,null,null,null,null,null,null,null,null,null,null,"Terrain  ",{"$f":"#REF!","v":{"$error":"#REF!"}},0,0,0,0,0,0]
[null,null,null,null,null,null,null,null,null,null,null,null,null,null,null,null,null,null,null,null,null,null,null,null,null,null,null,null,null,null,null,null,null,null,null,null,null,null,null,null,null,null,null,null,null,null,null,null,null,null,null,null,null,null,null,null,null,null,null,null,null,null,null,null,null,null,null,null,"Terrain  ",{"$f":"#REF!","v":{"$error":"#REF!"}},0,0,0,0,0,0]
[null,null,null,null,null,null,null,null,null,null,null,null,null,null,null,null,null,null,null,null,null,null,null,null,null,null,null,null,null,null,null,null,null,null,null,null,null,null,null,null,null,null,null,null,null,null,null,null,null,null,null,null,null,null,null,null,null,null,null,null,null,null,null,null,null,null,null,null,"Terrain  ",{"$f":"#REF!","v":{"$error":"#REF!"}},0,0,0,0,0,0]
[null,null,null,null,null,null,null,null,null,null,null,null,null,null,null,null,null,null,null,null,null,null,null,null,null,null,null,null,null,null,null,null,null,null,null,null,null,null,null,null,null,null,null,null,null,null,null,null,null,null,null,null,null,null,null,null,null,null,null,null,null,null,null,null,null,null,null,null,"Terrain  ",{"$f":"#REF!","v":{"$error":"#REF!"}},0,0,0,0,0,0]
[null,null,null,null,null,null,null,null,null,null,null,null,null,null,null,null,null,null,null,null,null,null,null,null,null,null,null,null,null,null,null,null,null,null,null,null,null,null,null,null,null,null,null,null,null,null,null,null,null,null,null,null,null,null,null,null,null,null,null,null,null,null,null,null,null,null,null,null,"Terrain  ",{"$f":"#REF!","v":{"$error":"#REF!"}},0,0,0,0,0,0]
[null,null,null,null,null,null,null,null,null,null,null,null,null,null,null,null,null,null,null,null,null,null,null,null,null,null,null,null,null,null,null,null,null,null,null,null,null,null,null,null,null,null,null,null,null,null,null,null,null,null,null,null,null,null,null,null,null,null,null,null,null,null,null,null,null,null,null,null,"Terrain  ",{"$f":"#REF!","v":{"$error":"#REF!"}},0,0,0,0,0,0]
[null,null,null,null,null,null,null,null,null,null,null,null,null,null,null,null,null,null,null,null,null,null,null,null,null,null,null,null,null,null,null,null,null,null,null,null,null,null,null,null,null,null,null,null,null,null,null,null,null,null,null,null,null,null,null,null,null,null,null,null,null,null,null,null,null,null,null,null,"Terrain  ",{"$f":"#REF!","v":{"$error":"#REF!"}},0,0,0,0,0,0]
[null,null,null,null,null,null,null,null,null,null,null,null,null,null,null,null,null,null,null,null,null,null,null,null,null,null,null,null,null,null,null,null,null,null,null,null,null,null,null,null,null,null,null,null,null,null,null,null,null,null,null,null,null,null,null,null,null,null,null,null,null,null,null,null,null,null,null,null,"Terrain  ",{"$f":"#REF!","v":{"$error":"#REF!"}},0,0,0,0,0,0]
[null,null,null,null,null,null,null,null,null,null,null,null,null,null,null,null,null,null,null,null,null,null,null,null,null,null,null,null,null,null,null,null,null,null,null,null,null,null,null,null,null,null,null,null,null,null,null,null,null,null,null,null,null,null,null,null,null,null,null,null,null,null,null,null,null,null,null,null,"Terrain  ",{"$f":"#REF!","v":{"$error":"#REF!"}},0,0,0,0,0,0]
[null,null,null,null,null,null,null,null,null,null,null,null,null,null,null,null,null,null,null,null,null,null,null,null,null,null,null,null,null,null,null,null,null,null,null,null,null,null,null,null,null,null,null,null,null,null,null,null,null,null,null,null,null,null,null,null,null,null,null,null,null,null,null,null,null,null,null,null,"Terrain  ",{"$f":"#REF!","v":{"$error":"#REF!"}},{"$f":"#REF!","v":{"$error":"#REF!"}},{"$f":"#REF!","v":{"$error":"#REF!"}},{"$f":"#REF!","v":{"$error":"#REF!"}},{"$f":"#REF!","v":{"$error":"#REF!"}},{"$f":"#REF!","v":{"$error":"#REF!"}},{"$f":"#REF!","v":{"$error":"#REF!"}}]
[null,null,null,null,null,null,null,null,null,null,null,null,null,null,null,null,null,null,null,null,null,null,null,null,null,null,null,null,null,null,null,null,null,null,null,null,null,null,null,null,null,null,null,null,null,null,null,null,null,null,null,null,null,null,null,null,null,null,null,null,null,null,null,null,null,null,null,null,"Terrain  ",{"$f":"#REF!","v":{"$error":"#REF!"}},0,0,0,0,0,0]
[null,null,null,null,null,null,null,null,null,null,null,null,null,null,null,null,null,null,null,null,null,null,null,null,null,null,null,null,null,null,null,null,null,null,null,null,null,null,null,null,null,null,null,null,null,null,null,null,null,null,null,null,null,null,null,null,null,null,null,null,null,null,null,null,null,null,null,null,"Terrain  ",{"$f":"#REF!","v":{"$error":"#REF!"}},0,0,0,0,0,0]
[null,null,null,null,null,null,null,null,null,null,null,null,null,null,null,null,null,null,null,null,null,null,null,null,null,null,null,null,null,null,null,null,null,null,null,null,null,null,null,null,null,null,null,null,null,null,null,null,null,null,null,null,null,null,null,null,null,null,null,null,null,null,null,null,null,null,null,null,"Terrain  ",0,0,0,0,0,0,0]
[null,null,null,null,null,null,null,null,null,null,null,null,null,null,null,null,null,null,null,null,null,null,null,null,null,null,null,null,null,null,null,null,null,null,null,null,null,null,null,null,null,null,null,null,null,null,null,null,null,null,null,null,null,null,null,null,null,null,null,null,null,null,null,null,null,null,null,null,"Terrain  ",0,0,0,0,0,0,0]
[null,null,null,null,null,null,null,null,null,null,null,null,null,null,null,null,null,null,null,null,null,null,null,null,null,null,null,null,null,null,null,null,null,null,null,null,null,null,null,null,null,null,null,null,null,null,null,null,null,null,null,null,null,null,null,null,null,null,null,null,null,null,null,null,null,null,null,null,"Terrain  ",0,0,0,0,0,0,0]
[null,null,null,null,null,null,null,null,null,null,null,null,null,null,null,null,null,null,null,null,null,null,null,null,null,null,null,null,null,null,null,null,null,null,null,null,null,null,null,null,null,null,null,null,null,null,null,null,null,null,null,null,null,null,null,null,null,null,null,null,null,null,null,null,null,null,null,null,"Terrain  ",0,0,0,0,0,0,0]
[null,null,null,null,null,null,null,null,null,null,null,null,null,null,null,null,null,null,null,null,null,null,null,null,null,null,null,null,null,null,null,null,null,null,null,null,null,null,null,null,null,null,null,null,null,null,null,null,null,null,null,null,null,null,null,null,null,null,null,null,null,null,null,null,null,null,null,null,"Terrain  ",0,0,0,0,0,0,0]
[null,null,null,null,null,null,null,null,null,null,null,null,null,null,null,null,null,null,null,null,null,null,null,null,null,null,null,null,null,null,null,null,null,null,null,null,null,null,null,null,null,null,null,null,null,null,null,null,null,null,null,null,null,null,null,null,null,null,null,null,null,null,null,null,null,null,null,null,"Terrain  ",0,0,0,0,0,0,0]
[null,null,null,null,null,null,null,null,null,null,null,null,null,null,null,null,null,null,null,null,null,null,null,null,null,null,null,null,null,null,null,null,null,null,null,null,null,null,null,null,null,null,null,null,null,null,null,null,null,null,null,null,null,null,null,null,null,null,null,null,null,null,null,null,null,null,null,null,"Terrain  ",0,0,0,0,0,0,0]
[null,null,null,null,null,null,null,null,null,null,null,null,null,null,null,null,null,null,null,null,null,null,null,null,null,null,null,null,null,null,null,null,null,null,null,null,null,null,null,null,null,null,null,null,null,null,null,null,null,null,null,null,null,null,null,null,null,null,null,null,null,null,null,null,null,null,null,null,"Terrain  ",0,0,0,0,0,0,0]
[null,null,null,null,null,null,null,null,null,null,null,null,null,null,null,null,null,null,null,null,null,null,null,null,null,null,null,null,null,null,null,null,null,null,null,null,null,null,null,null,null,null,null,null,null,null,null,null,null,null,null,null,null,null,null,null,null,null,null,null,null,null,null,null,null,null,null,null,"Terrain  ",0,0,0,0,0,0,0]
[null,null,null,null,null,null,null,null,null,null,null,null,null,null,null,null,null,null,null,null,null,null,null,null,null,null,null,null,null,null,null,null,null,null,null,null,null,null,null,null,null,null,null,null,null,null,null,null,null,null,null,null,null,null,null,null,null,null,null,null,null,null,null,null,null,null,null,null,"Terrain  ",0,0,0,0,0,0,0]
[null,null,null,null,null,null,null,null,null,null,null,null,null,null,null,null,null,null,null,null,null,null,null,null,null,null,null,null,null,null,null,null,null,null,null,null,null,null,null,null,null,null,null,null,null,null,null,null,null,null,null,null,null,null,null,null,null,null,null,null,null,null,null,null,null,null,null,null,"Terrain  ",0,0,0,0,0,0,0]
[null,null,null,null,null,null,null,null,null,null,null,null,null,null,null,null,null,null,null,null,null,null,null,null,null,null,null,null,null,null,null,null,null,null,null,null,null,null,null,null,null,null,null,null,null,null,null,null,null,null,null,null,null,null,null,null,null,null,null,null,null,null,null,null,null,null,null,null,"Terrain  ",0,0,0,0,0,0,0]
[null,null,null,null,null,null,null,null,null,null,null,null,null,null,null,null,null,null,null,null,null,null,null,null,null,null,null,null,null,null,null,null,null,null,null,null,null,null,null,null,null,null,null,null,null,null,null,null,null,null,null,null,null,null,null,null,null,null,null,null,null,null,null,null,null,null,null,null,"Terrain  ",0,0,0,0,0,0,0]
[null,null,null,null,null,null,null,null,null,null,null,null,null,null,null,null,null,null,null,null,null,null,null,null,null,null,null,null,null,null,null,null,null,null,null,null,null,null,null,null,null,null,null,null,null,null,null,null,null,null,null,null,null,null,null,null,null,null,null,null,null,null,null,null,null,null,null,null,"Terrain  ",0,0,0,0,0,0,0]
[null,null,null,null,null,null,null,null,null,null,null,null,null,null,null,null,null,null,null,null,null,null,null,null,null,null,null,null,null,null,null,null,null,null,null,null,null,null,null,null,null,null,null,null,null,null,null,null,null,null,null,null,null,null,null,null,null,null,null,null,null,null,null,null,null,null,null,null,"Terrain  ",0,0,0,0,0,0,0]
[null,null,null,null,null,null,null,null,null,null,null,null,null,null,null,null,null,null,null,null,null,null,null,null,null,null,null,null,null,null,null,null,null,null,null,null,null,null,null,null,null,null,null,null,null,null,null,null,null,null,null,null,null,null,null,null,null,null,null,null,null,null,null,null,null,null,null,null,"Terrain  ",0,0,0,0,0,0,0]

{"sheet":"66_128 eq","index":6,"n_rows":405,"n_cols":76,"rows_kept":405,"cut":false,"hidden":false,"merged":[[340,70,340,73],[340,74,340,75],[4,32,4,41],[4,42,4,51],[4,52,4,61],[72,70,72,73],[72,74,72,75],[139,70,139,73],[139,74,139,75],[206,70,206,73],[206,74,206,75],[273,70,273,73],[4,2,4,11],[100,10,100,11],[101,10,101,11],[273,74,273,75],[102,10,102,11],[70,10,70,11],[71,10,71,11],[72,10,72,11],[4,12,4,21],[4,22,4,31],[5,70,5,73],[5,74,5,75]]}
[null,null,null,0,null,null,null,null,null,null,null,null,null,null,null,null,null,null,null,null,null,null,null,null,null,null,null,null,null,null,null,null,null,null,null,null,null,null,null,null,null,null,null,null,null,null,null,null,null,null,null,null,null,null,null,null,null,null,null,null,null,null,null,{"$f":"resultat!AI2","v":128},{"$f":"resultat!AL1","v":1},{"$f":"resultat!AM1","v":"Julot"}]
[null,null,null,null,null,null,null,null,null,null,null,null,null,null,null,null,null,null,null,null,null,null,null,null,null,null,null,null,null,null,null,null,null,null,null,null,null,null,null,null,null,null,null,null,null,null,null,null,null,null,null,null,null,null,null,null,null,null,null,null,null,null,null,2,{"$f":"resultat!AL2","v":2},{"$f":"resultat!AM2","v":"Francis"}]
[null,null,null,null,null,null,null,null,null,null,null,null,null,null,null,null,null,null,null,null,null,null,null,null,null,null,null,null,null,null,null,null,null,null,null,null,null,null,null,null,null,null,null,null,null,null,null,null,null,null,null,null,null,null,null,null,null,null,null,null,null,null,null,{"$f":"BL1/BL2","v":64},{"$f":"resultat!AL3","v":3},{"$f":"resultat!AM3","v":"marco"}]
[null,null,null,null,null,null,null,null,null,null,null,null,null,null,null,null,null,null,null,null,null,null,null,null,null,null,null,null,null,null,null,null,null,null,null,null,null,null,null,null,null,null,null,null,null,null,null,null,null,null,null,null,null,null,null,null,null,null,null,null,null,null,null,null,{"$f":"resultat!AL4","v":4},{"$f":"resultat!AM4","v":"Denise"}]
["2017-09-11",42989.857708333337,"                                                 1er tour                                                   résultat",null,null,null,null,null,null,null,null,null,"                                                2è tour                                                       résultat",null,null,null,null,null,null,null,null,null,"                                                3 è tour                                                      résultat",null,null,null,null,null,null,null,null,null,"                                             4è tour                                                         résultat",null,null,null,null,null,null,null,null,null,"                                                 5 è tour                                                      résultat",null,null,null,null,null,null,null,null,null,"                                                 6 è tour                                                  résultat",null,null,null,null,null,null,null,null,null,null,99,{"$f":"resultat!AL5","v":5},{"$f":"resultat!AM5","v":"yvon"}]
["Terrain",1,null,{"$f":"IF((F101)=1,$BM$1,\"\")&IF((F101)=2,$BM$2,\"\")&IF((F101)=3,$BM$3,\"\")&IF((F101)=4,$BM$4,\"\")&IF((F101)=5,$BM$5,\"\")&IF((F101)=6,$BM$6,\"\")&IF((F101)=7,$BM$7,\"\")&IF((F101)=8,$BM$8,\"\")&IF((F101)=9,$BM$9,\"\")&IF((F101)=10,$BM$10,\"\")&IF((F101)=11,$BM$11,\"\")&IF((F101)=12,$BM$12,\"\")&IF((F101)=13,$BM$13,\"\")&IF((F101)=14,$BM$14,\"\")&IF((F101)=15,$BM$15,\"\")&IF((F101)=16,$BM$16,\"\")&IF((F101)=17,$BM$17,\"\")&IF((F101)=18,$BM$18,\"\")&IF((F101)=19,$BM$19,\"\")&IF((F101)=20,$BM$20,\"\")&IF((F101)=21,$BM$21,\"\")&IF((F101)=22,$BM$22,\"\")&IF((F101)=23,$BM$23,\"\")&IF((F101)=24,$BM$24,\"\")&IF((F101)=25,$BM$25,\"\")&IF((F101)=26,$BM$26,\"\")&IF((F101)=27,$BM$27,\"\")&IF((F101)=28,$BM$28,\"\")&IF((F101)=29,$BM$29,\"\")&IF((F101)=30,$BM$30,\"\")&IF((F101)=31,$BM$31,\"\")&IF((F101)=32,$BM$32,\"\")&IF((F101)=33,$BM$33,\"\")&IF((F101)=34,$BM$34,\"\")&IF((F101)=35,$BM$35,\"\")&IF((F101)=36,$BM$36,\"\")&IF((F101)=37,$BM$37,\"\")&IF((F101)=38,$BM$38,\"\")&IF((F101)=39,$BM$39,\"\")&IF((F101)=40,$BM$40,\"\")&IF((F101)=41,$BM$41,\"\")&IF((F101)=42,$BM$42,\"\")&IF((F101)=43,$BM$43,\"\")&IF((F101)=44,$BM$44,\"\")&IF((F101)=45,$BM$45,\"\")&IF((F101)=46,$BM$46,\"\")&IF((F101)=47,$BM$47,\"\")&IF((F101)=48,$BM$48,\"\")&IF((F101)=49,$BM$49,\"\")&IF((F101)=50,$BM$50,\"\")&IF((F101)=51,$BM$51,\"\")&IF((F101)=52,$BM$52,\"\")&IF((F101)=53,$BM$53,\"\")&IF((F101)=54,$BM$54,\"\")&IF((F101)=55,$BM$55,\"\")&IF((F101)=56,$BM$56,\"\")&IF((F101)=57,$BM$57,\"\")&IF((F101)=58,$BM$58,\"\")&IF((F101)=59,$BM$59,\"\")&IF((F101)=60,$BM$60,\"\")&IF((F101)=61,$BM$61,\"\")&IF((F101)=62,$BM$62,\"\")&IF((F101)=63,$BM$63,\"\")&IF((F101)=64,$BM$64,\"\")&IF((F101)=65,$BM$65,\"\")&IF((F101)=66,$BM$66,\"\")&IF((F101)=67,$BM$67,\"\")&IF((F101)=68,$BM$68,\"\")&IF((F101)=69,$BM$69,\"\")&IF((F101)=70,$BM$70,\"\")&IF((F101)=71,$BM$71,\"\")&IF((F101)=72,$BM$72,\"\")&IF((F101)=73,$BM$73,\"\")&IF((F101)=74,$BM$74,\"\")&IF((F101)=75,$BM$75,\"\")&IF((F101)=76,$BM$76,\"\")&IF((F101)=77,$BM$77,\"\")&IF((F101)=78,$BM$78,\"\")&IF((F101)=79,$BM$79,\"\")&IF((F101)=80,$BM$80,\"\")&IF((F101)=81,$BM$81,\"\")&IF((F101)=82,$BM$82,\"\")&IF((F101)=83,$BM$83,\"\")&IF((F101)=84,$BM$84,\"\")&IF((F101)=85,$BM$85,\"\")&IF((F101)=86,$BM$86,\"\")&IF((F101)=87,$BM$87,\"\")&IF((F101)=88,$BM$88,\"\")&IF((F101)=89,$BM$89,\"\")&IF((F101)=90,$BM$90,\"\")&IF((F101)=91,$BM$91,\"\")&IF((F101)=92,$BM$92,\"\")&IF((F101)=93,$BM$93,\"\")&IF((F101)=94,$BM$94,\"\")&IF((F101)=95,$BM$95,\"\")&IF((F101)=96,$BM$96,\"\")&IF((F101)=97,$BM$97,\"\")&IF((F101)=98,$BM$98,\"\")&IF((F101)=99,$BM$99,\"\")&IF((F101)=100,$BM$100,\"\")&IF((F101)=101,$BM$101,\"\")&IF((F101)=102,$BM$102,\"\")&IF((F101)=103,$BM$103,\"\")&IF((F101)=104,$BM$104,\"\")&IF((F101)=105,$BM$105,\"\")&IF((F101)=106,$BM$106,\"\")&IF((F101)=107,$BM$107,\"\")&IF((F101)=108,$BM$108,\"\")&IF((F101)=109,$BM$109,\"\")&IF((F101)=110,$BM$110,\"\")&IF((F101)=111,$BM$111,\"\")&IF((F101)=112,$BM$112,\"\")&IF((F101)=113,$BM$113,\"\")&IF((F101)=114,$BM$114,\"\")&IF((F101)=115,$BM$115,\"\")&IF((F101)=116,$BM$116,\"\")&IF((F101)=117,$BM$117,\"\")&IF((F101)=118,$BM$118,\"\")&IF((F101)=119,$BM$119,\"\")&IF((F101)=120,$BM$120,\"\")&IF((F101)=121,$BM$121,\"\")&IF((F101)=122,$BM$122,\"\")&IF((F101)=123,$BM$123,\"\")&IF((F101)=124,$BM$124,\"\")&IF((F101)=125,$BM$125,\"\")&IF((F101)=126,$BM$126,\"\")&IF((F101)=127,$BM$127,\"\")&IF((F101)=128,$BM$128,\"\")","v":""},null,{"$f":"IF((F101)=1,$BN$1,\"\")&IF((F101)=2,$BN$2,\"\")&IF((F101)=3,$BN$3,\"\")&IF((F101)=4,$BN$4,\"\")&IF((F101)=5,$BN$5,\"\")&IF((F101)=6,$BN$6,\"\")&IF((F101)=7,$BN$7,\"\")&IF((F101)=8,$BN$8,\"\")&IF((F101)=9,$BN$9,\"\")&IF((F101)=10,$BN$10,\"\")&IF((F101)=11,$BN$11,\"\")&IF((F101)=12,$BN$12,\"\")&IF((F101)=13,$BN$13,\"\")&IF((F101)=14,$BN$14,\"\")&IF((F101)=15,$BN$15,\"\")&IF((F101)=16,$BN$16,\"\")&IF((F101)=17,$BN$17,\"\")&IF((F101)=18,$BN$18,\"\")&IF((F101)=19,$BN$19,\"\")&IF((F101)=20,$BN$20,\"\")&IF((F101)=21,$BN$21,\"\")&IF((F101)=22,$BN$22,\"\")&IF((F101)=23,$BN$23,\"\")&IF((F101)=24,$BN$24,\"\")&IF((F101)=25,$BN$25,\"\")&IF((F101)=26,$BN$26,\"\")&IF((F101)=27,$BN$27,\"\")&IF((F101)=28,$BN$28,\"\")&IF((F101)=29,$BN$29,\"\")&IF((F101)=30,$BN$30,\"\")&IF((F101)=31,$BN$31,\"\")&IF((F101)=32,$BN$32,\"\")&IF((F101)=33,$BN$33,\"\")&IF((F101)=34,$BN$34,\"\")&IF((F101)=35,$BN$35,\"\")&IF((F101)=36,$BN$36,\"\")&IF((F101)=37,$BN$37,\"\")&IF((F101)=38,$BN$38,\"\")&IF((F101)=39,$BN$39,\"\")&IF((F101)=40,$BN$40,\"\")&IF((F101)=41,$BN$41,\"\")&IF((F101)=42,$BN$42,\"\")&IF((F101)=43,$BN$43,\"\")&IF((F101)=44,$BN$44,\"\")&IF((F101)=45,$BN$45,\"\")&IF((F101)=46,$BN$46,\"\")&IF((F101)=47,$BN$47,\"\")&IF((F101)=48,$BN$48,\"\")&IF((F101)=49,$BN$49,\"\")&IF((F101)=50,$BN$50,\"\")&IF((F101)=51,$BN$51,\"\")&IF((F101)=52,$BN$52,\"\")&IF((F101)=53,$BN$53,\"\")&IF((F101)=54,$BN$54,\"\")&IF((F101)=55,$BN$55,\"\")&IF((F101)=56,$BN$56,\"\")&IF((F101)=57,$BN$57,\"\")&IF((F101)=58,$BN$58,\"\")&IF((F101)=59,$BN$59,\"\")&IF((F101)=60,$BN$60,\"\")&IF((F101)=61,$BN$61,\"\")&IF((F101)=62,$BN$62,\"\")&IF((F101)=63,$BN$63,\"\")&IF((F101)=64,$BN$64,\"\")&IF((F101)=65,$BN$65,\"\")&IF((F101)=66,$BN$66,\"\")&IF((F101)=67,$BN$67,\"\")&IF((F101)=68,$BN$68,\"\")&IF((F101)=69,$BN$69,\"\")&IF((F101)=70,$BN$70,\"\")&IF((F101)=71,$BN$71,\"\")&IF((F101)=72,$BN$72,\"\")&IF((F101)=73,$BN$73,\"\")&IF((F101)=74,$BN$74,\"\")&IF((F101)=75,$BN$75,\"\")&IF((F101)=76,$BN$76,\"\")&IF((F101)=77,$BN$77,\"\")&IF((F101)=78,$BN$78,\"\")&IF((F101)=79,$BN$79,\"\")&IF((F101)=80,$BN$80,\"\")&IF((F101)=81,$BN$81,\"\")&IF((F101)=82,$BN$82,\"\")&IF((F101)=83,$BN$83,\"\")&IF((F101)=84,$BN$84,\"\")&IF((F101)=85,$BN$85,\"\")&IF((F101)=86,$BN$86,\"\")&IF((F101)=87,$BN$87,\"\")&IF((F101)=88,$BN$88,\"\")&IF((F101)=89,$BN$89,\"\")&IF((F101)=90,$BN$90,\"\")&IF((F101)=91,$BN$91,\"\")&IF((F101)=92,$BN$92,\"\")&IF((F101)=93,$BN$93,\"\")&IF((F101)=94,$BN$94,\"\")&IF((F101)=95,$BN$95,\"\")&IF((F101)=96,$BN$96,\"\")&IF((F101)=97,$BN$97,\"\")&IF((F101)=98,$BN$98,\"\")&IF((F101)=99,$BN$99,\"\")&IF((F101)=100,$BN$100,\"\")&IF((F101)=101,$BN$101,\"\")&IF((F101)=102,$BN$102,\"\")&IF((F101)=103,$BN$103,\"\")&IF((F101)=104,$BN$104,\"\")&IF((F101)=105,$BN$105,\"\")&IF((F101)=106,$BN$106,\"\")&IF((F101)=107,$BN$107,\"\")&IF((F101)=108,$BN$108,\"\")&IF((F101)=109,$BN$109,\"\")&IF((F101)=110,$BN$110,\"\")&IF((F101)=111,$BN$111,\"\")&IF((F101)=112,$BN$112,\"\")&IF((F101)=113,$BN$113,\"\")&IF((F101)=114,$BN$114,\"\")&IF((F101)=115,$BN$115,\"\")&IF((F101)=116,$BN$116,\"\")&IF((F101)=117,$BN$117,\"\")&IF((F101)=118,$BN$118,\"\")&IF((F101)=119,$BN$119,\"\")&IF((F101)=120,$BN$120,\"\")&IF((F101)=121,$BN$121,\"\")&IF((F101)=122,$BN$122,\"\")&IF((F101)=123,$BN$123,\"\")&IF((F101)=124,$BN$124,\"\")&IF((F101)=125,$BN$125,\"\")&IF((F101)=126,$BN$126,\"\")&IF((F101)=127,$BN$127,\"\")&IF((F101)=128,$BN$128,\"\")","v":""},null,{"$f":"IF((J101)=1,$BM$1,\"\")&IF((J101)=2,$BM$2,\"\")&IF((J101)=3,$BM$3,\"\")&IF((J101)=4,$BM$4,\"\")&IF((J101)=5,$BM$5,\"\")&IF((J101)=6,$BM$6,\"\")&IF((J101)=7,$BM$7,\"\")&IF((J101)=8,$BM$8,\"\")&IF((J101)=9,$BM$9,\"\")&IF((J101)=10,$BM$10,\"\")&IF((J101)=11,$BM$11,\"\")&IF((J101)=12,$BM$12,\"\")&IF((J101)=13,$BM$13,\"\")&IF((J101)=14,$BM$14,\"\")&IF((J101)=15,$BM$15,\"\")&IF((J101)=16,$BM$16,\"\")&IF((J101)=17,$BM$17,\"\")&IF((J101)=18,$BM$18,\"\")&IF((J101)=19,$BM$19,\"\")&IF((J101)=20,$BM$20,\"\")&IF((J101)=21,$BM$21,\"\")&IF((J101)=22,$BM$22,\"\")&IF((J101)=23,$BM$23,\"\")&IF((J101)=24,$BM$24,\"\")&IF((J101)=25,$BM$25,\"\")&IF((J101)=26,$BM$26,\"\")&IF((J101)=27,$BM$27,\"\")&IF((J101)=28,$BM$28,\"\")&IF((J101)=29,$BM$29,\"\")&IF((J101)=30,$BM$30,\"\")&IF((J101)=31,$BM$31,\"\")&IF((J101)=32,$BM$32,\"\")&IF((J101)=33,$BM$33,\"\")&IF((J101)=34,$BM$34,\"\")&IF((J101)=35,$BM$35,\"\")&IF((J101)=36,$BM$36,\"\")&IF((J101)=37,$BM$37,\"\")&IF((J101)=38,$BM$38,\"\")&IF((J101)=39,$BM$39,\"\")&IF((J101)=40,$BM$40,\"\")&IF((J101)=41,$BM$41,\"\")&IF((J101)=42,$BM$42,\"\")&IF((J101)=43,$BM$43,\"\")&IF((J101)=44,$BM$44,\"\")&IF((J101)=45,$BM$45,\"\")&IF((J101)=46,$BM$46,\"\")&IF((J101)=47,$BM$47,\"\")&IF((J101)=48,$BM$48,\"\")&IF((J101)=49,$BM$49,\"\")&IF((J101)=50,$BM$50,\"\")&IF((J101)=51,$BM$51,\"\")&IF((J101)=52,$BM$52,\"\")&IF((J101)=53,$BM$53,\"\")&IF((J101)=54,$BM$54,\"\")&IF((J101)=55,$BM$55,\"\")&IF((J101)=56,$BM$56,\"\")&IF((J101)=57,$BM$57,\"\")&IF((J101)=58,$BM$58,\"\")&IF((J101)=59,$BM$59,\"\")&IF((J101)=60,$BM$60,\"\")&IF((J101)=61,$BM$61,\"\")&IF((J101)=62,$BM$62,\"\")&IF((J101)=63,$BM$63,\"\")&IF((J101)=64,$BM$64,\"\")&IF((J101)=65,$BM$65,\"\")&IF((J101)=66,$BM$66,\"\")&IF((J101)=67,$BM$67,\"\")&IF((J101)=68,$BM$68,\"\")&IF((J101)=69,$BM$69,\"\")&IF((J101)=70,$BM$70,\"\")&IF((J101)=71,$BM$71,\"\")&IF((J101)=72,$BM$72,\"\")&IF((J101)=73,$BM$73,\"\")&IF((J101)=74,$BM$74,\"\")&IF((J101)=75,$BM$75,\"\")&IF((J101)=76,$BM$76,\"\")&IF((J101)=77,$BM$77,\"\")&IF((J101)=78,$BM$78,\"\")&IF((J101)=79,$BM$79,\"\")&IF((J101)=80,$BM$80,\"\")&IF((J101)=81,$BM$81,\"\")&IF((J101)=82,$BM$82,\"\")&IF((J101)=83,$BM$83,\"\")&IF((J101)=84,$BM$84,\"\")&IF((J101)=85,$BM$85,\"\")&IF((J101)=86,$BM$86,\"\")&IF((J101)=87,$BM$87,\"\")&IF((J101)=88,$BM$88,\"\")&IF((J101)=89,$BM$89,\"\")&IF((J101)=90,$BM$90,\"\")&IF((J101)=91,$BM$91,\"\")&IF((J101)=92,$BM$92,\"\")&IF((J101)=93,$BM$93,\"\")&IF((J101)=94,$BM$94,\"\")&IF((J101)=95,$BM$95,\"\")&IF((J101)=96,$BM$96,\"\")&IF((J101)=97,$BM$97,\"\")&IF((J101)=98,$BM$98,\"\")&IF((J101)=99,$BM$99,\"\")&IF((J101)=100,$BM$100,\"\")&IF((J101)=101,$BM$101,\"\")&IF((J101)=102,$BM$102,\"\")&IF((J101)=103,$BM$103,\"\")&IF((J101)=104,$BM$104,\"\")&IF((J101)=105,$BM$105,\"\")&IF((J101)=106,$BM$106,\"\")&IF((J101)=107,$BM$107,\"\")&IF((J101)=108,$BM$108,\"\")&IF((J101)=109,$BM$109,\"\")&IF((J101)=110,$BM$110,\"\")&IF((J101)=111,$BM$111,\"\")&IF((J101)=112,$BM$112,\"\")&IF((J101)=113,$BM$113,\"\")&IF((J101)=114,$BM$114,\"\")&IF((J101)=115,$BM$115,\"\")&IF((J101)=116,$BM$116,\"\")&IF((J101)=117,$BM$117,\"\")&IF((J101)=118,$BM$118,\"\")&IF((J101)=119,$BM$119,\"\")&IF((J101)=120,$BM$120,\"\")&IF((J101)=121,$BM$121,\"\")&IF((J101)=122,$BM$122,\"\")&IF((J101)=123,$BM$123,\"\")&IF((J101)=124,$BM$124,\"\")&IF((J101)=125,$BM$125,\"\")&IF((J101)=126,$BM$126,\"\")&IF((J101)=127,$BM$127,\"\")&IF((J101)=128,$BM$128,\"\")","v":""},null,{"$f":"IF((J101)=1,$BN$1,\"\")&IF((J101)=2,$BN$2,\"\")&IF((J101)=3,$BN$3,\"\")&IF((J101)=4,$BN$4,\"\")&IF((J101)=5,$BN$5,\"\")&IF((J101)=6,$BN$6,\"\")&IF((J101)=7,$BN$7,\"\")&IF((J101)=8,$BN$8,\"\")&IF((J101)=9,$BN$9,\"\")&IF((J101)=10,$BN$10,\"\")&IF((J101)=11,$BN$11,\"\")&IF((J101)=12,$BN$12,\"\")&IF((J101)=13,$BN$13,\"\")&IF((J101)=14,$BN$14,\"\")&IF((J101)=15,$BN$15,\"\")&IF((J101)=16,$BN$16,\"\")&IF((J101)=17,$BN$17,\"\")&IF((J101)=18,$BN$18,\"\")&IF((J101)=19,$BN$19,\"\")&IF((J101)=20,$BN$20,\"\")&IF((J101)=21,$BN$21,\"\")&IF((J101)=22,$BN$22,\"\")&IF((J101)=23,$BN$23,\"\")&IF((J101)=24,$BN$24,\"\")&IF((J101)=25,$BN$25,\"\")&IF((J101)=26,$BN$26,\"\")&IF((J101)=27,$BN$27,\"\")&IF((J101)=28,$BN$28,\"\")&IF((J101)=29,$BN$29,\"\")&IF((J101)=30,$BN$30,\"\")&IF((J101)=31,$BN$31,\"\")&IF((J101)=32,$BN$32,\"\")&IF((J101)=33,$BN$33,\"\")&IF((J101)=34,$BN$34,\"\")&IF((J101)=35,$BN$35,\"\")&IF((J101)=36,$BN$36,\"\")&IF((J101)=37,$BN$37,\"\")&IF((J101)=38,$BN$38,\"\")&IF((J101)=39,$BN$39,\"\")&IF((J101)=40,$BN$40,\"\")&IF((J101)=41,$BN$41,\"\")&IF((J101)=42,$BN$42,\"\")&IF((J101)=43,$BN$43,\"\")&IF((J101)=44,$BN$44,\"\")&IF((J101)=45,$BN$45,\"\")&IF((J101)=46,$BN$46,\"\")&IF((J101)=47,$BN$47,\"\")&IF((J101)=48,$BN$48,\"\")&IF((J101)=49,$BN$49,\"\")&IF((J101)=50,$BN$50,\"\")&IF((J101)=51,$BN$51,\"\")&IF((J101)=52,$BN$52,\"\")&IF((J101)=53,$BN$53,\"\")&IF((J101)=54,$BN$54,\"\")&IF((J101)=55,$BN$55,\"\")&IF((J101)=56,$BN$56,\"\")&IF((J101)=57,$BN$57,\"\")&IF((J101)=58,$BN$58,\"\")&IF((J101)=59,$BN$59,\"\")&IF((J101)=60,$BN$60,\"\")&IF((J101)=61,$BN$61,\"\")&IF((J101)=62,$BN$62,\"\")&IF((J101)=63,$BN$63,\"\")&IF((J101)=64,$BN$64,\"\")&IF((J101)=65,$BN$65,\"\")&IF((J101)=66,$BN$66,\"\")&IF((J101)=67,$BN$67,\"\")&IF((J101)=68,$BN$68,\"\")&IF((J101)=69,$BN$69,\"\")&IF((J101)=70,$BN$70,\"\")&IF((J101)=71,$BN$71,\"\")&IF((J101)=72,$BN$72,\"\")&IF((J101)=73,$BN$73,\"\")&IF((J101)=74,$BN$74,\"\")&IF((J101)=75,$BN$75,\"\")&IF((J101)=76,$BN$76,\"\")&IF((J101)=77,$BN$77,\"\")&IF((J101)=78,$BN$78,\"\")&IF((J101)=79,$BN$79,\"\")&IF((J101)=80,$BN$80,\"\")&IF((J101)=81,$BN$81,\"\")&IF((J101)=82,$BN$82,\"\")&IF((J101)=83,$BN$83,\"\")&IF((J101)=84,$BN$84,\"\")&IF((J101)=85,$BN$85,\"\")&IF((J101)=86,$BN$86,\"\")&IF((J101)=87,$BN$87,\"\")&IF((J101)=88,$BN$88,\"\")&IF((J101)=89,$BN$89,\"\")&IF((J101)=90,$BN$90,\"\")&IF((J101)=91,$BN$91,\"\")&IF((J101)=92,$BN$92,\"\")&IF((J101)=93,$BN$93,\"\")&IF((J101)=94,$BN$94,\"\")&IF((J101)=95,$BN$95,\"\")&IF((J101)=96,$BN$96,\"\")&IF((J101)=97,$BN$97,\"\")&IF((J101)=98,$BN$98,\"\")&IF((J101)=99,$BN$99,\"\")&IF((J101)=100,$BN$100,\"\")&IF((J101)=101,$BN$101,\"\")&IF((J101)=102,$BN$102,\"\")&IF((J101)=103,$BN$103,\"\")&IF((J101)=104,$BN$104,\"\")&IF((J101)=105,$BN$105,\"\")&IF((J101)=106,$BN$106,\"\")&IF((J101)=107,$BN$107,\"\")&IF((J101)=108,$BN$108,\"\")&IF((J101)=109,$BN$109,\"\")&IF((J101)=110,$BN$110,\"\")&IF((J101)=111,$BN$111,\"\")&IF((J101)=112,$BN$112,\"\")&IF((J101)=113,$BN$113,\"\")&IF((J101)=114,$BN$114,\"\")&IF((J101)=115,$BN$115,\"\")&IF((J101)=116,$BN$116,\"\")&IF((J101)=117,$BN$117,\"\")&IF((J101)=118,$BN$118,\"\")&IF((J101)=119,$BN$119,\"\")&IF((J101)=120,$BN$120,\"\")&IF((J101)=121,$BN$121,\"\")&IF((J101)=122,$BN$122,\"\")&IF((J101)=123,$BN$123,\"\")&IF((J101)=124,$BN$124,\"\")&IF((J101)=125,$BN$125,\"\")&IF((J101)=126,$BN$126,\"\")&IF((J101)=127,$BN$127,\"\")&IF((J101)=128,$BN$128,\"\")","v":""},null,null,null,{"$f":"IF((P101)=1,$BM$1,\"\")&IF((P101)=2,$BM$2,\"\")&IF((P101)=3,$BM$3,\"\")&IF((P101)=4,$BM$4,\"\")&IF((P101)=5,$BM$5,\"\")&IF((P101)=6,$BM$6,\"\")&IF((P101)=7,$BM$7,\"\")&IF((P101)=8,$BM$8,\"\")&IF((P101)=9,$BM$9,\"\")&IF((P101)=10,$BM$10,\"\")&IF((P101)=11,$BM$11,\"\")&IF((P101)=12,$BM$12,\"\")&IF((P101)=13,$BM$13,\"\")&IF((P101)=14,$BM$14,\"\")&IF((P101)=15,$BM$15,\"\")&IF((P101)=16,$BM$16,\"\")&IF((P101)=17,$BM$17,\"\")&IF((P101)=18,$BM$18,\"\")&IF((P101)=19,$BM$19,\"\")&IF((P101)=20,$BM$20,\"\")&IF((P101)=21,$BM$21,\"\")&IF((P101)=22,$BM$22,\"\")&IF((P101)=23,$BM$23,\"\")&IF((P101)=24,$BM$24,\"\")&IF((P101)=25,$BM$25,\"\")&IF((P101)=26,$BM$26,\"\")&IF((P101)=27,$BM$27,\"\")&IF((P101)=28,$BM$28,\"\")&IF((P101)=29,$BM$29,\"\")&IF((P101)=30,$BM$30,\"\")&IF((P101)=31,$BM$31,\"\")&IF((P101)=32,$BM$32,\"\")&IF((P101)=33,$BM$33,\"\")&IF((P101)=34,$BM$34,\"\")&IF((P101)=35,$BM$35,\"\")&IF((P101)=36,$BM$36,\"\")&IF((P101)=37,$BM$37,\"\")&IF((P101)=38,$BM$38,\"\")&IF((P101)=39,$BM$39,\"\")&IF((P101)=40,$BM$40,\"\")&IF((P101)=41,$BM$41,\"\")&IF((P101)=42,$BM$42,\"\")&IF((P101)=43,$BM$43,\"\")&IF((P101)=44,$BM$44,\"\")&IF((P101)=45,$BM$45,\"\")&IF((P101)=46,$BM$46,\"\")&IF((P101)=47,$BM$47,\"\")&IF((P101)=48,$BM$48,\"\")&IF((P101)=49,$BM$49,\"\")&IF((P101)=50,$BM$50,\"\")&IF((P101)=51,$BM$51,\"\")&IF((P101)=52,$BM$52,\"\")&IF((P101)=53,$BM$53,\"\")&IF((P101)=54,$BM$54,\"\")&IF((P101)=55,$BM$55,\"\")&IF((P101)=56,$BM$56,\"\")&IF((P101)=57,$BM$57,\"\")&IF((P101)=58,$BM$58,\"\")&IF((P101)=59,$BM$59,\"\")&IF((P101)=60,$BM$60,\"\")&IF((P101)=61,$BM$61,\"\")&IF((P101)=62,$BM$62,\"\")&IF((P101)=63,$BM$63,\"\")&IF((P101)=64,$BM$64,\"\")&IF((P101)=65,$BM$65,\"\")&IF((P101)=66,$BM$66,\"\")&IF((P101)=67,$BM$67,\"\")&IF((P101)=68,$BM$68,\"\")&IF((P101)=69,$BM$69,\"\")&IF((P101)=70,$BM$70,\"\")&IF((P101)=71,$BM$71,\"\")&IF((P101)=72,$BM$72,\"\")&IF((P101)=73,$BM$73,\"\")&IF((P101)=74,$BM$74,\"\")&IF((P101)=75,$BM$75,\"\")&IF((P101)=76,$BM$76,\"\")&IF((P101)=77,$BM$77,\"\")&IF((P101)=78,$BM$78,\"\")&IF((P101)=79,$BM$79,\"\")&IF((P101)=80,$BM$80,\"\")&IF((P101)=81,$BM$81,\"\")&IF((P101)=82,$BM$82,\"\")&IF((P101)=83,$BM$83,\"\")&IF((P101)=84,$BM$84,\"\")&IF((P101)=85,$BM$85,\"\")&IF((P101)=86,$BM$86,\"\")&IF((P101)=87,$BM$87,\"\")&IF((P101)=88,$BM$88,\"\")&IF((P101)=89,$BM$89,\"\")&IF((P101)=90,$BM$90,\"\")&IF((P101)=91,$BM$91,\"\")&IF((P101)=92,$BM$92,\"\")&IF((P101)=93,$BM$93,\"\")&IF((P101)=94,$BM$94,\"\")&IF((P101)=95,$BM$95,\"\")&IF((P101)=96,$BM$96,\"\")&IF((P101)=97,$BM$97,\"\")&IF((P101)=98,$BM$98,\"\")&IF((P101)=99,$BM$99,\"\")&IF((P101)=100,$BM$100,\"\")&IF((P101)=101,$BM$101,\"\")&IF((P101)=102,$BM$102,\"\")&IF((P101)=103,$BM$103,\"\")&IF((P101)=104,$BM$104,\"\")&IF((P101)=105,$BM$105,\"\")&IF((P101)=106,$BM$106,\"\")&IF((P101)=107,$BM$107,\"\")&IF((P101)=108,$BM$108,\"\")&IF((P101)=109,$BM$109,\"\")&IF((P101)=110,$BM$110,\"\")&IF((P101)=111,$BM$111,\"\")&IF((P101)=112,$BM$112,\"\")&IF((P101)=113,$BM$113,\"\")&IF((P101)=114,$BM$114,\"\")&IF((P101)=115,$BM$115,\"\")&IF((P101)=116,$BM$116,\"\")&IF((P101)=117,$BM$117,\"\")&IF((P101)=118,$BM$118,\"\")&IF((P101)=119,$BM$119,\"\")&IF((P101)=120,$BM$120,\"\")&IF((P101)=121,$BM$121,\"\")&IF((P101)=122,$BM$122,\"\")&IF((P101)=123,$BM$123,\"\")&IF((P101)=124,$BM$124,\"\")&IF((P101)=125,$BM$125,\"\")&IF((P101)=126,$BM$126,\"\")&IF((P101)=127,$BM$127,\"\")&IF((P101)=128,$BM$128,\"\")","v":""},null,{"$f":"IF((P101)=1,$BN$1,\"\")&IF((P101)=2,$BN$2,\"\")&IF((P101)=3,$BN$3,\"\")&IF((P101)=4,$BN$4,\"\")&IF((P101)=5,$BN$5,\"\")&IF((P101)=6,$BN$6,\"\")&IF((P101)=7,$BN$7,\"\")&IF((P101)=8,$BN$8,\"\")&IF((P101)=9,$BN$9,\"\")&IF((P101)=10,$BN$10,\"\")&IF((P101)=11,$BN$11,\"\")&IF((P101)=12,$BN$12,\"\")&IF((P101)=13,$BN$13,\"\")&IF((P101)=14,$BN$14,\"\")&IF((P101)=15,$BN$15,\"\")&IF((P101)=16,$BN$16,\"\")&IF((P101)=17,$BN$17,\"\")&IF((P101)=18,$BN$18,\"\")&IF((P101)=19,$BN$19,\"\")&IF((P101)=20,$BN$20,\"\")&IF((P101)=21,$BN$21,\"\")&IF((P101)=22,$BN$22,\"\")&IF((P101)=23,$BN$23,\"\")&IF((P101)=24,$BN$24,\"\")&IF((P101)=25,$BN$25,\"\")&IF((P101)=26,$BN$26,\"\")&IF((P101)=27,$BN$27,\"\")&IF((P101)=28,$BN$28,\"\")&IF((P101)=29,$BN$29,\"\")&IF((P101)=30,$BN$30,\"\")&IF((P101)=31,$BN$31,\"\")&IF((P101)=32,$BN$32,\"\")&IF((P101)=33,$BN$33,\"\")&IF((P101)=34,$BN$34,\"\")&IF((P101)=35,$BN$35,\"\")&IF((P101)=36,$BN$36,\"\")&IF((P101)=37,$BN$37,\"\")&IF((P101)=38,$BN$38,\"\")&IF((P101)=39,$BN$39,\"\")&IF((P101)=40,$BN$40,\"\")&IF((P101)=41,$BN$41,\"\")&IF((P101)=42,$BN$42,\"\")&IF((P101)=43,$BN$43,\"\")&IF((P101)=44,$BN$44,\"\")&IF((P101)=45,$BN$45,\"\")&IF((P101)=46,$BN$46,\"\")&IF((P101)=47,$BN$47,\"\")&IF((P101)=48,$BN$48,\"\")&IF((P101)=49,$BN$49,\"\")&IF((P101)=50,$BN$50,\"\")&IF((P101)=51,$BN$51,\"\")&IF((P101)=52,$BN$52,\"\")&IF((P101)=53,$BN$53,\"\")&IF((P101)=54,$BN$54,\"\")&IF((P101)=55,$BN$55,\"\")&IF((P101)=56,$BN$56,\"\")&IF((P101)=57,$BN$57,\"\")&IF((P101)=58,$BN$58,\"\")&IF((P101)=59,$BN$59,\"\")&IF((P101)=60,$BN$60,\"\")&IF((P101)=61,$BN$61,\"\")&IF((P101)=62,$BN$62,\"\")&IF((P101)=63,$BN$63,\"\")&IF((P101)=64,$BN$64,\"\")&IF((P101)=65,$BN$65,\"\")&IF((P101)=66,$BN$66,\"\")&IF((P101)=67,$BN$67,\"\")&IF((P101)=68,$BN$68,\"\")&IF((P101)=69,$BN$69,\"\")&IF((P101)=70,$BN$70,\"\")&IF((P101)=71,$BN$71,\"\")&IF((P101)=72,$BN$72,\"\")&IF((P101)=73,$BN$73,\"\")&IF((P101)=74,$BN$74,\"\")&IF((P101)=75,$BN$75,\"\")&IF((P101)=76,$BN$76,\"\")&IF((P101)=77,$BN$77,\"\")&IF((P101)=78,$BN$78,\"\")&IF((P101)=79,$BN$79,\"\")&IF((P101)=80,$BN$80,\"\")&IF((P101)=81,$BN$81,\"\")&IF((P101)=82,$BN$82,\"\")&IF((P101)=83,$BN$83,\"\")&IF((P101)=84,$BN$84,\"\")&IF((P101)=85,$BN$85,\"\")&IF((P101)=86,$BN$86,\"\")&IF((P101)=87,$BN$87,\"\")&IF((P101)=88,$BN$88,\"\")&IF((P101)=89,$BN$89,\"\")&IF((P101)=90,$BN$90,\"\")&IF((P101)=91,$BN$91,\"\")&IF((P101)=92,$BN$92,\"\")&IF((P101)=93,$BN$93,\"\")&IF((P101)=94,$BN$94,\"\")&IF((P101)=95,$BN$95,\"\")&IF((P101)=96,$BN$96,\"\")&IF((P101)=97,$BN$97,\"\")&IF((P101)=98,$BN$98,\"\")&IF((P101)=99,$BN$99,\"\")&IF((P101)=100,$BN$100,\"\")&IF((P101)=101,$BN$101,\"\")&IF((P101)=102,$BN$102,\"\")&IF((P101)=103,$BN$103,\"\")&IF((P101)=104,$BN$104,\"\")&IF((P101)=105,$BN$105,\"\")&IF((P101)=106,$BN$106,\"\")&IF((P101)=107,$BN$107,\"\")&IF((P101)=108,$BN$108,\"\")&IF((P101)=109,$BN$109,\"\")&IF((P101)=110,$BN$110,\"\")&IF((P101)=111,$BN$111,\"\")&IF((P101)=112,$BN$112,\"\")&IF((P101)=113,$BN$113,\"\")&IF((P101)=114,$BN$114,\"\")&IF((P101)=115,$BN$115,\"\")&IF((P101)=116,$BN$116,\"\")&IF((P101)=117,$BN$117,\"\")&IF((P101)=118,$BN$118,\"\")&IF((P101)=119,$BN$119,\"\")&IF((P101)=120,$BN$120,\"\")&IF((P101)=121,$BN$121,\"\")&IF((P101)=122,$BN$122,\"\")&IF((P101)=123,$BN$123,\"\")&IF((P101)=124,$BN$124,\"\")&IF((P101)=125,$BN$125,\"\")&IF((P101)=126,$BN$126,\"\")&IF((P101)=127,$BN$127,\"\")&IF((P101)=128,$BN$128,\"\")","v":""},null,{"$f":"IF((T101)=1,$BM$1,\"\")&IF((T101)=2,$BM$2,\"\")&IF((T101)=3,$BM$3,\"\")&IF((T101)=4,$BM$4,\"\")&IF((T101)=5,$BM$5,\"\")&IF((T101)=6,$BM$6,\"\")&IF((T101)=7,$BM$7,\"\")&IF((T101)=8,$BM$8,\"\")&IF((T101)=9,$BM$9,\"\")&IF((T101)=10,$BM$10,\"\")&IF((T101)=11,$BM$11,\"\")&IF((T101)=12,$BM$12,\"\")&IF((T101)=13,$BM$13,\"\")&IF((T101)=14,$BM$14,\"\")&IF((T101)=15,$BM$15,\"\")&IF((T101)=16,$BM$16,\"\")&IF((T101)=17,$BM$17,\"\")&IF((T101)=18,$BM$18,\"\")&IF((T101)=19,$BM$19,\"\")&IF((T101)=20,$BM$20,\"\")&IF((T101)=21,$BM$21,\"\")&IF((T101)=22,$BM$22,\"\")&IF((T101)=23,$BM$23,\"\")&IF((T101)=24,$BM$24,\"\")&IF((T101)=25,$BM$25,\"\")&IF((T101)=26,$BM$26,\"\")&IF((T101)=27,$BM$27,\"\")&IF((T101)=28,$BM$28,\"\")&IF((T101)=29,$BM$29,\"\")&IF((T101)=30,$BM$30,\"\")&IF((T101)=31,$BM$31,\"\")&IF((T101)=32,$BM$32,\"\")&IF((T101)=33,$BM$33,\"\")&IF((T101)=34,$BM$34,\"\")&IF((T101)=35,$BM$35,\"\")&IF((T101)=36,$BM$36,\"\")&IF((T101)=37,$BM$37,\"\")&IF((T101)=38,$BM$38,\"\")&IF((T101)=39,$BM$39,\"\")&IF((T101)=40,$BM$40,\"\")&IF((T101)=41,$BM$41,\"\")&IF((T101)=42,$BM$42,\"\")&IF((T101)=43,$BM$43,\"\")&IF((T101)=44,$BM$44,\"\")&IF((T101)=45,$BM$45,\"\")&IF((T101)=46,$BM$46,\"\")&IF((T101)=47,$BM$47,\"\")&IF((T101)=48,$BM$48,\"\")&IF((T101)=49,$BM$49,\"\")&IF((T101)=50,$BM$50,\"\")&IF((T101)=51,$BM$51,\"\")&IF((T101)=52,$BM$52,\"\")&IF((T101)=53,$BM$53,\"\")&IF((T101)=54,$BM$54,\"\")&IF((T101)=55,$BM$55,\"\")&IF((T101)=56,$BM$56,\"\")&IF((T101)=57,$BM$57,\"\")&IF((T101)=58,$BM$58,\"\")&IF((T101)=59,$BM$59,\"\")&IF((T101)=60,$BM$60,\"\")&IF((T101)=61,$BM$61,\"\")&IF((T101)=62,$BM$62,\"\")&IF((T101)=63,$BM$63,\"\")&IF((T101)=64,$BM$64,\"\")&IF((T101)=65,$BM$65,\"\")&IF((T101)=66,$BM$66,\"\")&IF((T101)=67,$BM$67,\"\")&IF((T101)=68,$BM$68,\"\")&IF((T101)=69,$BM$69,\"\")&IF((T101)=70,$BM$70,\"\")&IF((T101)=71,$BM$71,\"\")&IF((T101)=72,$BM$72,\"\")&IF((T101)=73,$BM$73,\"\")&IF((T101)=74,$BM$74,\"\")&IF((T101)=75,$BM$75,\"\")&IF((T101)=76,$BM$76,\"\")&IF((T101)=77,$BM$77,\"\")&IF((T101)=78,$BM$78,\"\")&IF((T101)=79,$BM$79,\"\")&IF((T101)=80,$BM$80,\"\")&IF((T101)=81,$BM$81,\"\")&IF((T101)=82,$BM$82,\"\")&IF((T101)=83,$BM$83,\"\")&IF((T101)=84,$BM$84,\"\")&IF((T101)=85,$BM$85,\"\")&IF((T101)=86,$BM$86,\"\")&IF((T101)=87,$BM$87,\"\")&IF((T101)=88,$BM$88,\"\")&IF((T101)=89,$BM$89,\"\")&IF((T101)=90,$BM$90,\"\")&IF((T101)=91,$BM$91,\"\")&IF((T101)=92,$BM$92,\"\")&IF((T101)=93,$BM$93,\"\")&IF((T101)=94,$BM$94,\"\")&IF((T101)=95,$BM$95,\"\")&IF((T101)=96,$BM$96,\"\")&IF((T101)=97,$BM$97,\"\")&IF((T101)=98,$BM$98,\"\")&IF((T101)=99,$BM$99,\"\")&IF((T101)=100,$BM$100,\"\")&IF((T101)=101,$BM$101,\"\")&IF((T101)=102,$BM$102,\"\")&IF((T101)=103,$BM$103,\"\")&IF((T101)=104,$BM$104,\"\")&IF((T101)=105,$BM$105,\"\")&IF((T101)=106,$BM$106,\"\")&IF((T101)=107,$BM$107,\"\")&IF((T101)=108,$BM$108,\"\")&IF((T101)=109,$BM$109,\"\")&IF((T101)=110,$BM$110,\"\")&IF((T101)=111,$BM$111,\"\")&IF((T101)=112,$BM$112,\"\")&IF((T101)=113,$BM$113,\"\")&IF((T101)=114,$BM$114,\"\")&IF((T101)=115,$BM$115,\"\")&IF((T101)=116,$BM$116,\"\")&IF((T101)=117,$BM$117,\"\")&IF((T101)=118,$BM$118,\"\")&IF((T101)=119,$BM$119,\"\")&IF((T101)=120,$BM$120,\"\")&IF((T101)=121,$BM$121,\"\")&IF((T101)=122,$BM$122,\"\")&IF((T101)=123,$BM$123,\"\")&IF((T101)=124,$BM$124,\"\")&IF((T101)=125,$BM$125,\"\")&IF((T101)=126,$BM$126,\"\")&IF((T101)=127,$BM$127,\"\")&IF((T101)=128,$BM$128,\"\")","v":""},null,{"$f":"IF((T101)=1,$BN$1,\"\")&IF((T101)=2,$BN$2,\"\")&IF((T101)=3,$BN$3,\"\")&IF((T101)=4,$BN$4,\"\")&IF((T101)=5,$BN$5,\"\")&IF((T101)=6,$BN$6,\"\")&IF((T101)=7,$BN$7,\"\")&IF((T101)=8,$BN$8,\"\")&IF((T101)=9,$BN$9,\"\")&IF((T101)=10,$BN$10,\"\")&IF((T101)=11,$BN$11,\"\")&IF((T101)=12,$BN$12,\"\")&IF((T101)=13,$BN$13,\"\")&IF((T101)=14,$BN$14,\"\")&IF((T101)=15,$BN$15,\"\")&IF((T101)=16,$BN$16,\"\")&IF((T101)=17,$BN$17,\"\")&IF((T101)=18,$BN$18,\"\")&IF((T101)=19,$BN$19,\"\")&IF((T101)=20,$BN$20,\"\")&IF((T101)=21,$BN$21,\"\")&IF((T101)=22,$BN$22,\"\")&IF((T101)=23,$BN$23,\"\")&IF((T101)=24,$BN$24,\"\")&IF((T101)=25,$BN$25,\"\")&IF((T101)=26,$BN$26,\"\")&IF((T101)=27,$BN$27,\"\")&IF((T101)=28,$BN$28,\"\")&IF((T101)=29,$BN$29,\"\")&IF((T101)=30,$BN$30,\"\")&IF((T101)=31,$BN$31,\"\")&IF((T101)=32,$BN$32,\"\")&IF((T101)=33,$BN$33,\"\")&IF((T101)=34,$BN$34,\"\")&IF((T101)=35,$BN$35,\"\")&IF((T101)=36,$BN$36,\"\")&IF((T101)=37,$BN$37,\"\")&IF((T101)=38,$BN$38,\"\")&IF((T101)=39,$BN$39,\"\")&IF((T101)=40,$BN$40,\"\")&IF((T101)=41,$BN$41,\"\")&IF((T101)=42,$BN$42,\"\")&IF((T101)=43,$BN$43,\"\")&IF((T101)=44,$BN$44,\"\")&IF((T101)=45,$BN$45,\"\")&IF((T101)=46,$BN$46,\"\")&IF((T101)=47,$BN$47,\"\")&IF((T101)=48,$BN$48,\"\")&IF((T101)=49,$BN$49,\"\")&IF((T101)=50,$BN$50,\"\")&IF((T101)=51,$BN$51,\"\")&IF((T101)=52,$BN$52,\"\")&IF((T101)=53,$BN$53,\"\")&IF((T101)=54,$BN$54,\"\")&IF((T101)=55,$BN$55,\"\")&IF((T101)=56,$BN$56,\"\")&IF((T101)=57,$BN$57,\"\")&IF((T101)=58,$BN$58,\"\")&IF((T101)=59,$BN$59,\"\")&IF((T101)=60,$BN$60,\"\")&IF((T101)=61,$BN$61,\"\")&IF((T101)=62,$BN$62,\"\")&IF((T101)=63,$BN$63,\"\")&IF((T101)=64,$BN$64,\"\")&IF((T101)=65,$BN$65,\"\")&IF((T101)=66,$BN$66,\"\")&IF((T101)=67,$BN$67,\"\")&IF((T101)=68,$BN$68,\"\")&IF((T101)=69,$BN$69,\"\")&IF((T101)=70,$BN$70,\"\")&IF((T101)=71,$BN$71,\"\")&IF((T101)=72,$BN$72,\"\")&IF((T101)=73,$BN$73,\"\")&IF((T101)=74,$BN$74,\"\")&IF((T101)=75,$BN$75,\"\")&IF((T101)=76,$BN$76,\"\")&IF((T101)=77,$BN$77,\"\")&IF((T101)=78,$BN$78,\"\")&IF((T101)=79,$BN$79,\"\")&IF((T101)=80,$BN$80,\"\")&IF((T101)=81,$BN$81,\"\")&IF((T101)=82,$BN$82,\"\")&IF((T101)=83,$BN$83,\"\")&IF((T101)=84,$BN$84,\"\")&IF((T101)=85,$BN$85,\"\")&IF((T101)=86,$BN$86,\"\")&IF((T101)=87,$BN$87,\"\")&IF((T101)=88,$BN$88,\"\")&IF((T101)=89,$BN$89,\"\")&IF((T101)=90,$BN$90,\"\")&IF((T101)=91,$BN$91,\"\")&IF((T101)=92,$BN$92,\"\")&IF((T101)=93,$BN$93,\"\")&IF((T101)=94,$BN$94,\"\")&IF((T101)=95,$BN$95,\"\")&IF((T101)=96,$BN$96,\"\")&IF((T101)=97,$BN$97,\"\")&IF((T101)=98,$BN$98,\"\")&IF((T101)=99,$BN$99,\"\")&IF((T101)=100,$BN$100,\"\")&IF((T101)=101,$BN$101,\"\")&IF((T101)=102,$BN$102,\"\")&IF((T101)=103,$BN$103,\"\")&IF((T101)=104,$BN$104,\"\")&IF((T101)=105,$BN$105,\"\")&IF((T101)=106,$BN$106,\"\")&IF((T101)=107,$BN$107,\"\")&IF((T101)=108,$BN$108,\"\")&IF((T101)=109,$BN$109,\"\")&IF((T101)=110,$BN$110,\"\")&IF((T101)=111,$BN$111,\"\")&IF((T101)=112,$BN$112,\"\")&IF((T101)=113,$BN$113,\"\")&IF((T101)=114,$BN$114,\"\")&IF((T101)=115,$BN$115,\"\")&IF((T101)=116,$BN$116,\"\")&IF((T101)=117,$BN$117,\"\")&IF((T101)=118,$BN$118,\"\")&IF((T101)=119,$BN$119,\"\")&IF((T101)=120,$BN$120,\"\")&IF((T101)=121,$BN$121,\"\")&IF((T101)=122,$BN$122,\"\")&IF((T101)=123,$BN$123,\"\")&IF((T101)=124,$BN$124,\"\")&IF((T101)=125,$BN$125,\"\")&IF((T101)=126,$BN$126,\"\")&IF((T101)=127,$BN$127,\"\")&IF((T101)=128,$BN$128,\"\")","v":""},null,null,null,{"$f":"IF((Z101)=1,$BM$1,\"\")&IF((Z101)=2,$BM$2,\"\")&IF((Z101)=3,$BM$3,\"\")&IF((Z101)=4,$BM$4,\"\")&IF((Z101)=5,$BM$5,\"\")&IF((Z101)=6,$BM$6,\"\")&IF((Z101)=7,$BM$7,\"\")&IF((Z101)=8,$BM$8,\"\")&IF((Z101)=9,$BM$9,\"\")&IF((Z101)=10,$BM$10,\"\")&IF((Z101)=11,$BM$11,\"\")&IF((Z101)=12,$BM$12,\"\")&IF((Z101)=13,$BM$13,\"\")&IF((Z101)=14,$BM$14,\"\")&IF((Z101)=15,$BM$15,\"\")&IF((Z101)=16,$BM$16,\"\")&IF((Z101)=17,$BM$17,\"\")&IF((Z101)=18,$BM$18,\"\")&IF((Z101)=19,$BM$19,\"\")&IF((Z101)=20,$BM$20,\"\")&IF((Z101)=21,$BM$21,\"\")&IF((Z101)=22,$BM$22,\"\")&IF((Z101)=23,$BM$23,\"\")&IF((Z101)=24,$BM$24,\"\")&IF((Z101)=25,$BM$25,\"\")&IF((Z101)=26,$BM$26,\"\")&IF((Z101)=27,$BM$27,\"\")&IF((Z101)=28,$BM$28,\"\")&IF((Z101)=29,$BM$29,\"\")&IF((Z101)=30,$BM$30,\"\")&IF((Z101)=31,$BM$31,\"\")&IF((Z101)=32,$BM$32,\"\")&IF((Z101)=33,$BM$33,\"\")&IF((Z101)=34,$BM$34,\"\")&IF((Z101)=35,$BM$35,\"\")&IF((Z101)=36,$BM$36,\"\")&IF((Z101)=37,$BM$37,\"\")&IF((Z101)=38,$BM$38,\"\")&IF((Z101)=39,$BM$39,\"\")&IF((Z101)=40,$BM$40,\"\")&IF((Z101)=41,$BM$41,\"\")&IF((Z101)=42,$BM$42,\"\")&IF((Z101)=43,$BM$43,\"\")&IF((Z101)=44,$BM$44,\"\")&IF((Z101)=45,$BM$45,\"\")&IF((Z101)=46,$BM$46,\"\")&IF((Z101)=47,$BM$47,\"\")&IF((Z101)=48,$BM$48,\"\")&IF((Z101)=49,$BM$49,\"\")&IF((Z101)=50,$BM$50,\"\")&IF((Z101)=51,$BM$51,\"\")&IF((Z101)=52,$BM$52,\"\")&IF((Z101)=53,$BM$53,\"\")&IF((Z101)=54,$BM$54,\"\")&IF((Z101)=55,$BM$55,\"\")&IF((Z101)=56,$BM$56,\"\")&IF((Z101)=57,$BM$57,\"\")&IF((Z101)=58,$BM$58,\"\")&IF((Z101)=59,$BM$59,\"\")&IF((Z101)=60,$BM$60,\"\")&IF((Z101)=61,$BM$61,\"\")&IF((Z101)=62,$BM$62,\"\")&IF((Z101)=63,$BM$63,\"\")&IF((Z101)=64,$BM$64,\"\")&IF((Z101)=65,$BM$65,\"\")&IF((Z101)=66,$BM$66,\"\")&IF((Z101)=67,$BM$67,\"\")&IF((Z101)=68,$BM$68,\"\")&IF((Z101)=69,$BM$69,\"\")&IF((Z101)=70,$BM$70,\"\")&IF((Z101)=71,$BM$71,\"\")&IF((Z101)=72,$BM$72,\"\")&IF((Z101)=73,$BM$73,\"\")&IF((Z101)=74,$BM$74,\"\")&IF((Z101)=75,$BM$75,\"\")&IF((Z101)=76,$BM$76,\"\")&IF((Z101)=77,$BM$77,\"\")&IF((Z101)=78,$BM$78,\"\")&IF((Z101)=79,$BM$79,\"\")&IF((Z101)=80,$BM$80,\"\")&IF((Z101)=81,$BM$81,\"\")&IF((Z101)=82,$BM$82,\"\")&IF((Z101)=83,$BM$83,\"\")&IF((Z101)=84,$BM$84,\"\")&IF((Z101)=85,$BM$85,\"\")&IF((Z101)=86,$BM$86,\"\")&IF((Z101)=87,$BM$87,\"\")&IF((Z101)=88,$BM$88,\"\")&IF((Z101)=89,$BM$89,\"\")&IF((Z101)=90,$BM$90,\"\")&IF((Z101)=91,$BM$91,\"\")&IF((Z101)=92,$BM$92,\"\")&IF((Z101)=93,$BM$93,\"\")&IF((Z101)=94,$BM$94,\"\")&IF((Z101)=95,$BM$95,\"\")&IF((Z101)=96,$BM$96,\"\")&IF((Z101)=97,$BM$97,\"\")&IF((Z101)=98,$BM$98,\"\")&IF((Z101)=99,$BM$99,\"\")&IF((Z101)=100,$BM$100,\"\")&IF((Z101)=101,$BM$101,\"\")&IF((Z101)=102,$BM$102,\"\")&IF((Z101)=103,$BM$103,\"\")&IF((Z101)=104,$BM$104,\"\")&IF((Z101)=105,$BM$105,\"\")&IF((Z101)=106,$BM$106,\"\")&IF((Z101)=107,$BM$107,\"\")&IF((Z101)=108,$BM$108,\"\")&IF((Z101)=109,$BM$109,\"\")&IF((Z101)=110,$BM$110,\"\")&IF((Z101)=111,$BM$111,\"\")&IF((Z101)=112,$BM$112,\"\")&IF((Z101)=113,$BM$113,\"\")&IF((Z101)=114,$BM$114,\"\")&IF((Z101)=115,$BM$115,\"\")&IF((Z101)=116,$BM$116,\"\")&IF((Z101)=117,$BM$117,\"\")&IF((Z101)=118,$BM$118,\"\")&IF((Z101)=119,$BM$119,\"\")&IF((Z101)=120,$BM$120,\"\")&IF((Z101)=121,$BM$121,\"\")&IF((Z101)=122,$BM$122,\"\")&IF((Z101)=123,$BM$123,\"\")&IF((Z101)=124,$BM$124,\"\")&IF((Z101)=125,$BM$125,\"\")&IF((Z101)=126,$BM$126,\"\")&IF((Z101)=127,$BM$127,\"\")&IF((Z101)=128,$BM$128,\"\")","v":""},null,{"$f":"IF((Z101)=1,$BN$1,\"\")&IF((Z101)=2,$BN$2,\"\")&IF((Z101)=3,$BN$3,\"\")&IF((Z101)=4,$BN$4,\"\")&IF((Z101)=5,$BN$5,\"\")&IF((Z101)=6,$BN$6,\"\")&IF((Z101)=7,$BN$7,\"\")&IF((Z101)=8,$BN$8,\"\")&IF((Z101)=9,$BN$9,\"\")&IF((Z101)=10,$BN$10,\"\")&IF((Z101)=11,$BN$11,\"\")&IF((Z101)=12,$BN$12,\"\")&IF((Z101)=13,$BN$13,\"\")&IF((Z101)=14,$BN$14,\"\")&IF((Z101)=15,$BN$15,\"\")&IF((Z101)=16,$BN$16,\"\")&IF((Z101)=17,$BN$17,\"\")&IF((Z101)=18,$BN$18,\"\")&IF((Z101)=19,$BN$19,\"\")&IF((Z101)=20,$BN$20,\"\")&IF((Z101)=21,$BN$21,\"\")&IF((Z101)=22,$BN$22,\"\")&IF((Z101)=23,$BN$23,\"\")&IF((Z101)=24,$BN$24,\"\")&IF((Z101)=25,$BN$25,\"\")&IF((Z101)=26,$BN$26,\"\")&IF((Z101)=27,$BN$27,\"\")&IF((Z101)=28,$BN$28,\"\")&IF((Z101)=29,$BN$29,\"\")&IF((Z101)=30,$BN$30,\"\")&IF((Z101)=31,$BN$31,\"\")&IF((Z101)=32,$BN$32,\"\")&IF((Z101)=33,$BN$33,\"\")&IF((Z101)=34,$BN$34,\"\")&IF((Z101)=35,$BN$35,\"\")&IF((Z101)=36,$BN$36,\"\")&IF((Z101)=37,$BN$37,\"\")&IF((Z101)=38,$BN$38,\"\")&IF((Z101)=39,$BN$39,\"\")&IF((Z101)=40,$BN$40,\"\")&IF((Z101)=41,$BN$41,\"\")&IF((Z101)=42,$BN$42,\"\")&IF((Z101)=43,$BN$43,\"\")&IF((Z101)=44,$BN$44,\"\")&IF((Z101)=45,$BN$45,\"\")&IF((Z101)=46,$BN$46,\"\")&IF((Z101)=47,$BN$47,\"\")&IF((Z101)=48,$BN$48,\"\")&IF((Z101)=49,$BN$49,\"\")&IF((Z101)=50,$BN$50,\"\")&IF((Z101)=51,$BN$51,\"\")&IF((Z101)=52,$BN$52,\"\")&IF((Z101)=53,$BN$53,\"\")&IF((Z101)=54,$BN$54,\"\")&IF((Z101)=55,$BN$55,\"\")&IF((Z101)=56,$BN$56,\"\")&IF((Z101)=57,$BN$57,\"\")&IF((Z101)=58,$BN$58,\"\")&IF((Z101)=59,$BN$59,\"\")&IF((Z101)=60,$BN$60,\"\")&IF((Z101)=61,$BN$61,\"\")&IF((Z101)=62,$BN$62,\"\")&IF((Z101)=63,$BN$63,\"\")&IF((Z101)=64,$BN$64,\"\")&IF((Z101)=65,$BN$65,\"\")&IF((Z101)=66,$BN$66,\"\")&IF((Z101)=67,$BN$67,\"\")&IF((Z101)=68,$BN$68,\"\")&IF((Z101)=69,$BN$69,\"\")&IF((Z101)=70,$BN$70,\"\")&IF((Z101)=71,$BN$71,\"\")&IF((Z101)=72,$BN$72,\"\")&IF((Z101)=73,$BN$73,\"\")&IF((Z101)=74,$BN$74,\"\")&IF((Z101)=75,$BN$75,\"\")&IF((Z101)=76,$BN$76,\"\")&IF((Z101)=77,$BN$77,\"\")&IF((Z101)=78,$BN$78,\"\")&IF((Z101)=79,$BN$79,\"\")&IF((Z101)=80,$BN$80,\"\")&IF((Z101)=81,$BN$81,\"\")&IF((Z101)=82,$BN$82,\"\")&IF((Z101)=83,$BN$83,\"\")&IF((Z101)=84,$BN$84,\"\")&IF((Z101)=85,$BN$85,\"\")&IF((Z101)=86,$BN$86,\"\")&IF((Z101)=87,$BN$87,\"\")&IF((Z101)=88,$BN$88,\"\")&IF((Z101)=89,$BN$89,\"\")&IF((Z101)=90,$BN$90,\"\")&IF((Z101)=91,$BN$91,\"\")&IF((Z101)=92,$BN$92,\"\")&IF((Z101)=93,$BN$93,\"\")&IF((Z101)=94,$BN$94,\"\")&IF((Z101)=95,$BN$95,\"\")&IF((Z101)=96,$BN$96,\"\")&IF((Z101)=97,$BN$97,\"\")&IF((Z101)=98,$BN$98,\"\")&IF((Z101)=99,$BN$99,\"\")&IF((Z101)=100,$BN$100,\"\")&IF((Z101)=101,$BN$101,\"\")&IF((Z101)=102,$BN$102,\"\")&IF((Z101)=103,$BN$103,\"\")&IF((Z101)=104,$BN$104,\"\")&IF((Z101)=105,$BN$105,\"\")&IF((Z101)=106,$BN$106,\"\")&IF((Z101)=107,$BN$107,\"\")&IF((Z101)=108,$BN$108,\"\")&IF((Z101)=109,$BN$109,\"\")&IF((Z101)=110,$BN$110,\"\")&IF((Z101)=111,$BN$111,\"\")&IF((Z101)=112,$BN$112,\"\")&IF((Z101)=113,$BN$113,\"\")&IF((Z101)=114,$BN$114,\"\")&IF((Z101)=115,$BN$115,\"\")&IF((Z101)=116,$BN$116,\"\")&IF((Z101)=117,$BN$117,\"\")&IF((Z101)=118,$BN$118,\"\")&IF((Z101)=119,$BN$119,\"\")&IF((Z101)=120,$BN$120,\"\")&IF((Z101)=121,$BN$121,\"\")&IF((Z101)=122,$BN$122,\"\")&IF((Z101)=123,$BN$123,\"\")&IF((Z101)=124,$BN$124,\"\")&IF((Z101)=125,$BN$125,\"\")&IF((Z101)=126,$BN$126,\"\")&IF((Z101)=127,$BN$127,\"\")&IF((Z101)=128,$BN$128,\"\")","v":""},null,{"$f":"IF((AD101)=1,$BM$1,\"\")&IF((AD101)=2,$BM$2,\"\")&IF((AD101)=3,$BM$3,\"\")&IF((AD101)=4,$BM$4,\"\")&IF((AD101)=5,$BM$5,\"\")&IF((AD101)=6,$BM$6,\"\")&IF((AD101)=7,$BM$7,\"\")&IF((AD101)=8,$BM$8,\"\")&IF((AD101)=9,$BM$9,\"\")&IF((AD101)=10,$BM$10,\"\")&IF((AD101)=11,$BM$11,\"\")&IF((AD101)=12,$BM$12,\"\")&IF((AD101)=13,$BM$13,\"\")&IF((AD101)=14,$BM$14,\"\")&IF((AD101)=15,$BM$15,\"\")&IF((AD101)=16,$BM$16,\"\")&IF((AD101)=17,$BM$17,\"\")&IF((AD101)=18,$BM$18,\"\")&IF((AD101)=19,$BM$19,\"\")&IF((AD101)=20,$BM$20,\"\")&IF((AD101)=21,$BM$21,\"\")&IF((AD101)=22,$BM$22,\"\")&IF((AD101)=23,$BM$23,\"\")&IF((AD101)=24,$BM$24,\"\")&IF((AD101)=25,$BM$25,\"\")&IF((AD101)=26,$BM$26,\"\")&IF((AD101)=27,$BM$27,\"\")&IF((AD101)=28,$BM$28,\"\")&IF((AD101)=29,$BM$29,\"\")&IF((AD101)=30,$BM$30,\"\")&IF((AD101)=31,$BM$31,\"\")&IF((AD101)=32,$BM$32,\"\")&IF((AD101)=33,$BM$33,\"\")&IF((AD101)=34,$BM$34,\"\")&IF((AD101)=35,$BM$35,\"\")&IF((AD101)=36,$BM$36,\"\")&IF((AD101)=37,$BM$37,\"\")&IF((AD101)=38,$BM$38,\"\")&IF((AD101)=39,$BM$39,\"\")&IF((AD101)=40,$BM$40,\"\")&IF((AD101)=41,$BM$41,\"\")&IF((AD101)=42,$BM$42,\"\")&IF((AD101)=43,$BM$43,\"\")&IF((AD101)=44,$BM$44,\"\")&IF((AD101)=45,$BM$45,\"\")&IF((AD101)=46,$BM$46,\"\")&IF((AD101)=47,$BM$47,\"\")&IF((AD101)=48,$BM$48,\"\")&IF((AD101)=49,$BM$49,\"\")&IF((AD101)=50,$BM$50,\"\")&IF((AD101)=51,$BM$51,\"\")&IF((AD101)=52,$BM$52,\"\")&IF((AD101)=53,$BM$53,\"\")&IF((AD101)=54,$BM$54,\"\")&IF((AD101)=55,$BM$55,\"\")&IF((AD101)=56,$BM$56,\"\")&IF((AD101)=57,$BM$57,\"\")&IF((AD101)=58,$BM$58,\"\")&IF((AD101)=59,$BM$59,\"\")&IF((AD101)=60,$BM$60,\"\")&IF((AD101)=61,$BM$61,\"\")&IF((AD101)=62,$BM$62,\"\")&IF((AD101)=63,$BM$63,\"\")&IF((AD101)=64,$BM$64,\"\")&IF((AD101)=65,$BM$65,\"\")&IF((AD101)=66,$BM$66,\"\")&IF((AD101)=67,$BM$67,\"\")&IF((AD101)=68,$BM$68,\"\")&IF((AD101)=69,$BM$69,\"\")&IF((AD101)=70,$BM$70,\"\")&IF((AD101)=71,$BM$71,\"\")&IF((AD101)=72,$BM$72,\"\")&IF((AD101)=73,$BM$73,\"\")&IF((AD101)=74,$BM$74,\"\")&IF((AD101)=75,$BM$75,\"\")&IF((AD101)=76,$BM$76,\"\")&IF((AD101)=77,$BM$77,\"\")&IF((AD101)=78,$BM$78,\"\")&IF((AD101)=79,$BM$79,\"\")&IF((AD101)=80,$BM$80,\"\")&IF((AD101)=81,$BM$81,\"\")&IF((AD101)=82,$BM$82,\"\")&IF((AD101)=83,$BM$83,\"\")&IF((AD101)=84,$BM$84,\"\")&IF((AD101)=85,$BM$85,\"\")&IF((AD101)=86,$BM$86,\"\")&IF((AD101)=87,$BM$87,\"\")&IF((AD101)=88,$BM$88,\"\")&IF((AD101)=89,$BM$89,\"\")&IF((AD101)=90,$BM$90,\"\")&IF((AD101)=91,$BM$91,\"\")&IF((AD101)=92,$BM$92,\"\")&IF((AD101)=93,$BM$93,\"\")&IF((AD101)=94,$BM$94,\"\")&IF((AD101)=95,$BM$95,\"\")&IF((AD101)=96,$BM$96,\"\")&IF((AD101)=97,$BM$97,\"\")&IF((AD101)=98,$BM$98,\"\")&IF((AD101)=99,$BM$99,\"\")&IF((AD101)=100,$BM$100,\"\")&IF((AD101)=101,$BM$101,\"\")&IF((AD101)=102,$BM$102,\"\")&IF((AD101)=103,$BM$103,\"\")&IF((AD101)=104,$BM$104,\"\")&IF((AD101)=105,$BM$105,\"\")&IF((AD101)=106,$BM$106,\"\")&IF((AD101)=107,$BM$107,\"\")&IF((AD101)=108,$BM$108,\"\")&IF((AD101)=109,$BM$109,\"\")&IF((AD101)=110,$BM$110,\"\")&IF((AD101)=111,$BM$111,\"\")&IF((AD101)=112,$BM$112,\"\")&IF((AD101)=113,$BM$113,\"\")&IF((AD101)=114,$BM$114,\"\")&IF((AD101)=115,$BM$115,\"\")&IF((AD101)=116,$BM$116,\"\")&IF((AD101)=117,$BM$117,\"\")&IF((AD101)=118,$BM$118,\"\")&IF((AD101)=119,$BM$119,\"\")&IF((AD101)=120,$BM$120,\"\")&IF((AD101)=121,$BM$121,\"\")&IF((AD101)=122,$BM$122,\"\")&IF((AD101)=123,$BM$123,\"\")&IF((AD101)=124,$BM$124,\"\")&IF((AD101)=125,$BM$125,\"\")&IF((AD101)=126,$BM$126,\"\")&IF((AD101)=127,$BM$127,\"\")&IF((AD101)=128,$BM$128,\"\")","v":""},null,{"$f":"IF((AD101)=1,$BN$1,\"\")&IF((AD101)=2,$BN$2,\"\")&IF((AD101)=3,$BN$3,\"\")&IF((AD101)=4,$BN$4,\"\")&IF((AD101)=5,$BN$5,\"\")&IF((AD101)=6,$BN$6,\"\")&IF((AD101)=7,$BN$7,\"\")&IF((AD101)=8,$BN$8,\"\")&IF((AD101)=9,$BN$9,\"\")&IF((AD101)=10,$BN$10,\"\")&IF((AD101)=11,$BN$11,\"\")&IF((AD101)=12,$BN$12,\"\")&IF((AD101)=13,$BN$13,\"\")&IF((AD101)=14,$BN$14,\"\")&IF((AD101)=15,$BN$15,\"\")&IF((AD101)=16,$BN$16,\"\")&IF((AD101)=17,$BN$17,\"\")&IF((AD101)=18,$BN$18,\"\")&IF((AD101)=19,$BN$19,\"\")&IF((AD101)=20,$BN$20,\"\")&IF((AD101)=21,$BN$21,\"\")&IF((AD101)=22,$BN$22,\"\")&IF((AD101)=23,$BN$23,\"\")&IF((AD101)=24,$BN$24,\"\")&IF((AD101)=25,$BN$25,\"\")&IF((AD101)=26,$BN$26,\"\")&IF((AD101)=27,$BN$27,\"\")&IF((AD101)=28,$BN$28,\"\")&IF((AD101)=29,$BN$29,\"\")&IF((AD101)=30,$BN$30,\"\")&IF((AD101)=31,$BN$31,\"\")&IF((AD101)=32,$BN$32,\"\")&IF((AD101)=33,$BN$33,\"\")&IF((AD101)=34,$BN$34,\"\")&IF((AD101)=35,$BN$35,\"\")&IF((AD101)=36,$BN$36,\"\")&IF((AD101)=37,$BN$37,\"\")&IF((AD101)=38,$BN$38,\"\")&IF((AD101)=39,$BN$39,\"\")&IF((AD101)=40,$BN$40,\"\")&IF((AD101)=41,$BN$41,\"\")&IF((AD101)=42,$BN$42,\"\")&IF((AD101)=43,$BN$43,\"\")&IF((AD101)=44,$BN$44,\"\")&IF((AD101)=45,$BN$45,\"\")&IF((AD101)=46,$BN$46,\"\")&IF((AD101)=47,$BN$47,\"\")&IF((AD101)=48,$BN$48,\"\")&IF((AD101)=49,$BN$49,\"\")&IF((AD101)=50,$BN$50,\"\")&IF((AD101)=51,$BN$51,\"\")&IF((AD101)=52,$BN$52,\"\")&IF((AD101)=53,$BN$53,\"\")&IF((AD101)=54,$BN$54,\"\")&IF((AD101)=55,$BN$55,\"\")&IF((AD101)=56,$BN$56,\"\")&IF((AD101)=57,$BN$57,\"\")&IF((AD101)=58,$BN$58,\"\")&IF((AD101)=59,$BN$59,\"\")&IF((AD101)=60,$BN$60,\"\")&IF((AD101)=61,$BN$61,\"\")&IF((AD101)=62,$BN$62,\"\")&IF((AD101)=63,$BN$63,\"\")&IF((AD101)=64,$BN$64,\"\")&IF((AD101)=65,$BN$65,\"\")&IF((AD101)=66,$BN$66,\"\")&IF((AD101)=67,$BN$67,\"\")&IF((AD101)=68,$BN$68,\"\")&IF((AD101)=69,$BN$69,\"\")&IF((AD101)=70,$BN$70,\"\")&IF((AD101)=71,$BN$71,\"\")&IF((AD101)=72,$BN$72,\"\")&IF((AD101)=73,$BN$73,\"\")&IF((AD101)=74,$BN$74,\"\")&IF((AD101)=75,$BN$75,\"\")&IF((AD101)=76,$BN$76,\"\")&IF((AD101)=77,$BN$77,\"\")&IF((AD101)=78,$BN$78,\"\")&IF((AD101)=79,$BN$79,\"\")&IF((AD101)=80,$BN$80,\"\")&IF((AD101)=81,$BN$81,\"\")&IF((AD101)=82,$BN$82,\"\")&IF((AD101)=83,$BN$83,\"\")&IF((AD101)=84,$BN$84,\"\")&IF((AD101)=85,$BN$85,\"\")&IF((AD101)=86,$BN$86,\"\")&IF((AD101)=87,$BN$87,\"\")&IF((AD101)=88,$BN$88,\"\")&IF((AD101)=89,$BN$89,\"\")&IF((AD101)=90,$BN$90,\"\")&IF((AD101)=91,$BN$91,\"\")&IF((AD101)=92,$BN$92,\"\")&IF((AD101)=93,$BN$93,\"\")&IF((AD101)=94,$BN$94,\"\")&IF((AD101)=95,$BN$95,\"\")&IF((AD101)=96,$BN$96,\"\")&IF((AD101)=97,$BN$97,\"\")&IF((AD101)=98,$BN$98,\"\")&IF((AD101)=99,$BN$99,\"\")&IF((AD101)=100,$BN$100,\"\")&IF((AD101)=101,$BN$101,\"\")&IF((AD101)=102,$BN$102,\"\")&IF((AD101)=103,$BN$103,\"\")&IF((AD101)=104,$BN$104,\"\")&IF((AD101)=105,$BN$105,\"\")&IF((AD101)=106,$BN$106,\"\")&IF((AD101)=107,$BN$107,\"\")&IF((AD101)=108,$BN$108,\"\")&IF((AD101)=109,$BN$109,\"\")&IF((AD101)=110,$BN$110,\"\")&IF((AD101)=111,$BN$111,\"\")&IF((AD101)=112,$BN$112,\"\")&IF((AD101)=113,$BN$113,\"\")&IF((AD101)=114,$BN$114,\"\")&IF((AD101)=115,$BN$115,\"\")&IF((AD101)=116,$BN$116,\"\")&IF((AD101)=117,$BN$117,\"\")&IF((AD101)=118,$BN$118,\"\")&IF((AD101)=119,$BN$119,\"\")&IF((AD101)=120,$BN$120,\"\")&IF((AD101)=121,$BN$121,\"\")&IF((AD101)=122,$BN$122,\"\")&IF((AD101)=123,$BN$123,\"\")&IF((AD101)=124,$BN$124,\"\")&IF((AD101)=125,$BN$125,\"\")&IF((AD101)=126,$BN$126,\"\")&IF((AD101)=127,$BN$127,\"\")&IF((AD101)=128,$BN$128,\"\")","v":""},null,null,null,{"$f":"IF((AJ101)=1,$BM$1,\"\")&IF((AJ101)=2,$BM$2,\"\")&IF((AJ101)=3,$BM$3,\"\")&IF((AJ101)=4,$BM$4,\"\")&IF((AJ101)=5,$BM$5,\"\")&IF((AJ101)=6,$BM$6,\"\")&IF((AJ101)=7,$BM$7,\"\")&IF((AJ101)=8,$BM$8,\"\")&IF((AJ101)=9,$BM$9,\"\")&IF((AJ101)=10,$BM$10,\"\")&IF((AJ101)=11,$BM$11,\"\")&IF((AJ101)=12,$BM$12,\"\")&IF((AJ101)=13,$BM$13,\"\")&IF((AJ101)=14,$BM$14,\"\")&IF((AJ101)=15,$BM$15,\"\")&IF((AJ101)=16,$BM$16,\"\")&IF((AJ101)=17,$BM$17,\"\")&IF((AJ101)=18,$BM$18,\"\")&IF((AJ101)=19,$BM$19,\"\")&IF((AJ101)=20,$BM$20,\"\")&IF((AJ101)=21,$BM$21,\"\")&IF((AJ101)=22,$BM$22,\"\")&IF((AJ101)=23,$BM$23,\"\")&IF((AJ101)=24,$BM$24,\"\")&IF((AJ101)=25,$BM$25,\"\")&IF((AJ101)=26,$BM$26,\"\")&IF((AJ101)=27,$BM$27,\"\")&IF((AJ101)=28,$BM$28,\"\")&IF((AJ101)=29,$BM$29,\"\")&IF((AJ101)=30,$BM$30,\"\")&IF((AJ101)=31,$BM$31,\"\")&IF((AJ101)=32,$BM$32,\"\")&IF((AJ101)=33,$BM$33,\"\")&IF((AJ101)=34,$BM$34,\"\")&IF((AJ101)=35,$BM$35,\"\")&IF((AJ101)=36,$BM$36,\"\")&IF((AJ101)=37,$BM$37,\"\")&IF((AJ101)=38,$BM$38,\"\")&IF((AJ101)=39,$BM$39,\"\")&IF((AJ101)=40,$BM$40,\"\")&IF((AJ101)=41,$BM$41,\"\")&IF((AJ101)=42,$BM$42,\"\")&IF((AJ101)=43,$BM$43,\"\")&IF((AJ101)=44,$BM$44,\"\")&IF((AJ101)=45,$BM$45,\"\")&IF((AJ101)=46,$BM$46,\"\")&IF((AJ101)=47,$BM$47,\"\")&IF((AJ101)=48,$BM$48,\"\")&IF((AJ101)=49,$BM$49,\"\")&IF((AJ101)=50,$BM$50,\"\")&IF((AJ101)=51,$BM$51,\"\")&IF((AJ101)=52,$BM$52,\"\")&IF((AJ101)=53,$BM$53,\"\")&IF((AJ101)=54,$BM$54,\"\")&IF((AJ101)=55,$BM$55,\"\")&IF((AJ101)=56,$BM$56,\"\")&IF((AJ101)=57,$BM$57,\"\")&IF((AJ101)=58,$BM$58,\"\")&IF((AJ101)=59,$BM$59,\"\")&IF((AJ101)=60,$BM$60,\"\")&IF((AJ101)=61,$BM$61,\"\")&IF((AJ101)=62,$BM$62,\"\")&IF((AJ101)=63,$BM$63,\"\")&IF((AJ101)=64,$BM$64,\"\")&IF((AJ101)=65,$BM$65,\"\")&IF((AJ101)=66,$BM$66,\"\")&IF((AJ101)=67,$BM$67,\"\")&IF((AJ101)=68,$BM$68,\"\")&IF((AJ101)=69,$BM$69,\"\")&IF((AJ101)=70,$BM$70,\"\")&IF((AJ101)=71,$BM$71,\"\")&IF((AJ101)=72,$BM$72,\"\")&IF((AJ101)=73,$BM$73,\"\")&IF((AJ101)=74,$BM$74,\"\")&IF((AJ101)=75,$BM$75,\"\")&IF((AJ101)=76,$BM$76,\"\")&IF((AJ101)=77,$BM$77,\"\")&IF((AJ101)=78,$BM$78,\"\")&IF((AJ101)=79,$BM$79,\"\")&IF((AJ101)=80,$BM$80,\"\")&IF((AJ101)=81,$BM$81,\"\")&IF((AJ101)=82,$BM$82,\"\")&IF((AJ101)=83,$BM$83,\"\")&IF((AJ101)=84,$BM$84,\"\")&IF((AJ101)=85,$BM$85,\"\")&IF((AJ101)=86,$BM$86,\"\")&IF((AJ101)=87,$BM$87,\"\")&IF((AJ101)=88,$BM$88,\"\")&IF((AJ101)=89,$BM$89,\"\")&IF((AJ101)=90,$BM$90,\"\")&IF((AJ101)=91,$BM$91,\"\")&IF((AJ101)=92,$BM$92,\"\")&IF((AJ101)=93,$BM$93,\"\")&IF((AJ101)=94,$BM$94,\"\")&IF((AJ101)=95,$BM$95,\"\")&IF((AJ101)=96,$BM$96,\"\")&IF((AJ101)=97,$BM$97,\"\")&IF((AJ101)=98,$BM$98,\"\")&IF((AJ101)=99,$BM$99,\"\")&IF((AJ101)=100,$BM$100,\"\")&IF((AJ101)=101,$BM$101,\"\")&IF((AJ101)=102,$BM$102,\"\")&IF((AJ101)=103,$BM$103,\"\")&IF((AJ101)=104,$BM$104,\"\")&IF((AJ101)=105,$BM$105,\"\")&IF((AJ101)=106,$BM$106,\"\")&IF((AJ101)=107,$BM$107,\"\")&IF((AJ101)=108,$BM$108,\"\")&IF((AJ101)=109,$BM$109,\"\")&IF((AJ101)=110,$BM$110,\"\")&IF((AJ101)=111,$BM$111,\"\")&IF((AJ101)=112,$BM$112,\"\")&IF((AJ101)=113,$BM$113,\"\")&IF((AJ101)=114,$BM$114,\"\")&IF((AJ101)=115,$BM$115,\"\")&IF((AJ101)=116,$BM$116,\"\")&IF((AJ101)=117,$BM$117,\"\")&IF((AJ101)=118,$BM$118,\"\")&IF((AJ101)=119,$BM$119,\"\")&IF((AJ101)=120,$BM$120,\"\")&IF((AJ101)=121,$BM$121,\"\")&IF((AJ101)=122,$BM$122,\"\")&IF((AJ101)=123,$BM$123,\"\")&IF((AJ101)=124,$BM$124,\"\")&IF((AJ101)=125,$BM$125,\"\")&IF((AJ101)=126,$BM$126,\"\")&IF((AJ101)=127,$BM$127,\"\")&IF((AJ101)=128,$BM$128,\"\")","v":""},null,{"$f":"IF((AJ101)=1,$BN$1,\"\")&IF((AJ101)=2,$BN$2,\"\")&IF((AJ101)=3,$BN$3,\"\")&IF((AJ101)=4,$BN$4,\"\")&IF((AJ101)=5,$BN$5,\"\")&IF((AJ101)=6,$BN$6,\"\")&IF((AJ101)=7,$BN$7,\"\")&IF((AJ101)=8,$BN$8,\"\")&IF((AJ101)=9,$BN$9,\"\")&IF((AJ101)=10,$BN$10,\"\")&IF((AJ101)=11,$BN$11,\"\")&IF((AJ101)=12,$BN$12,\"\")&IF((AJ101)=13,$BN$13,\"\")&IF((AJ101)=14,$BN$14,\"\")&IF((AJ101)=15,$BN$15,\"\")&IF((AJ101)=16,$BN$16,\"\")&IF((AJ101)=17,$BN$17,\"\")&IF((AJ101)=18,$BN$18,\"\")&IF((AJ101)=19,$BN$19,\"\")&IF((AJ101)=20,$BN$20,\"\")&IF((AJ101)=21,$BN$21,\"\")&IF((AJ101)=22,$BN$22,\"\")&IF((AJ101)=23,$BN$23,\"\")&IF((AJ101)=24,$BN$24,\"\")&IF((AJ101)=25,$BN$25,\"\")&IF((AJ101)=26,$BN$26,\"\")&IF((AJ101)=27,$BN$27,\"\")&IF((AJ101)=28,$BN$28,\"\")&IF((AJ101)=29,$BN$29,\"\")&IF((AJ101)=30,$BN$30,\"\")&IF((AJ101)=31,$BN$31,\"\")&IF((AJ101)=32,$BN$32,\"\")&IF((AJ101)=33,$BN$33,\"\")&IF((AJ101)=34,$BN$34,\"\")&IF((AJ101)=35,$BN$35,\"\")&IF((AJ101)=36,$BN$36,\"\")&IF((AJ101)=37,$BN$37,\"\")&IF((AJ101)=38,$BN$38,\"\")&IF((AJ101)=39,$BN$39,\"\")&IF((AJ101)=40,$BN$40,\"\")&IF((AJ101)=41,$BN$41,\"\")&IF((AJ101)=42,$BN$42,\"\")&IF((AJ101)=43,$BN$43,\"\")&IF((AJ101)=44,$BN$44,\"\")&IF((AJ101)=45,$BN$45,\"\")&IF((AJ101)=46,$BN$46,\"\")&IF((AJ101)=47,$BN$47,\"\")&IF((AJ101)=48,$BN$48,\"\")&IF((AJ101)=49,$BN$49,\"\")&IF((AJ101)=50,$BN$50,\"\")&IF((AJ101)=51,$BN$51,\"\")&IF((AJ101)=52,$BN$52,\"\")&IF((AJ101)=53,$BN$53,\"\")&IF((AJ101)=54,$BN$54,\"\")&IF((AJ101)=55,$BN$55,\"\")&IF((AJ101)=56,$BN$56,\"\")&IF((AJ101)=57,$BN$57,\"\")&IF((AJ101)=58,$BN$58,\"\")&IF((AJ101)=59,$BN$59,\"\")&IF((AJ101)=60,$BN$60,\"\")&IF((AJ101)=61,$BN$61,\"\")&IF((AJ101)=62,$BN$62,\"\")&IF((AJ101)=63,$BN$63,\"\")&IF((AJ101)=64,$BN$64,\"\")&IF((AJ101)=65,$BN$65,\"\")&IF((AJ101)=66,$BN$66,\"\")&IF((AJ101)=67,$BN$67,\"\")&IF((AJ101)=68,$BN$68,\"\")&IF((AJ101)=69,$BN$69,\"\")&IF((AJ101)=70,$BN$70,\"\")&IF((AJ101)=71,$BN$71,\"\")&IF((AJ101)=72,$BN$72,\"\")&IF((AJ101)=73,$BN$73,\"\")&IF((AJ101)=74,$BN$74,\"\")&IF((AJ101)=75,$BN$75,\"\")&IF((AJ101)=76,$BN$76,\"\")&IF((AJ101)=77,$BN$77,\"\")&IF((AJ101)=78,$BN$78,\"\")&IF((AJ101)=79,$BN$79,\"\")&IF((AJ101)=80,$BN$80,\"\")&IF((AJ101)=81,$BN$81,\"\")&IF((AJ101)=82,$BN$82,\"\")&IF((AJ101)=83,$BN$83,\"\")&IF((AJ101)=84,$BN$84,\"\")&IF((AJ101)=85,$BN$85,\"\")&IF((AJ101)=86,$BN$86,\"\")&IF((AJ101)=87,$BN$87,\"\")&IF((AJ101)=88,$BN$88,\"\")&IF((AJ101)=89,$BN$89,\"\")&IF((AJ101)=90,$BN$90,\"\")&IF((AJ101)=91,$BN$91,\"\")&IF((AJ101)=92,$BN$92,\"\")&IF((AJ101)=93,$BN$93,\"\")&IF((AJ101)=94,$BN$94,\"\")&IF((AJ101)=95,$BN$95,\"\")&IF((AJ101)=96,$BN$96,\"\")&IF((AJ101)=97,$BN$97,\"\")&IF((AJ101)=98,$BN$98,\"\")&IF((AJ101)=99,$BN$99,\"\")&IF((AJ101)=100,$BN$100,\"\")&IF((AJ101)=101,$BN$101,\"\")&IF((AJ101)=102,$BN$102,\"\")&IF((AJ101)=103,$BN$103,\"\")&IF((AJ101)=104,$BN$104,\"\")&IF((AJ101)=105,$BN$105,\"\")&IF((AJ101)=106,$BN$106,\"\")&IF((AJ101)=107,$BN$107,\"\")&IF((AJ101)=108,$BN$108,\"\")&IF((AJ101)=109,$BN$109,\"\")&IF((AJ101)=110,$BN$110,\"\")&IF((AJ101)=111,$BN$111,\"\")&IF((AJ101)=112,$BN$112,\"\")&IF((AJ101)=113,$BN$113,\"\")&IF((AJ101)=114,$BN$114,\"\")&IF((AJ101)=115,$BN$115,\"\")&IF((AJ101)=116,$BN$116,\"\")&IF((AJ101)=117,$BN$117,\"\")&IF((AJ101)=118,$BN$118,\"\")&IF((AJ101)=119,$BN$119,\"\")&IF((AJ101)=120,$BN$120,\"\")&IF((AJ101)=121,$BN$121,\"\")&IF((AJ101)=122,$BN$122,\"\")&IF((AJ101)=123,$BN$123,\"\")&IF((AJ101)=124,$BN$124,\"\")&IF((AJ101)=125,$BN$125,\"\")&IF((AJ101)=126,$BN$126,\"\")&IF((AJ101)=127,$BN$127,\"\")&IF((AJ101)=128,$BN$128,\"\")","v":""},null,{"$f":"IF((AN101)=1,$BM$1,\"\")&IF((AN101)=2,$BM$2,\"\")&IF((AN101)=3,$BM$3,\"\")&IF((AN101)=4,$BM$4,\"\")&IF((AN101)=5,$BM$5,\"\")&IF((AN101)=6,$BM$6,\"\")&IF((AN101)=7,$BM$7,\"\")&IF((AN101)=8,$BM$8,\"\")&IF((AN101)=9,$BM$9,\"\")&IF((AN101)=10,$BM$10,\"\")&IF((AN101)=11,$BM$11,\"\")&IF((AN101)=12,$BM$12,\"\")&IF((AN101)=13,$BM$13,\"\")&IF((AN101)=14,$BM$14,\"\")&IF((AN101)=15,$BM$15,\"\")&IF((AN101)=16,$BM$16,\"\")&IF((AN101)=17,$BM$17,\"\")&IF((AN101)=18,$BM$18,\"\")&IF((AN101)=19,$BM$19,\"\")&IF((AN101)=20,$BM$20,\"\")&IF((AN101)=21,$BM$21,\"\")&IF((AN101)=22,$BM$22,\"\")&IF((AN101)=23,$BM$23,\"\")&IF((AN101)=24,$BM$24,\"\")&IF((AN101)=25,$BM$25,\"\")&IF((AN101)=26,$BM$26,\"\")&IF((AN101)=27,$BM$27,\"\")&IF((AN101)=28,$BM$28,\"\")&IF((AN101)=29,$BM$29,\"\")&IF((AN101)=30,$BM$30,\"\")&IF((AN101)=31,$BM$31,\"\")&IF((AN101)=32,$BM$32,\"\")&IF((AN101)=33,$BM$33,\"\")&IF((AN101)=34,$BM$34,\"\")&IF((AN101)=35,$BM$35,\"\")&IF((AN101)=36,$BM$36,\"\")&IF((AN101)=37,$BM$37,\"\")&IF((AN101)=38,$BM$38,\"\")&IF((AN101)=39,$BM$39,\"\")&IF((AN101)=40,$BM$40,\"\")&IF((AN101)=41,$BM$41,\"\")&IF((AN101)=42,$BM$42,\"\")&IF((AN101)=43,$BM$43,\"\")&IF((AN101)=44,$BM$44,\"\")&IF((AN101)=45,$BM$45,\"\")&IF((AN101)=46,$BM$46,\"\")&IF((AN101)=47,$BM$47,\"\")&IF((AN101)=48,$BM$48,\"\")&IF((AN101)=49,$BM$49,\"\")&IF((AN101)=50,$BM$50,\"\")&IF((AN101)=51,$BM$51,\"\")&IF((AN101)=52,$BM$52,\"\")&IF((AN101)=53,$BM$53,\"\")&IF((AN101)=54,$BM$54,\"\")&IF((AN101)=55,$BM$55,\"\")&IF((AN101)=56,$BM$56,\"\")&IF((AN101)=57,$BM$57,\"\")&IF((AN101)=58,$BM$58,\"\")&IF((AN101)=59,$BM$59,\"\")&IF((AN101)=60,$BM$60,\"\")&IF((AN101)=61,$BM$61,\"\")&IF((AN101)=62,$BM$62,\"\")&IF((AN101)=63,$BM$63,\"\")&IF((AN101)=64,$BM$64,\"\")&IF((AN101)=65,$BM$65,\"\")&IF((AN101)=66,$BM$66,\"\")&IF((AN101)=67,$BM$67,\"\")&IF((AN101)=68,$BM$68,\"\")&IF((AN101)=69,$BM$69,\"\")&IF((AN101)=70,$BM$70,\"\")&IF((AN101)=71,$BM$71,\"\")&IF((AN101)=72,$BM$72,\"\")&IF((AN101)=73,$BM$73,\"\")&IF((AN101)=74,$BM$74,\"\")&IF((AN101)=75,$BM$75,\"\")&IF((AN101)=76,$BM$76,\"\")&IF((AN101)=77,$BM$77,\"\")&IF((AN101)=78,$BM$78,\"\")&IF((AN101)=79,$BM$79,\"\")&IF((AN101)=80,$BM$80,\"\")&IF((AN101)=81,$BM$81,\"\")&IF((AN101)=82,$BM$82,\"\")&IF((AN101)=83,$BM$83,\"\")&IF((AN101)=84,$BM$84,\"\")&IF((AN101)=85,$BM$85,\"\")&IF((AN101)=86,$BM$86,\"\")&IF((AN101)=87,$BM$87,\"\")&IF((AN101)=88,$BM$88,\"\")&IF((AN101)=89,$BM$89,\"\")&IF((AN101)=90,$BM$90,\"\")&IF((AN101)=91,$BM$91,\"\")&IF((AN101)=92,$BM$92,\"\")&IF((AN101)=93,$BM$93,\"\")&IF((AN101)=94,$BM$94,\"\")&IF((AN101)=95,$BM$95,\"\")&IF((AN101)=96,$BM$96,\"\")&IF((AN101)=97,$BM$97,\"\")&IF((AN101)=98,$BM$98,\"\")&IF((AN101)=99,$BM$99,\"\")&IF((AN101)=100,$BM$100,\"\")&IF((AN101)=101,$BM$101,\"\")&IF((AN101)=102,$BM$102,\"\")&IF((AN101)=103,$BM$103,\"\")&IF((AN101)=104,$BM$104,\"\")&IF((AN101)=105,$BM$105,\"\")&IF((AN101)=106,$BM$106,\"\")&IF((AN101)=107,$BM$107,\"\")&IF((AN101)=108,$BM$108,\"\")&IF((AN101)=109,$BM$109,\"\")&IF((AN101)=110,$BM$110,\"\")&IF((AN101)=111,$BM$111,\"\")&IF((AN101)=112,$BM$112,\"\")&IF((AN101)=113,$BM$113,\"\")&IF((AN101)=114,$BM$114,\"\")&IF((AN101)=115,$BM$115,\"\")&IF((AN101)=116,$BM$116,\"\")&IF((AN101)=117,$BM$117,\"\")&IF((AN101)=118,$BM$118,\"\")&IF((AN101)=119,$BM$119,\"\")&IF((AN101)=120,$BM$120,\"\")&IF((AN101)=121,$BM$121,\"\")&IF((AN101)=122,$BM$122,\"\")&IF((AN101)=123,$BM$123,\"\")&IF((AN101)=124,$BM$124,\"\")&IF((AN101)=125,$BM$125,\"\")&IF((AN101)=126,$BM$126,\"\")&IF((AN101)=127,$BM$127,\"\")&IF((AN101)=128,$BM$128,\"\")","v":""},null,{"$f":"IF((AN101)=1,$BN$1,\"\")&IF((AN101)=2,$BN$2,\"\")&IF((AN101)=3,$BN$3,\"\")&IF((AN101)=4,$BN$4,\"\")&IF((AN101)=5,$BN$5,\"\")&IF((AN101)=6,$BN$6,\"\")&IF((AN101)=7,$BN$7,\"\")&IF((AN101)=8,$BN$8,\"\")&IF((AN101)=9,$BN$9,\"\")&IF((AN101)=10,$BN$10,\"\")&IF((AN101)=11,$BN$11,\"\")&IF((AN101)=12,$BN$12,\"\")&IF((AN101)=13,$BN$13,\"\")&IF((AN101)=14,$BN$14,\"\")&IF((AN101)=15,$BN$15,\"\")&IF((AN101)=16,$BN$16,\"\")&IF((AN101)=17,$BN$17,\"\")&IF((AN101)=18,$BN$18,\"\")&IF((AN101)=19,$BN$19,\"\")&IF((AN101)=20,$BN$20,\"\")&IF((AN101)=21,$BN$21,\"\")&IF((AN101)=22,$BN$22,\"\")&IF((AN101)=23,$BN$23,\"\")&IF((AN101)=24,$BN$24,\"\")&IF((AN101)=25,$BN$25,\"\")&IF((AN101)=26,$BN$26,\"\")&IF((AN101)=27,$BN$27,\"\")&IF((AN101)=28,$BN$28,\"\")&IF((AN101)=29,$BN$29,\"\")&IF((AN101)=30,$BN$30,\"\")&IF((AN101)=31,$BN$31,\"\")&IF((AN101)=32,$BN$32,\"\")&IF((AN101)=33,$BN$33,\"\")&IF((AN101)=34,$BN$34,\"\")&IF((AN101)=35,$BN$35,\"\")&IF((AN101)=36,$BN$36,\"\")&IF((AN101)=37,$BN$37,\"\")&IF((AN101)=38,$BN$38,\"\")&IF((AN101)=39,$BN$39,\"\")&IF((AN101)=40,$BN$40,\"\")&IF((AN101)=41,$BN$41,\"\")&IF((AN101)=42,$BN$42,\"\")&IF((AN101)=43,$BN$43,\"\")&IF((AN101)=44,$BN$44,\"\")&IF((AN101)=45,$BN$45,\"\")&IF((AN101)=46,$BN$46,\"\")&IF((AN101)=47,$BN$47,\"\")&IF((AN101)=48,$BN$48,\"\")&IF((AN101)=49,$BN$49,\"\")&IF((AN101)=50,$BN$50,\"\")&IF((AN101)=51,$BN$51,\"\")&IF((AN101)=52,$BN$52,\"\")&IF((AN101)=53,$BN$53,\"\")&IF((AN101)=54,$BN$54,\"\")&IF((AN101)=55,$BN$55,\"\")&IF((AN101)=56,$BN$56,\"\")&IF((AN101)=57,$BN$57,\"\")&IF((AN101)=58,$BN$58,\"\")&IF((AN101)=59,$BN$59,\"\")&IF((AN101)=60,$BN$60,\"\")&IF((AN101)=61,$BN$61,\"\")&IF((AN101)=62,$BN$62,\"\")&IF((AN101)=63,$BN$63,\"\")&IF((AN101)=64,$BN$64,\"\")&IF((AN101)=65,$BN$65,\"\")&IF((AN101)=66,$BN$66,\"\")&IF((AN101)=67,$BN$67,\"\")&IF((AN101)=68,$BN$68,\"\")&IF((AN101)=69,$BN$69,\"\")&IF((AN101)=70,$BN$70,\"\")&IF((AN101)=71,$BN$71,\"\")&IF((AN101)=72,$BN$72,\"\")&IF((AN101)=73,$BN$73,\"\")&IF((AN101)=74,$BN$74,\"\")&IF((AN101)=75,$BN$75,\"\")&IF((AN101)=76,$BN$76,\"\")&IF((AN101)=77,$BN$77,\"\")&IF((AN101)=78,$BN$78,\"\")&IF((AN101)=79,$BN$79,\"\")&IF((AN101)=80,$BN$80,\"\")&IF((AN101)=81,$BN$81,\"\")&IF((AN101)=82,$BN$82,\"\")&IF((AN101)=83,$BN$83,\"\")&IF((AN101)=84,$BN$84,\"\")&IF((AN101)=85,$BN$85,\"\")&IF((AN101)=86,$BN$86,\"\")&IF((AN101)=87,$BN$87,\"\")&IF((AN101)=88,$BN$88,\"\")&IF((AN101)=89,$BN$89,\"\")&IF((AN101)=90,$BN$90,\"\")&IF((AN101)=91,$BN$91,\"\")&IF((AN101)=92,$BN$92,\"\")&IF((AN101)=93,$BN$93,\"\")&IF((AN101)=94,$BN$94,\"\")&IF((AN101)=95,$BN$95,\"\")&IF((AN101)=96,$BN$96,\"\")&IF((AN101)=97,$BN$97,\"\")&IF((AN101)=98,$BN$98,\"\")&IF((AN101)=99,$BN$99,\"\")&IF((AN101)=100,$BN$100,\"\")&IF((AN101)=101,$BN$101,\"\")&IF((AN101)=102,$BN$102,\"\")&IF((AN101)=103,$BN$103,\"\")&IF((AN101)=104,$BN$104,\"\")&IF((AN101)=105,$BN$105,\"\")&IF((AN101)=106,$BN$106,\"\")&IF((AN101)=107,$BN$107,\"\")&IF((AN101)=108,$BN$108,\"\")&IF((AN101)=109,$BN$109,\"\")&IF((AN101)=110,$BN$110,\"\")&IF((AN101)=111,$BN$111,\"\")&IF((AN101)=112,$BN$112,\"\")&IF((AN101)=113,$BN$113,\"\")&IF((AN101)=114,$BN$114,\"\")&IF((AN101)=115,$BN$115,\"\")&IF((AN101)=116,$BN$116,\"\")&IF((AN101)=117,$BN$117,\"\")&IF((AN101)=118,$BN$118,\"\")&IF((AN101)=119,$BN$119,\"\")&IF((AN101)=120,$BN$120,\"\")&IF((AN101)=121,$BN$121,\"\")&IF((AN101)=122,$BN$122,\"\")&IF((AN101)=123,$BN$123,\"\")&IF((AN101)=124,$BN$124,\"\")&IF((AN101)=125,$BN$125,\"\")&IF((AN101)=126,$BN$126,\"\")&IF((AN101)=127,$BN$127,\"\")&IF((AN101)=128,$BN$128,\"\")","v":""},null,null,null,{"$f":"IF((AT101)=1,$BM$1,\"\")&IF((AT101)=2,$BM$2,\"\")&IF((AT101)=3,$BM$3,\"\")&IF((AT101)=4,$BM$4,\"\")&IF((AT101)=5,$BM$5,\"\")&IF((AT101)=6,$BM$6,\"\")&IF((AT101)=7,$BM$7,\"\")&IF((AT101)=8,$BM$8,\"\")&IF((AT101)=9,$BM$9,\"\")&IF((AT101)=10,$BM$10,\"\")&IF((AT101)=11,$BM$11,\"\")&IF((AT101)=12,$BM$12,\"\")&IF((AT101)=13,$BM$13,\"\")&IF((AT101)=14,$BM$14,\"\")&IF((AT101)=15,$BM$15,\"\")&IF((AT101)=16,$BM$16,\"\")&IF((AT101)=17,$BM$17,\"\")&IF((AT101)=18,$BM$18,\"\")&IF((AT101)=19,$BM$19,\"\")&IF((AT101)=20,$BM$20,\"\")&IF((AT101)=21,$BM$21,\"\")&IF((AT101)=22,$BM$22,\"\")&IF((AT101)=23,$BM$23,\"\")&IF((AT101)=24,$BM$24,\"\")&IF((AT101)=25,$BM$25,\"\")&IF((AT101)=26,$BM$26,\"\")&IF((AT101)=27,$BM$27,\"\")&IF((AT101)=28,$BM$28,\"\")&IF((AT101)=29,$BM$29,\"\")&IF((AT101)=30,$BM$30,\"\")&IF((AT101)=31,$BM$31,\"\")&IF((AT101)=32,$BM$32,\"\")&IF((AT101)=33,$BM$33,\"\")&IF((AT101)=34,$BM$34,\"\")&IF((AT101)=35,$BM$35,\"\")&IF((AT101)=36,$BM$36,\"\")&IF((AT101)=37,$BM$37,\"\")&IF((AT101)=38,$BM$38,\"\")&IF((AT101)=39,$BM$39,\"\")&IF((AT101)=40,$BM$40,\"\")&IF((AT101)=41,$BM$41,\"\")&IF((AT101)=42,$BM$42,\"\")&IF((AT101)=43,$BM$43,\"\")&IF((AT101)=44,$BM$44,\"\")&IF((AT101)=45,$BM$45,\"\")&IF((AT101)=46,$BM$46,\"\")&IF((AT101)=47,$BM$47,\"\")&IF((AT101)=48,$BM$48,\"\")&IF((AT101)=49,$BM$49,\"\")&IF((AT101)=50,$BM$50,\"\")&IF((AT101)=51,$BM$51,\"\")&IF((AT101)=52,$BM$52,\"\")&IF((AT101)=53,$BM$53,\"\")&IF((AT101)=54,$BM$54,\"\")&IF((AT101)=55,$BM$55,\"\")&IF((AT101)=56,$BM$56,\"\")&IF((AT101)=57,$BM$57,\"\")&IF((AT101)=58,$BM$58,\"\")&IF((AT101)=59,$BM$59,\"\")&IF((AT101)=60,$BM$60,\"\")&IF((AT101)=61,$BM$61,\"\")&IF((AT101)=62,$BM$62,\"\")&IF((AT101)=63,$BM$63,\"\")&IF((AT101)=64,$BM$64,\"\")&IF((AT101)=65,$BM$65,\"\")&IF((AT101)=66,$BM$66,\"\")&IF((AT101)=67,$BM$67,\"\")&IF((AT101)=68,$BM$68,\"\")&IF((AT101)=69,$BM$69,\"\")&IF((AT101)=70,$BM$70,\"\")&IF((AT101)=71,$BM$71,\"\")&IF((AT101)=72,$BM$72,\"\")&IF((AT101)=73,$BM$73,\"\")&IF((AT101)=74,$BM$74,\"\")&IF((AT101)=75,$BM$75,\"\")&IF((AT101)=76,$BM$76,\"\")&IF((AT101)=77,$BM$77,\"\")&IF((AT101)=78,$BM$78,\"\")&IF((AT101)=79,$BM$79,\"\")&IF((AT101)=80,$BM$80,\"\")&IF((AT101)=81,$BM$81,\"\")&IF((AT101)=82,$BM$82,\"\")&IF((AT101)=83,$BM$83,\"\")&IF((AT101)=84,$BM$84,\"\")&IF((AT101)=85,$BM$85,\"\")&IF((AT101)=86,$BM$86,\"\")&IF((AT101)=87,$BM$87,\"\")&IF((AT101)=88,$BM$88,\"\")&IF((AT101)=89,$BM$89,\"\")&IF((AT101)=90,$BM$90,\"\")&IF((AT101)=91,$BM$91,\"\")&IF((AT101)=92,$BM$92,\"\")&IF((AT101)=93,$BM$93,\"\")&IF((AT101)=94,$BM$94,\"\")&IF((AT101)=95,$BM$95,\"\")&IF((AT101)=96,$BM$96,\"\")&IF((AT101)=97,$BM$97,\"\")&IF((AT101)=98,$BM$98,\"\")&IF((AT101)=99,$BM$99,\"\")&IF((AT101)=100,$BM$100,\"\")&IF((AT101)=101,$BM$101,\"\")&IF((AT101)=102,$BM$102,\"\")&IF((AT101)=103,$BM$103,\"\")&IF((AT101)=104,$BM$104,\"\")&IF((AT101)=105,$BM$105,\"\")&IF((AT101)=106,$BM$106,\"\")&IF((AT101)=107,$BM$107,\"\")&IF((AT101)=108,$BM$108,\"\")&IF((AT101)=109,$BM$109,\"\")&IF((AT101)=110,$BM$110,\"\")&IF((AT101)=111,$BM$111,\"\")&IF((AT101)=112,$BM$112,\"\")&IF((AT101)=113,$BM$113,\"\")&IF((AT101)=114,$BM$114,\"\")&IF((AT101)=115,$BM$115,\"\")&IF((AT101)=116,$BM$116,\"\")&IF((AT101)=117,$BM$117,\"\")&IF((AT101)=118,$BM$118,\"\")&IF((AT101)=119,$BM$119,\"\")&IF((AT101)=120,$BM$120,\"\")&IF((AT101)=121,$BM$121,\"\")&IF((AT101)=122,$BM$122,\"\")&IF((AT101)=123,$BM$123,\"\")&IF((AT101)=124,$BM$124,\"\")&IF((AT101)=125,$BM$125,\"\")&IF((AT101)=126,$BM$126,\"\")&IF((AT101)=127,$BM$127,\"\")&IF((AT101)=128,$BM$128,\"\")","v":""},null,{"$f":"IF((AT101)=1,$BN$1,\"\")&IF((AT101)=2,$BN$2,\"\")&IF((AT101)=3,$BN$3,\"\")&IF((AT101)=4,$BN$4,\"\")&IF((AT101)=5,$BN$5,\"\")&IF((AT101)=6,$BN$6,\"\")&IF((AT101)=7,$BN$7,\"\")&IF((AT101)=8,$BN$8,\"\")&IF((AT101)=9,$BN$9,\"\")&IF((AT101)=10,$BN$10,\"\")&IF((AT101)=11,$BN$11,\"\")&IF((AT101)=12,$BN$12,\"\")&IF((AT101)=13,$BN$13,\"\")&IF((AT101)=14,$BN$14,\"\")&IF((AT101)=15,$BN$15,\"\")&IF((AT101)=16,$BN$16,\"\")&IF((AT101)=17,$BN$17,\"\")&IF((AT101)=18,$BN$18,\"\")&IF((AT101)=19,$BN$19,\"\")&IF((AT101)=20,$BN$20,\"\")&IF((AT101)=21,$BN$21,\"\")&IF((AT101)=22,$BN$22,\"\")&IF((AT101)=23,$BN$23,\"\")&IF((AT101)=24,$BN$24,\"\")&IF((AT101)=25,$BN$25,\"\")&IF((AT101)=26,$BN$26,\"\")&IF((AT101)=27,$BN$27,\"\")&IF((AT101)=28,$BN$28,\"\")&IF((AT101)=29,$BN$29,\"\")&IF((AT101)=30,$BN$30,\"\")&IF((AT101)=31,$BN$31,\"\")&IF((AT101)=32,$BN$32,\"\")&IF((AT101)=33,$BN$33,\"\")&IF((AT101)=34,$BN$34,\"\")&IF((AT101)=35,$BN$35,\"\")&IF((AT101)=36,$BN$36,\"\")&IF((AT101)=37,$BN$37,\"\")&IF((AT101)=38,$BN$38,\"\")&IF((AT101)=39,$BN$39,\"\")&IF((AT101)=40,$BN$40,\"\")&IF((AT101)=41,$BN$41,\"\")&IF((AT101)=42,$BN$42,\"\")&IF((AT101)=43,$BN$43,\"\")&IF((AT101)=44,$BN$44,\"\")&IF((AT101)=45,$BN$45,\"\")&IF((AT101)=46,$BN$46,\"\")&IF((AT101)=47,$BN$47,\"\")&IF((AT101)=48,$BN$48,\"\")&IF((AT101)=49,$BN$49,\"\")&IF((AT101)=50,$BN$50,\"\")&IF((AT101)=51,$BN$51,\"\")&IF((AT101)=52,$BN$52,\"\")&IF((AT101)=53,$BN$53,\"\")&IF((AT101)=54,$BN$54,\"\")&IF((AT101)=55,$BN$55,\"\")&IF((AT101)=56,$BN$56,\"\")&IF((AT101)=57,$BN$57,\"\")&IF((AT101)=58,$BN$58,\"\")&IF((AT101)=59,$BN$59,\"\")&IF((AT101)=60,$BN$60,\"\")&IF((AT101)=61,$BN$61,\"\")&IF((AT101)=62,$BN$62,\"\")&IF((AT101)=63,$BN$63,\"\")&IF((AT101)=64,$BN$64,\"\")&IF((AT101)=65,$BN$65,\"\")&IF((AT101)=66,$BN$66,\"\")&IF((AT101)=67,$BN$67,\"\")&IF((AT101)=68,$BN$68,\"\")&IF((AT101)=69,$BN$69,\"\")&IF((AT101)=70,$BN$70,\"\")&IF((AT101)=71,$BN$71,\"\")&IF((AT101)=72,$BN$72,\"\")&IF((AT101)=73,$BN$73,\"\")&IF((AT101)=74,$BN$74,\"\")&IF((AT101)=75,$BN$75,\"\")&IF((AT101)=76,$BN$76,\"\")&IF((AT101)=77,$BN$77,\"\")&IF((AT101)=78,$BN$78,\"\")&IF((AT101)=79,$BN$79,\"\")&IF((AT101)=80,$BN$80,\"\")&IF((AT101)=81,$BN$81,\"\")&IF((AT101)=82,$BN$82,\"\")&IF((AT101)=83,$BN$83,\"\")&IF((AT101)=84,$BN$84,\"\")&IF((AT101)=85,$BN$85,\"\")&IF((AT101)=86,$BN$86,\"\")&IF((AT101)=87,$BN$87,\"\")&IF((AT101)=88,$BN$88,\"\")&IF((AT101)=89,$BN$89,\"\")&IF((AT101)=90,$BN$90,\"\")&IF((AT101)=91,$BN$91,\"\")&IF((AT101)=92,$BN$92,\"\")&IF((AT101)=93,$BN$93,\"\")&IF((AT101)=94,$BN$94,\"\")&IF((AT101)=95,$BN$95,\"\")&IF((AT101)=96,$BN$96,\"\")&IF((AT101)=97,$BN$97,\"\")&IF((AT101)=98,$BN$98,\"\")&IF((AT101)=99,$BN$99,\"\")&IF((AT101)=100,$BN$100,\"\")&IF((AT101)=101,$BN$101,\"\")&IF((AT101)=102,$BN$102,\"\")&IF((AT101)=103,$BN$103,\"\")&IF((AT101)=104,$BN$104,\"\")&IF((AT101)=105,$BN$105,\"\")&IF((AT101)=106,$BN$106,\"\")&IF((AT101)=107,$BN$107,\"\")&IF((AT101)=108,$BN$108,\"\")&IF((AT101)=109,$BN$109,\"\")&IF((AT101)=110,$BN$110,\"\")&IF((AT101)=111,$BN$111,\"\")&IF((AT101)=112,$BN$112,\"\")&IF((AT101)=113,$BN$113,\"\")&IF((AT101)=114,$BN$114,\"\")&IF((AT101)=115,$BN$115,\"\")&IF((AT101)=116,$BN$116,\"\")&IF((AT101)=117,$BN$117,\"\")&IF((AT101)=118,$BN$118,\"\")&IF((AT101)=119,$BN$119,\"\")&IF((AT101)=120,$BN$120,\"\")&IF((AT101)=121,$BN$121,\"\")&IF((AT101)=122,$BN$122,\"\")&IF((AT101)=123,$BN$123,\"\")&IF((AT101)=124,$BN$124,\"\")&IF((AT101)=125,$BN$125,\"\")&IF((AT101)=126,$BN$126,\"\")&IF((AT101)=127,$BN$127,\"\")&IF((AT101)=128,$BN$128,\"\")","v":""},null,{"$f":"IF((AX101)=1,$BM$1,\"\")&IF((AX101)=2,$BM$2,\"\")&IF((AX101)=3,$BM$3,\"\")&IF((AX101)=4,$BM$4,\"\")&IF((AX101)=5,$BM$5,\"\")&IF((AX101)=6,$BM$6,\"\")&IF((AX101)=7,$BM$7,\"\")&IF((AX101)=8,$BM$8,\"\")&IF((AX101)=9,$BM$9,\"\")&IF((AX101)=10,$BM$10,\"\")&IF((AX101)=11,$BM$11,\"\")&IF((AX101)=12,$BM$12,\"\")&IF((AX101)=13,$BM$13,\"\")&IF((AX101)=14,$BM$14,\"\")&IF((AX101)=15,$BM$15,\"\")&IF((AX101)=16,$BM$16,\"\")&IF((AX101)=17,$BM$17,\"\")&IF((AX101)=18,$BM$18,\"\")&IF((AX101)=19,$BM$19,\"\")&IF((AX101)=20,$BM$20,\"\")&IF((AX101)=21,$BM$21,\"\")&IF((AX101)=22,$BM$22,\"\")&IF((AX101)=23,$BM$23,\"\")&IF((AX101)=24,$BM$24,\"\")&IF((AX101)=25,$BM$25,\"\")&IF((AX101)=26,$BM$26,\"\")&IF((AX101)=27,$BM$27,\"\")&IF((AX101)=28,$BM$28,\"\")&IF((AX101)=29,$BM$29,\"\")&IF((AX101)=30,$BM$30,\"\")&IF((AX101)=31,$BM$31,\"\")&IF((AX101)=32,$BM$32,\"\")&IF((AX101)=33,$BM$33,\"\")&IF((AX101)=34,$BM$34,\"\")&IF((AX101)=35,$BM$35,\"\")&IF((AX101)=36,$BM$36,\"\")&IF((AX101)=37,$BM$37,\"\")&IF((AX101)=38,$BM$38,\"\")&IF((AX101)=39,$BM$39,\"\")&IF((AX101)=40,$BM$40,\"\")&IF((AX101)=41,$BM$41,\"\")&IF((AX101)=42,$BM$42,\"\")&IF((AX101)=43,$BM$43,\"\")&IF((AX101)=44,$BM$44,\"\")&IF((AX101)=45,$BM$45,\"\")&IF((AX101)=46,$BM$46,\"\")&IF((AX101)=47,$BM$47,\"\")&IF((AX101)=48,$BM$48,\"\")&IF((AX101)=49,$BM$49,\"\")&IF((AX101)=50,$BM$50,\"\")&IF((AX101)=51,$BM$51,\"\")&IF((AX101)=52,$BM$52,\"\")&IF((AX101)=53,$BM$53,\"\")&IF((AX101)=54,$BM$54,\"\")&IF((AX101)=55,$BM$55,\"\")&IF((AX101)=56,$BM$56,\"\")&IF((AX101)=57,$BM$57,\"\")&IF((AX101)=58,$BM$58,\"\")&IF((AX101)=59,$BM$59,\"\")&IF((AX101)=60,$BM$60,\"\")&IF((AX101)=61,$BM$61,\"\")&IF((AX101)=62,$BM$62,\"\")&IF((AX101)=63,$BM$63,\"\")&IF((AX101)=64,$BM$64,\"\")&IF((AX101)=65,$BM$65,\"\")&IF((AX101)=66,$BM$66,\"\")&IF((AX101)=67,$BM$67,\"\")&IF((AX101)=68,$BM$68,\"\")&IF((AX101)=69,$BM$69,\"\")&IF((AX101)=70,$BM$70,\"\")&IF((AX101)=71,$BM$71,\"\")&IF((AX101)=72,$BM$72,\"\")&IF((AX101)=73,$BM$73,\"\")&IF((AX101)=74,$BM$74,\"\")&IF((AX101)=75,$BM$75,\"\")&IF((AX101)=76,$BM$76,\"\")&IF((AX101)=77,$BM$77,\"\")&IF((AX101)=78,$BM$78,\"\")&IF((AX101)=79,$BM$79,\"\")&IF((AX101)=80,$BM$80,\"\")&IF((AX101)=81,$BM$81,\"\")&IF((AX101)=82,$BM$82,\"\")&IF((AX101)=83,$BM$83,\"\")&IF((AX101)=84,$BM$84,\"\")&IF((AX101)=85,$BM$85,\"\")&IF((AX101)=86,$BM$86,\"\")&IF((AX101)=87,$BM$87,\"\")&IF((AX101)=88,$BM$88,\"\")&IF((AX101)=89,$BM$89,\"\")&IF((AX101)=90,$BM$90,\"\")&IF((AX101)=91,$BM$91,\"\")&IF((AX101)=92,$BM$92,\"\")&IF((AX101)=93,$BM$93,\"\")&IF((AX101)=94,$BM$94,\"\")&IF((AX101)=95,$BM$95,\"\")&IF((AX101)=96,$BM$96,\"\")&IF((AX101)=97,$BM$97,\"\")&IF((AX101)=98,$BM$98,\"\")&IF((AX101)=99,$BM$99,\"\")&IF((AX101)=100,$BM$100,\"\")&IF((AX101)=101,$BM$101,\"\")&IF((AX101)=102,$BM$102,\"\")&IF((AX101)=103,$BM$103,\"\")&IF((AX101)=104,$BM$104,\"\")&IF((AX101)=105,$BM$105,\"\")&IF((AX101)=106,$BM$106,\"\")&IF((AX101)=107,$BM$107,\"\")&IF((AX101)=108,$BM$108,\"\")&IF((AX101)=109,$BM$109,\"\")&IF((AX101)=110,$BM$110,\"\")&IF((AX101)=111,$BM$111,\"\")&IF((AX101)=112,$BM$112,\"\")&IF((AX101)=113,$BM$113,\"\")&IF((AX101)=114,$BM$114,\"\")&IF((AX101)=115,$BM$115,\"\")&IF((AX101)=116,$BM$116,\"\")&IF((AX101)=117,$BM$117,\"\")&IF((AX101)=118,$BM$118,\"\")&IF((AX101)=119,$BM$119,\"\")&IF((AX101)=120,$BM$120,\"\")&IF((AX101)=121,$BM$121,\"\")&IF((AX101)=122,$BM$122,\"\")&IF((AX101)=123,$BM$123,\"\")&IF((AX101)=124,$BM$124,\"\")&IF((AX101)=125,$BM$125,\"\")&IF((AX101)=126,$BM$126,\"\")&IF((AX101)=127,$BM$127,\"\")&IF((AX101)=128,$BM$128,\"\")","v":""},null,{"$f":"IF((AX101)=1,$BN$1,\"\")&IF((AX101)=2,$BN$2,\"\")&IF((AX101)=3,$BN$3,\"\")&IF((AX101)=4,$BN$4,\"\")&IF((AX101)=5,$BN$5,\"\")&IF((AX101)=6,$BN$6,\"\")&IF((AX101)=7,$BN$7,\"\")&IF((AX101)=8,$BN$8,\"\")&IF((AX101)=9,$BN$9,\"\")&IF((AX101)=10,$BN$10,\"\")&IF((AX101)=11,$BN$11,\"\")&IF((AX101)=12,$BN$12,\"\")&IF((AX101)=13,$BN$13,\"\")&IF((AX101)=14,$BN$14,\"\")&IF((AX101)=15,$BN$15,\"\")&IF((AX101)=16,$BN$16,\"\")&IF((AX101)=17,$BN$17,\"\")&IF((AX101)=18,$BN$18,\"\")&IF((AX101)=19,$BN$19,\"\")&IF((AX101)=20,$BN$20,\"\")&IF((AX101)=21,$BN$21,\"\")&IF((AX101)=22,$BN$22,\"\")&IF((AX101)=23,$BN$23,\"\")&IF((AX101)=24,$BN$24,\"\")&IF((AX101)=25,$BN$25,\"\")&IF((AX101)=26,$BN$26,\"\")&IF((AX101)=27,$BN$27,\"\")&IF((AX101)=28,$BN$28,\"\")&IF((AX101)=29,$BN$29,\"\")&IF((AX101)=30,$BN$30,\"\")&IF((AX101)=31,$BN$31,\"\")&IF((AX101)=32,$BN$32,\"\")&IF((AX101)=33,$BN$33,\"\")&IF((AX101)=34,$BN$34,\"\")&IF((AX101)=35,$BN$35,\"\")&IF((AX101)=36,$BN$36,\"\")&IF((AX101)=37,$BN$37,\"\")&IF((AX101)=38,$BN$38,\"\")&IF((AX101)=39,$BN$39,\"\")&IF((AX101)=40,$BN$40,\"\")&IF((AX101)=41,$BN$41,\"\")&IF((AX101)=42,$BN$42,\"\")&IF((AX101)=43,$BN$43,\"\")&IF((AX101)=44,$BN$44,\"\")&IF((AX101)=45,$BN$45,\"\")&IF((AX101)=46,$BN$46,\"\")&IF((AX101)=47,$BN$47,\"\")&IF((AX101)=48,$BN$48,\"\")&IF((AX101)=49,$BN$49,\"\")&IF((AX101)=50,$BN$50,\"\")&IF((AX101)=51,$BN$51,\"\")&IF((AX101)=52,$BN$52,\"\")&IF((AX101)=53,$BN$53,\"\")&IF((AX101)=54,$BN$54,\"\")&IF((AX101)=55,$BN$55,\"\")&IF((AX101)=56,$BN$56,\"\")&IF((AX101)=57,$BN$57,\"\")&IF((AX101)=58,$BN$58,\"\")&IF((AX101)=59,$BN$59,\"\")&IF((AX101)=60,$BN$60,\"\")&IF((AX101)=61,$BN$61,\"\")&IF((AX101)=62,$BN$62,\"\")&IF((AX101)=63,$BN$63,\"\")&IF((AX101)=64,$BN$64,\"\")&IF((AX101)=65,$BN$65,\"\")&IF((AX101)=66,$BN$66,\"\")&IF((AX101)=67,$BN$67,\"\")&IF((AX101)=68,$BN$68,\"\")&IF((AX101)=69,$BN$69,\"\")&IF((AX101)=70,$BN$70,\"\")&IF((AX101)=71,$BN$71,\"\")&IF((AX101)=72,$BN$72,\"\")&IF((AX101)=73,$BN$73,\"\")&IF((AX101)=74,$BN$74,\"\")&IF((AX101)=75,$BN$75,\"\")&IF((AX101)=76,$BN$76,\"\")&IF((AX101)=77,$BN$77,\"\")&IF((AX101)=78,$BN$78,\"\")&IF((AX101)=79,$BN$79,\"\")&IF((AX101)=80,$BN$80,\"\")&IF((AX101)=81,$BN$81,\"\")&IF((AX101)=82,$BN$82,\"\")&IF((AX101)=83,$BN$83,\"\")&IF((AX101)=84,$BN$84,\"\")&IF((AX101)=85,$BN$85,\"\")&IF((AX101)=86,$BN$86,\"\")&IF((AX101)=87,$BN$87,\"\")&IF((AX101)=88,$BN$88,\"\")&IF((AX101)=89,$BN$89,\"\")&IF((AX101)=90,$BN$90,\"\")&IF((AX101)=91,$BN$91,\"\")&IF((AX101)=92,$BN$92,\"\")&IF((AX101)=93,$BN$93,\"\")&IF((AX101)=94,$BN$94,\"\")&IF((AX101)=95,$BN$95,\"\")&IF((AX101)=96,$BN$96,\"\")&IF((AX101)=97,$BN$97,\"\")&IF((AX101)=98,$BN$98,\"\")&IF((AX101)=99,$BN$99,\"\")&IF((AX101)=100,$BN$100,\"\")&IF((AX101)=101,$BN$101,\"\")&IF((AX101)=102,$BN$102,\"\")&IF((AX101)=103,$BN$103,\"\")&IF((AX101)=104,$BN$104,\"\")&IF((AX101)=105,$BN$105,\"\")&IF((AX101)=106,$BN$106,\"\")&IF((AX101)=107,$BN$107,\"\")&IF((AX101)=108,$BN$108,\"\")&IF((AX101)=109,$BN$109,\"\")&IF((AX101)=110,$BN$110,\"\")&IF((AX101)=111,$BN$111,\"\")&IF((AX101)=112,$BN$112,\"\")&IF((AX101)=113,$BN$113,\"\")&IF((AX101)=114,$BN$114,\"\")&IF((AX101)=115,$BN$115,\"\")&IF((AX101)=116,$BN$116,\"\")&IF((AX101)=117,$BN$117,\"\")&IF((AX101)=118,$BN$118,\"\")&IF((AX101)=119,$BN$119,\"\")&IF((AX101)=120,$BN$120,\"\")&IF((AX101)=121,$BN$121,\"\")&IF((AX101)=122,$BN$122,\"\")&IF((AX101)=123,$BN$123,\"\")&IF((AX101)=124,$BN$124,\"\")&IF((AX101)=125,$BN$125,\"\")&IF((AX101)=126,$BN$126,\"\")&IF((AX101)=127,$BN$127,\"\")&IF((AX101)=128,$BN$128,\"\")","v":""},null,null,null,{"$f":"IF((BD101)=1,$BM$1,\"\")&IF((BD101)=2,$BM$2,\"\")&IF((BD101)=3,$BM$3,\"\")&IF((BD101)=4,$BM$4,\"\")&IF((BD101)=5,$BM$5,\"\")&IF((BD101)=6,$BM$6,\"\")&IF((BD101)=7,$BM$7,\"\")&IF((BD101)=8,$BM$8,\"\")&IF((BD101)=9,$BM$9,\"\")&IF((BD101)=10,$BM$10,\"\")&IF((BD101)=11,$BM$11,\"\")&IF((BD101)=12,$BM$12,\"\")&IF((BD101)=13,$BM$13,\"\")&IF((BD101)=14,$BM$14,\"\")&IF((BD101)=15,$BM$15,\"\")&IF((BD101)=16,$BM$16,\"\")&IF((BD101)=17,$BM$17,\"\")&IF((BD101)=18,$BM$18,\"\")&IF((BD101)=19,$BM$19,\"\")&IF((BD101)=20,$BM$20,\"\")&IF((BD101)=21,$BM$21,\"\")&IF((BD101)=22,$BM$22,\"\")&IF((BD101)=23,$BM$23,\"\")&IF((BD101)=24,$BM$24,\"\")&IF((BD101)=25,$BM$25,\"\")&IF((BD101)=26,$BM$26,\"\")&IF((BD101)=27,$BM$27,\"\")&IF((BD101)=28,$BM$28,\"\")&IF((BD101)=29,$BM$29,\"\")&IF((BD101)=30,$BM$30,\"\")&IF((BD101)=31,$BM$31,\"\")&IF((BD101)=32,$BM$32,\"\")&IF((BD101)=33,$BM$33,\"\")&IF((BD101)=34,$BM$34,\"\")&IF((BD101)=35,$BM$35,\"\")&IF((BD101)=36,$BM$36,\"\")&IF((BD101)=37,$BM$37,\"\")&IF((BD101)=38,$BM$38,\"\")&IF((BD101)=39,$BM$39,\"\")&IF((BD101)=40,$BM$40,\"\")&IF((BD101)=41,$BM$41,\"\")&IF((BD101)=42,$BM$42,\"\")&IF((BD101)=43,$BM$43,\"\")&IF((BD101)=44,$BM$44,\"\")&IF((BD101)=45,$BM$45,\"\")&IF((BD101)=46,$BM$46,\"\")&IF((BD101)=47,$BM$47,\"\")&IF((BD101)=48,$BM$48,\"\")&IF((BD101)=49,$BM$49,\"\")&IF((BD101)=50,$BM$50,\"\")&IF((BD101)=51,$BM$51,\"\")&IF((BD101)=52,$BM$52,\"\")&IF((BD101)=53,$BM$53,\"\")&IF((BD101)=54,$BM$54,\"\")&IF((BD101)=55,$BM$55,\"\")&IF((BD101)=56,$BM$56,\"\")&IF((BD101)=57,$BM$57,\"\")&IF((BD101)=58,$BM$58,\"\")&IF((BD101)=59,$BM$59,\"\")&IF((BD101)=60,$BM$60,\"\")&IF((BD101)=61,$BM$61,\"\")&IF((BD101)=62,$BM$62,\"\")&IF((BD101)=63,$BM$63,\"\")&IF((BD101)=64,$BM$64,\"\")&IF((BD101)=65,$BM$65,\"\")&IF((BD101)=66,$BM$66,\"\")&IF((BD101)=67,$BM$67,\"\")&IF((BD101)=68,$BM$68,\"\")&IF((BD101)=69,$BM$69,\"\")&IF((BD101)=70,$BM$70,\"\")&IF((BD101)=71,$BM$71,\"\")&IF((BD101)=72,$BM$72,\"\")&IF((BD101)=73,$BM$73,\"\")&IF((BD101)=74,$BM$74,\"\")&IF((BD101)=75,$BM$75,\"\")&IF((BD101)=76,$BM$76,\"\")&IF((BD101)=77,$BM$77,\"\")&IF((BD101)=78,$BM$78,\"\")&IF((BD101)=79,$BM$79,\"\")&IF((BD101)=80,$BM$80,\"\")&IF((BD101)=81,$BM$81,\"\")&IF((BD101)=82,$BM$82,\"\")&IF((BD101)=83,$BM$83,\"\")&IF((BD101)=84,$BM$84,\"\")&IF((BD101)=85,$BM$85,\"\")&IF((BD101)=86,$BM$86,\"\")&IF((BD101)=87,$BM$87,\"\")&IF((BD101)=88,$BM$88,\"\")&IF((BD101)=89,$BM$89,\"\")&IF((BD101)=90,$BM$90,\"\")&IF((BD101)=91,$BM$91,\"\")&IF((BD101)=92,$BM$92,\"\")&IF((BD101)=93,$BM$93,\"\")&IF((BD101)=94,$BM$94,\"\")&IF((BD101)=95,$BM$95,\"\")&IF((BD101)=96,$BM$96,\"\")&IF((BD101)=97,$BM$97,\"\")&IF((BD101)=98,$BM$98,\"\")&IF((BD101)=99,$BM$99,\"\")&IF((BD101)=100,$BM$100,\"\")&IF((BD101)=101,$BM$101,\"\")&IF((BD101)=102,$BM$102,\"\")&IF((BD101)=103,$BM$103,\"\")&IF((BD101)=104,$BM$104,\"\")&IF((BD101)=105,$BM$105,\"\")&IF((BD101)=106,$BM$106,\"\")&IF((BD101)=107,$BM$107,\"\")&IF((BD101)=108,$BM$108,\"\")&IF((BD101)=109,$BM$109,\"\")&IF((BD101)=110,$BM$110,\"\")&IF((BD101)=111,$BM$111,\"\")&IF((BD101)=112,$BM$112,\"\")&IF((BD101)=113,$BM$113,\"\")&IF((BD101)=114,$BM$114,\"\")&IF((BD101)=115,$BM$115,\"\")&IF((BD101)=116,$BM$116,\"\")&IF((BD101)=117,$BM$117,\"\")&IF((BD101)=118,$BM$118,\"\")&IF((BD101)=119,$BM$119,\"\")&IF((BD101)=120,$BM$120,\"\")&IF((BD101)=121,$BM$121,\"\")&IF((BD101)=122,$BM$122,\"\")&IF((BD101)=123,$BM$123,\"\")&IF((BD101)=124,$BM$124,\"\")&IF((BD101)=125,$BM$125,\"\")&IF((BD101)=126,$BM$126,\"\")&IF((BD101)=127,$BM$127,\"\")&IF((BD101)=128,$BM$128,\"\")","v":""},null,{"$f":"IF((BD101)=1,$BN$1,\"\")&IF((BD101)=2,$BN$2,\"\")&IF((BD101)=3,$BN$3,\"\")&IF((BD101)=4,$BN$4,\"\")&IF((BD101)=5,$BN$5,\"\")&IF((BD101)=6,$BN$6,\"\")&IF((BD101)=7,$BN$7,\"\")&IF((BD101)=8,$BN$8,\"\")&IF((BD101)=9,$BN$9,\"\")&IF((BD101)=10,$BN$10,\"\")&IF((BD101)=11,$BN$11,\"\")&IF((BD101)=12,$BN$12,\"\")&IF((BD101)=13,$BN$13,\"\")&IF((BD101)=14,$BN$14,\"\")&IF((BD101)=15,$BN$15,\"\")&IF((BD101)=16,$BN$16,\"\")&IF((BD101)=17,$BN$17,\"\")&IF((BD101)=18,$BN$18,\"\")&IF((BD101)=19,$BN$19,\"\")&IF((BD101)=20,$BN$20,\"\")&IF((BD101)=21,$BN$21,\"\")&IF((BD101)=22,$BN$22,\"\")&IF((BD101)=23,$BN$23,\"\")&IF((BD101)=24,$BN$24,\"\")&IF((BD101)=25,$BN$25,\"\")&IF((BD101)=26,$BN$26,\"\")&IF((BD101)=27,$BN$27,\"\")&IF((BD101)=28,$BN$28,\"\")&IF((BD101)=29,$BN$29,\"\")&IF((BD101)=30,$BN$30,\"\")&IF((BD101)=31,$BN$31,\"\")&IF((BD101)=32,$BN$32,\"\")&IF((BD101)=33,$BN$33,\"\")&IF((BD101)=34,$BN$34,\"\")&IF((BD101)=35,$BN$35,\"\")&IF((BD101)=36,$BN$36,\"\")&IF((BD101)=37,$BN$37,\"\")&IF((BD101)=38,$BN$38,\"\")&IF((BD101)=39,$BN$39,\"\")&IF((BD101)=40,$BN$40,\"\")&IF((BD101)=41,$BN$41,\"\")&IF((BD101)=42,$BN$42,\"\")&IF((BD101)=43,$BN$43,\"\")&IF((BD101)=44,$BN$44,\"\")&IF((BD101)=45,$BN$45,\"\")&IF((BD101)=46,$BN$46,\"\")&IF((BD101)=47,$BN$47,\"\")&IF((BD101)=48,$BN$48,\"\")&IF((BD101)=49,$BN$49,\"\")&IF((BD101)=50,$BN$50,\"\")&IF((BD101)=51,$BN$51,\"\")&IF((BD101)=52,$BN$52,\"\")&IF((BD101)=53,$BN$53,\"\")&IF((BD101)=54,$BN$54,\"\")&IF((BD101)=55,$BN$55,\"\")&IF((BD101)=56,$BN$56,\"\")&IF((BD101)=57,$BN$57,\"\")&IF((BD101)=58,$BN$58,\"\")&IF((BD101)=59,$BN$59,\"\")&IF((BD101)=60,$BN$60,\"\")&IF((BD101)=61,$BN$61,\"\")&IF((BD101)=62,$BN$62,\"\")&IF((BD101)=63,$BN$63,\"\")&IF((BD101)=64,$BN$64,\"\")&IF((BD101)=65,$BN$65,\"\")&IF((BD101)=66,$BN$66,\"\")&IF((BD101)=67,$BN$67,\"\")&IF((BD101)=68,$BN$68,\"\")&IF((BD101)=69,$BN$69,\"\")&IF((BD101)=70,$BN$70,\"\")&IF((BD101)=71,$BN$71,\"\")&IF((BD101)=72,$BN$72,\"\")&IF((BD101)=73,$BN$73,\"\")&IF((BD101)=74,$BN$74,\"\")&IF((BD101)=75,$BN$75,\"\")&IF((BD101)=76,$BN$76,\"\")&IF((BD101)=77,$BN$77,\"\")&IF((BD101)=78,$BN$78,\"\")&IF((BD101)=79,$BN$79,\"\")&IF((BD101)=80,$BN$80,\"\")&IF((BD101)=81,$BN$81,\"\")&IF((BD101)=82,$BN$82,\"\")&IF((BD101)=83,$BN$83,\"\")&IF((BD101)=84,$BN$84,\"\")&IF((BD101)=85,$BN$85,\"\")&IF((BD101)=86,$BN$86,\"\")&IF((BD101)=87,$BN$87,\"\")&IF((BD101)=88,$BN$88,\"\")&IF((BD101)=89,$BN$89,\"\")&IF((BD101)=90,$BN$90,\"\")&IF((BD101)=91,$BN$91,\"\")&IF((BD101)=92,$BN$92,\"\")&IF((BD101)=93,$BN$93,\"\")&IF((BD101)=94,$BN$94,\"\")&IF((BD101)=95,$BN$95,\"\")&IF((BD101)=96,$BN$96,\"\")&IF((BD101)=97,$BN$97,\"\")&IF((BD101)=98,$BN$98,\"\")&IF((BD101)=99,$BN$99,\"\")&IF((BD101)=100,$BN$100,\"\")&IF((BD101)=101,$BN$101,\"\")&IF((BD101)=102,$BN$102,\"\")&IF((BD101)=103,$BN$103,\"\")&IF((BD101)=104,$BN$104,\"\")&IF((BD101)=105,$BN$105,\"\")&IF((BD101)=106,$BN$106,\"\")&IF((BD101)=107,$BN$107,\"\")&IF((BD101)=108,$BN$108,\"\")&IF((BD101)=109,$BN$109,\"\")&IF((BD101)=110,$BN$110,\"\")&IF((BD101)=111,$BN$111,\"\")&IF((BD101)=112,$BN$112,\"\")&IF((BD101)=113,$BN$113,\"\")&IF((BD101)=114,$BN$114,\"\")&IF((BD101)=115,$BN$115,\"\")&IF((BD101)=116,$BN$116,\"\")&IF((BD101)=117,$BN$117,\"\")&IF((BD101)=118,$BN$118,\"\")&IF((BD101)=119,$BN$119,\"\")&IF((BD101)=120,$BN$120,\"\")&IF((BD101)=121,$BN$121,\"\")&IF((BD101)=122,$BN$122,\"\")&IF((BD101)=123,$BN$123,\"\")&IF((BD101)=124,$BN$124,\"\")&IF((BD101)=125,$BN$125,\"\")&IF((BD101)=126,$BN$126,\"\")&IF((BD101)=127,$BN$127,\"\")&IF((BD101)=128,$BN$128,\"\")","v":""},null,{"$f":"IF((BH101)=1,$BM$1,\"\")&IF((BH101)=2,$BM$2,\"\")&IF((BH101)=3,$BM$3,\"\")&IF((BH101)=4,$BM$4,\"\")&IF((BH101)=5,$BM$5,\"\")&IF((BH101)=6,$BM$6,\"\")&IF((BH101)=7,$BM$7,\"\")&IF((BH101)=8,$BM$8,\"\")&IF((BH101)=9,$BM$9,\"\")&IF((BH101)=10,$BM$10,\"\")&IF((BH101)=11,$BM$11,\"\")&IF((BH101)=12,$BM$12,\"\")&IF((BH101)=13,$BM$13,\"\")&IF((BH101)=14,$BM$14,\"\")&IF((BH101)=15,$BM$15,\"\")&IF((BH101)=16,$BM$16,\"\")&IF((BH101)=17,$BM$17,\"\")&IF((BH101)=18,$BM$18,\"\")&IF((BH101)=19,$BM$19,\"\")&IF((BH101)=20,$BM$20,\"\")&IF((BH101)=21,$BM$21,\"\")&IF((BH101)=22,$BM$22,\"\")&IF((BH101)=23,$BM$23,\"\")&IF((BH101)=24,$BM$24,\"\")&IF((BH101)=25,$BM$25,\"\")&IF((BH101)=26,$BM$26,\"\")&IF((BH101)=27,$BM$27,\"\")&IF((BH101)=28,$BM$28,\"\")&IF((BH101)=29,$BM$29,\"\")&IF((BH101)=30,$BM$30,\"\")&IF((BH101)=31,$BM$31,\"\")&IF((BH101)=32,$BM$32,\"\")&IF((BH101)=33,$BM$33,\"\")&IF((BH101)=34,$BM$34,\"\")&IF((BH101)=35,$BM$35,\"\")&IF((BH101)=36,$BM$36,\"\")&IF((BH101)=37,$BM$37,\"\")&IF((BH101)=38,$BM$38,\"\")&IF((BH101)=39,$BM$39,\"\")&IF((BH101)=40,$BM$40,\"\")&IF((BH101)=41,$BM$41,\"\")&IF((BH101)=42,$BM$42,\"\")&IF((BH101)=43,$BM$43,\"\")&IF((BH101)=44,$BM$44,\"\")&IF((BH101)=45,$BM$45,\"\")&IF((BH101)=46,$BM$46,\"\")&IF((BH101)=47,$BM$47,\"\")&IF((BH101)=48,$BM$48,\"\")&IF((BH101)=49,$BM$49,\"\")&IF((BH101)=50,$BM$50,\"\")&IF((BH101)=51,$BM$51,\"\")&IF((BH101)=52,$BM$52,\"\")&IF((BH101)=53,$BM$53,\"\")&IF((BH101)=54,$BM$54,\"\")&IF((BH101)=55,$BM$55,\"\")&IF((BH101)=56,$BM$56,\"\")&IF((BH101)=57,$BM$57,\"\")&IF((BH101)=58,$BM$58,\"\")&IF((BH101)=59,$BM$59,\"\")&IF((BH101)=60,$BM$60,\"\")&IF((BH101)=61,$BM$61,\"\")&IF((BH101)=62,$BM$62,\"\")&IF((BH101)=63,$BM$63,\"\")&IF((BH101)=64,$BM$64,\"\")&IF((BH101)=65,$BM$65,\"\")&IF((BH101)=66,$BM$66,\"\")&IF((BH101)=67,$BM$67,\"\")&IF((BH101)=68,$BM$68,\"\")&IF((BH101)=69,$BM$69,\"\")&IF((BH101)=70,$BM$70,\"\")&IF((BH101)=71,$BM$71,\"\")&IF((BH101)=72,$BM$72,\"\")&IF((BH101)=73,$BM$73,\"\")&IF((BH101)=74,$BM$74,\"\")&IF((BH101)=75,$BM$75,\"\")&IF((BH101)=76,$BM$76,\"\")&IF((BH101)=77,$BM$77,\"\")&IF((BH101)=78,$BM$78,\"\")&IF((BH101)=79,$BM$79,\"\")&IF((BH101)=80,$BM$80,\"\")&IF((BH101)=81,$BM$81,\"\")&IF((BH101)=82,$BM$82,\"\")&IF((BH101)=83,$BM$83,\"\")&IF((BH101)=84,$BM$84,\"\")&IF((BH101)=85,$BM$85,\"\")&IF((BH101)=86,$BM$86,\"\")&IF((BH101)=87,$BM$87,\"\")&IF((BH101)=88,$BM$88,\"\")&IF((BH101)=89,$BM$89,\"\")&IF((BH101)=90,$BM$90,\"\")&IF((BH101)=91,$BM$91,\"\")&IF((BH101)=92,$BM$92,\"\")&IF((BH101)=93,$BM$93,\"\")&IF((BH101)=94,$BM$94,\"\")&IF((BH101)=95,$BM$95,\"\")&IF((BH101)=96,$BM$96,\"\")&IF((BH101)=97,$BM$97,\"\")&IF((BH101)=98,$BM$98,\"\")&IF((BH101)=99,$BM$99,\"\")&IF((BH101)=100,$BM$100,\"\")&IF((BH101)=101,$BM$101,\"\")&IF((BH101)=102,$BM$102,\"\")&IF((BH101)=103,$BM$103,\"\")&IF((BH101)=104,$BM$104,\"\")&IF((BH101)=105,$BM$105,\"\")&IF((BH101)=106,$BM$106,\"\")&IF((BH101)=107,$BM$107,\"\")&IF((BH101)=108,$BM$108,\"\")&IF((BH101)=109,$BM$109,\"\")&IF((BH101)=110,$BM$110,\"\")&IF((BH101)=111,$BM$111,\"\")&IF((BH101)=112,$BM$112,\"\")&IF((BH101)=113,$BM$113,\"\")&IF((BH101)=114,$BM$114,\"\")&IF((BH101)=115,$BM$115,\"\")&IF((BH101)=116,$BM$116,\"\")&IF((BH101)=117,$BM$117,\"\")&IF((BH101)=118,$BM$118,\"\")&IF((BH101)=119,$BM$119,\"\")&IF((BH101)=120,$BM$120,\"\")&IF((BH101)=121,$BM$121,\"\")&IF((BH101)=122,$BM$122,\"\")&IF((BH101)=123,$BM$123,\"\")&IF((BH101)=124,$BM$124,\"\")&IF((BH101)=125,$BM$125,\"\")&IF((BH101)=126,$BM$126,\"\")&IF((BH101)=127,$BM$127,\"\")&IF((BH101)=128,$BM$128,\"\")","v":""},null,{"$f":"IF((BH101)=1,$BN$1,\"\")&IF((BH101)=2,$BN$2,\"\")&IF((BH101)=3,$BN$3,\"\")&IF((BH101)=4,$BN$4,\"\")&IF((BH101)=5,$BN$5,\"\")&IF((BH101)=6,$BN$6,\"\")&IF((BH101)=7,$BN$7,\"\")&IF((BH101)=8,$BN$8,\"\")&IF((BH101)=9,$BN$9,\"\")&IF((BH101)=10,$BN$10,\"\")&IF((BH101)=11,$BN$11,\"\")&IF((BH101)=12,$BN$12,\"\")&IF((BH101)=13,$BN$13,\"\")&IF((BH101)=14,$BN$14,\"\")&IF((BH101)=15,$BN$15,\"\")&IF((BH101)=16,$BN$16,\"\")&IF((BH101)=17,$BN$17,\"\")&IF((BH101)=18,$BN$18,\"\")&IF((BH101)=19,$BN$19,\"\")&IF((BH101)=20,$BN$20,\"\")&IF((BH101)=21,$BN$21,\"\")&IF((BH101)=22,$BN$22,\"\")&IF((BH101)=23,$BN$23,\"\")&IF((BH101)=24,$BN$24,\"\")&IF((BH101)=25,$BN$25,\"\")&IF((BH101)=26,$BN$26,\"\")&IF((BH101)=27,$BN$27,\"\")&IF((BH101)=28,$BN$28,\"\")&IF((BH101)=29,$BN$29,\"\")&IF((BH101)=30,$BN$30,\"\")&IF((BH101)=31,$BN$31,\"\")&IF((BH101)=32,$BN$32,\"\")&IF((BH101)=33,$BN$33,\"\")&IF((BH101)=34,$BN$34,\"\")&IF((BH101)=35,$BN$35,\"\")&IF((BH101)=36,$BN$36,\"\")&IF((BH101)=37,$BN$37,\"\")&IF((BH101)=38,$BN$38,\"\")&IF((BH101)=39,$BN$39,\"\")&IF((BH101)=40,$BN$40,\"\")&IF((BH101)=41,$BN$41,\"\")&IF((BH101)=42,$BN$42,\"\")&IF((BH101)=43,$BN$43,\"\")&IF((BH101)=44,$BN$44,\"\")&IF((BH101)=45,$BN$45,\"\")&IF((BH101)=46,$BN$46,\"\")&IF((BH101)=47,$BN$47,\"\")&IF((BH101)=48,$BN$48,\"\")&IF((BH101)=49,$BN$49,\"\")&IF((BH101)=50,$BN$50,\"\")&IF((BH101)=51,$BN$51,\"\")&IF((BH101)=52,$BN$52,\"\")&IF((BH101)=53,$BN$53,\"\")&IF((BH101)=54,$BN$54,\"\")&IF((BH101)=55,$BN$55,\"\")&IF((BH101)=56,$BN$56,\"\")&IF((BH101)=57,$BN$57,\"\")&IF((BH101)=58,$BN$58,\"\")&IF((BH101)=59,$BN$59,\"\")&IF((BH101)=60,$BN$60,\"\")&IF((BH101)=61,$BN$61,\"\")&IF((BH101)=62,$BN$62,\"\")&IF((BH101)=63,$BN$63,\"\")&IF((BH101)=64,$BN$64,\"\")&IF((BH101)=65,$BN$65,\"\")&IF((BH101)=66,$BN$66,\"\")&IF((BH101)=67,$BN$67,\"\")&IF((BH101)=68,$BN$68,\"\")&IF((BH101)=69,$BN$69,\"\")&IF((BH101)=70,$BN$70,\"\")&IF((BH101)=71,$BN$71,\"\")&IF((BH101)=72,$BN$72,\"\")&IF((BH101)=73,$BN$73,\"\")&IF((BH101)=74,$BN$74,\"\")&IF((BH101)=75,$BN$75,\"\")&IF((BH101)=76,$BN$76,\"\")&IF((BH101)=77,$BN$77,\"\")&IF((BH101)=78,$BN$78,\"\")&IF((BH101)=79,$BN$79,\"\")&IF((BH101)=80,$BN$80,\"\")&IF((BH101)=81,$BN$81,\"\")&IF((BH101)=82,$BN$82,\"\")&IF((BH101)=83,$BN$83,\"\")&IF((BH101)=84,$BN$84,\"\")&IF((BH101)=85,$BN$85,\"\")&IF((BH101)=86,$BN$86,\"\")&IF((BH101)=87,$BN$87,\"\")&IF((BH101)=88,$BN$88,\"\")&IF((BH101)=89,$BN$89,\"\")&IF((BH101)=90,$BN$90,\"\")&IF((BH101)=91,$BN$91,\"\")&IF((BH101)=92,$BN$92,\"\")&IF((BH101)=93,$BN$93,\"\")&IF((BH101)=94,$BN$94,\"\")&IF((BH101)=95,$BN$95,\"\")&IF((BH101)=96,$BN$96,\"\")&IF((BH101)=97,$BN$97,\"\")&IF((BH101)=98,$BN$98,\"\")&IF((BH101)=99,$BN$99,\"\")&IF((BH101)=100,$BN$100,\"\")&IF((BH101)=101,$BN$101,\"\")&IF((BH101)=102,$BN$102,\"\")&IF((BH101)=103,$BN$103,\"\")&IF((BH101)=104,$BN$104,\"\")&IF((BH101)=105,$BN$105,\"\")&IF((BH101)=106,$BN$106,\"\")&IF((BH101)=107,$BN$107,\"\")&IF((BH101)=108,$BN$108,\"\")&IF((BH101)=109,$BN$109,\"\")&IF((BH101)=110,$BN$110,\"\")&IF((BH101)=111,$BN$111,\"\")&IF((BH101)=112,$BN$112,\"\")&IF((BH101)=113,$BN$113,\"\")&IF((BH101)=114,$BN$114,\"\")&IF((BH101)=115,$BN$115,\"\")&IF((BH101)=116,$BN$116,\"\")&IF((BH101)=117,$BN$117,\"\")&IF((BH101)=118,$BN$118,\"\")&IF((BH101)=119,$BN$119,\"\")&IF((BH101)=120,$BN$120,\"\")&IF((BH101)=121,$BN$121,\"\")&IF((BH101)=122,$BN$122,\"\")&IF((BH101)=123,$BN$123,\"\")&IF((BH101)=124,$BN$124,\"\")&IF((BH101)=125,$BN$125,\"\")&IF((BH101)=126,$BN$126,\"\")&IF((BH101)=127,$BN$127,\"\")&IF((BH101)=128,$BN$128,\"\")","v":""},null,null,null,null,{"$f":"resultat!AL6","v":6},{"$f":"resultat!AM6","v":"jacques"},null,null,null,null,"1 er tour",null,null,null,"Resultat"]
["Terrain",2,null,{"$f":"IF((F102)=1,$BM$1,\"\")&IF((F102)=2,$BM$2,\"\")&IF((F102)=3,$BM$3,\"\")&IF((F102)=4,$BM$4,\"\")&IF((F102)=5,$BM$5,\"\")&IF((F102)=6,$BM$6,\"\")&IF((F102)=7,$BM$7,\"\")&IF((F102)=8,$BM$8,\"\")&IF((F102)=9,$BM$9,\"\")&IF((F102)=10,$BM$10,\"\")&IF((F102)=11,$BM$11,\"\")&IF((F102)=12,$BM$12,\"\")&IF((F102)=13,$BM$13,\"\")&IF((F102)=14,$BM$14,\"\")&IF((F102)=15,$BM$15,\"\")&IF((F102)=16,$BM$16,\"\")&IF((F102)=17,$BM$17,\"\")&IF((F102)=18,$BM$18,\"\")&IF((F102)=19,$BM$19,\"\")&IF((F102)=20,$BM$20,\"\")&IF((F102)=21,$BM$21,\"\")&IF((F102)=22,$BM$22,\"\")&IF((F102)=23,$BM$23,\"\")&IF((F102)=24,$BM$24,\"\")&IF((F102)=25,$BM$25,\"\")&IF((F102)=26,$BM$26,\"\")&IF((F102)=27,$BM$27,\"\")&IF((F102)=28,$BM$28,\"\")&IF((F102)=29,$BM$29,\"\")&IF((F102)=30,$BM$30,\"\")&IF((F102)=31,$BM$31,\"\")&IF((F102)=32,$BM$32,\"\")&IF((F102)=33,$BM$33,\"\")&IF((F102)=34,$BM$34,\"\")&IF((F102)=35,$BM$35,\"\")&IF((F102)=36,$BM$36,\"\")&IF((F102)=37,$BM$37,\"\")&IF((F102)=38,$BM$38,\"\")&IF((F102)=39,$BM$39,\"\")&IF((F102)=40,$BM$40,\"\")&IF((F102)=41,$BM$41,\"\")&IF((F102)=42,$BM$42,\"\")&IF((F102)=43,$BM$43,\"\")&IF((F102)=44,$BM$44,\"\")&IF((F102)=45,$BM$45,\"\")&IF((F102)=46,$BM$46,\"\")&IF((F102)=47,$BM$47,\"\")&IF((F102)=48,$BM$48,\"\")&IF((F102)=49,$BM$49,\"\")&IF((F102)=50,$BM$50,\"\")&IF((F102)=51,$BM$51,\"\")&IF((F102)=52,$BM$52,\"\")&IF((F102)=53,$BM$53,\"\")&IF((F102)=54,$BM$54,\"\")&IF((F102)=55,$BM$55,\"\")&IF((F102)=56,$BM$56,\"\")&IF((F102)=57,$BM$57,\"\")&IF((F102)=58,$BM$58,\"\")&IF((F102)=59,$BM$59,\"\")&IF((F102)=60,$BM$60,\"\")&IF((F102)=61,$BM$61,\"\")&IF((F102)=62,$BM$62,\"\")&IF((F102)=63,$BM$63,\"\")&IF((F102)=64,$BM$64,\"\")&IF((F102)=65,$BM$65,\"\")&IF((F102)=66,$BM$66,\"\")&IF((F102)=67,$BM$67,\"\")&IF((F102)=68,$BM$68,\"\")&IF((F102)=69,$BM$69,\"\")&IF((F102)=70,$BM$70,\"\")&IF((F102)=71,$BM$71,\"\")&IF((F102)=72,$BM$72,\"\")&IF((F102)=73,$BM$73,\"\")&IF((F102)=74,$BM$74,\"\")&IF((F102)=75,$BM$75,\"\")&IF((F102)=76,$BM$76,\"\")&IF((F102)=77,$BM$77,\"\")&IF((F102)=78,$BM$78,\"\")&IF((F102)=79,$BM$79,\"\")&IF((F102)=80,$BM$80,\"\")&IF((F102)=81,$BM$81,\"\")&IF((F102)=82,$BM$82,\"\")&IF((F102)=83,$BM$83,\"\")&IF((F102)=84,$BM$84,\"\")&IF((F102)=85,$BM$85,\"\")&IF((F102)=86,$BM$86,\"\")&IF((F102)=87,$BM$87,\"\")&IF((F102)=88,$BM$88,\"\")&IF((F102)=89,$BM$89,\"\")&IF((F102)=90,$BM$90,\"\")&IF((F102)=91,$BM$91,\"\")&IF((F102)=92,$BM$92,\"\")&IF((F102)=93,$BM$93,\"\")&IF((F102)=94,$BM$94,\"\")&IF((F102)=95,$BM$95,\"\")&IF((F102)=96,$BM$96,\"\")&IF((F102)=97,$BM$97,\"\")&IF((F102)=98,$BM$98,\"\")&IF((F102)=99,$BM$99,\"\")&IF((F102)=100,$BM$100,\"\")&IF((F102)=101,$BM$101,\"\")&IF((F102)=102,$BM$102,\"\")&IF((F102)=103,$BM$103,\"\")&IF((F102)=104,$BM$104,\"\")&IF((F102)=105,$BM$105,\"\")&IF((F102)=106,$BM$106,\"\")&IF((F102)=107,$BM$107,\"\")&IF((F102)=108,$BM$108,\"\")&IF((F102)=109,$BM$109,\"\")&IF((F102)=110,$BM$110,\"\")&IF((F102)=111,$BM$111,\"\")&IF((F102)=112,$BM$112,\"\")&IF((F102)=113,$BM$113,\"\")&IF((F102)=114,$BM$114,\"\")&IF((F102)=115,$BM$115,\"\")&IF((F102)=116,$BM$116,\"\")&IF((F102)=117,$BM$117,\"\")&IF((F102)=118,$BM$118,\"\")&IF((F102)=119,$BM$119,\"\")&IF((F102)=120,$BM$120,\"\")&IF((F102)=121,$BM$121,\"\")&IF((F102)=122,$BM$122,\"\")&IF((F102)=123,$BM$123,\"\")&IF((F102)=124,$BM$124,\"\")&IF((F102)=125,$BM$125,\"\")&IF((F102)=126,$BM$126,\"\")&IF((F102)=127,$BM$127,\"\")&IF((F102)=128,$BM$128,\"\")","v":""},null,{"$f":"IF((F102)=1,$BN$1,\"\")&IF((F102)=2,$BN$2,\"\")&IF((F102)=3,$BN$3,\"\")&IF((F102)=4,$BN$4,\"\")&IF((F102)=5,$BN$5,\"\")&IF((F102)=6,$BN$6,\"\")&IF((F102)=7,$BN$7,\"\")&IF((F102)=8,$BN$8,\"\")&IF((F102)=9,$BN$9,\"\")&IF((F102)=10,$BN$10,\"\")&IF((F102)=11,$BN$11,\"\")&IF((F102)=12,$BN$12,\"\")&IF((F102)=13,$BN$13,\"\")&IF((F102)=14,$BN$14,\"\")&IF((F102)=15,$BN$15,\"\")&IF((F102)=16,$BN$16,\"\")&IF((F102)=17,$BN$17,\"\")&IF((F102)=18,$BN$18,\"\")&IF((F102)=19,$BN$19,\"\")&IF((F102)=20,$BN$20,\"\")&IF((F102)=21,$BN$21,\"\")&IF((F102)=22,$BN$22,\"\")&IF((F102)=23,$BN$23,\"\")&IF((F102)=24,$BN$24,\"\")&IF((F102)=25,$BN$25,\"\")&IF((F102)=26,$BN$26,\"\")&IF((F102)=27,$BN$27,\"\")&IF((F102)=28,$BN$28,\"\")&IF((F102)=29,$BN$29,\"\")&IF((F102)=30,$BN$30,\"\")&IF((F102)=31,$BN$31,\"\")&IF((F102)=32,$BN$32,\"\")&IF((F102)=33,$BN$33,\"\")&IF((F102)=34,$BN$34,\"\")&IF((F102)=35,$BN$35,\"\")&IF((F102)=36,$BN$36,\"\")&IF((F102)=37,$BN$37,\"\")&IF((F102)=38,$BN$38,\"\")&IF((F102)=39,$BN$39,\"\")&IF((F102)=40,$BN$40,\"\")&IF((F102)=41,$BN$41,\"\")&IF((F102)=42,$BN$42,\"\")&IF((F102)=43,$BN$43,\"\")&IF((F102)=44,$BN$44,\"\")&IF((F102)=45,$BN$45,\"\")&IF((F102)=46,$BN$46,\"\")&IF((F102)=47,$BN$47,\"\")&IF((F102)=48,$BN$48,\"\")&IF((F102)=49,$BN$49,\"\")&IF((F102)=50,$BN$50,\"\")&IF((F102)=51,$BN$51,\"\")&IF((F102)=52,$BN$52,\"\")&IF((F102)=53,$BN$53,\"\")&IF((F102)=54,$BN$54,\"\")&IF((F102)=55,$BN$55,\"\")&IF((F102)=56,$BN$56,\"\")&IF((F102)=57,$BN$57,\"\")&IF((F102)=58,$BN$58,\"\")&IF((F102)=59,$BN$59,\"\")&IF((F102)=60,$BN$60,\"\")&IF((F102)=61,$BN$61,\"\")&IF((F102)=62,$BN$62,\"\")&IF((F102)=63,$BN$63,\"\")&IF((F102)=64,$BN$64,\"\")&IF((F102)=65,$BN$65,\"\")&IF((F102)=66,$BN$66,\"\")&IF((F102)=67,$BN$67,\"\")&IF((F102)=68,$BN$68,\"\")&IF((F102)=69,$BN$69,\"\")&IF((F102)=70,$BN$70,\"\")&IF((F102)=71,$BN$71,\"\")&IF((F102)=72,$BN$72,\"\")&IF((F102)=73,$BN$73,\"\")&IF((F102)=74,$BN$74,\"\")&IF((F102)=75,$BN$75,\"\")&IF((F102)=76,$BN$76,\"\")&IF((F102)=77,$BN$77,\"\")&IF((F102)=78,$BN$78,\"\")&IF((F102)=79,$BN$79,\"\")&IF((F102)=80,$BN$80,\"\")&IF((F102)=81,$BN$81,\"\")&IF((F102)=82,$BN$82,\"\")&IF((F102)=83,$BN$83,\"\")&IF((F102)=84,$BN$84,\"\")&IF((F102)=85,$BN$85,\"\")&IF((F102)=86,$BN$86,\"\")&IF((F102)=87,$BN$87,\"\")&IF((F102)=88,$BN$88,\"\")&IF((F102)=89,$BN$89,\"\")&IF((F102)=90,$BN$90,\"\")&IF((F102)=91,$BN$91,\"\")&IF((F102)=92,$BN$92,\"\")&IF((F102)=93,$BN$93,\"\")&IF((F102)=94,$BN$94,\"\")&IF((F102)=95,$BN$95,\"\")&IF((F102)=96,$BN$96,\"\")&IF((F102)=97,$BN$97,\"\")&IF((F102)=98,$BN$98,\"\")&IF((F102)=99,$BN$99,\"\")&IF((F102)=100,$BN$100,\"\")&IF((F102)=101,$BN$101,\"\")&IF((F102)=102,$BN$102,\"\")&IF((F102)=103,$BN$103,\"\")&IF((F102)=104,$BN$104,\"\")&IF((F102)=105,$BN$105,\"\")&IF((F102)=106,$BN$106,\"\")&IF((F102)=107,$BN$107,\"\")&IF((F102)=108,$BN$108,\"\")&IF((F102)=109,$BN$109,\"\")&IF((F102)=110,$BN$110,\"\")&IF((F102)=111,$BN$111,\"\")&IF((F102)=112,$BN$112,\"\")&IF((F102)=113,$BN$113,\"\")&IF((F102)=114,$BN$114,\"\")&IF((F102)=115,$BN$115,\"\")&IF((F102)=116,$BN$116,\"\")&IF((F102)=117,$BN$117,\"\")&IF((F102)=118,$BN$118,\"\")&IF((F102)=119,$BN$119,\"\")&IF((F102)=120,$BN$120,\"\")&IF((F102)=121,$BN$121,\"\")&IF((F102)=122,$BN$122,\"\")&IF((F102)=123,$BN$123,\"\")&IF((F102)=124,$BN$124,\"\")&IF((F102)=125,$BN$125,\"\")&IF((F102)=126,$BN$126,\"\")&IF((F102)=127,$BN$127,\"\")&IF((F102)=128,$BN$128,\"\")","v":""},null,{"$f":"IF((J102)=1,$BM$1,\"\")&IF((J102)=2,$BM$2,\"\")&IF((J102)=3,$BM$3,\"\")&IF((J102)=4,$BM$4,\"\")&IF((J102)=5,$BM$5,\"\")&IF((J102)=6,$BM$6,\"\")&IF((J102)=7,$BM$7,\"\")&IF((J102)=8,$BM$8,\"\")&IF((J102)=9,$BM$9,\"\")&IF((J102)=10,$BM$10,\"\")&IF((J102)=11,$BM$11,\"\")&IF((J102)=12,$BM$12,\"\")&IF((J102)=13,$BM$13,\"\")&IF((J102)=14,$BM$14,\"\")&IF((J102)=15,$BM$15,\"\")&IF((J102)=16,$BM$16,\"\")&IF((J102)=17,$BM$17,\"\")&IF((J102)=18,$BM$18,\"\")&IF((J102)=19,$BM$19,\"\")&IF((J102)=20,$BM$20,\"\")&IF((J102)=21,$BM$21,\"\")&IF((J102)=22,$BM$22,\"\")&IF((J102)=23,$BM$23,\"\")&IF((J102)=24,$BM$24,\"\")&IF((J102)=25,$BM$25,\"\")&IF((J102)=26,$BM$26,\"\")&IF((J102)=27,$BM$27,\"\")&IF((J102)=28,$BM$28,\"\")&IF((J102)=29,$BM$29,\"\")&IF((J102)=30,$BM$30,\"\")&IF((J102)=31,$BM$31,\"\")&IF((J102)=32,$BM$32,\"\")&IF((J102)=33,$BM$33,\"\")&IF((J102)=34,$BM$34,\"\")&IF((J102)=35,$BM$35,\"\")&IF((J102)=36,$BM$36,\"\")&IF((J102)=37,$BM$37,\"\")&IF((J102)=38,$BM$38,\"\")&IF((J102)=39,$BM$39,\"\")&IF((J102)=40,$BM$40,\"\")&IF((J102)=41,$BM$41,\"\")&IF((J102)=42,$BM$42,\"\")&IF((J102)=43,$BM$43,\"\")&IF((J102)=44,$BM$44,\"\")&IF((J102)=45,$BM$45,\"\")&IF((J102)=46,$BM$46,\"\")&IF((J102)=47,$BM$47,\"\")&IF((J102)=48,$BM$48,\"\")&IF((J102)=49,$BM$49,\"\")&IF((J102)=50,$BM$50,\"\")&IF((J102)=51,$BM$51,\"\")&IF((J102)=52,$BM$52,\"\")&IF((J102)=53,$BM$53,\"\")&IF((J102)=54,$BM$54,\"\")&IF((J102)=55,$BM$55,\"\")&IF((J102)=56,$BM$56,\"\")&IF((J102)=57,$BM$57,\"\")&IF((J102)=58,$BM$58,\"\")&IF((J102)=59,$BM$59,\"\")&IF((J102)=60,$BM$60,\"\")&IF((J102)=61,$BM$61,\"\")&IF((J102)=62,$BM$62,\"\")&IF((J102)=63,$BM$63,\"\")&IF((J102)=64,$BM$64,\"\")&IF((J102)=65,$BM$65,\"\")&IF((J102)=66,$BM$66,\"\")&IF((J102)=67,$BM$67,\"\")&IF((J102)=68,$BM$68,\"\")&IF((J102)=69,$BM$69,\"\")&IF((J102)=70,$BM$70,\"\")&IF((J102)=71,$BM$71,\"\")&IF((J102)=72,$BM$72,\"\")&IF((J102)=73,$BM$73,\"\")&IF((J102)=74,$BM$74,\"\")&IF((J102)=75,$BM$75,\"\")&IF((J102)=76,$BM$76,\"\")&IF((J102)=77,$BM$77,\"\")&IF((J102)=78,$BM$78,\"\")&IF((J102)=79,$BM$79,\"\")&IF((J102)=80,$BM$80,\"\")&IF((J102)=81,$BM$81,\"\")&IF((J102)=82,$BM$82,\"\")&IF((J102)=83,$BM$83,\"\")&IF((J102)=84,$BM$84,\"\")&IF((J102)=85,$BM$85,\"\")&IF((J102)=86,$BM$86,\"\")&IF((J102)=87,$BM$87,\"\")&IF((J102)=88,$BM$88,\"\")&IF((J102)=89,$BM$89,\"\")&IF((J102)=90,$BM$90,\"\")&IF((J102)=91,$BM$91,\"\")&IF((J102)=92,$BM$92,\"\")&IF((J102)=93,$BM$93,\"\")&IF((J102)=94,$BM$94,\"\")&IF((J102)=95,$BM$95,\"\")&IF((J102)=96,$BM$96,\"\")&IF((J102)=97,$BM$97,\"\")&IF((J102)=98,$BM$98,\"\")&IF((J102)=99,$BM$99,\"\")&IF((J102)=100,$BM$100,\"\")&IF((J102)=101,$BM$101,\"\")&IF((J102)=102,$BM$102,\"\")&IF((J102)=103,$BM$103,\"\")&IF((J102)=104,$BM$104,\"\")&IF((J102)=105,$BM$105,\"\")&IF((J102)=106,$BM$106,\"\")&IF((J102)=107,$BM$107,\"\")&IF((J102)=108,$BM$108,\"\")&IF((J102)=109,$BM$109,\"\")&IF((J102)=110,$BM$110,\"\")&IF((J102)=111,$BM$111,\"\")&IF((J102)=112,$BM$112,\"\")&IF((J102)=113,$BM$113,\"\")&IF((J102)=114,$BM$114,\"\")&IF((J102)=115,$BM$115,\"\")&IF((J102)=116,$BM$116,\"\")&IF((J102)=117,$BM$117,\"\")&IF((J102)=118,$BM$118,\"\")&IF((J102)=119,$BM$119,\"\")&IF((J102)=120,$BM$120,\"\")&IF((J102)=121,$BM$121,\"\")&IF((J102)=122,$BM$122,\"\")&IF((J102)=123,$BM$123,\"\")&IF((J102)=124,$BM$124,\"\")&IF((J102)=125,$BM$125,\"\")&IF((J102)=126,$BM$126,\"\")&IF((J102)=127,$BM$127,\"\")&IF((J102)=128,$BM$128,\"\")","v":""},null,{"$f":"IF((J102)=1,$BN$1,\"\")&IF((J102)=2,$BN$2,\"\")&IF((J102)=3,$BN$3,\"\")&IF((J102)=4,$BN$4,\"\")&IF((J102)=5,$BN$5,\"\")&IF((J102)=6,$BN$6,\"\")&IF((J102)=7,$BN$7,\"\")&IF((J102)=8,$BN$8,\"\")&IF((J102)=9,$BN$9,\"\")&IF((J102)=10,$BN$10,\"\")&IF((J102)=11,$BN$11,\"\")&IF((J102)=12,$BN$12,\"\")&IF((J102)=13,$BN$13,\"\")&IF((J102)=14,$BN$14,\"\")&IF((J102)=15,$BN$15,\"\")&IF((J102)=16,$BN$16,\"\")&IF((J102)=17,$BN$17,\"\")&IF((J102)=18,$BN$18,\"\")&IF((J102)=19,$BN$19,\"\")&IF((J102)=20,$BN$20,\"\")&IF((J102)=21,$BN$21,\"\")&IF((J102)=22,$BN$22,\"\")&IF((J102)=23,$BN$23,\"\")&IF((J102)=24,$BN$24,\"\")&IF((J102)=25,$BN$25,\"\")&IF((J102)=26,$BN$26,\"\")&IF((J102)=27,$BN$27,\"\")&IF((J102)=28,$BN$28,\"\")&IF((J102)=29,$BN$29,\"\")&IF((J102)=30,$BN$30,\"\")&IF((J102)=31,$BN$31,\"\")&IF((J102)=32,$BN$32,\"\")&IF((J102)=33,$BN$33,\"\")&IF((J102)=34,$BN$34,\"\")&IF((J102)=35,$BN$35,\"\")&IF((J102)=36,$BN$36,\"\")&IF((J102)=37,$BN$37,\"\")&IF((J102)=38,$BN$38,\"\")&IF((J102)=39,$BN$39,\"\")&IF((J102)=40,$BN$40,\"\")&IF((J102)=41,$BN$41,\"\")&IF((J102)=42,$BN$42,\"\")&IF((J102)=43,$BN$43,\"\")&IF((J102)=44,$BN$44,\"\")&IF((J102)=45,$BN$45,\"\")&IF((J102)=46,$BN$46,\"\")&IF((J102)=47,$BN$47,\"\")&IF((J102)=48,$BN$48,\"\")&IF((J102)=49,$BN$49,\"\")&IF((J102)=50,$BN$50,\"\")&IF((J102)=51,$BN$51,\"\")&IF((J102)=52,$BN$52,\"\")&IF((J102)=53,$BN$53,\"\")&IF((J102)=54,$BN$54,\"\")&IF((J102)=55,$BN$55,\"\")&IF((J102)=56,$BN$56,\"\")&IF((J102)=57,$BN$57,\"\")&IF((J102)=58,$BN$58,\"\")&IF((J102)=59,$BN$59,\"\")&IF((J102)=60,$BN$60,\"\")&IF((J102)=61,$BN$61,\"\")&IF((J102)=62,$BN$62,\"\")&IF((J102)=63,$BN$63,\"\")&IF((J102)=64,$BN$64,\"\")&IF((J102)=65,$BN$65,\"\")&IF((J102)=66,$BN$66,\"\")&IF((J102)=67,$BN$67,\"\")&IF((J102)=68,$BN$68,\"\")&IF((J102)=69,$BN$69,\"\")&IF((J102)=70,$BN$70,\"\")&IF((J102)=71,$BN$71,\"\")&IF((J102)=72,$BN$72,\"\")&IF((J102)=73,$BN$73,\"\")&IF((J102)=74,$BN$74,\"\")&IF((J102)=75,$BN$75,\"\")&IF((J102)=76,$BN$76,\"\")&IF((J102)=77,$BN$77,\"\")&IF((J102)=78,$BN$78,\"\")&IF((J102)=79,$BN$79,\"\")&IF((J102)=80,$BN$80,\"\")&IF((J102)=81,$BN$81,\"\")&IF((J102)=82,$BN$82,\"\")&IF((J102)=83,$BN$83,\"\")&IF((J102)=84,$BN$84,\"\")&IF((J102)=85,$BN$85,\"\")&IF((J102)=86,$BN$86,\"\")&IF((J102)=87,$BN$87,\"\")&IF((J102)=88,$BN$88,\"\")&IF((J102)=89,$BN$89,\"\")&IF((J102)=90,$BN$90,\"\")&IF((J102)=91,$BN$91,\"\")&IF((J102)=92,$BN$92,\"\")&IF((J102)=93,$BN$93,\"\")&IF((J102)=94,$BN$94,\"\")&IF((J102)=95,$BN$95,\"\")&IF((J102)=96,$BN$96,\"\")&IF((J102)=97,$BN$97,\"\")&IF((J102)=98,$BN$98,\"\")&IF((J102)=99,$BN$99,\"\")&IF((J102)=100,$BN$100,\"\")&IF((J102)=101,$BN$101,\"\")&IF((J102)=102,$BN$102,\"\")&IF((J102)=103,$BN$103,\"\")&IF((J102)=104,$BN$104,\"\")&IF((J102)=105,$BN$105,\"\")&IF((J102)=106,$BN$106,\"\")&IF((J102)=107,$BN$107,\"\")&IF((J102)=108,$BN$108,\"\")&IF((J102)=109,$BN$109,\"\")&IF((J102)=110,$BN$110,\"\")&IF((J102)=111,$BN$111,\"\")&IF((J102)=112,$BN$112,\"\")&IF((J102)=113,$BN$113,\"\")&IF((J102)=114,$BN$114,\"\")&IF((J102)=115,$BN$115,\"\")&IF((J102)=116,$BN$116,\"\")&IF((J102)=117,$BN$117,\"\")&IF((J102)=118,$BN$118,\"\")&IF((J102)=119,$BN$119,\"\")&IF((J102)=120,$BN$120,\"\")&IF((J102)=121,$BN$121,\"\")&IF((J102)=122,$BN$122,\"\")&IF((J102)=123,$BN$123,\"\")&IF((J102)=124,$BN$124,\"\")&IF((J102)=125,$BN$125,\"\")&IF((J102)=126,$BN$126,\"\")&IF((J102)=127,$BN$127,\"\")&IF((J102)=128,$BN$128,\"\")","v":""},null,null,null,{"$f":"IF((P102)=1,$BM$1,\"\")&IF((P102)=2,$BM$2,\"\")&IF((P102)=3,$BM$3,\"\")&IF((P102)=4,$BM$4,\"\")&IF((P102)=5,$BM$5,\"\")&IF((P102)=6,$BM$6,\"\")&IF((P102)=7,$BM$7,\"\")&IF((P102)=8,$BM$8,\"\")&IF((P102)=9,$BM$9,\"\")&IF((P102)=10,$BM$10,\"\")&IF((P102)=11,$BM$11,\"\")&IF((P102)=12,$BM$12,\"\")&IF((P102)=13,$BM$13,\"\")&IF((P102)=14,$BM$14,\"\")&IF((P102)=15,$BM$15,\"\")&IF((P102)=16,$BM$16,\"\")&IF((P102)=17,$BM$17,\"\")&IF((P102)=18,$BM$18,\"\")&IF((P102)=19,$BM$19,\"\")&IF((P102)=20,$BM$20,\"\")&IF((P102)=21,$BM$21,\"\")&IF((P102)=22,$BM$22,\"\")&IF((P102)=23,$BM$23,\"\")&IF((P102)=24,$BM$24,\"\")&IF((P102)=25,$BM$25,\"\")&IF((P102)=26,$BM$26,\"\")&IF((P102)=27,$BM$27,\"\")&IF((P102)=28,$BM$28,\"\")&IF((P102)=29,$BM$29,\"\")&IF((P102)=30,$BM$30,\"\")&IF((P102)=31,$BM$31,\"\")&IF((P102)=32,$BM$32,\"\")&IF((P102)=33,$BM$33,\"\")&IF((P102)=34,$BM$34,\"\")&IF((P102)=35,$BM$35,\"\")&IF((P102)=36,$BM$36,\"\")&IF((P102)=37,$BM$37,\"\")&IF((P102)=38,$BM$38,\"\")&IF((P102)=39,$BM$39,\"\")&IF((P102)=40,$BM$40,\"\")&IF((P102)=41,$BM$41,\"\")&IF((P102)=42,$BM$42,\"\")&IF((P102)=43,$BM$43,\"\")&IF((P102)=44,$BM$44,\"\")&IF((P102)=45,$BM$45,\"\")&IF((P102)=46,$BM$46,\"\")&IF((P102)=47,$BM$47,\"\")&IF((P102)=48,$BM$48,\"\")&IF((P102)=49,$BM$49,\"\")&IF((P102)=50,$BM$50,\"\")&IF((P102)=51,$BM$51,\"\")&IF((P102)=52,$BM$52,\"\")&IF((P102)=53,$BM$53,\"\")&IF((P102)=54,$BM$54,\"\")&IF((P102)=55,$BM$55,\"\")&IF((P102)=56,$BM$56,\"\")&IF((P102)=57,$BM$57,\"\")&IF((P102)=58,$BM$58,\"\")&IF((P102)=59,$BM$59,\"\")&IF((P102)=60,$BM$60,\"\")&IF((P102)=61,$BM$61,\"\")&IF((P102)=62,$BM$62,\"\")&IF((P102)=63,$BM$63,\"\")&IF((P102)=64,$BM$64,\"\")&IF((P102)=65,$BM$65,\"\")&IF((P102)=66,$BM$66,\"\")&IF((P102)=67,$BM$67,\"\")&IF((P102)=68,$BM$68,\"\")&IF((P102)=69,$BM$69,\"\")&IF((P102)=70,$BM$70,\"\")&IF((P102)=71,$BM$71,\"\")&IF((P102)=72,$BM$72,\"\")&IF((P102)=73,$BM$73,\"\")&IF((P102)=74,$BM$74,\"\")&IF((P102)=75,$BM$75,\"\")&IF((P102)=76,$BM$76,\"\")&IF((P102)=77,$BM$77,\"\")&IF((P102)=78,$BM$78,\"\")&IF((P102)=79,$BM$79,\"\")&IF((P102)=80,$BM$80,\"\")&IF((P102)=81,$BM$81,\"\")&IF((P102)=82,$BM$82,\"\")&IF((P102)=83,$BM$83,\"\")&IF((P102)=84,$BM$84,\"\")&IF((P102)=85,$BM$85,\"\")&IF((P102)=86,$BM$86,\"\")&IF((P102)=87,$BM$87,\"\")&IF((P102)=88,$BM$88,\"\")&IF((P102)=89,$BM$89,\"\")&IF((P102)=90,$BM$90,\"\")&IF((P102)=91,$BM$91,\"\")&IF((P102)=92,$BM$92,\"\")&IF((P102)=93,$BM$93,\"\")&IF((P102)=94,$BM$94,\"\")&IF((P102)=95,$BM$95,\"\")&IF((P102)=96,$BM$96,\"\")&IF((P102)=97,$BM$97,\"\")&IF((P102)=98,$BM$98,\"\")&IF((P102)=99,$BM$99,\"\")&IF((P102)=100,$BM$100,\"\")&IF((P102)=101,$BM$101,\"\")&IF((P102)=102,$BM$102,\"\")&IF((P102)=103,$BM$103,\"\")&IF((P102)=104,$BM$104,\"\")&IF((P102)=105,$BM$105,\"\")&IF((P102)=106,$BM$106,\"\")&IF((P102)=107,$BM$107,\"\")&IF((P102)=108,$BM$108,\"\")&IF((P102)=109,$BM$109,\"\")&IF((P102)=110,$BM$110,\"\")&IF((P102)=111,$BM$111,\"\")&IF((P102)=112,$BM$112,\"\")&IF((P102)=113,$BM$113,\"\")&IF((P102)=114,$BM$114,\"\")&IF((P102)=115,$BM$115,\"\")&IF((P102)=116,$BM$116,\"\")&IF((P102)=117,$BM$117,\"\")&IF((P102)=118,$BM$118,\"\")&IF((P102)=119,$BM$119,\"\")&IF((P102)=120,$BM$120,\"\")&IF((P102)=121,$BM$121,\"\")&IF((P102)=122,$BM$122,\"\")&IF((P102)=123,$BM$123,\"\")&IF((P102)=124,$BM$124,\"\")&IF((P102)=125,$BM$125,\"\")&IF((P102)=126,$BM$126,\"\")&IF((P102)=127,$BM$127,\"\")&IF((P102)=128,$BM$128,\"\")","v":""},null,{"$f":"IF((P102)=1,$BN$1,\"\")&IF((P102)=2,$BN$2,\"\")&IF((P102)=3,$BN$3,\"\")&IF((P102)=4,$BN$4,\"\")&IF((P102)=5,$BN$5,\"\")&IF((P102)=6,$BN$6,\"\")&IF((P102)=7,$BN$7,\"\")&IF((P102)=8,$BN$8,\"\")&IF((P102)=9,$BN$9,\"\")&IF((P102)=10,$BN$10,\"\")&IF((P102)=11,$BN$11,\"\")&IF((P102)=12,$BN$12,\"\")&IF((P102)=13,$BN$13,\"\")&IF((P102)=14,$BN$14,\"\")&IF((P102)=15,$BN$15,\"\")&IF((P102)=16,$BN$16,\"\")&IF((P102)=17,$BN$17,\"\")&IF((P102)=18,$BN$18,\"\")&IF((P102)=19,$BN$19,\"\")&IF((P102)=20,$BN$20,\"\")&IF((P102)=21,$BN$21,\"\")&IF((P102)=22,$BN$22,\"\")&IF((P102)=23,$BN$23,\"\")&IF((P102)=24,$BN$24,\"\")&IF((P102)=25,$BN$25,\"\")&IF((P102)=26,$BN$26,\"\")&IF((P102)=27,$BN$27,\"\")&IF((P102)=28,$BN$28,\"\")&IF((P102)=29,$BN$29,\"\")&IF((P102)=30,$BN$30,\"\")&IF((P102)=31,$BN$31,\"\")&IF((P102)=32,$BN$32,\"\")&IF((P102)=33,$BN$33,\"\")&IF((P102)=34,$BN$34,\"\")&IF((P102)=35,$BN$35,\"\")&IF((P102)=36,$BN$36,\"\")&IF((P102)=37,$BN$37,\"\")&IF((P102)=38,$BN$38,\"\")&IF((P102)=39,$BN$39,\"\")&IF((P102)=40,$BN$40,\"\")&IF((P102)=41,$BN$41,\"\")&IF((P102)=42,$BN$42,\"\")&IF((P102)=43,$BN$43,\"\")&IF((P102)=44,$BN$44,\"\")&IF((P102)=45,$BN$45,\"\")&IF((P102)=46,$BN$46,\"\")&IF((P102)=47,$BN$47,\"\")&IF((P102)=48,$BN$48,\"\")&IF((P102)=49,$BN$49,\"\")&IF((P102)=50,$BN$50,\"\")&IF((P102)=51,$BN$51,\"\")&IF((P102)=52,$BN$52,\"\")&IF((P102)=53,$BN$53,\"\")&IF((P102)=54,$BN$54,\"\")&IF((P102)=55,$BN$55,\"\")&IF((P102)=56,$BN$56,\"\")&IF((P102)=57,$BN$57,\"\")&IF((P102)=58,$BN$58,\"\")&IF((P102)=59,$BN$59,\"\")&IF((P102)=60,$BN$60,\"\")&IF((P102)=61,$BN$61,\"\")&IF((P102)=62,$BN$62,\"\")&IF((P102)=63,$BN$63,\"\")&IF((P102)=64,$BN$64,\"\")&IF((P102)=65,$BN$65,\"\")&IF((P102)=66,$BN$66,\"\")&IF((P102)=67,$BN$67,\"\")&IF((P102)=68,$BN$68,\"\")&IF((P102)=69,$BN$69,\"\")&IF((P102)=70,$BN$70,\"\")&IF((P102)=71,$BN$71,\"\")&IF((P102)=72,$BN$72,\"\")&IF((P102)=73,$BN$73,\"\")&IF((P102)=74,$BN$74,\"\")&IF((P102)=75,$BN$75,\"\")&IF((P102)=76,$BN$76,\"\")&IF((P102)=77,$BN$77,\"\")&IF((P102)=78,$BN$78,\"\")&IF((P102)=79,$BN$79,\"\")&IF((P102)=80,$BN$80,\"\")&IF((P102)=81,$BN$81,\"\")&IF((P102)=82,$BN$82,\"\")&IF((P102)=83,$BN$83,\"\")&IF((P102)=84,$BN$84,\"\")&IF((P102)=85,$BN$85,\"\")&IF((P102)=86,$BN$86,\"\")&IF((P102)=87,$BN$87,\"\")&IF((P102)=88,$BN$88,\"\")&IF((P102)=89,$BN$89,\"\")&IF((P102)=90,$BN$90,\"\")&IF((P102)=91,$BN$91,\"\")&IF((P102)=92,$BN$92,\"\")&IF((P102)=93,$BN$93,\"\")&IF((P102)=94,$BN$94,\"\")&IF((P102)=95,$BN$95,\"\")&IF((P102)=96,$BN$96,\"\")&IF((P102)=97,$BN$97,\"\")&IF((P102)=98,$BN$98,\"\")&IF((P102)=99,$BN$99,\"\")&IF((P102)=100,$BN$100,\"\")&IF((P102)=101,$BN$101,\"\")&IF((P102)=102,$BN$102,\"\")&IF((P102)=103,$BN$103,\"\")&IF((P102)=104,$BN$104,\"\")&IF((P102)=105,$BN$105,\"\")&IF((P102)=106,$BN$106,\"\")&IF((P102)=107,$BN$107,\"\")&IF((P102)=108,$BN$108,\"\")&IF((P102)=109,$BN$109,\"\")&IF((P102)=110,$BN$110,\"\")&IF((P102)=111,$BN$111,\"\")&IF((P102)=112,$BN$112,\"\")&IF((P102)=113,$BN$113,\"\")&IF((P102)=114,$BN$114,\"\")&IF((P102)=115,$BN$115,\"\")&IF((P102)=116,$BN$116,\"\")&IF((P102)=117,$BN$117,\"\")&IF((P102)=118,$BN$118,\"\")&IF((P102)=119,$BN$119,\"\")&IF((P102)=120,$BN$120,\"\")&IF((P102)=121,$BN$121,\"\")&IF((P102)=122,$BN$122,\"\")&IF((P102)=123,$BN$123,\"\")&IF((P102)=124,$BN$124,\"\")&IF((P102)=125,$BN$125,\"\")&IF((P102)=126,$BN$126,\"\")&IF((P102)=127,$BN$127,\"\")&IF((P102)=128,$BN$128,\"\")","v":""},null,{"$f":"IF((T102)=1,$BM$1,\"\")&IF((T102)=2,$BM$2,\"\")&IF((T102)=3,$BM$3,\"\")&IF((T102)=4,$BM$4,\"\")&IF((T102)=5,$BM$5,\"\")&IF((T102)=6,$BM$6,\"\")&IF((T102)=7,$BM$7,\"\")&IF((T102)=8,$BM$8,\"\")&IF((T102)=9,$BM$9,\"\")&IF((T102)=10,$BM$10,\"\")&IF((T102)=11,$BM$11,\"\")&IF((T102)=12,$BM$12,\"\")&IF((T102)=13,$BM$13,\"\")&IF((T102)=14,$BM$14,\"\")&IF((T102)=15,$BM$15,\"\")&IF((T102)=16,$BM$16,\"\")&IF((T102)=17,$BM$17,\"\")&IF((T102)=18,$BM$18,\"\")&IF((T102)=19,$BM$19,\"\")&IF((T102)=20,$BM$20,\"\")&IF((T102)=21,$BM$21,\"\")&IF((T102)=22,$BM$22,\"\")&IF((T102)=23,$BM$23,\"\")&IF((T102)=24,$BM$24,\"\")&IF((T102)=25,$BM$25,\"\")&IF((T102)=26,$BM$26,\"\")&IF((T102)=27,$BM$27,\"\")&IF((T102)=28,$BM$28,\"\")&IF((T102)=29,$BM$29,\"\")&IF((T102)=30,$BM$30,\"\")&IF((T102)=31,$BM$31,\"\")&IF((T102)=32,$BM$32,\"\")&IF((T102)=33,$BM$33,\"\")&IF((T102)=34,$BM$34,\"\")&IF((T102)=35,$BM$35,\"\")&IF((T102)=36,$BM$36,\"\")&IF((T102)=37,$BM$37,\"\")&IF((T102)=38,$BM$38,\"\")&IF((T102)=39,$BM$39,\"\")&IF((T102)=40,$BM$40,\"\")&IF((T102)=41,$BM$41,\"\")&IF((T102)=42,$BM$42,\"\")&IF((T102)=43,$BM$43,\"\")&IF((T102)=44,$BM$44,\"\")&IF((T102)=45,$BM$45,\"\")&IF((T102)=46,$BM$46,\"\")&IF((T102)=47,$BM$47,\"\")&IF((T102)=48,$BM$48,\"\")&IF((T102)=49,$BM$49,\"\")&IF((T102)=50,$BM$50,\"\")&IF((T102)=51,$BM$51,\"\")&IF((T102)=52,$BM$52,\"\")&IF((T102)=53,$BM$53,\"\")&IF((T102)=54,$BM$54,\"\")&IF((T102)=55,$BM$55,\"\")&IF((T102)=56,$BM$56,\"\")&IF((T102)=57,$BM$57,\"\")&IF((T102)=58,$BM$58,\"\")&IF((T102)=59,$BM$59,\"\")&IF((T102)=60,$BM$60,\"\")&IF((T102)=61,$BM$61,\"\")&IF((T102)=62,$BM$62,\"\")&IF((T102)=63,$BM$63,\"\")&IF((T102)=64,$BM$64,\"\")&IF((T102)=65,$BM$65,\"\")&IF((T102)=66,$BM$66,\"\")&IF((T102)=67,$BM$67,\"\")&IF((T102)=68,$BM$68,\"\")&IF((T102)=69,$BM$69,\"\")&IF((T102)=70,$BM$70,\"\")&IF((T102)=71,$BM$71,\"\")&IF((T102)=72,$BM$72,\"\")&IF((T102)=73,$BM$73,\"\")&IF((T102)=74,$BM$74,\"\")&IF((T102)=75,$BM$75,\"\")&IF((T102)=76,$BM$76,\"\")&IF((T102)=77,$BM$77,\"\")&IF((T102)=78,$BM$78,\"\")&IF((T102)=79,$BM$79,\"\")&IF((T102)=80,$BM$80,\"\")&IF((T102)=81,$BM$81,\"\")&IF((T102)=82,$BM$82,\"\")&IF((T102)=83,$BM$83,\"\")&IF((T102)=84,$BM$84,\"\")&IF((T102)=85,$BM$85,\"\")&IF((T102)=86,$BM$86,\"\")&IF((T102)=87,$BM$87,\"\")&IF((T102)=88,$BM$88,\"\")&IF((T102)=89,$BM$89,\"\")&IF((T102)=90,$BM$90,\"\")&IF((T102)=91,$BM$91,\"\")&IF((T102)=92,$BM$92,\"\")&IF((T102)=93,$BM$93,\"\")&IF((T102)=94,$BM$94,\"\")&IF((T102)=95,$BM$95,\"\")&IF((T102)=96,$BM$96,\"\")&IF((T102)=97,$BM$97,\"\")&IF((T102)=98,$BM$98,\"\")&IF((T102)=99,$BM$99,\"\")&IF((T102)=100,$BM$100,\"\")&IF((T102)=101,$BM$101,\"\")&IF((T102)=102,$BM$102,\"\")&IF((T102)=103,$BM$103,\"\")&IF((T102)=104,$BM$104,\"\")&IF((T102)=105,$BM$105,\"\")&IF((T102)=106,$BM$106,\"\")&IF((T102)=107,$BM$107,\"\")&IF((T102)=108,$BM$108,\"\")&IF((T102)=109,$BM$109,\"\")&IF((T102)=110,$BM$110,\"\")&IF((T102)=111,$BM$111,\"\")&IF((T102)=112,$BM$112,\"\")&IF((T102)=113,$BM$113,\"\")&IF((T102)=114,$BM$114,\"\")&IF((T102)=115,$BM$115,\"\")&IF((T102)=116,$BM$116,\"\")&IF((T102)=117,$BM$117,\"\")&IF((T102)=118,$BM$118,\"\")&IF((T102)=119,$BM$119,\"\")&IF((T102)=120,$BM$120,\"\")&IF((T102)=121,$BM$121,\"\")&IF((T102)=122,$BM$122,\"\")&IF((T102)=123,$BM$123,\"\")&IF((T102)=124,$BM$124,\"\")&IF((T102)=125,$BM$125,\"\")&IF((T102)=126,$BM$126,\"\")&IF((T102)=127,$BM$127,\"\")&IF((T102)=128,$BM$128,\"\")","v":""},null,{"$f":"IF((T102)=1,$BN$1,\"\")&IF((T102)=2,$BN$2,\"\")&IF((T102)=3,$BN$3,\"\")&IF((T102)=4,$BN$4,\"\")&IF((T102)=5,$BN$5,\"\")&IF((T102)=6,$BN$6,\"\")&IF((T102)=7,$BN$7,\"\")&IF((T102)=8,$BN$8,\"\")&IF((T102)=9,$BN$9,\"\")&IF((T102)=10,$BN$10,\"\")&IF((T102)=11,$BN$11,\"\")&IF((T102)=12,$BN$12,\"\")&IF((T102)=13,$BN$13,\"\")&IF((T102)=14,$BN$14,\"\")&IF((T102)=15,$BN$15,\"\")&IF((T102)=16,$BN$16,\"\")&IF((T102)=17,$BN$17,\"\")&IF((T102)=18,$BN$18,\"\")&IF((T102)=19,$BN$19,\"\")&IF((T102)=20,$BN$20,\"\")&IF((T102)=21,$BN$21,\"\")&IF((T102)=22,$BN$22,\"\")&IF((T102)=23,$BN$23,\"\")&IF((T102)=24,$BN$24,\"\")&IF((T102)=25,$BN$25,\"\")&IF((T102)=26,$BN$26,\"\")&IF((T102)=27,$BN$27,\"\")&IF((T102)=28,$BN$28,\"\")&IF((T102)=29,$BN$29,\"\")&IF((T102)=30,$BN$30,\"\")&IF((T102)=31,$BN$31,\"\")&IF((T102)=32,$BN$32,\"\")&IF((T102)=33,$BN$33,\"\")&IF((T102)=34,$BN$34,\"\")&IF((T102)=35,$BN$35,\"\")&IF((T102)=36,$BN$36,\"\")&IF((T102)=37,$BN$37,\"\")&IF((T102)=38,$BN$38,\"\")&IF((T102)=39,$BN$39,\"\")&IF((T102)=40,$BN$40,\"\")&IF((T102)=41,$BN$41,\"\")&IF((T102)=42,$BN$42,\"\")&IF((T102)=43,$BN$43,\"\")&IF((T102)=44,$BN$44,\"\")&IF((T102)=45,$BN$45,\"\")&IF((T102)=46,$BN$46,\"\")&IF((T102)=47,$BN$47,\"\")&IF((T102)=48,$BN$48,\"\")&IF((T102)=49,$BN$49,\"\")&IF((T102)=50,$BN$50,\"\")&IF((T102)=51,$BN$51,\"\")&IF((T102)=52,$BN$52,\"\")&IF((T102)=53,$BN$53,\"\")&IF((T102)=54,$BN$54,\"\")&IF((T102)=55,$BN$55,\"\")&IF((T102)=56,$BN$56,\"\")&IF((T102)=57,$BN$57,\"\")&IF((T102)=58,$BN$58,\"\")&IF((T102)=59,$BN$59,\"\")&IF((T102)=60,$BN$60,\"\")&IF((T102)=61,$BN$61,\"\")&IF((T102)=62,$BN$62,\"\")&IF((T102)=63,$BN$63,\"\")&IF((T102)=64,$BN$64,\"\")&IF((T102)=65,$BN$65,\"\")&IF((T102)=66,$BN$66,\"\")&IF((T102)=67,$BN$67,\"\")&IF((T102)=68,$BN$68,\"\")&IF((T102)=69,$BN$69,\"\")&IF((T102)=70,$BN$70,\"\")&IF((T102)=71,$BN$71,\"\")&IF((T102)=72,$BN$72,\"\")&IF((T102)=73,$BN$73,\"\")&IF((T102)=74,$BN$74,\"\")&IF((T102)=75,$BN$75,\"\")&IF((T102)=76,$BN$76,\"\")&IF((T102)=77,$BN$77,\"\")&IF((T102)=78,$BN$78,\"\")&IF((T102)=79,$BN$79,\"\")&IF((T102)=80,$BN$80,\"\")&IF((T102)=81,$BN$81,\"\")&IF((T102)=82,$BN$82,\"\")&IF((T102)=83,$BN$83,\"\")&IF((T102)=84,$BN$84,\"\")&IF((T102)=85,$BN$85,\"\")&IF((T102)=86,$BN$86,\"\")&IF((T102)=87,$BN$87,\"\")&IF((T102)=88,$BN$88,\"\")&IF((T102)=89,$BN$89,\"\")&IF((T102)=90,$BN$90,\"\")&IF((T102)=91,$BN$91,\"\")&IF((T102)=92,$BN$92,\"\")&IF((T102)=93,$BN$93,\"\")&IF((T102)=94,$BN$94,\"\")&IF((T102)=95,$BN$95,\"\")&IF((T102)=96,$BN$96,\"\")&IF((T102)=97,$BN$97,\"\")&IF((T102)=98,$BN$98,\"\")&IF((T102)=99,$BN$99,\"\")&IF((T102)=100,$BN$100,\"\")&IF((T102)=101,$BN$101,\"\")&IF((T102)=102,$BN$102,\"\")&IF((T102)=103,$BN$103,\"\")&IF((T102)=104,$BN$104,\"\")&IF((T102)=105,$BN$105,\"\")&IF((T102)=106,$BN$106,\"\")&IF((T102)=107,$BN$107,\"\")&IF((T102)=108,$BN$108,\"\")&IF((T102)=109,$BN$109,\"\")&IF((T102)=110,$BN$110,\"\")&IF((T102)=111,$BN$111,\"\")&IF((T102)=112,$BN$112,\"\")&IF((T102)=113,$BN$113,\"\")&IF((T102)=114,$BN$114,\"\")&IF((T102)=115,$BN$115,\"\")&IF((T102)=116,$BN$116,\"\")&IF((T102)=117,$BN$117,\"\")&IF((T102)=118,$BN$118,\"\")&IF((T102)=119,$BN$119,\"\")&IF((T102)=120,$BN$120,\"\")&IF((T102)=121,$BN$121,\"\")&IF((T102)=122,$BN$122,\"\")&IF((T102)=123,$BN$123,\"\")&IF((T102)=124,$BN$124,\"\")&IF((T102)=125,$BN$125,\"\")&IF((T102)=126,$BN$126,\"\")&IF((T102)=127,$BN$127,\"\")&IF((T102)=128,$BN$128,\"\")","v":""},null,null,null,{"$f":"IF((Z102)=1,$BM$1,\"\")&IF((Z102)=2,$BM$2,\"\")&IF((Z102)=3,$BM$3,\"\")&IF((Z102)=4,$BM$4,\"\")&IF((Z102)=5,$BM$5,\"\")&IF((Z102)=6,$BM$6,\"\")&IF((Z102)=7,$BM$7,\"\")&IF((Z102)=8,$BM$8,\"\")&IF((Z102)=9,$BM$9,\"\")&IF((Z102)=10,$BM$10,\"\")&IF((Z102)=11,$BM$11,\"\")&IF((Z102)=12,$BM$12,\"\")&IF((Z102)=13,$BM$13,\"\")&IF((Z102)=14,$BM$14,\"\")&IF((Z102)=15,$BM$15,\"\")&IF((Z102)=16,$BM$16,\"\")&IF((Z102)=17,$BM$17,\"\")&IF((Z102)=18,$BM$18,\"\")&IF((Z102)=19,$BM$19,\"\")&IF((Z102)=20,$BM$20,\"\")&IF((Z102)=21,$BM$21,\"\")&IF((Z102)=22,$BM$22,\"\")&IF((Z102)=23,$BM$23,\"\")&IF((Z102)=24,$BM$24,\"\")&IF((Z102)=25,$BM$25,\"\")&IF((Z102)=26,$BM$26,\"\")&IF((Z102)=27,$BM$27,\"\")&IF((Z102)=28,$BM$28,\"\")&IF((Z102)=29,$BM$29,\"\")&IF((Z102)=30,$BM$30,\"\")&IF((Z102)=31,$BM$31,\"\")&IF((Z102)=32,$BM$32,\"\")&IF((Z102)=33,$BM$33,\"\")&IF((Z102)=34,$BM$34,\"\")&IF((Z102)=35,$BM$35,\"\")&IF((Z102)=36,$BM$36,\"\")&IF((Z102)=37,$BM$37,\"\")&IF((Z102)=38,$BM$38,\"\")&IF((Z102)=39,$BM$39,\"\")&IF((Z102)=40,$BM$40,\"\")&IF((Z102)=41,$BM$41,\"\")&IF((Z102)=42,$BM$42,\"\")&IF((Z102)=43,$BM$43,\"\")&IF((Z102)=44,$BM$44,\"\")&IF((Z102)=45,$BM$45,\"\")&IF((Z102)=46,$BM$46,\"\")&IF((Z102)=47,$BM$47,\"\")&IF((Z102)=48,$BM$48,\"\")&IF((Z102)=49,$BM$49,\"\")&IF((Z102)=50,$BM$50,\"\")&IF((Z102)=51,$BM$51,\"\")&IF((Z102)=52,$BM$52,\"\")&IF((Z102)=53,$BM$53,\"\")&IF((Z102)=54,$BM$54,\"\")&IF((Z102)=55,$BM$55,\"\")&IF((Z102)=56,$BM$56,\"\")&IF((Z102)=57,$BM$57,\"\")&IF((Z102)=58,$BM$58,\"\")&IF((Z102)=59,$BM$59,\"\")&IF((Z102)=60,$BM$60,\"\")&IF((Z102)=61,$BM$61,\"\")&IF((Z102)=62,$BM$62,\"\")&IF((Z102)=63,$BM$63,\"\")&IF((Z102)=64,$BM$64,\"\")&IF((Z102)=65,$BM$65,\"\")&IF((Z102)=66,$BM$66,\"\")&IF((Z102)=67,$BM$67,\"\")&IF((Z102)=68,$BM$68,\"\")&IF((Z102)=69,$BM$69,\"\")&IF((Z102)=70,$BM$70,\"\")&IF((Z102)=71,$BM$71,\"\")&IF((Z102)=72,$BM$72,\"\")&IF((Z102)=73,$BM$73,\"\")&IF((Z102)=74,$BM$74,\"\")&IF((Z102)=75,$BM$75,\"\")&IF((Z102)=76,$BM$76,\"\")&IF((Z102)=77,$BM$77,\"\")&IF((Z102)=78,$BM$78,\"\")&IF((Z102)=79,$BM$79,\"\")&IF((Z102)=80,$BM$80,\"\")&IF((Z102)=81,$BM$81,\"\")&IF((Z102)=82,$BM$82,\"\")&IF((Z102)=83,$BM$83,\"\")&IF((Z102)=84,$BM$84,\"\")&IF((Z102)=85,$BM$85,\"\")&IF((Z102)=86,$BM$86,\"\")&IF((Z102)=87,$BM$87,\"\")&IF((Z102)=88,$BM$88,\"\")&IF((Z102)=89,$BM$89,\"\")&IF((Z102)=90,$BM$90,\"\")&IF((Z102)=91,$BM$91,\"\")&IF((Z102)=92,$BM$92,\"\")&IF((Z102)=93,$BM$93,\"\")&IF((Z102)=94,$BM$94,\"\")&IF((Z102)=95,$BM$95,\"\")&IF((Z102)=96,$BM$96,\"\")&IF((Z102)=97,$BM$97,\"\")&IF((Z102)=98,$BM$98,\"\")&IF((Z102)=99,$BM$99,\"\")&IF((Z102)=100,$BM$100,\"\")&IF((Z102)=101,$BM$101,\"\")&IF((Z102)=102,$BM$102,\"\")&IF((Z102)=103,$BM$103,\"\")&IF((Z102)=104,$BM$104,\"\")&IF((Z102)=105,$BM$105,\"\")&IF((Z102)=106,$BM$106,\"\")&IF((Z102)=107,$BM$107,\"\")&IF((Z102)=108,$BM$108,\"\")&IF((Z102)=109,$BM$109,\"\")&IF((Z102)=110,$BM$110,\"\")&IF((Z102)=111,$BM$111,\"\")&IF((Z102)=112,$BM$112,\"\")&IF((Z102)=113,$BM$113,\"\")&IF((Z102)=114,$BM$114,\"\")&IF((Z102)=115,$BM$115,\"\")&IF((Z102)=116,$BM$116,\"\")&IF((Z102)=117,$BM$117,\"\")&IF((Z102)=118,$BM$118,\"\")&IF((Z102)=119,$BM$119,\"\")&IF((Z102)=120,$BM$120,\"\")&IF((Z102)=121,$BM$121,\"\")&IF((Z102)=122,$BM$122,\"\")&IF((Z102)=123,$BM$123,\"\")&IF((Z102)=124,$BM$124,\"\")&IF((Z102)=125,$BM$125,\"\")&IF((Z102)=126,$BM$126,\"\")&IF((Z102)=127,$BM$127,\"\")&IF((Z102)=128,$BM$128,\"\")","v":""},null,{"$f":"IF((Z102)=1,$BN$1,\"\")&IF((Z102)=2,$BN$2,\"\")&IF((Z102)=3,$BN$3,\"\")&IF((Z102)=4,$BN$4,\"\")&IF((Z102)=5,$BN$5,\"\")&IF((Z102)=6,$BN$6,\"\")&IF((Z102)=7,$BN$7,\"\")&IF((Z102)=8,$BN$8,\"\")&IF((Z102)=9,$BN$9,\"\")&IF((Z102)=10,$BN$10,\"\")&IF((Z102)=11,$BN$11,\"\")&IF((Z102)=12,$BN$12,\"\")&IF((Z102)=13,$BN$13,\"\")&IF((Z102)=14,$BN$14,\"\")&IF((Z102)=15,$BN$15,\"\")&IF((Z102)=16,$BN$16,\"\")&IF((Z102)=17,$BN$17,\"\")&IF((Z102)=18,$BN$18,\"\")&IF((Z102)=19,$BN$19,\"\")&IF((Z102)=20,$BN$20,\"\")&IF((Z102)=21,$BN$21,\"\")&IF((Z102)=22,$BN$22,\"\")&IF((Z102)=23,$BN$23,\"\")&IF((Z102)=24,$BN$24,\"\")&IF((Z102)=25,$BN$25,\"\")&IF((Z102)=26,$BN$26,\"\")&IF((Z102)=27,$BN$27,\"\")&IF((Z102)=28,$BN$28,\"\")&IF((Z102)=29,$BN$29,\"\")&IF((Z102)=30,$BN$30,\"\")&IF((Z102)=31,$BN$31,\"\")&IF((Z102)=32,$BN$32,\"\")&IF((Z102)=33,$BN$33,\"\")&IF((Z102)=34,$BN$34,\"\")&IF((Z102)=35,$BN$35,\"\")&IF((Z102)=36,$BN$36,\"\")&IF((Z102)=37,$BN$37,\"\")&IF((Z102)=38,$BN$38,\"\")&IF((Z102)=39,$BN$39,\"\")&IF((Z102)=40,$BN$40,\"\")&IF((Z102)=41,$BN$41,\"\")&IF((Z102)=42,$BN$42,\"\")&IF((Z102)=43,$BN$43,\"\")&IF((Z102)=44,$BN$44,\"\")&IF((Z102)=45,$BN$45,\"\")&IF((Z102)=46,$BN$46,\"\")&IF((Z102)=47,$BN$47,\"\")&IF((Z102)=48,$BN$48,\"\")&IF((Z102)=49,$BN$49,\"\")&IF((Z102)=50,$BN$50,\"\")&IF((Z102)=51,$BN$51,\"\")&IF((Z102)=52,$BN$52,\"\")&IF((Z102)=53,$BN$53,\"\")&IF((Z102)=54,$BN$54,\"\")&IF((Z102)=55,$BN$55,\"\")&IF((Z102)=56,$BN$56,\"\")&IF((Z102)=57,$BN$57,\"\")&IF((Z102)=58,$BN$58,\"\")&IF((Z102)=59,$BN$59,\"\")&IF((Z102)=60,$BN$60,\"\")&IF((Z102)=61,$BN$61,\"\")&IF((Z102)=62,$BN$62,\"\")&IF((Z102)=63,$BN$63,\"\")&IF((Z102)=64,$BN$64,\"\")&IF((Z102)=65,$BN$65,\"\")&IF((Z102)=66,$BN$66,\"\")&IF((Z102)=67,$BN$67,\"\")&IF((Z102)=68,$BN$68,\"\")&IF((Z102)=69,$BN$69,\"\")&IF((Z102)=70,$BN$70,\"\")&IF((Z102)=71,$BN$71,\"\")&IF((Z102)=72,$BN$72,\"\")&IF((Z102)=73,$BN$73,\"\")&IF((Z102)=74,$BN$74,\"\")&IF((Z102)=75,$BN$75,\"\")&IF((Z102)=76,$BN$76,\"\")&IF((Z102)=77,$BN$77,\"\")&IF((Z102)=78,$BN$78,\"\")&IF((Z102)=79,$BN$79,\"\")&IF((Z102)=80,$BN$80,\"\")&IF((Z102)=81,$BN$81,\"\")&IF((Z102)=82,$BN$82,\"\")&IF((Z102)=83,$BN$83,\"\")&IF((Z102)=84,$BN$84,\"\")&IF((Z102)=85,$BN$85,\"\")&IF((Z102)=86,$BN$86,\"\")&IF((Z102)=87,$BN$87,\"\")&IF((Z102)=88,$BN$88,\"\")&IF((Z102)=89,$BN$89,\"\")&IF((Z102)=90,$BN$90,\"\")&IF((Z102)=91,$BN$91,\"\")&IF((Z102)=92,$BN$92,\"\")&IF((Z102)=93,$BN$93,\"\")&IF((Z102)=94,$BN$94,\"\")&IF((Z102)=95,$BN$95,\"\")&IF((Z102)=96,$BN$96,\"\")&IF((Z102)=97,$BN$97,\"\")&IF((Z102)=98,$BN$98,\"\")&IF((Z102)=99,$BN$99,\"\")&IF((Z102)=100,$BN$100,\"\")&IF((Z102)=101,$BN$101,\"\")&IF((Z102)=102,$BN$102,\"\")&IF((Z102)=103,$BN$103,\"\")&IF((Z102)=104,$BN$104,\"\")&IF((Z102)=105,$BN$105,\"\")&IF((Z102)=106,$BN$106,\"\")&IF((Z102)=107,$BN$107,\"\")&IF((Z102)=108,$BN$108,\"\")&IF((Z102)=109,$BN$109,\"\")&IF((Z102)=110,$BN$110,\"\")&IF((Z102)=111,$BN$111,\"\")&IF((Z102)=112,$BN$112,\"\")&IF((Z102)=113,$BN$113,\"\")&IF((Z102)=114,$BN$114,\"\")&IF((Z102)=115,$BN$115,\"\")&IF((Z102)=116,$BN$116,\"\")&IF((Z102)=117,$BN$117,\"\")&IF((Z102)=118,$BN$118,\"\")&IF((Z102)=119,$BN$119,\"\")&IF((Z102)=120,$BN$120,\"\")&IF((Z102)=121,$BN$121,\"\")&IF((Z102)=122,$BN$122,\"\")&IF((Z102)=123,$BN$123,\"\")&IF((Z102)=124,$BN$124,\"\")&IF((Z102)=125,$BN$125,\"\")&IF((Z102)=126,$BN$126,\"\")&IF((Z102)=127,$BN$127,\"\")&IF((Z102)=128,$BN$128,\"\")","v":""},null,{"$f":"IF((AD102)=1,$BM$1,\"\")&IF((AD102)=2,$BM$2,\"\")&IF((AD102)=3,$BM$3,\"\")&IF((AD102)=4,$BM$4,\"\")&IF((AD102)=5,$BM$5,\"\")&IF((AD102)=6,$BM$6,\"\")&IF((AD102)=7,$BM$7,\"\")&IF((AD102)=8,$BM$8,\"\")&IF((AD102)=9,$BM$9,\"\")&IF((AD102)=10,$BM$10,\"\")&IF((AD102)=11,$BM$11,\"\")&IF((AD102)=12,$BM$12,\"\")&IF((AD102)=13,$BM$13,\"\")&IF((AD102)=14,$BM$14,\"\")&IF((AD102)=15,$BM$15,\"\")&IF((AD102)=16,$BM$16,\"\")&IF((AD102)=17,$BM$17,\"\")&IF((AD102)=18,$BM$18,\"\")&IF((AD102)=19,$BM$19,\"\")&IF((AD102)=20,$BM$20,\"\")&IF((AD102)=21,$BM$21,\"\")&IF((AD102)=22,$BM$22,\"\")&IF((AD102)=23,$BM$23,\"\")&IF((AD102)=24,$BM$24,\"\")&IF((AD102)=25,$BM$25,\"\")&IF((AD102)=26,$BM$26,\"\")&IF((AD102)=27,$BM$27,\"\")&IF((AD102)=28,$BM$28,\"\")&IF((AD102)=29,$BM$29,\"\")&IF((AD102)=30,$BM$30,\"\")&IF((AD102)=31,$BM$31,\"\")&IF((AD102)=32,$BM$32,\"\")&IF((AD102)=33,$BM$33,\"\")&IF((AD102)=34,$BM$34,\"\")&IF((AD102)=35,$BM$35,\"\")&IF((AD102)=36,$BM$36,\"\")&IF((AD102)=37,$BM$37,\"\")&IF((AD102)=38,$BM$38,\"\")&IF((AD102)=39,$BM$39,\"\")&IF((AD102)=40,$BM$40,\"\")&IF((AD102)=41,$BM$41,\"\")&IF((AD102)=42,$BM$42,\"\")&IF((AD102)=43,$BM$43,\"\")&IF((AD102)=44,$BM$44,\"\")&IF((AD102)=45,$BM$45,\"\")&IF((AD102)=46,$BM$46,\"\")&IF((AD102)=47,$BM$47,\"\")&IF((AD102)=48,$BM$48,\"\")&IF((AD102)=49,$BM$49,\"\")&IF((AD102)=50,$BM$50,\"\")&IF((AD102)=51,$BM$51,\"\")&IF((AD102)=52,$BM$52,\"\")&IF((AD102)=53,$BM$53,\"\")&IF((AD102)=54,$BM$54,\"\")&IF((AD102)=55,$BM$55,\"\")&IF((AD102)=56,$BM$56,\"\")&IF((AD102)=57,$BM$57,\"\")&IF((AD102)=58,$BM$58,\"\")&IF((AD102)=59,$BM$59,\"\")&IF((AD102)=60,$BM$60,\"\")&IF((AD102)=61,$BM$61,\"\")&IF((AD102)=62,$BM$62,\"\")&IF((AD102)=63,$BM$63,\"\")&IF((AD102)=64,$BM$64,\"\")&IF((AD102)=65,$BM$65,\"\")&IF((AD102)=66,$BM$66,\"\")&IF((AD102)=67,$BM$67,\"\")&IF((AD102)=68,$BM$68,\"\")&IF((AD102)=69,$BM$69,\"\")&IF((AD102)=70,$BM$70,\"\")&IF((AD102)=71,$BM$71,\"\")&IF((AD102)=72,$BM$72,\"\")&IF((AD102)=73,$BM$73,\"\")&IF((AD102)=74,$BM$74,\"\")&IF((AD102)=75,$BM$75,\"\")&IF((AD102)=76,$BM$76,\"\")&IF((AD102)=77,$BM$77,\"\")&IF((AD102)=78,$BM$78,\"\")&IF((AD102)=79,$BM$79,\"\")&IF((AD102)=80,$BM$80,\"\")&IF((AD102)=81,$BM$81,\"\")&IF((AD102)=82,$BM$82,\"\")&IF((AD102)=83,$BM$83,\"\")&IF((AD102)=84,$BM$84,\"\")&IF((AD102)=85,$BM$85,\"\")&IF((AD102)=86,$BM$86,\"\")&IF((AD102)=87,$BM$87,\"\")&IF((AD102)=88,$BM$88,\"\")&IF((AD102)=89,$BM$89,\"\")&IF((AD102)=90,$BM$90,\"\")&IF((AD102)=91,$BM$91,\"\")&IF((AD102)=92,$BM$92,\"\")&IF((AD102)=93,$BM$93,\"\")&IF((AD102)=94,$BM$94,\"\")&IF((AD102)=95,$BM$95,\"\")&IF((AD102)=96,$BM$96,\"\")&IF((AD102)=97,$BM$97,\"\")&IF((AD102)=98,$BM$98,\"\")&IF((AD102)=99,$BM$99,\"\")&IF((AD102)=100,$BM$100,\"\")&IF((AD102)=101,$BM$101,\"\")&IF((AD102)=102,$BM$102,\"\")&IF((AD102)=103,$BM$103,\"\")&IF((AD102)=104,$BM$104,\"\")&IF((AD102)=105,$BM$105,\"\")&IF((AD102)=106,$BM$106,\"\")&IF((AD102)=107,$BM$107,\"\")&IF((AD102)=108,$BM$108,\"\")&IF((AD102)=109,$BM$109,\"\")&IF((AD102)=110,$BM$110,\"\")&IF((AD102)=111,$BM$111,\"\")&IF((AD102)=112,$BM$112,\"\")&IF((AD102)=113,$BM$113,\"\")&IF((AD102)=114,$BM$114,\"\")&IF((AD102)=115,$BM$115,\"\")&IF((AD102)=116,$BM$116,\"\")&IF((AD102)=117,$BM$117,\"\")&IF((AD102)=118,$BM$118,\"\")&IF((AD102)=119,$BM$119,\"\")&IF((AD102)=120,$BM$120,\"\")&IF((AD102)=121,$BM$121,\"\")&IF((AD102)=122,$BM$122,\"\")&IF((AD102)=123,$BM$123,\"\")&IF((AD102)=124,$BM$124,\"\")&IF((AD102)=125,$BM$125,\"\")&IF((AD102)=126,$BM$126,\"\")&IF((AD102)=127,$BM$127,\"\")&IF((AD102)=128,$BM$128,\"\")","v":""},null,{"$f":"IF((AD102)=1,$BN$1,\"\")&IF((AD102)=2,$BN$2,\"\")&IF((AD102)=3,$BN$3,\"\")&IF((AD102)=4,$BN$4,\"\")&IF((AD102)=5,$BN$5,\"\")&IF((AD102)=6,$BN$6,\"\")&IF((AD102)=7,$BN$7,\"\")&IF((AD102)=8,$BN$8,\"\")&IF((AD102)=9,$BN$9,\"\")&IF((AD102)=10,$BN$10,\"\")&IF((AD102)=11,$BN$11,\"\")&IF((AD102)=12,$BN$12,\"\")&IF((AD102)=13,$BN$13,\"\")&IF((AD102)=14,$BN$14,\"\")&IF((AD102)=15,$BN$15,\"\")&IF((AD102)=16,$BN$16,\"\")&IF((AD102)=17,$BN$17,\"\")&IF((AD102)=18,$BN$18,\"\")&IF((AD102)=19,$BN$19,\"\")&IF((AD102)=20,$BN$20,\"\")&IF((AD102)=21,$BN$21,\"\")&IF((AD102)=22,$BN$22,\"\")&IF((AD102)=23,$BN$23,\"\")&IF((AD102)=24,$BN$24,\"\")&IF((AD102)=25,$BN$25,\"\")&IF((AD102)=26,$BN$26,\"\")&IF((AD102)=27,$BN$27,\"\")&IF((AD102)=28,$BN$28,\"\")&IF((AD102)=29,$BN$29,\"\")&IF((AD102)=30,$BN$30,\"\")&IF((AD102)=31,$BN$31,\"\")&IF((AD102)=32,$BN$32,\"\")&IF((AD102)=33,$BN$33,\"\")&IF((AD102)=34,$BN$34,\"\")&IF((AD102)=35,$BN$35,\"\")&IF((AD102)=36,$BN$36,\"\")&IF((AD102)=37,$BN$37,\"\")&IF((AD102)=38,$BN$38,\"\")&IF((AD102)=39,$BN$39,\"\")&IF((AD102)=40,$BN$40,\"\")&IF((AD102)=41,$BN$41,\"\")&IF((AD102)=42,$BN$42,\"\")&IF((AD102)=43,$BN$43,\"\")&IF((AD102)=44,$BN$44,\"\")&IF((AD102)=45,$BN$45,\"\")&IF((AD102)=46,$BN$46,\"\")&IF((AD102)=47,$BN$47,\"\")&IF((AD102)=48,$BN$48,\"\")&IF((AD102)=49,$BN$49,\"\")&IF((AD102)=50,$BN$50,\"\")&IF((AD102)=51,$BN$51,\"\")&IF((AD102)=52,$BN$52,\"\")&IF((AD102)=53,$BN$53,\"\")&IF((AD102)=54,$BN$54,\"\")&IF((AD102)=55,$BN$55,\"\")&IF((AD102)=56,$BN$56,\"\")&IF((AD102)=57,$BN$57,\"\")&IF((AD102)=58,$BN$58,\"\")&IF((AD102)=59,$BN$59,\"\")&IF((AD102)=60,$BN$60,\"\")&IF((AD102)=61,$BN$61,\"\")&IF((AD102)=62,$BN$62,\"\")&IF((AD102)=63,$BN$63,\"\")&IF((AD102)=64,$BN$64,\"\")&IF((AD102)=65,$BN$65,\"\")&IF((AD102)=66,$BN$66,\"\")&IF((AD102)=67,$BN$67,\"\")&IF((AD102)=68,$BN$68,\"\")&IF((AD102)=69,$BN$69,\"\")&IF((AD102)=70,$BN$70,\"\")&IF((AD102)=71,$BN$71,\"\")&IF((AD102)=72,$BN$72,\"\")&IF((AD102)=73,$BN$73,\"\")&IF((AD102)=74,$BN$74,\"\")&IF((AD102)=75,$BN$75,\"\")&IF((AD102)=76,$BN$76,\"\")&IF((AD102)=77,$BN$77,\"\")&IF((AD102)=78,$BN$78,\"\")&IF((AD102)=79,$BN$79,\"\")&IF((AD102)=80,$BN$80,\"\")&IF((AD102)=81,$BN$81,\"\")&IF((AD102)=82,$BN$82,\"\")&IF((AD102)=83,$BN$83,\"\")&IF((AD102)=84,$BN$84,\"\")&IF((AD102)=85,$BN$85,\"\")&IF((AD102)=86,$BN$86,\"\")&IF((AD102)=87,$BN$87,\"\")&IF((AD102)=88,$BN$88,\"\")&IF((AD102)=89,$BN$89,\"\")&IF((AD102)=90,$BN$90,\"\")&IF((AD102)=91,$BN$91,\"\")&IF((AD102)=92,$BN$92,\"\")&IF((AD102)=93,$BN$93,\"\")&IF((AD102)=94,$BN$94,\"\")&IF((AD102)=95,$BN$95,\"\")&IF((AD102)=96,$BN$96,\"\")&IF((AD102)=97,$BN$97,\"\")&IF((AD102)=98,$BN$98,\"\")&IF((AD102)=99,$BN$99,\"\")&IF((AD102)=100,$BN$100,\"\")&IF((AD102)=101,$BN$101,\"\")&IF((AD102)=102,$BN$102,\"\")&IF((AD102)=103,$BN$103,\"\")&IF((AD102)=104,$BN$104,\"\")&IF((AD102)=105,$BN$105,\"\")&IF((AD102)=106,$BN$106,\"\")&IF((AD102)=107,$BN$107,\"\")&IF((AD102)=108,$BN$108,\"\")&IF((AD102)=109,$BN$109,\"\")&IF((AD102)=110,$BN$110,\"\")&IF((AD102)=111,$BN$111,\"\")&IF((AD102)=112,$BN$112,\"\")&IF((AD102)=113,$BN$113,\"\")&IF((AD102)=114,$BN$114,\"\")&IF((AD102)=115,$BN$115,\"\")&IF((AD102)=116,$BN$116,\"\")&IF((AD102)=117,$BN$117,\"\")&IF((AD102)=118,$BN$118,\"\")&IF((AD102)=119,$BN$119,\"\")&IF((AD102)=120,$BN$120,\"\")&IF((AD102)=121,$BN$121,\"\")&IF((AD102)=122,$BN$122,\"\")&IF((AD102)=123,$BN$123,\"\")&IF((AD102)=124,$BN$124,\"\")&IF((AD102)=125,$BN$125,\"\")&IF((AD102)=126,$BN$126,\"\")&IF((AD102)=127,$BN$127,\"\")&IF((AD102)=128,$BN$128,\"\")","v":""},null,null,null,{"$f":"IF((AJ102)=1,$BM$1,\"\")&IF((AJ102)=2,$BM$2,\"\")&IF((AJ102)=3,$BM$3,\"\")&IF((AJ102)=4,$BM$4,\"\")&IF((AJ102)=5,$BM$5,\"\")&IF((AJ102)=6,$BM$6,\"\")&IF((AJ102)=7,$BM$7,\"\")&IF((AJ102)=8,$BM$8,\"\")&IF((AJ102)=9,$BM$9,\"\")&IF((AJ102)=10,$BM$10,\"\")&IF((AJ102)=11,$BM$11,\"\")&IF((AJ102)=12,$BM$12,\"\")&IF((AJ102)=13,$BM$13,\"\")&IF((AJ102)=14,$BM$14,\"\")&IF((AJ102)=15,$BM$15,\"\")&IF((AJ102)=16,$BM$16,\"\")&IF((AJ102)=17,$BM$17,\"\")&IF((AJ102)=18,$BM$18,\"\")&IF((AJ102)=19,$BM$19,\"\")&IF((AJ102)=20,$BM$20,\"\")&IF((AJ102)=21,$BM$21,\"\")&IF((AJ102)=22,$BM$22,\"\")&IF((AJ102)=23,$BM$23,\"\")&IF((AJ102)=24,$BM$24,\"\")&IF((AJ102)=25,$BM$25,\"\")&IF((AJ102)=26,$BM$26,\"\")&IF((AJ102)=27,$BM$27,\"\")&IF((AJ102)=28,$BM$28,\"\")&IF((AJ102)=29,$BM$29,\"\")&IF((AJ102)=30,$BM$30,\"\")&IF((AJ102)=31,$BM$31,\"\")&IF((AJ102)=32,$BM$32,\"\")&IF((AJ102)=33,$BM$33,\"\")&IF((AJ102)=34,$BM$34,\"\")&IF((AJ102)=35,$BM$35,\"\")&IF((AJ102)=36,$BM$36,\"\")&IF((AJ102)=37,$BM$37,\"\")&IF((AJ102)=38,$BM$38,\"\")&IF((AJ102)=39,$BM$39,\"\")&IF((AJ102)=40,$BM$40,\"\")&IF((AJ102)=41,$BM$41,\"\")&IF((AJ102)=42,$BM$42,\"\")&IF((AJ102)=43,$BM$43,\"\")&IF((AJ102)=44,$BM$44,\"\")&IF((AJ102)=45,$BM$45,\"\")&IF((AJ102)=46,$BM$46,\"\")&IF((AJ102)=47,$BM$47,\"\")&IF((AJ102)=48,$BM$48,\"\")&IF((AJ102)=49,$BM$49,\"\")&IF((AJ102)=50,$BM$50,\"\")&IF((AJ102)=51,$BM$51,\"\")&IF((AJ102)=52,$BM$52,\"\")&IF((AJ102)=53,$BM$53,\"\")&IF((AJ102)=54,$BM$54,\"\")&IF((AJ102)=55,$BM$55,\"\")&IF((AJ102)=56,$BM$56,\"\")&IF((AJ102)=57,$BM$57,\"\")&IF((AJ102)=58,$BM$58,\"\")&IF((AJ102)=59,$BM$59,\"\")&IF((AJ102)=60,$BM$60,\"\")&IF((AJ102)=61,$BM$61,\"\")&IF((AJ102)=62,$BM$62,\"\")&IF((AJ102)=63,$BM$63,\"\")&IF((AJ102)=64,$BM$64,\"\")&IF((AJ102)=65,$BM$65,\"\")&IF((AJ102)=66,$BM$66,\"\")&IF((AJ102)=67,$BM$67,\"\")&IF((AJ102)=68,$BM$68,\"\")&IF((AJ102)=69,$BM$69,\"\")&IF((AJ102)=70,$BM$70,\"\")&IF((AJ102)=71,$BM$71,\"\")&IF((AJ102)=72,$BM$72,\"\")&IF((AJ102)=73,$BM$73,\"\")&IF((AJ102)=74,$BM$74,\"\")&IF((AJ102)=75,$BM$75,\"\")&IF((AJ102)=76,$BM$76,\"\")&IF((AJ102)=77,$BM$77,\"\")&IF((AJ102)=78,$BM$78,\"\")&IF((AJ102)=79,$BM$79,\"\")&IF((AJ102)=80,$BM$80,\"\")&IF((AJ102)=81,$BM$81,\"\")&IF((AJ102)=82,$BM$82,\"\")&IF((AJ102)=83,$BM$83,\"\")&IF((AJ102)=84,$BM$84,\"\")&IF((AJ102)=85,$BM$85,\"\")&IF((AJ102)=86,$BM$86,\"\")&IF((AJ102)=87,$BM$87,\"\")&IF((AJ102)=88,$BM$88,\"\")&IF((AJ102)=89,$BM$89,\"\")&IF((AJ102)=90,$BM$90,\"\")&IF((AJ102)=91,$BM$91,\"\")&IF((AJ102)=92,$BM$92,\"\")&IF((AJ102)=93,$BM$93,\"\")&IF((AJ102)=94,$BM$94,\"\")&IF((AJ102)=95,$BM$95,\"\")&IF((AJ102)=96,$BM$96,\"\")&IF((AJ102)=97,$BM$97,\"\")&IF((AJ102)=98,$BM$98,\"\")&IF((AJ102)=99,$BM$99,\"\")&IF((AJ102)=100,$BM$100,\"\")&IF((AJ102)=101,$BM$101,\"\")&IF((AJ102)=102,$BM$102,\"\")&IF((AJ102)=103,$BM$103,\"\")&IF((AJ102)=104,$BM$104,\"\")&IF((AJ102)=105,$BM$105,\"\")&IF((AJ102)=106,$BM$106,\"\")&IF((AJ102)=107,$BM$107,\"\")&IF((AJ102)=108,$BM$108,\"\")&IF((AJ102)=109,$BM$109,\"\")&IF((AJ102)=110,$BM$110,\"\")&IF((AJ102)=111,$BM$111,\"\")&IF((AJ102)=112,$BM$112,\"\")&IF((AJ102)=113,$BM$113,\"\")&IF((AJ102)=114,$BM$114,\"\")&IF((AJ102)=115,$BM$115,\"\")&IF((AJ102)=116,$BM$116,\"\")&IF((AJ102)=117,$BM$117,\"\")&IF((AJ102)=118,$BM$118,\"\")&IF((AJ102)=119,$BM$119,\"\")&IF((AJ102)=120,$BM$120,\"\")&IF((AJ102)=121,$BM$121,\"\")&IF((AJ102)=122,$BM$122,\"\")&IF((AJ102)=123,$BM$123,\"\")&IF((AJ102)=124,$BM$124,\"\")&IF((AJ102)=125,$BM$125,\"\")&IF((AJ102)=126,$BM$126,\"\")&IF((AJ102)=127,$BM$127,\"\")&IF((AJ102)=128,$BM$128,\"\")","v":""},null,{"$f":"IF((AJ102)=1,$BN$1,\"\")&IF((AJ102)=2,$BN$2,\"\")&IF((AJ102)=3,$BN$3,\"\")&IF((AJ102)=4,$BN$4,\"\")&IF((AJ102)=5,$BN$5,\"\")&IF((AJ102)=6,$BN$6,\"\")&IF((AJ102)=7,$BN$7,\"\")&IF((AJ102)=8,$BN$8,\"\")&IF((AJ102)=9,$BN$9,\"\")&IF((AJ102)=10,$BN$10,\"\")&IF((AJ102)=11,$BN$11,\"\")&IF((AJ102)=12,$BN$12,\"\")&IF((AJ102)=13,$BN$13,\"\")&IF((AJ102)=14,$BN$14,\"\")&IF((AJ102)=15,$BN$15,\"\")&IF((AJ102)=16,$BN$16,\"\")&IF((AJ102)=17,$BN$17,\"\")&IF((AJ102)=18,$BN$18,\"\")&IF((AJ102)=19,$BN$19,\"\")&IF((AJ102)=20,$BN$20,\"\")&IF((AJ102)=21,$BN$21,\"\")&IF((AJ102)=22,$BN$22,\"\")&IF((AJ102)=23,$BN$23,\"\")&IF((AJ102)=24,$BN$24,\"\")&IF((AJ102)=25,$BN$25,\"\")&IF((AJ102)=26,$BN$26,\"\")&IF((AJ102)=27,$BN$27,\"\")&IF((AJ102)=28,$BN$28,\"\")&IF((AJ102)=29,$BN$29,\"\")&IF((AJ102)=30,$BN$30,\"\")&IF((AJ102)=31,$BN$31,\"\")&IF((AJ102)=32,$BN$32,\"\")&IF((AJ102)=33,$BN$33,\"\")&IF((AJ102)=34,$BN$34,\"\")&IF((AJ102)=35,$BN$35,\"\")&IF((AJ102)=36,$BN$36,\"\")&IF((AJ102)=37,$BN$37,\"\")&IF((AJ102)=38,$BN$38,\"\")&IF((AJ102)=39,$BN$39,\"\")&IF((AJ102)=40,$BN$40,\"\")&IF((AJ102)=41,$BN$41,\"\")&IF((AJ102)=42,$BN$42,\"\")&IF((AJ102)=43,$BN$43,\"\")&IF((AJ102)=44,$BN$44,\"\")&IF((AJ102)=45,$BN$45,\"\")&IF((AJ102)=46,$BN$46,\"\")&IF((AJ102)=47,$BN$47,\"\")&IF((AJ102)=48,$BN$48,\"\")&IF((AJ102)=49,$BN$49,\"\")&IF((AJ102)=50,$BN$50,\"\")&IF((AJ102)=51,$BN$51,\"\")&IF((AJ102)=52,$BN$52,\"\")&IF((AJ102)=53,$BN$53,\"\")&IF((AJ102)=54,$BN$54,\"\")&IF((AJ102)=55,$BN$55,\"\")&IF((AJ102)=56,$BN$56,\"\")&IF((AJ102)=57,$BN$57,\"\")&IF((AJ102)=58,$BN$58,\"\")&IF((AJ102)=59,$BN$59,\"\")&IF((AJ102)=60,$BN$60,\"\")&IF((AJ102)=61,$BN$61,\"\")&IF((AJ102)=62,$BN$62,\"\")&IF((AJ102)=63,$BN$63,\"\")&IF((AJ102)=64,$BN$64,\"\")&IF((AJ102)=65,$BN$65,\"\")&IF((AJ102)=66,$BN$66,\"\")&IF((AJ102)=67,$BN$67,\"\")&IF((AJ102)=68,$BN$68,\"\")&IF((AJ102)=69,$BN$69,\"\")&IF((AJ102)=70,$BN$70,\"\")&IF((AJ102)=71,$BN$71,\"\")&IF((AJ102)=72,$BN$72,\"\")&IF((AJ102)=73,$BN$73,\"\")&IF((AJ102)=74,$BN$74,\"\")&IF((AJ102)=75,$BN$75,\"\")&IF((AJ102)=76,$BN$76,\"\")&IF((AJ102)=77,$BN$77,\"\")&IF((AJ102)=78,$BN$78,\"\")&IF((AJ102)=79,$BN$79,\"\")&IF((AJ102)=80,$BN$80,\"\")&IF((AJ102)=81,$BN$81,\"\")&IF((AJ102)=82,$BN$82,\"\")&IF((AJ102)=83,$BN$83,\"\")&IF((AJ102)=84,$BN$84,\"\")&IF((AJ102)=85,$BN$85,\"\")&IF((AJ102)=86,$BN$86,\"\")&IF((AJ102)=87,$BN$87,\"\")&IF((AJ102)=88,$BN$88,\"\")&IF((AJ102)=89,$BN$89,\"\")&IF((AJ102)=90,$BN$90,\"\")&IF((AJ102)=91,$BN$91,\"\")&IF((AJ102)=92,$BN$92,\"\")&IF((AJ102)=93,$BN$93,\"\")&IF((AJ102)=94,$BN$94,\"\")&IF((AJ102)=95,$BN$95,\"\")&IF((AJ102)=96,$BN$96,\"\")&IF((AJ102)=97,$BN$97,\"\")&IF((AJ102)=98,$BN$98,\"\")&IF((AJ102)=99,$BN$99,\"\")&IF((AJ102)=100,$BN$100,\"\")&IF((AJ102)=101,$BN$101,\"\")&IF((AJ102)=102,$BN$102,\"\")&IF((AJ102)=103,$BN$103,\"\")&IF((AJ102)=104,$BN$104,\"\")&IF((AJ102)=105,$BN$105,\"\")&IF((AJ102)=106,$BN$106,\"\")&IF((AJ102)=107,$BN$107,\"\")&IF((AJ102)=108,$BN$108,\"\")&IF((AJ102)=109,$BN$109,\"\")&IF((AJ102)=110,$BN$110,\"\")&IF((AJ102)=111,$BN$111,\"\")&IF((AJ102)=112,$BN$112,\"\")&IF((AJ102)=113,$BN$113,\"\")&IF((AJ102)=114,$BN$114,\"\")&IF((AJ102)=115,$BN$115,\"\")&IF((AJ102)=116,$BN$116,\"\")&IF((AJ102)=117,$BN$117,\"\")&IF((AJ102)=118,$BN$118,\"\")&IF((AJ102)=119,$BN$119,\"\")&IF((AJ102)=120,$BN$120,\"\")&IF((AJ102)=121,$BN$121,\"\")&IF((AJ102)=122,$BN$122,\"\")&IF((AJ102)=123,$BN$123,\"\")&IF((AJ102)=124,$BN$124,\"\")&IF((AJ102)=125,$BN$125,\"\")&IF((AJ102)=126,$BN$126,\"\")&IF((AJ102)=127,$BN$127,\"\")&IF((AJ102)=128,$BN$128,\"\")","v":""},null,{"$f":"IF((AN102)=1,$BM$1,\"\")&IF((AN102)=2,$BM$2,\"\")&IF((AN102)=3,$BM$3,\"\")&IF((AN102)=4,$BM$4,\"\")&IF((AN102)=5,$BM$5,\"\")&IF((AN102)=6,$BM$6,\"\")&IF((AN102)=7,$BM$7,\"\")&IF((AN102)=8,$BM$8,\"\")&IF((AN102)=9,$BM$9,\"\")&IF((AN102)=10,$BM$10,\"\")&IF((AN102)=11,$BM$11,\"\")&IF((AN102)=12,$BM$12,\"\")&IF((AN102)=13,$BM$13,\"\")&IF((AN102)=14,$BM$14,\"\")&IF((AN102)=15,$BM$15,\"\")&IF((AN102)=16,$BM$16,\"\")&IF((AN102)=17,$BM$17,\"\")&IF((AN102)=18,$BM$18,\"\")&IF((AN102)=19,$BM$19,\"\")&IF((AN102)=20,$BM$20,\"\")&IF((AN102)=21,$BM$21,\"\")&IF((AN102)=22,$BM$22,\"\")&IF((AN102)=23,$BM$23,\"\")&IF((AN102)=24,$BM$24,\"\")&IF((AN102)=25,$BM$25,\"\")&IF((AN102)=26,$BM$26,\"\")&IF((AN102)=27,$BM$27,\"\")&IF((AN102)=28,$BM$28,\"\")&IF((AN102)=29,$BM$29,\"\")&IF((AN102)=30,$BM$30,\"\")&IF((AN102)=31,$BM$31,\"\")&IF((AN102)=32,$BM$32,\"\")&IF((AN102)=33,$BM$33,\"\")&IF((AN102)=34,$BM$34,\"\")&IF((AN102)=35,$BM$35,\"\")&IF((AN102)=36,$BM$36,\"\")&IF((AN102)=37,$BM$37,\"\")&IF((AN102)=38,$BM$38,\"\")&IF((AN102)=39,$BM$39,\"\")&IF((AN102)=40,$BM$40,\"\")&IF((AN102)=41,$BM$41,\"\")&IF((AN102)=42,$BM$42,\"\")&IF((AN102)=43,$BM$43,\"\")&IF((AN102)=44,$BM$44,\"\")&IF((AN102)=45,$BM$45,\"\")&IF((AN102)=46,$BM$46,\"\")&IF((AN102)=47,$BM$47,\"\")&IF((AN102)=48,$BM$48,\"\")&IF((AN102)=49,$BM$49,\"\")&IF((AN102)=50,$BM$50,\"\")&IF((AN102)=51,$BM$51,\"\")&IF((AN102)=52,$BM$52,\"\")&IF((AN102)=53,$BM$53,\"\")&IF((AN102)=54,$BM$54,\"\")&IF((AN102)=55,$BM$55,\"\")&IF((AN102)=56,$BM$56,\"\")&IF((AN102)=57,$BM$57,\"\")&IF((AN102)=58,$BM$58,\"\")&IF((AN102)=59,$BM$59,\"\")&IF((AN102)=60,$BM$60,\"\")&IF((AN102)=61,$BM$61,\"\")&IF((AN102)=62,$BM$62,\"\")&IF((AN102)=63,$BM$63,\"\")&IF((AN102)=64,$BM$64,\"\")&IF((AN102)=65,$BM$65,\"\")&IF((AN102)=66,$BM$66,\"\")&IF((AN102)=67,$BM$67,\"\")&IF((AN102)=68,$BM$68,\"\")&IF((AN102)=69,$BM$69,\"\")&IF((AN102)=70,$BM$70,\"\")&IF((AN102)=71,$BM$71,\"\")&IF((AN102)=72,$BM$72,\"\")&IF((AN102)=73,$BM$73,\"\")&IF((AN102)=74,$BM$74,\"\")&IF((AN102)=75,$BM$75,\"\")&IF((AN102)=76,$BM$76,\"\")&IF((AN102)=77,$BM$77,\"\")&IF((AN102)=78,$BM$78,\"\")&IF((AN102)=79,$BM$79,\"\")&IF((AN102)=80,$BM$80,\"\")&IF((AN102)=81,$BM$81,\"\")&IF((AN102)=82,$BM$82,\"\")&IF((AN102)=83,$BM$83,\"\")&IF((AN102)=84,$BM$84,\"\")&IF((AN102)=85,$BM$85,\"\")&IF((AN102)=86,$BM$86,\"\")&IF((AN102)=87,$BM$87,\"\")&IF((AN102)=88,$BM$88,\"\")&IF((AN102)=89,$BM$89,\"\")&IF((AN102)=90,$BM$90,\"\")&IF((AN102)=91,$BM$91,\"\")&IF((AN102)=92,$BM$92,\"\")&IF((AN102)=93,$BM$93,\"\")&IF((AN102)=94,$BM$94,\"\")&IF((AN102)=95,$BM$95,\"\")&IF((AN102)=96,$BM$96,\"\")&IF((AN102)=97,$BM$97,\"\")&IF((AN102)=98,$BM$98,\"\")&IF((AN102)=99,$BM$99,\"\")&IF((AN102)=100,$BM$100,\"\")&IF((AN102)=101,$BM$101,\"\")&IF((AN102)=102,$BM$102,\"\")&IF((AN102)=103,$BM$103,\"\")&IF((AN102)=104,$BM$104,\"\")&IF((AN102)=105,$BM$105,\"\")&IF((AN102)=106,$BM$106,\"\")&IF((AN102)=107,$BM$107,\"\")&IF((AN102)=108,$BM$108,\"\")&IF((AN102)=109,$BM$109,\"\")&IF((AN102)=110,$BM$110,\"\")&IF((AN102)=111,$BM$111,\"\")&IF((AN102)=112,$BM$112,\"\")&IF((AN102)=113,$BM$113,\"\")&IF((AN102)=114,$BM$114,\"\")&IF((AN102)=115,$BM$115,\"\")&IF((AN102)=116,$BM$116,\"\")&IF((AN102)=117,$BM$117,\"\")&IF((AN102)=118,$BM$118,\"\")&IF((AN102)=119,$BM$119,\"\")&IF((AN102)=120,$BM$120,\"\")&IF((AN102)=121,$BM$121,\"\")&IF((AN102)=122,$BM$122,\"\")&IF((AN102)=123,$BM$123,\"\")&IF((AN102)=124,$BM$124,\"\")&IF((AN102)=125,$BM$125,\"\")&IF((AN102)=126,$BM$126,\"\")&IF((AN102)=127,$BM$127,\"\")&IF((AN102)=128,$BM$128,\"\")","v":""},null,{"$f":"IF((AN102)=1,$BN$1,\"\")&IF((AN102)=2,$BN$2,\"\")&IF((AN102)=3,$BN$3,\"\")&IF((AN102)=4,$BN$4,\"\")&IF((AN102)=5,$BN$5,\"\")&IF((AN102)=6,$BN$6,\"\")&IF((AN102)=7,$BN$7,\"\")&IF((AN102)=8,$BN$8,\"\")&IF((AN102)=9,$BN$9,\"\")&IF((AN102)=10,$BN$10,\"\")&IF((AN102)=11,$BN$11,\"\")&IF((AN102)=12,$BN$12,\"\")&IF((AN102)=13,$BN$13,\"\")&IF((AN102)=14,$BN$14,\"\")&IF((AN102)=15,$BN$15,\"\")&IF((AN102)=16,$BN$16,\"\")&IF((AN102)=17,$BN$17,\"\")&IF((AN102)=18,$BN$18,\"\")&IF((AN102)=19,$BN$19,\"\")&IF((AN102)=20,$BN$20,\"\")&IF((AN102)=21,$BN$21,\"\")&IF((AN102)=22,$BN$22,\"\")&IF((AN102)=23,$BN$23,\"\")&IF((AN102)=24,$BN$24,\"\")&IF((AN102)=25,$BN$25,\"\")&IF((AN102)=26,$BN$26,\"\")&IF((AN102)=27,$BN$27,\"\")&IF((AN102)=28,$BN$28,\"\")&IF((AN102)=29,$BN$29,\"\")&IF((AN102)=30,$BN$30,\"\")&IF((AN102)=31,$BN$31,\"\")&IF((AN102)=32,$BN$32,\"\")&IF((AN102)=33,$BN$33,\"\")&IF((AN102)=34,$BN$34,\"\")&IF((AN102)=35,$BN$35,\"\")&IF((AN102)=36,$BN$36,\"\")&IF((AN102)=37,$BN$37,\"\")&IF((AN102)=38,$BN$38,\"\")&IF((AN102)=39,$BN$39,\"\")&IF((AN102)=40,$BN$40,\"\")&IF((AN102)=41,$BN$41,\"\")&IF((AN102)=42,$BN$42,\"\")&IF((AN102)=43,$BN$43,\"\")&IF((AN102)=44,$BN$44,\"\")&IF((AN102)=45,$BN$45,\"\")&IF((AN102)=46,$BN$46,\"\")&IF((AN102)=47,$BN$47,\"\")&IF((AN102)=48,$BN$48,\"\")&IF((AN102)=49,$BN$49,\"\")&IF((AN102)=50,$BN$50,\"\")&IF((AN102)=51,$BN$51,\"\")&IF((AN102)=52,$BN$52,\"\")&IF((AN102)=53,$BN$53,\"\")&IF((AN102)=54,$BN$54,\"\")&IF((AN102)=55,$BN$55,\"\")&IF((AN102)=56,$BN$56,\"\")&IF((AN102)=57,$BN$57,\"\")&IF((AN102)=58,$BN$58,\"\")&IF((AN102)=59,$BN$59,\"\")&IF((AN102)=60,$BN$60,\"\")&IF((AN102)=61,$BN$61,\"\")&IF((AN102)=62,$BN$62,\"\")&IF((AN102)=63,$BN$63,\"\")&IF((AN102)=64,$BN$64,\"\")&IF((AN102)=65,$BN$65,\"\")&IF((AN102)=66,$BN$66,\"\")&IF((AN102)=67,$BN$67,\"\")&IF((AN102)=68,$BN$68,\"\")&IF((AN102)=69,$BN$69,\"\")&IF((AN102)=70,$BN$70,\"\")&IF((AN102)=71,$BN$71,\"\")&IF((AN102)=72,$BN$72,\"\")&IF((AN102)=73,$BN$73,\"\")&IF((AN102)=74,$BN$74,\"\")&IF((AN102)=75,$BN$75,\"\")&IF((AN102)=76,$BN$76,\"\")&IF((AN102)=77,$BN$77,\"\")&IF((AN102)=78,$BN$78,\"\")&IF((AN102)=79,$BN$79,\"\")&IF((AN102)=80,$BN$80,\"\")&IF((AN102)=81,$BN$81,\"\")&IF((AN102)=82,$BN$82,\"\")&IF((AN102)=83,$BN$83,\"\")&IF((AN102)=84,$BN$84,\"\")&IF((AN102)=85,$BN$85,\"\")&IF((AN102)=86,$BN$86,\"\")&IF((AN102)=87,$BN$87,\"\")&IF((AN102)=88,$BN$88,\"\")&IF((AN102)=89,$BN$89,\"\")&IF((AN102)=90,$BN$90,\"\")&IF((AN102)=91,$BN$91,\"\")&IF((AN102)=92,$BN$92,\"\")&IF((AN102)=93,$BN$93,\"\")&IF((AN102)=94,$BN$94,\"\")&IF((AN102)=95,$BN$95,\"\")&IF((AN102)=96,$BN$96,\"\")&IF((AN102)=97,$BN$97,\"\")&IF((AN102)=98,$BN$98,\"\")&IF((AN102)=99,$BN$99,\"\")&IF((AN102)=100,$BN$100,\"\")&IF((AN102)=101,$BN$101,\"\")&IF((AN102)=102,$BN$102,\"\")&IF((AN102)=103,$BN$103,\"\")&IF((AN102)=104,$BN$104,\"\")&IF((AN102)=105,$BN$105,\"\")&IF((AN102)=106,$BN$106,\"\")&IF((AN102)=107,$BN$107,\"\")&IF((AN102)=108,$BN$108,\"\")&IF((AN102)=109,$BN$109,\"\")&IF((AN102)=110,$BN$110,\"\")&IF((AN102)=111,$BN$111,\"\")&IF((AN102)=112,$BN$112,\"\")&IF((AN102)=113,$BN$113,\"\")&IF((AN102)=114,$BN$114,\"\")&IF((AN102)=115,$BN$115,\"\")&IF((AN102)=116,$BN$116,\"\")&IF((AN102)=117,$BN$117,\"\")&IF((AN102)=118,$BN$118,\"\")&IF((AN102)=119,$BN$119,\"\")&IF((AN102)=120,$BN$120,\"\")&IF((AN102)=121,$BN$121,\"\")&IF((AN102)=122,$BN$122,\"\")&IF((AN102)=123,$BN$123,\"\")&IF((AN102)=124,$BN$124,\"\")&IF((AN102)=125,$BN$125,\"\")&IF((AN102)=126,$BN$126,\"\")&IF((AN102)=127,$BN$127,\"\")&IF((AN102)=128,$BN$128,\"\")","v":""},null,null,null,{"$f":"IF((AT102)=1,$BM$1,\"\")&IF((AT102)=2,$BM$2,\"\")&IF((AT102)=3,$BM$3,\"\")&IF((AT102)=4,$BM$4,\"\")&IF((AT102)=5,$BM$5,\"\")&IF((AT102)=6,$BM$6,\"\")&IF((AT102)=7,$BM$7,\"\")&IF((AT102)=8,$BM$8,\"\")&IF((AT102)=9,$BM$9,\"\")&IF((AT102)=10,$BM$10,\"\")&IF((AT102)=11,$BM$11,\"\")&IF((AT102)=12,$BM$12,\"\")&IF((AT102)=13,$BM$13,\"\")&IF((AT102)=14,$BM$14,\"\")&IF((AT102)=15,$BM$15,\"\")&IF((AT102)=16,$BM$16,\"\")&IF((AT102)=17,$BM$17,\"\")&IF((AT102)=18,$BM$18,\"\")&IF((AT102)=19,$BM$19,\"\")&IF((AT102)=20,$BM$20,\"\")&IF((AT102)=21,$BM$21,\"\")&IF((AT102)=22,$BM$22,\"\")&IF((AT102)=23,$BM$23,\"\")&IF((AT102)=24,$BM$24,\"\")&IF((AT102)=25,$BM$25,\"\")&IF((AT102)=26,$BM$26,\"\")&IF((AT102)=27,$BM$27,\"\")&IF((AT102)=28,$BM$28,\"\")&IF((AT102)=29,$BM$29,\"\")&IF((AT102)=30,$BM$30,\"\")&IF((AT102)=31,$BM$31,\"\")&IF((AT102)=32,$BM$32,\"\")&IF((AT102)=33,$BM$33,\"\")&IF((AT102)=34,$BM$34,\"\")&IF((AT102)=35,$BM$35,\"\")&IF((AT102)=36,$BM$36,\"\")&IF((AT102)=37,$BM$37,\"\")&IF((AT102)=38,$BM$38,\"\")&IF((AT102)=39,$BM$39,\"\")&IF((AT102)=40,$BM$40,\"\")&IF((AT102)=41,$BM$41,\"\")&IF((AT102)=42,$BM$42,\"\")&IF((AT102)=43,$BM$43,\"\")&IF((AT102)=44,$BM$44,\"\")&IF((AT102)=45,$BM$45,\"\")&IF((AT102)=46,$BM$46,\"\")&IF((AT102)=47,$BM$47,\"\")&IF((AT102)=48,$BM$48,\"\")&IF((AT102)=49,$BM$49,\"\")&IF((AT102)=50,$BM$50,\"\")&IF((AT102)=51,$BM$51,\"\")&IF((AT102)=52,$BM$52,\"\")&IF((AT102)=53,$BM$53,\"\")&IF((AT102)=54,$BM$54,\"\")&IF((AT102)=55,$BM$55,\"\")&IF((AT102)=56,$BM$56,\"\")&IF((AT102)=57,$BM$57,\"\")&IF((AT102)=58,$BM$58,\"\")&IF((AT102)=59,$BM$59,\"\")&IF((AT102)=60,$BM$60,\"\")&IF((AT102)=61,$BM$61,\"\")&IF((AT102)=62,$BM$62,\"\")&IF((AT102)=63,$BM$63,\"\")&IF((AT102)=64,$BM$64,\"\")&IF((AT102)=65,$BM$65,\"\")&IF((AT102)=66,$BM$66,\"\")&IF((AT102)=67,$BM$67,\"\")&IF((AT102)=68,$BM$68,\"\")&IF((AT102)=69,$BM$69,\"\")&IF((AT102)=70,$BM$70,\"\")&IF((AT102)=71,$BM$71,\"\")&IF((AT102)=72,$BM$72,\"\")&IF((AT102)=73,$BM$73,\"\")&IF((AT102)=74,$BM$74,\"\")&IF((AT102)=75,$BM$75,\"\")&IF((AT102)=76,$BM$76,\"\")&IF((AT102)=77,$BM$77,\"\")&IF((AT102)=78,$BM$78,\"\")&IF((AT102)=79,$BM$79,\"\")&IF((AT102)=80,$BM$80,\"\")&IF((AT102)=81,$BM$81,\"\")&IF((AT102)=82,$BM$82,\"\")&IF((AT102)=83,$BM$83,\"\")&IF((AT102)=84,$BM$84,\"\")&IF((AT102)=85,$BM$85,\"\")&IF((AT102)=86,$BM$86,\"\")&IF((AT102)=87,$BM$87,\"\")&IF((AT102)=88,$BM$88,\"\")&IF((AT102)=89,$BM$89,\"\")&IF((AT102)=90,$BM$90,\"\")&IF((AT102)=91,$BM$91,\"\")&IF((AT102)=92,$BM$92,\"\")&IF((AT102)=93,$BM$93,\"\")&IF((AT102)=94,$BM$94,\"\")&IF((AT102)=95,$BM$95,\"\")&IF((AT102)=96,$BM$96,\"\")&IF((AT102)=97,$BM$97,\"\")&IF((AT102)=98,$BM$98,\"\")&IF((AT102)=99,$BM$99,\"\")&IF((AT102)=100,$BM$100,\"\")&IF((AT102)=101,$BM$101,\"\")&IF((AT102)=102,$BM$102,\"\")&IF((AT102)=103,$BM$103,\"\")&IF((AT102)=104,$BM$104,\"\")&IF((AT102)=105,$BM$105,\"\")&IF((AT102)=106,$BM$106,\"\")&IF((AT102)=107,$BM$107,\"\")&IF((AT102)=108,$BM$108,\"\")&IF((AT102)=109,$BM$109,\"\")&IF((AT102)=110,$BM$110,\"\")&IF((AT102)=111,$BM$111,\"\")&IF((AT102)=112,$BM$112,\"\")&IF((AT102)=113,$BM$113,\"\")&IF((AT102)=114,$BM$114,\"\")&IF((AT102)=115,$BM$115,\"\")&IF((AT102)=116,$BM$116,\"\")&IF((AT102)=117,$BM$117,\"\")&IF((AT102)=118,$BM$118,\"\")&IF((AT102)=119,$BM$119,\"\")&IF((AT102)=120,$BM$120,\"\")&IF((AT102)=121,$BM$121,\"\")&IF((AT102)=122,$BM$122,\"\")&IF((AT102)=123,$BM$123,\"\")&IF((AT102)=124,$BM$124,\"\")&IF((AT102)=125,$BM$125,\"\")&IF((AT102)=126,$BM$126,\"\")&IF((AT102)=127,$BM$127,\"\")&IF((AT102)=128,$BM$128,\"\")","v":""},null,{"$f":"IF((AT102)=1,$BN$1,\"\")&IF((AT102)=2,$BN$2,\"\")&IF((AT102)=3,$BN$3,\"\")&IF((AT102)=4,$BN$4,\"\")&IF((AT102)=5,$BN$5,\"\")&IF((AT102)=6,$BN$6,\"\")&IF((AT102)=7,$BN$7,\"\")&IF((AT102)=8,$BN$8,\"\")&IF((AT102)=9,$BN$9,\"\")&IF((AT102)=10,$BN$10,\"\")&IF((AT102)=11,$BN$11,\"\")&IF((AT102)=12,$BN$12,\"\")&IF((AT102)=13,$BN$13,\"\")&IF((AT102)=14,$BN$14,\"\")&IF((AT102)=15,$BN$15,\"\")&IF((AT102)=16,$BN$16,\"\")&IF((AT102)=17,$BN$17,\"\")&IF((AT102)=18,$BN$18,\"\")&IF((AT102)=19,$BN$19,\"\")&IF((AT102)=20,$BN$20,\"\")&IF((AT102)=21,$BN$21,\"\")&IF((AT102)=22,$BN$22,\"\")&IF((AT102)=23,$BN$23,\"\")&IF((AT102)=24,$BN$24,\"\")&IF((AT102)=25,$BN$25,\"\")&IF((AT102)=26,$BN$26,\"\")&IF((AT102)=27,$BN$27,\"\")&IF((AT102)=28,$BN$28,\"\")&IF((AT102)=29,$BN$29,\"\")&IF((AT102)=30,$BN$30,\"\")&IF((AT102)=31,$BN$31,\"\")&IF((AT102)=32,$BN$32,\"\")&IF((AT102)=33,$BN$33,\"\")&IF((AT102)=34,$BN$34,\"\")&IF((AT102)=35,$BN$35,\"\")&IF((AT102)=36,$BN$36,\"\")&IF((AT102)=37,$BN$37,\"\")&IF((AT102)=38,$BN$38,\"\")&IF((AT102)=39,$BN$39,\"\")&IF((AT102)=40,$BN$40,\"\")&IF((AT102)=41,$BN$41,\"\")&IF((AT102)=42,$BN$42,\"\")&IF((AT102)=43,$BN$43,\"\")&IF((AT102)=44,$BN$44,\"\")&IF((AT102)=45,$BN$45,\"\")&IF((AT102)=46,$BN$46,\"\")&IF((AT102)=47,$BN$47,\"\")&IF((AT102)=48,$BN$48,\"\")&IF((AT102)=49,$BN$49,\"\")&IF((AT102)=50,$BN$50,\"\")&IF((AT102)=51,$BN$51,\"\")&IF((AT102)=52,$BN$52,\"\")&IF((AT102)=53,$BN$53,\"\")&IF((AT102)=54,$BN$54,\"\")&IF((AT102)=55,$BN$55,\"\")&IF((AT102)=56,$BN$56,\"\")&IF((AT102)=57,$BN$57,\"\")&IF((AT102)=58,$BN$58,\"\")&IF((AT102)=59,$BN$59,\"\")&IF((AT102)=60,$BN$60,\"\")&IF((AT102)=61,$BN$61,\"\")&IF((AT102)=62,$BN$62,\"\")&IF((AT102)=63,$BN$63,\"\")&IF((AT102)=64,$BN$64,\"\")&IF((AT102)=65,$BN$65,\"\")&IF((AT102)=66,$BN$66,\"\")&IF((AT102)=67,$BN$67,\"\")&IF((AT102)=68,$BN$68,\"\")&IF((AT102)=69,$BN$69,\"\")&IF((AT102)=70,$BN$70,\"\")&IF((AT102)=71,$BN$71,\"\")&IF((AT102)=72,$BN$72,\"\")&IF((AT102)=73,$BN$73,\"\")&IF((AT102)=74,$BN$74,\"\")&IF((AT102)=75,$BN$75,\"\")&IF((AT102)=76,$BN$76,\"\")&IF((AT102)=77,$BN$77,\"\")&IF((AT102)=78,$BN$78,\"\")&IF((AT102)=79,$BN$79,\"\")&IF((AT102)=80,$BN$80,\"\")&IF((AT102)=81,$BN$81,\"\")&IF((AT102)=82,$BN$82,\"\")&IF((AT102)=83,$BN$83,\"\")&IF((AT102)=84,$BN$84,\"\")&IF((AT102)=85,$BN$85,\"\")&IF((AT102)=86,$BN$86,\"\")&IF((AT102)=87,$BN$87,\"\")&IF((AT102)=88,$BN$88,\"\")&IF((AT102)=89,$BN$89,\"\")&IF((AT102)=90,$BN$90,\"\")&IF((AT102)=91,$BN$91,\"\")&IF((AT102)=92,$BN$92,\"\")&IF((AT102)=93,$BN$93,\"\")&IF((AT102)=94,$BN$94,\"\")&IF((AT102)=95,$BN$95,\"\")&IF((AT102)=96,$BN$96,\"\")&IF((AT102)=97,$BN$97,\"\")&IF((AT102)=98,$BN$98,\"\")&IF((AT102)=99,$BN$99,\"\")&IF((AT102)=100,$BN$100,\"\")&IF((AT102)=101,$BN$101,\"\")&IF((AT102)=102,$BN$102,\"\")&IF((AT102)=103,$BN$103,\"\")&IF((AT102)=104,$BN$104,\"\")&IF((AT102)=105,$BN$105,\"\")&IF((AT102)=106,$BN$106,\"\")&IF((AT102)=107,$BN$107,\"\")&IF((AT102)=108,$BN$108,\"\")&IF((AT102)=109,$BN$109,\"\")&IF((AT102)=110,$BN$110,\"\")&IF((AT102)=111,$BN$111,\"\")&IF((AT102)=112,$BN$112,\"\")&IF((AT102)=113,$BN$113,\"\")&IF((AT102)=114,$BN$114,\"\")&IF((AT102)=115,$BN$115,\"\")&IF((AT102)=116,$BN$116,\"\")&IF((AT102)=117,$BN$117,\"\")&IF((AT102)=118,$BN$118,\"\")&IF((AT102)=119,$BN$119,\"\")&IF((AT102)=120,$BN$120,\"\")&IF((AT102)=121,$BN$121,\"\")&IF((AT102)=122,$BN$122,\"\")&IF((AT102)=123,$BN$123,\"\")&IF((AT102)=124,$BN$124,\"\")&IF((AT102)=125,$BN$125,\"\")&IF((AT102)=126,$BN$126,\"\")&IF((AT102)=127,$BN$127,\"\")&IF((AT102)=128,$BN$128,\"\")","v":""},null,{"$f":"IF((AX102)=1,$BM$1,\"\")&IF((AX102)=2,$BM$2,\"\")&IF((AX102)=3,$BM$3,\"\")&IF((AX102)=4,$BM$4,\"\")&IF((AX102)=5,$BM$5,\"\")&IF((AX102)=6,$BM$6,\"\")&IF((AX102)=7,$BM$7,\"\")&IF((AX102)=8,$BM$8,\"\")&IF((AX102)=9,$BM$9,\"\")&IF((AX102)=10,$BM$10,\"\")&IF((AX102)=11,$BM$11,\"\")&IF((AX102)=12,$BM$12,\"\")&IF((AX102)=13,$BM$13,\"\")&IF((AX102)=14,$BM$14,\"\")&IF((AX102)=15,$BM$15,\"\")&IF((AX102)=16,$BM$16,\"\")&IF((AX102)=17,$BM$17,\"\")&IF((AX102)=18,$BM$18,\"\")&IF((AX102)=19,$BM$19,\"\")&IF((AX102)=20,$BM$20,\"\")&IF((AX102)=21,$BM$21,\"\")&IF((AX102)=22,$BM$22,\"\")&IF((AX102)=23,$BM$23,\"\")&IF((AX102)=24,$BM$24,\"\")&IF((AX102)=25,$BM$25,\"\")&IF((AX102)=26,$BM$26,\"\")&IF((AX102)=27,$BM$27,\"\")&IF((AX102)=28,$BM$28,\"\")&IF((AX102)=29,$BM$29,\"\")&IF((AX102)=30,$BM$30,\"\")&IF((AX102)=31,$BM$31,\"\")&IF((AX102)=32,$BM$32,\"\")&IF((AX102)=33,$BM$33,\"\")&IF((AX102)=34,$BM$34,\"\")&IF((AX102)=35,$BM$35,\"\")&IF((AX102)=36,$BM$36,\"\")&IF((AX102)=37,$BM$37,\"\")&IF((AX102)=38,$BM$38,\"\")&IF((AX102)=39,$BM$39,\"\")&IF((AX102)=40,$BM$40,\"\")&IF((AX102)=41,$BM$41,\"\")&IF((AX102)=42,$BM$42,\"\")&IF((AX102)=43,$BM$43,\"\")&IF((AX102)=44,$BM$44,\"\")&IF((AX102)=45,$BM$45,\"\")&IF((AX102)=46,$BM$46,\"\")&IF((AX102)=47,$BM$47,\"\")&IF((AX102)=48,$BM$48,\"\")&IF((AX102)=49,$BM$49,\"\")&IF((AX102)=50,$BM$50,\"\")&IF((AX102)=51,$BM$51,\"\")&IF((AX102)=52,$BM$52,\"\")&IF((AX102)=53,$BM$53,\"\")&IF((AX102)=54,$BM$54,\"\")&IF((AX102)=55,$BM$55,\"\")&IF((AX102)=56,$BM$56,\"\")&IF((AX102)=57,$BM$57,\"\")&IF((AX102)=58,$BM$58,\"\")&IF((AX102)=59,$BM$59,\"\")&IF((AX102)=60,$BM$60,\"\")&IF((AX102)=61,$BM$61,\"\")&IF((AX102)=62,$BM$62,\"\")&IF((AX102)=63,$BM$63,\"\")&IF((AX102)=64,$BM$64,\"\")&IF((AX102)=65,$BM$65,\"\")&IF((AX102)=66,$BM$66,\"\")&IF((AX102)=67,$BM$67,\"\")&IF((AX102)=68,$BM$68,\"\")&IF((AX102)=69,$BM$69,\"\")&IF((AX102)=70,$BM$70,\"\")&IF((AX102)=71,$BM$71,\"\")&IF((AX102)=72,$BM$72,\"\")&IF((AX102)=73,$BM$73,\"\")&IF((AX102)=74,$BM$74,\"\")&IF((AX102)=75,$BM$75,\"\")&IF((AX102)=76,$BM$76,\"\")&IF((AX102)=77,$BM$77,\"\")&IF((AX102)=78,$BM$78,\"\")&IF((AX102)=79,$BM$79,\"\")&IF((AX102)=80,$BM$80,\"\")&IF((AX102)=81,$BM$81,\"\")&IF((AX102)=82,$BM$82,\"\")&IF((AX102)=83,$BM$83,\"\")&IF((AX102)=84,$BM$84,\"\")&IF((AX102)=85,$BM$85,\"\")&IF((AX102)=86,$BM$86,\"\")&IF((AX102)=87,$BM$87,\"\")&IF((AX102)=88,$BM$88,\"\")&IF((AX102)=89,$BM$89,\"\")&IF((AX102)=90,$BM$90,\"\")&IF((AX102)=91,$BM$91,\"\")&IF((AX102)=92,$BM$92,\"\")&IF((AX102)=93,$BM$93,\"\")&IF((AX102)=94,$BM$94,\"\")&IF((AX102)=95,$BM$95,\"\")&IF((AX102)=96,$BM$96,\"\")&IF((AX102)=97,$BM$97,\"\")&IF((AX102)=98,$BM$98,\"\")&IF((AX102)=99,$BM$99,\"\")&IF((AX102)=100,$BM$100,\"\")&IF((AX102)=101,$BM$101,\"\")&IF((AX102)=102,$BM$102,\"\")&IF((AX102)=103,$BM$103,\"\")&IF((AX102)=104,$BM$104,\"\")&IF((AX102)=105,$BM$105,\"\")&IF((AX102)=106,$BM$106,\"\")&IF((AX102)=107,$BM$107,\"\")&IF((AX102)=108,$BM$108,\"\")&IF((AX102)=109,$BM$109,\"\")&IF((AX102)=110,$BM$110,\"\")&IF((AX102)=111,$BM$111,\"\")&IF((AX102)=112,$BM$112,\"\")&IF((AX102)=113,$BM$113,\"\")&IF((AX102)=114,$BM$114,\"\")&IF((AX102)=115,$BM$115,\"\")&IF((AX102)=116,$BM$116,\"\")&IF((AX102)=117,$BM$117,\"\")&IF((AX102)=118,$BM$118,\"\")&IF((AX102)=119,$BM$119,\"\")&IF((AX102)=120,$BM$120,\"\")&IF((AX102)=121,$BM$121,\"\")&IF((AX102)=122,$BM$122,\"\")&IF((AX102)=123,$BM$123,\"\")&IF((AX102)=124,$BM$124,\"\")&IF((AX102)=125,$BM$125,\"\")&IF((AX102)=126,$BM$126,\"\")&IF((AX102)=127,$BM$127,\"\")&IF((AX102)=128,$BM$128,\"\")","v":""},null,{"$f":"IF((AX102)=1,$BN$1,\"\")&IF((AX102)=2,$BN$2,\"\")&IF((AX102)=3,$BN$3,\"\")&IF((AX102)=4,$BN$4,\"\")&IF((AX102)=5,$BN$5,\"\")&IF((AX102)=6,$BN$6,\"\")&IF((AX102)=7,$BN$7,\"\")&IF((AX102)=8,$BN$8,\"\")&IF((AX102)=9,$BN$9,\"\")&IF((AX102)=10,$BN$10,\"\")&IF((AX102)=11,$BN$11,\"\")&IF((AX102)=12,$BN$12,\"\")&IF((AX102)=13,$BN$13,\"\")&IF((AX102)=14,$BN$14,\"\")&IF((AX102)=15,$BN$15,\"\")&IF((AX102)=16,$BN$16,\"\")&IF((AX102)=17,$BN$17,\"\")&IF((AX102)=18,$BN$18,\"\")&IF((AX102)=19,$BN$19,\"\")&IF((AX102)=20,$BN$20,\"\")&IF((AX102)=21,$BN$21,\"\")&IF((AX102)=22,$BN$22,\"\")&IF((AX102)=23,$BN$23,\"\")&IF((AX102)=24,$BN$24,\"\")&IF((AX102)=25,$BN$25,\"\")&IF((AX102)=26,$BN$26,\"\")&IF((AX102)=27,$BN$27,\"\")&IF((AX102)=28,$BN$28,\"\")&IF((AX102)=29,$BN$29,\"\")&IF((AX102)=30,$BN$30,\"\")&IF((AX102)=31,$BN$31,\"\")&IF((AX102)=32,$BN$32,\"\")&IF((AX102)=33,$BN$33,\"\")&IF((AX102)=34,$BN$34,\"\")&IF((AX102)=35,$BN$35,\"\")&IF((AX102)=36,$BN$36,\"\")&IF((AX102)=37,$BN$37,\"\")&IF((AX102)=38,$BN$38,\"\")&IF((AX102)=39,$BN$39,\"\")&IF((AX102)=40,$BN$40,\"\")&IF((AX102)=41,$BN$41,\"\")&IF((AX102)=42,$BN$42,\"\")&IF((AX102)=43,$BN$43,\"\")&IF((AX102)=44,$BN$44,\"\")&IF((AX102)=45,$BN$45,\"\")&IF((AX102)=46,$BN$46,\"\")&IF((AX102)=47,$BN$47,\"\")&IF((AX102)=48,$BN$48,\"\")&IF((AX102)=49,$BN$49,\"\")&IF((AX102)=50,$BN$50,\"\")&IF((AX102)=51,$BN$51,\"\")&IF((AX102)=52,$BN$52,\"\")&IF((AX102)=53,$BN$53,\"\")&IF((AX102)=54,$BN$54,\"\")&IF((AX102)=55,$BN$55,\"\")&IF((AX102)=56,$BN$56,\"\")&IF((AX102)=57,$BN$57,\"\")&IF((AX102)=58,$BN$58,\"\")&IF((AX102)=59,$BN$59,\"\")&IF((AX102)=60,$BN$60,\"\")&IF((AX102)=61,$BN$61,\"\")&IF((AX102)=62,$BN$62,\"\")&IF((AX102)=63,$BN$63,\"\")&IF((AX102)=64,$BN$64,\"\")&IF((AX102)=65,$BN$65,\"\")&IF((AX102)=66,$BN$66,\"\")&IF((AX102)=67,$BN$67,\"\")&IF((AX102)=68,$BN$68,\"\")&IF((AX102)=69,$BN$69,\"\")&IF((AX102)=70,$BN$70,\"\")&IF((AX102)=71,$BN$71,\"\")&IF((AX102)=72,$BN$72,\"\")&IF((AX102)=73,$BN$73,\"\")&IF((AX102)=74,$BN$74,\"\")&IF((AX102)=75,$BN$75,\"\")&IF((AX102)=76,$BN$76,\"\")&IF((AX102)=77,$BN$77,\"\")&IF((AX102)=78,$BN$78,\"\")&IF((AX102)=79,$BN$79,\"\")&IF((AX102)=80,$BN$80,\"\")&IF((AX102)=81,$BN$81,\"\")&IF((AX102)=82,$BN$82,\"\")&IF((AX102)=83,$BN$83,\"\")&IF((AX102)=84,$BN$84,\"\")&IF((AX102)=85,$BN$85,\"\")&IF((AX102)=86,$BN$86,\"\")&IF((AX102)=87,$BN$87,\"\")&IF((AX102)=88,$BN$88,\"\")&IF((AX102)=89,$BN$89,\"\")&IF((AX102)=90,$BN$90,\"\")&IF((AX102)=91,$BN$91,\"\")&IF((AX102)=92,$BN$92,\"\")&IF((AX102)=93,$BN$93,\"\")&IF((AX102)=94,$BN$94,\"\")&IF((AX102)=95,$BN$95,\"\")&IF((AX102)=96,$BN$96,\"\")&IF((AX102)=97,$BN$97,\"\")&IF((AX102)=98,$BN$98,\"\")&IF((AX102)=99,$BN$99,\"\")&IF((AX102)=100,$BN$100,\"\")&IF((AX102)=101,$BN$101,\"\")&IF((AX102)=102,$BN$102,\"\")&IF((AX102)=103,$BN$103,\"\")&IF((AX102)=104,$BN$104,\"\")&IF((AX102)=105,$BN$105,\"\")&IF((AX102)=106,$BN$106,\"\")&IF((AX102)=107,$BN$107,\"\")&IF((AX102)=108,$BN$108,\"\")&IF((AX102)=109,$BN$109,\"\")&IF((AX102)=110,$BN$110,\"\")&IF((AX102)=111,$BN$111,\"\")&IF((AX102)=112,$BN$112,\"\")&IF((AX102)=113,$BN$113,\"\")&IF((AX102)=114,$BN$114,\"\")&IF((AX102)=115,$BN$115,\"\")&IF((AX102)=116,$BN$116,\"\")&IF((AX102)=117,$BN$117,\"\")&IF((AX102)=118,$BN$118,\"\")&IF((AX102)=119,$BN$119,\"\")&IF((AX102)=120,$BN$120,\"\")&IF((AX102)=121,$BN$121,\"\")&IF((AX102)=122,$BN$122,\"\")&IF((AX102)=123,$BN$123,\"\")&IF((AX102)=124,$BN$124,\"\")&IF((AX102)=125,$BN$125,\"\")&IF((AX102)=126,$BN$126,\"\")&IF((AX102)=127,$BN$127,\"\")&IF((AX102)=128,$BN$128,\"\")","v":""},null,null,null,{"$f":"IF((BD102)=1,$BM$1,\"\")&IF((BD102)=2,$BM$2,\"\")&IF((BD102)=3,$BM$3,\"\")&IF((BD102)=4,$BM$4,\"\")&IF((BD102)=5,$BM$5,\"\")&IF((BD102)=6,$BM$6,\"\")&IF((BD102)=7,$BM$7,\"\")&IF((BD102)=8,$BM$8,\"\")&IF((BD102)=9,$BM$9,\"\")&IF((BD102)=10,$BM$10,\"\")&IF((BD102)=11,$BM$11,\"\")&IF((BD102)=12,$BM$12,\"\")&IF((BD102)=13,$BM$13,\"\")&IF((BD102)=14,$BM$14,\"\")&IF((BD102)=15,$BM$15,\"\")&IF((BD102)=16,$BM$16,\"\")&IF((BD102)=17,$BM$17,\"\")&IF((BD102)=18,$BM$18,\"\")&IF((BD102)=19,$BM$19,\"\")&IF((BD102)=20,$BM$20,\"\")&IF((BD102)=21,$BM$21,\"\")&IF((BD102)=22,$BM$22,\"\")&IF((BD102)=23,$BM$23,\"\")&IF((BD102)=24,$BM$24,\"\")&IF((BD102)=25,$BM$25,\"\")&IF((BD102)=26,$BM$26,\"\")&IF((BD102)=27,$BM$27,\"\")&IF((BD102)=28,$BM$28,\"\")&IF((BD102)=29,$BM$29,\"\")&IF((BD102)=30,$BM$30,\"\")&IF((BD102)=31,$BM$31,\"\")&IF((BD102)=32,$BM$32,\"\")&IF((BD102)=33,$BM$33,\"\")&IF((BD102)=34,$BM$34,\"\")&IF((BD102)=35,$BM$35,\"\")&IF((BD102)=36,$BM$36,\"\")&IF((BD102)=37,$BM$37,\"\")&IF((BD102)=38,$BM$38,\"\")&IF((BD102)=39,$BM$39,\"\")&IF((BD102)=40,$BM$40,\"\")&IF((BD102)=41,$BM$41,\"\")&IF((BD102)=42,$BM$42,\"\")&IF((BD102)=43,$BM$43,\"\")&IF((BD102)=44,$BM$44,\"\")&IF((BD102)=45,$BM$45,\"\")&IF((BD102)=46,$BM$46,\"\")&IF((BD102)=47,$BM$47,\"\")&IF((BD102)=48,$BM$48,\"\")&IF((BD102)=49,$BM$49,\"\")&IF((BD102)=50,$BM$50,\"\")&IF((BD102)=51,$BM$51,\"\")&IF((BD102)=52,$BM$52,\"\")&IF((BD102)=53,$BM$53,\"\")&IF((BD102)=54,$BM$54,\"\")&IF((BD102)=55,$BM$55,\"\")&IF((BD102)=56,$BM$56,\"\")&IF((BD102)=57,$BM$57,\"\")&IF((BD102)=58,$BM$58,\"\")&IF((BD102)=59,$BM$59,\"\")&IF((BD102)=60,$BM$60,\"\")&IF((BD102)=61,$BM$61,\"\")&IF((BD102)=62,$BM$62,\"\")&IF((BD102)=63,$BM$63,\"\")&IF((BD102)=64,$BM$64,\"\")&IF((BD102)=65,$BM$65,\"\")&IF((BD102)=66,$BM$66,\"\")&IF((BD102)=67,$BM$67,\"\")&IF((BD102)=68,$BM$68,\"\")&IF((BD102)=69,$BM$69,\"\")&IF((BD102)=70,$BM$70,\"\")&IF((BD102)=71,$BM$71,\"\")&IF((BD102)=72,$BM$72,\"\")&IF((BD102)=73,$BM$73,\"\")&IF((BD102)=74,$BM$74,\"\")&IF((BD102)=75,$BM$75,\"\")&IF((BD102)=76,$BM$76,\"\")&IF((BD102)=77,$BM$77,\"\")&IF((BD102)=78,$BM$78,\"\")&IF((BD102)=79,$BM$79,\"\")&IF((BD102)=80,$BM$80,\"\")&IF((BD102)=81,$BM$81,\"\")&IF((BD102)=82,$BM$82,\"\")&IF((BD102)=83,$BM$83,\"\")&IF((BD102)=84,$BM$84,\"\")&IF((BD102)=85,$BM$85,\"\")&IF((BD102)=86,$BM$86,\"\")&IF((BD102)=87,$BM$87,\"\")&IF((BD102)=88,$BM$88,\"\")&IF((BD102)=89,$BM$89,\"\")&IF((BD102)=90,$BM$90,\"\")&IF((BD102)=91,$BM$91,\"\")&IF((BD102)=92,$BM$92,\"\")&IF((BD102)=93,$BM$93,\"\")&IF((BD102)=94,$BM$94,\"\")&IF((BD102)=95,$BM$95,\"\")&IF((BD102)=96,$BM$96,\"\")&IF((BD102)=97,$BM$97,\"\")&IF((BD102)=98,$BM$98,\"\")&IF((BD102)=99,$BM$99,\"\")&IF((BD102)=100,$BM$100,\"\")&IF((BD102)=101,$BM$101,\"\")&IF((BD102)=102,$BM$102,\"\")&IF((BD102)=103,$BM$103,\"\")&IF((BD102)=104,$BM$104,\"\")&IF((BD102)=105,$BM$105,\"\")&IF((BD102)=106,$BM$106,\"\")&IF((BD102)=107,$BM$107,\"\")&IF((BD102)=108,$BM$108,\"\")&IF((BD102)=109,$BM$109,\"\")&IF((BD102)=110,$BM$110,\"\")&IF((BD102)=111,$BM$111,\"\")&IF((BD102)=112,$BM$112,\"\")&IF((BD102)=113,$BM$113,\"\")&IF((BD102)=114,$BM$114,\"\")&IF((BD102)=115,$BM$115,\"\")&IF((BD102)=116,$BM$116,\"\")&IF((BD102)=117,$BM$117,\"\")&IF((BD102)=118,$BM$118,\"\")&IF((BD102)=119,$BM$119,\"\")&IF((BD102)=120,$BM$120,\"\")&IF((BD102)=121,$BM$121,\"\")&IF((BD102)=122,$BM$122,\"\")&IF((BD102)=123,$BM$123,\"\")&IF((BD102)=124,$BM$124,\"\")&IF((BD102)=125,$BM$125,\"\")&IF((BD102)=126,$BM$126,\"\")&IF((BD102)=127,$BM$127,\"\")&IF((BD102)=128,$BM$128,\"\")","v":""},null,{"$f":"IF((BD102)=1,$BN$1,\"\")&IF((BD102)=2,$BN$2,\"\")&IF((BD102)=3,$BN$3,\"\")&IF((BD102)=4,$BN$4,\"\")&IF((BD102)=5,$BN$5,\"\")&IF((BD102)=6,$BN$6,\"\")&IF((BD102)=7,$BN$7,\"\")&IF((BD102)=8,$BN$8,\"\")&IF((BD102)=9,$BN$9,\"\")&IF((BD102)=10,$BN$10,\"\")&IF((BD102)=11,$BN$11,\"\")&IF((BD102)=12,$BN$12,\"\")&IF((BD102)=13,$BN$13,\"\")&IF((BD102)=14,$BN$14,\"\")&IF((BD102)=15,$BN$15,\"\")&IF((BD102)=16,$BN$16,\"\")&IF((BD102)=17,$BN$17,\"\")&IF((BD102)=18,$BN$18,\"\")&IF((BD102)=19,$BN$19,\"\")&IF((BD102)=20,$BN$20,\"\")&IF((BD102)=21,$BN$21,\"\")&IF((BD102)=22,$BN$22,\"\")&IF((BD102)=23,$BN$23,\"\")&IF((BD102)=24,$BN$24,\"\")&IF((BD102)=25,$BN$25,\"\")&IF((BD102)=26,$BN$26,\"\")&IF((BD102)=27,$BN$27,\"\")&IF((BD102)=28,$BN$28,\"\")&IF((BD102)=29,$BN$29,\"\")&IF((BD102)=30,$BN$30,\"\")&IF((BD102)=31,$BN$31,\"\")&IF((BD102)=32,$BN$32,\"\")&IF((BD102)=33,$BN$33,\"\")&IF((BD102)=34,$BN$34,\"\")&IF((BD102)=35,$BN$35,\"\")&IF((BD102)=36,$BN$36,\"\")&IF((BD102)=37,$BN$37,\"\")&IF((BD102)=38,$BN$38,\"\")&IF((BD102)=39,$BN$39,\"\")&IF((BD102)=40,$BN$40,\"\")&IF((BD102)=41,$BN$41,\"\")&IF((BD102)=42,$BN$42,\"\")&IF((BD102)=43,$BN$43,\"\")&IF((BD102)=44,$BN$44,\"\")&IF((BD102)=45,$BN$45,\"\")&IF((BD102)=46,$BN$46,\"\")&IF((BD102)=47,$BN$47,\"\")&IF((BD102)=48,$BN$48,\"\")&IF((BD102)=49,$BN$49,\"\")&IF((BD102)=50,$BN$50,\"\")&IF((BD102)=51,$BN$51,\"\")&IF((BD102)=52,$BN$52,\"\")&IF((BD102)=53,$BN$53,\"\")&IF((BD102)=54,$BN$54,\"\")&IF((BD102)=55,$BN$55,\"\")&IF((BD102)=56,$BN$56,\"\")&IF((BD102)=57,$BN$57,\"\")&IF((BD102)=58,$BN$58,\"\")&IF((BD102)=59,$BN$59,\"\")&IF((BD102)=60,$BN$60,\"\")&IF((BD102)=61,$BN$61,\"\")&IF((BD102)=62,$BN$62,\"\")&IF((BD102)=63,$BN$63,\"\")&IF((BD102)=64,$BN$64,\"\")&IF((BD102)=65,$BN$65,\"\")&IF((BD102)=66,$BN$66,\"\")&IF((BD102)=67,$BN$67,\"\")&IF((BD102)=68,$BN$68,\"\")&IF((BD102)=69,$BN$69,\"\")&IF((BD102)=70,$BN$70,\"\")&IF((BD102)=71,$BN$71,\"\")&IF((BD102)=72,$BN$72,\"\")&IF((BD102)=73,$BN$73,\"\")&IF((BD102)=74,$BN$74,\"\")&IF((BD102)=75,$BN$75,\"\")&IF((BD102)=76,$BN$76,\"\")&IF((BD102)=77,$BN$77,\"\")&IF((BD102)=78,$BN$78,\"\")&IF((BD102)=79,$BN$79,\"\")&IF((BD102)=80,$BN$80,\"\")&IF((BD102)=81,$BN$81,\"\")&IF((BD102)=82,$BN$82,\"\")&IF((BD102)=83,$BN$83,\"\")&IF((BD102)=84,$BN$84,\"\")&IF((BD102)=85,$BN$85,\"\")&IF((BD102)=86,$BN$86,\"\")&IF((BD102)=87,$BN$87,\"\")&IF((BD102)=88,$BN$88,\"\")&IF((BD102)=89,$BN$89,\"\")&IF((BD102)=90,$BN$90,\"\")&IF((BD102)=91,$BN$91,\"\")&IF((BD102)=92,$BN$92,\"\")&IF((BD102)=93,$BN$93,\"\")&IF((BD102)=94,$BN$94,\"\")&IF((BD102)=95,$BN$95,\"\")&IF((BD102)=96,$BN$96,\"\")&IF((BD102)=97,$BN$97,\"\")&IF((BD102)=98,$BN$98,\"\")&IF((BD102)=99,$BN$99,\"\")&IF((BD102)=100,$BN$100,\"\")&IF((BD102)=101,$BN$101,\"\")&IF((BD102)=102,$BN$102,\"\")&IF((BD102)=103,$BN$103,\"\")&IF((BD102)=104,$BN$104,\"\")&IF((BD102)=105,$BN$105,\"\")&IF((BD102)=106,$BN$106,\"\")&IF((BD102)=107,$BN$107,\"\")&IF((BD102)=108,$BN$108,\"\")&IF((BD102)=109,$BN$109,\"\")&IF((BD102)=110,$BN$110,\"\")&IF((BD102)=111,$BN$111,\"\")&IF((BD102)=112,$BN$112,\"\")&IF((BD102)=113,$BN$113,\"\")&IF((BD102)=114,$BN$114,\"\")&IF((BD102)=115,$BN$115,\"\")&IF((BD102)=116,$BN$116,\"\")&IF((BD102)=117,$BN$117,\"\")&IF((BD102)=118,$BN$118,\"\")&IF((BD102)=119,$BN$119,\"\")&IF((BD102)=120,$BN$120,\"\")&IF((BD102)=121,$BN$121,\"\")&IF((BD102)=122,$BN$122,\"\")&IF((BD102)=123,$BN$123,\"\")&IF((BD102)=124,$BN$124,\"\")&IF((BD102)=125,$BN$125,\"\")&IF((BD102)=126,$BN$126,\"\")&IF((BD102)=127,$BN$127,\"\")&IF((BD102)=128,$BN$128,\"\")","v":""},null,{"$f":"IF((BH102)=1,$BM$1,\"\")&IF((BH102)=2,$BM$2,\"\")&IF((BH102)=3,$BM$3,\"\")&IF((BH102)=4,$BM$4,\"\")&IF((BH102)=5,$BM$5,\"\")&IF((BH102)=6,$BM$6,\"\")&IF((BH102)=7,$BM$7,\"\")&IF((BH102)=8,$BM$8,\"\")&IF((BH102)=9,$BM$9,\"\")&IF((BH102)=10,$BM$10,\"\")&IF((BH102)=11,$BM$11,\"\")&IF((BH102)=12,$BM$12,\"\")&IF((BH102)=13,$BM$13,\"\")&IF((BH102)=14,$BM$14,\"\")&IF((BH102)=15,$BM$15,\"\")&IF((BH102)=16,$BM$16,\"\")&IF((BH102)=17,$BM$17,\"\")&IF((BH102)=18,$BM$18,\"\")&IF((BH102)=19,$BM$19,\"\")&IF((BH102)=20,$BM$20,\"\")&IF((BH102)=21,$BM$21,\"\")&IF((BH102)=22,$BM$22,\"\")&IF((BH102)=23,$BM$23,\"\")&IF((BH102)=24,$BM$24,\"\")&IF((BH102)=25,$BM$25,\"\")&IF((BH102)=26,$BM$26,\"\")&IF((BH102)=27,$BM$27,\"\")&IF((BH102)=28,$BM$28,\"\")&IF((BH102)=29,$BM$29,\"\")&IF((BH102)=30,$BM$30,\"\")&IF((BH102)=31,$BM$31,\"\")&IF((BH102)=32,$BM$32,\"\")&IF((BH102)=33,$BM$33,\"\")&IF((BH102)=34,$BM$34,\"\")&IF((BH102)=35,$BM$35,\"\")&IF((BH102)=36,$BM$36,\"\")&IF((BH102)=37,$BM$37,\"\")&IF((BH102)=38,$BM$38,\"\")&IF((BH102)=39,$BM$39,\"\")&IF((BH102)=40,$BM$40,\"\")&IF((BH102)=41,$BM$41,\"\")&IF((BH102)=42,$BM$42,\"\")&IF((BH102)=43,$BM$43,\"\")&IF((BH102)=44,$BM$44,\"\")&IF((BH102)=45,$BM$45,\"\")&IF((BH102)=46,$BM$46,\"\")&IF((BH102)=47,$BM$47,\"\")&IF((BH102)=48,$BM$48,\"\")&IF((BH102)=49,$BM$49,\"\")&IF((BH102)=50,$BM$50,\"\")&IF((BH102)=51,$BM$51,\"\")&IF((BH102)=52,$BM$52,\"\")&IF((BH102)=53,$BM$53,\"\")&IF((BH102)=54,$BM$54,\"\")&IF((BH102)=55,$BM$55,\"\")&IF((BH102)=56,$BM$56,\"\")&IF((BH102)=57,$BM$57,\"\")&IF((BH102)=58,$BM$58,\"\")&IF((BH102)=59,$BM$59,\"\")&IF((BH102)=60,$BM$60,\"\")&IF((BH102)=61,$BM$61,\"\")&IF((BH102)=62,$BM$62,\"\")&IF((BH102)=63,$BM$63,\"\")&IF((BH102)=64,$BM$64,\"\")&IF((BH102)=65,$BM$65,\"\")&IF((BH102)=66,$BM$66,\"\")&IF((BH102)=67,$BM$67,\"\")&IF((BH102)=68,$BM$68,\"\")&IF((BH102)=69,$BM$69,\"\")&IF((BH102)=70,$BM$70,\"\")&IF((BH102)=71,$BM$71,\"\")&IF((BH102)=72,$BM$72,\"\")&IF((BH102)=73,$BM$73,\"\")&IF((BH102)=74,$BM$74,\"\")&IF((BH102)=75,$BM$75,\"\")&IF((BH102)=76,$BM$76,\"\")&IF((BH102)=77,$BM$77,\"\")&IF((BH102)=78,$BM$78,\"\")&IF((BH102)=79,$BM$79,\"\")&IF((BH102)=80,$BM$80,\"\")&IF((BH102)=81,$BM$81,\"\")&IF((BH102)=82,$BM$82,\"\")&IF((BH102)=83,$BM$83,\"\")&IF((BH102)=84,$BM$84,\"\")&IF((BH102)=85,$BM$85,\"\")&IF((BH102)=86,$BM$86,\"\")&IF((BH102)=87,$BM$87,\"\")&IF((BH102)=88,$BM$88,\"\")&IF((BH102)=89,$BM$89,\"\")&IF((BH102)=90,$BM$90,\"\")&IF((BH102)=91,$BM$91,\"\")&IF((BH102)=92,$BM$92,\"\")&IF((BH102)=93,$BM$93,\"\")&IF((BH102)=94,$BM$94,\"\")&IF((BH102)=95,$BM$95,\"\")&IF((BH102)=96,$BM$96,\"\")&IF((BH102)=97,$BM$97,\"\")&IF((BH102)=98,$BM$98,\"\")&IF((BH102)=99,$BM$99,\"\")&IF((BH102)=100,$BM$100,\"\")&IF((BH102)=101,$BM$101,\"\")&IF((BH102)=102,$BM$102,\"\")&IF((BH102)=103,$BM$103,\"\")&IF((BH102)=104,$BM$104,\"\")&IF((BH102)=105,$BM$105,\"\")&IF((BH102)=106,$BM$106,\"\")&IF((BH102)=107,$BM$107,\"\")&IF((BH102)=108,$BM$108,\"\")&IF((BH102)=109,$BM$109,\"\")&IF((BH102)=110,$BM$110,\"\")&IF((BH102)=111,$BM$111,\"\")&IF((BH102)=112,$BM$112,\"\")&IF((BH102)=113,$BM$113,\"\")&IF((BH102)=114,$BM$114,\"\")&IF((BH102)=115,$BM$115,\"\")&IF((BH102)=116,$BM$116,\"\")&IF((BH102)=117,$BM$117,\"\")&IF((BH102)=118,$BM$118,\"\")&IF((BH102)=119,$BM$119,\"\")&IF((BH102)=120,$BM$120,\"\")&IF((BH102)=121,$BM$121,\"\")&IF((BH102)=122,$BM$122,\"\")&IF((BH102)=123,$BM$123,\"\")&IF((BH102)=124,$BM$124,\"\")&IF((BH102)=125,$BM$125,\"\")&IF((BH102)=126,$BM$126,\"\")&IF((BH102)=127,$BM$127,\"\")&IF((BH102)=128,$BM$128,\"\")","v":""},null,{"$f":"IF((BH102)=1,$BN$1,\"\")&IF((BH102)=2,$BN$2,\"\")&IF((BH102)=3,$BN$3,\"\")&IF((BH102)=4,$BN$4,\"\")&IF((BH102)=5,$BN$5,\"\")&IF((BH102)=6,$BN$6,\"\")&IF((BH102)=7,$BN$7,\"\")&IF((BH102)=8,$BN$8,\"\")&IF((BH102)=9,$BN$9,\"\")&IF((BH102)=10,$BN$10,\"\")&IF((BH102)=11,$BN$11,\"\")&IF((BH102)=12,$BN$12,\"\")&IF((BH102)=13,$BN$13,\"\")&IF((BH102)=14,$BN$14,\"\")&IF((BH102)=15,$BN$15,\"\")&IF((BH102)=16,$BN$16,\"\")&IF((BH102)=17,$BN$17,\"\")&IF((BH102)=18,$BN$18,\"\")&IF((BH102)=19,$BN$19,\"\")&IF((BH102)=20,$BN$20,\"\")&IF((BH102)=21,$BN$21,\"\")&IF((BH102)=22,$BN$22,\"\")&IF((BH102)=23,$BN$23,\"\")&IF((BH102)=24,$BN$24,\"\")&IF((BH102)=25,$BN$25,\"\")&IF((BH102)=26,$BN$26,\"\")&IF((BH102)=27,$BN$27,\"\")&IF((BH102)=28,$BN$28,\"\")&IF((BH102)=29,$BN$29,\"\")&IF((BH102)=30,$BN$30,\"\")&IF((BH102)=31,$BN$31,\"\")&IF((BH102)=32,$BN$32,\"\")&IF((BH102)=33,$BN$33,\"\")&IF((BH102)=34,$BN$34,\"\")&IF((BH102)=35,$BN$35,\"\")&IF((BH102)=36,$BN$36,\"\")&IF((BH102)=37,$BN$37,\"\")&IF((BH102)=38,$BN$38,\"\")&IF((BH102)=39,$BN$39,\"\")&IF((BH102)=40,$BN$40,\"\")&IF((BH102)=41,$BN$41,\"\")&IF((BH102)=42,$BN$42,\"\")&IF((BH102)=43,$BN$43,\"\")&IF((BH102)=44,$BN$44,\"\")&IF((BH102)=45,$BN$45,\"\")&IF((BH102)=46,$BN$46,\"\")&IF((BH102)=47,$BN$47,\"\")&IF((BH102)=48,$BN$48,\"\")&IF((BH102)=49,$BN$49,\"\")&IF((BH102)=50,$BN$50,\"\")&IF((BH102)=51,$BN$51,\"\")&IF((BH102)=52,$BN$52,\"\")&IF((BH102)=53,$BN$53,\"\")&IF((BH102)=54,$BN$54,\"\")&IF((BH102)=55,$BN$55,\"\")&IF((BH102)=56,$BN$56,\"\")&IF((BH102)=57,$BN$57,\"\")&IF((BH102)=58,$BN$58,\"\")&IF((BH102)=59,$BN$59,\"\")&IF((BH102)=60,$BN$60,\"\")&IF((BH102)=61,$BN$61,\"\")&IF((BH102)=62,$BN$62,\"\")&IF((BH102)=63,$BN$63,\"\")&IF((BH102)=64,$BN$64,\"\")&IF((BH102)=65,$BN$65,\"\")&IF((BH102)=66,$BN$66,\"\")&IF((BH102)=67,$BN$67,\"\")&IF((BH102)=68,$BN$68,\"\")&IF((BH102)=69,$BN$69,\"\")&IF((BH102)=70,$BN$70,\"\")&IF((BH102)=71,$BN$71,\"\")&IF((BH102)=72,$BN$72,\"\")&IF((BH102)=73,$BN$73,\"\")&IF((BH102)=74,$BN$74,\"\")&IF((BH102)=75,$BN$75,\"\")&IF((BH102)=76,$BN$76,\"\")&IF((BH102)=77,$BN$77,\"\")&IF((BH102)=78,$BN$78,\"\")&IF((BH102)=79,$BN$79,\"\")&IF((BH102)=80,$BN$80,\"\")&IF((BH102)=81,$BN$81,\"\")&IF((BH102)=82,$BN$82,\"\")&IF((BH102)=83,$BN$83,\"\")&IF((BH102)=84,$BN$84,\"\")&IF((BH102)=85,$BN$85,\"\")&IF((BH102)=86,$BN$86,\"\")&IF((BH102)=87,$BN$87,\"\")&IF((BH102)=88,$BN$88,\"\")&IF((BH102)=89,$BN$89,\"\")&IF((BH102)=90,$BN$90,\"\")&IF((BH102)=91,$BN$91,\"\")&IF((BH102)=92,$BN$92,\"\")&IF((BH102)=93,$BN$93,\"\")&IF((BH102)=94,$BN$94,\"\")&IF((BH102)=95,$BN$95,\"\")&IF((BH102)=96,$BN$96,\"\")&IF((BH102)=97,$BN$97,\"\")&IF((BH102)=98,$BN$98,\"\")&IF((BH102)=99,$BN$99,\"\")&IF((BH102)=100,$BN$100,\"\")&IF((BH102)=101,$BN$101,\"\")&IF((BH102)=102,$BN$102,\"\")&IF((BH102)=103,$BN$103,\"\")&IF((BH102)=104,$BN$104,\"\")&IF((BH102)=105,$BN$105,\"\")&IF((BH102)=106,$BN$106,\"\")&IF((BH102)=107,$BN$107,\"\")&IF((BH102)=108,$BN$108,\"\")&IF((BH102)=109,$BN$109,\"\")&IF((BH102)=110,$BN$110,\"\")&IF((BH102)=111,$BN$111,\"\")&IF((BH102)=112,$BN$112,\"\")&IF((BH102)=113,$BN$113,\"\")&IF((BH102)=114,$BN$114,\"\")&IF((BH102)=115,$BN$115,\"\")&IF((BH102)=116,$BN$116,\"\")&IF((BH102)=117,$BN$117,\"\")&IF((BH102)=118,$BN$118,\"\")&IF((BH102)=119,$BN$119,\"\")&IF((BH102)=120,$BN$120,\"\")&IF((BH102)=121,$BN$121,\"\")&IF((BH102)=122,$BN$122,\"\")&IF((BH102)=123,$BN$123,\"\")&IF((BH102)=124,$BN$124,\"\")&IF((BH102)=125,$BN$125,\"\")&IF((BH102)=126,$BN$126,\"\")&IF((BH102)=127,$BN$127,\"\")&IF((BH102)=128,$BN$128,\"\")","v":""},null,null,null,null,{"$f":"resultat!AL7","v":7},{"$f":"resultat!AM7","v":"Pierre"},null,null,"Terrain  ",{"$f":"B6","v":1},{"$f":"D6","v":""},{"$f":"F6","v":""},{"$f":"H6","v":""},{"$f":"J6","v":""},{"$f":"K6","v":0},{"$f":"L6","v":0}]
["Terrain",3,null,"",null,"",null,"",null,"",null,null,null,"",null,"",null,"",null,"",null,null,null,"",null,"",null,"",null,"",null,null,null,"",null,"",null,"",null,"",null,null,null,"",null,"",null,"",null,"",null,null,null,"",null,"",null,"",null,"",null,null,null,null,{"$f":"resultat!AL8","v":8},{"$f":"resultat!AM8","v":"Marcel"},null,null,"Terrain  ",2,"","","",{"$f":"J7","v":""},{"$f":"K7","v":0},{"$f":"L7","v":0}]
["Terrain",4,null,"",null,"",null,"",null,"",null,null,null,"",null,"",null,"",null,"",null,null,null,"",null,"",null,"",null,"",null,null,null,"",null,"",null,"",null,"",null,null,null,"",null,"",null,"",null,"",null,null,null,"",null,"",null,"",null,"",null,null,null,null,{"$f":"resultat!AL9","v":9},{"$f":"resultat!AM9","v":"Sébastien"},null,null,"Terrain  ",3,"","","","",0,0]
["Terrain",5,null,"",null,"",null,"",null,"",null,null,null,"",null,"",null,"",null,"",null,null,null,"",null,"",null,"",null,"",null,null,null,"",null,"",null,"",null,"",null,null,null,"",null,"",null,"",null,"",null,null,null,"",null,"",null,"",null,"",null,null,null,null,{"$f":"resultat!AL10","v":10},{"$f":"resultat!AM10","v":"Florian"},null,null,"Terrain  ",4,"","","","",0,0]
["Terrain",6,null,"",null,"",null,"",null,"",null,null,null,"",null,"",null,"",null,"",null,null,null,"",null,"",null,"",null,"",null,null,null,"",null,"",null,"",null,"",null,null,null,"",null,"",null,"",null,"",null,null,null,"",null,"",null,"",null,"",null,null,null,null,{"$f":"resultat!AL11","v":11},{"$f":"resultat!AM11","v":"Eric / Yvonnick"},null,null,"Terrain  ",5,"","","","",0,0]
["Terrain",7,null,"",null,"",null,"",null,"",null,null,null,"",null,"",null,"",null,"",null,null,null,"",null,"",null,"",null,"",null,null,null,"",null,"",null,"",null,"",null,null,null,"",null,"",null,"",null,"",null,null,null,"",null,"",null,"",null,"",null,null,null,null,{"$f":"resultat!AL12","v":12},{"$f":"resultat!AM12","v":"Alain / Joël"},null,null,"Terrain  ",6,"","","","",0,0]
["Terrain",8,null,"",null,"",null,"",null,"",null,null,null,"",null,"",null,"",null,"",null,null,null,"",null,"",null,"",null,"",null,null,null,"",null,"",null,"",null,"",null,null,null,"",null,"",null,"",null,"",null,null,null,"",null,"",null,"",null,"",null,null,null,null,{"$f":"resultat!AL13","v":13},{"$f":"resultat!AM13","v":"L'archi / Jean-Pierre"},null,null,"Terrain  ",7,"","","","",0,0]
["Terrain",9,null,"",null,"",null,"",null,"",null,null,null,"",null,"",null,"",null,"",null,null,null,"",null,"",null,"",null,"",null,null,null,"",null,"",null,"",null,"",null,null,null,"",null,"",null,"",null,"",null,null,null,"",null,"",null,"",null,"",null,null,null,null,{"$f":"resultat!AL14","v":14},{"$f":"resultat!AM14","v":"Alain / Christophe"},null,null,"Terrain  ",8,"","","","",0,0]
["Terrain",10,null,"",null,"",null,"",null,"",null,null,null,"",null,"",null,"",null,"",null,null,null,"",null,"",null,"",null,"",null,null,null,"",null,"",null,"",null,"",null,null,null,"",null,"",null,"",null,"",null,null,null,"",null,"",null,"",null,"",null,null,null,null,{"$f":"resultat!AL15","v":15},{"$f":"resultat!AM15","v":"Ben / Jimmy"},null,null,"Terrain  ",9,"","","","",0,0]
["Terrain",11,null,"",null,"",null,"",null,"",null,null,null,"",null,"",null,"",null,"",null,null,null,"",null,"",null,"",null,"",null,null,null,"",null,"",null,"",null,"",null,null,null,"",null,"",null,"",null,"",null,null,null,"",null,"",null,"",null,"",null,null,null,null,{"$f":"resultat!AL16","v":16},{"$f":"resultat!AM16","v":"Le Suisse / Yoyo"},null,null,"Terrain  ",10,"","","","",0,0]
["Terrain",12,null,"",null,"",null,"",null,"",null,null,null,"",null,"",null,"",null,"",null,null,null,"",null,"",null,"",null,"",null,null,null,"",null,"",null,"",null,"",null,null,null,"",null,"",null,"",null,"",null,null,null,"",null,"",null,"",null,"",null,null,null,null,{"$f":"resultat!AL17","v":17},{"$f":"resultat!AM17","v":"Laurent / Mickaël"},null,null,"Terrain  ",11,"","","","",0,0]
["Terrain",13,null,"",null,"",null,"",null,"",null,null,null,"",null,"",null,"",null,"",null,null,null,"",null,"",null,"",null,"",null,null,null,"",null,"",null,"",null,"",null,null,null,"",null,"",null,"",null,"",null,null,null,"",null,"",null,"",null,"",null,null,null,null,{"$f":"resultat!AL18","v":18},{"$f":"resultat!AM18","v":"Charles/ Nénesse"},null,null,"Terrain  ",12,"","","","",0,0]
["Terrain",14,null,"",null,"",null,"",null,"",null,null,null,"",null,"",null,"",null,"",null,null,null,"",null,"",null,"",null,"",null,null,null,"",null,"",null,"",null,"",null,null,null,"",null,"",null,"",null,"",null,null,null,"",null,"",null,"",null,"",null,null,null,null,{"$f":"resultat!AL19","v":19},{"$f":"resultat!AM19","v":"Sylvain / Julien"},null,null,"Terrain  ",13,"","","","",0,0]
["Terrain",15,null,"",null,"",null,"",null,"",null,null,null,"",null,"",null,"",null,"",null,null,null,"",null,"",null,"",null,"",null,null,null,"",null,"",null,"",null,"",null,null,null,"",null,"",null,"",null,"",null,null,null,"",null,"",null,"",null,"",null,null,null,null,{"$f":"resultat!AL20","v":20},{"$f":"resultat!AM20","v":"Fanfan / Jonathan"},null,null,"Terrain  ",14,"","","","",0,0]
["Terrain",16,null,"",null,"",null,"",null,"",null,null,null,"",null,"",null,"",null,"",null,null,null,"",null,"",null,"",null,"",null,null,null,"",null,"",null,"",null,"",null,null,null,"",null,"",null,"",null,"",null,null,null,"",null,"",null,"",null,"",null,null,null,null,{"$f":"resultat!AL21","v":21},{"$f":"resultat!AM21","v":"Gégé / Eric"},null,null,"Terrain  ",15,"","","","",0,0]
["Terrain",17,null,"",null,"",null,"",null,"",null,null,null,"",null,"",null,"",null,"",null,null,null,"",null,"",null,"",null,"",null,null,null,"",null,"",null,"",null,"",null,null,null,"",null,"",null,"",null,"",null,null,null,"",null,"",null,"",null,"",null,null,null,null,{"$f":"resultat!AL22","v":22},{"$f":"resultat!AM22","v":"Landry / Martial"},null,null,"Terrain  ",16,"","","","",0,0]
["Terrain",18,null,"",null,"",null,"",null,"",null,null,null,"",null,"",null,"",null,"",null,null,null,"",null,"",null,"",null,"",null,null,null,"",null,"",null,"",null,"",null,null,null,"",null,"",null,"",null,"",null,null,null,"",null,"",null,"",null,"",null,null,null,null,{"$f":"resultat!AL23","v":23},{"$f":"resultat!AM23","v":"Mickaël / Freddy"},null,null,"Terrain  ",17,"","","","",0,0]
["Terrain",19,null,"",null,"",null,"",null,"",null,null,null,"",null,"",null,"",null,"",null,null,null,"",null,"",null,"",null,"",null,null,null,"",null,"",null,"",null,"",null,null,null,"",null,"",null,"",null,"",null,null,null,"",null,"",null,"",null,"",null,null,null,null,{"$f":"resultat!AL24","v":24},{"$f":"resultat!AM24","v":"Jacques / Michel"},null,null,"Terrain  ",18,"","","","",0,0]
["Terrain",20,null,"",null,"",null,"",null,"",null,null,null,"",null,"",null,"",null,"",null,null,null,"",null,"",null,"",null,"",null,null,null,"",null,"",null,"",null,"",null,null,null,"",null,"",null,"",null,"",null,null,null,"",null,"",null,"",null,"",null,null,null,null,{"$f":"resultat!AL25","v":25},{"$f":"resultat!AM25","v":"Aurélien / Didier"},null,null,"Terrain  ",19,"","","","",0,0]
["Terrain",21,null,"",null,"",null,"",null,"",null,null,null,"",null,"",null,"",null,"",null,null,null,"",null,"",null,"",null,"",null,null,null,"",null,"",null,"",null,"",null,null,null,"",null,"",null,"",null,"",null,null,null,"",null,"",null,"",null,"",null,null,null,null,{"$f":"resultat!AL26","v":26},{"$f":"resultat!AM26","v":"Thierry / Damien"},null,null,"Terrain  ",20,"","","","",0,0]
["Terrain",22,null,"",null,"",null,"",null,"",null,null,null,"",null,"",null,"",null,"",null,null,null,"",null,"",null,"",null,"",null,null,null,"",null,"",null,"",null,"",null,null,null,"",null,"",null,"",null,"",null,null,null,"",null,"",null,"",null,"",null,null,null,null,{"$f":"resultat!AL27","v":27},{"$f":"resultat!AM27","v":"Phillipe / Michel"},null,null,"Terrain  ",21,"","","","",0,0]
["Terrain",23,null,"",null,"",null,"",null,"",null,null,null,"",null,"",null,"",null,"",null,null,null,"",null,"",null,"",null,"",null,null,null,"",null,"",null,"",null,"",null,null,null,"",null,"",null,"",null,"",null,null,null,"",null,"",null,"",null,"",null,null,null,null,{"$f":"resultat!AL28","v":28},{"$f":"resultat!AM28","v":"René / Robert"},null,null,"Terrain  ",22,"","","","",0,0]
["Terrain",24,null,"",null,"",null,"",null,"",null,null,null,"",null,"",null,"",null,"",null,null,null,"",null,"",null,"",null,"",null,null,null,"",null,"",null,"",null,"",null,null,null,"",null,"",null,"",null,"",null,null,null,"",null,"",null,"",null,"",null,null,null,null,{"$f":"resultat!AL29","v":29},{"$f":"resultat!AM29","v":"Yoann / Christian"},null,null,"Terrain  ",23,"","","","",0,0]
["Terrain",25,null,"",null,"",null,"",null,"",null,null,null,"",null,"",null,"",null,"",null,null,null,"",null,"",null,"",null,"",null,null,null,"",null,"",null,"",null,"",null,null,null,"",null,"",null,"",null,"",null,null,null,"",null,"",null,"",null,"",null,null,null,null,{"$f":"resultat!AL30","v":30},{"$f":"resultat!AM30","v":"Patrick / Roger"},null,null,"Terrain  ",24,"","","","",0,0]
["Terrain",26,null,"",null,"",null,"",null,"",null,null,null,"",null,"",null,"",null,"",null,null,null,"",null,"",null,"",null,"",null,null,null,"",null,"",null,"",null,"",null,null,null,"",null,"",null,"",null,"",null,null,null,"",null,"",null,"",null,"",null,null,null,null,{"$f":"resultat!AL31","v":31},{"$f":"resultat!AM31","v":"Gérard / Edouard"},null,null,"Terrain  ",25,"","","","",0,0]
["Terrain",27,null,"",null,"",null,"",null,"",null,null,null,"",null,"",null,"",null,"",null,null,null,"",null,"",null,"",null,"",null,null,null,"",null,"",null,"",null,"",null,null,null,"",null,"",null,"",null,"",null,null,null,"",null,"",null,"",null,"",null,null,null,null,{"$f":"resultat!AL32","v":32},{"$f":"resultat!AM32","v":"Adeline / Mathieu"},null,null,"Terrain  ",26,"","","","",0,0]
["Terrain",28,null,"",null,"",null,"",null,"",null,null,null,"",null,"",null,"",null,"",null,null,null,"",null,"",null,"",null,"",null,null,null,"",null,"",null,"",null,"",null,null,null,"",null,"",null,"",null,"",null,null,null,"",null,"",null,"",null,"",null,null,null,null,{"$f":"resultat!AL33","v":33},{"$f":"resultat!AM33","v":"Bruno/Philippe"},null,null,"Terrain  ",27,"","","","",0,0]
["Terrain",29,null,"",null,"",null,"",null,"",null,null,null,"",null,"",null,"",null,"",null,null,null,"",null,"",null,"",null,"",null,null,null,"",null,"",null,"",null,"",null,null,null,"",null,"",null,"",null,"",null,null,null,"",null,"",null,"",null,"",null,null,null,null,{"$f":"resultat!AL34","v":34},{"$f":"resultat!AM34","v":"Joe/Geo"},null,null,"Terrain  ",28,"","","","",0,0]
["Terrain",30,null,"",null,"",null,"",null,"",null,null,null,"",null,"",null,"",null,"",null,null,null,"",null,"",null,"",null,"",null,null,null,"",null,"",null,"",null,"",null,null,null,"",null,"",null,"",null,"",null,null,null,"",null,"",null,"",null,"",null,null,null,null,{"$f":"resultat!AL35","v":35},{"$f":"resultat!AM35","v":"Frères MARTIN"},null,null,"Terrain  ",29,"","","","",0,0]
["Terrain",31,null,"",null,"",null,"",null,"",null,null,null,"",null,"",null,"",null,"",null,null,null,"",null,"",null,"",null,"",null,null,null,"",null,"",null,"",null,"",null,null,null,"",null,"",null,"",null,"",null,null,null,"",null,"",null,"",null,"",null,null,null,null,{"$f":"resultat!AL36","v":36},{"$f":"resultat!AM36","v":"Alcide/ Henri"},null,null,"Terrain  ",30,"","","","",0,0]
["Terrain",32,null,"",null,"",null,"",null,"",null,null,null,"",null,"",null,"",null,"",null,null,null,"",null,"",null,"",null,"",null,null,null,"",null,"",null,"",null,"",null,null,null,"",null,"",null,"",null,"",null,null,null,"",null,"",null,"",null,"",null,null,null,null,{"$f":"resultat!AL37","v":37},{"$f":"resultat!AM37","v":"Clément/Charles"},null,null,"Terrain  ",31,"","","","",0,0]
["Terrain",33,null,"",null,"",null,"",null,"",null,null,null,"",null,"",null,"",null,"",null,null,null,"",null,"",null,"",null,"",null,null,null,"",null,"",null,"",null,"",null,null,null,"",null,"",null,"",null,"",null,null,null,"",null,"",null,"",null,"",null,null,null,null,{"$f":"resultat!AL38","v":38},{"$f":"resultat!AM38","v":"Romain/Florian"},null,null,"Terrain  ",32,"","","","",0,0]
["Terrain",34,null,"",null,"",null,"",null,"",null,null,null,"",null,"",null,"",null,"",null,null,null,"",null,"",null,"",null,"",null,null,null,"",null,"",null,"",null,"",null,null,null,"",null,"",null,"",null,"",null,null,null,"",null,"",null,"",null,"",null,null,null,null,{"$f":"resultat!AL39","v":39},{"$f":"resultat!AM39","v":"Philippe/Nico"},null,null,"Terrain  ",{"$f":"B38","v":33},{"$f":"D38","v":""},{"$f":"F38","v":""},{"$f":"H38","v":""},"",0,0]
["Terrain",35,null,"",null,"",null,"",null,"",null,null,null,"",null,"",null,"",null,"",null,null,null,"",null,"",null,"",null,"",null,null,null,"",null,"",null,"",null,"",null,null,null,"",null,"",null,"",null,"",null,null,null,"",null,"",null,"",null,"",null,null,null,null,{"$f":"resultat!AL40","v":40},{"$f":"resultat!AM40","v":"Vincent/François"},null,null,"Terrain  ",34,"","","",{"$f":"J39","v":""},0,0]
["Terrain",36,null,"",null,"",null,"",null,"",null,null,null,"",null,"",null,"",null,"",null,null,null,"",null,"",null,"",null,"",null,null,null,"",null,"",null,"",null,"",null,null,null,"",null,"",null,"",null,"",null,null,null,"",null,"",null,"",null,"",null,null,null,null,{"$f":"resultat!AL41","v":41},{"$f":"resultat!AM41","v":"Jean/Etienne"},null,null,"Terrain  ",35,"","","","",0,0]
["Terrain",37,null,"",null,"",null,"",null,"",null,null,null,"",null,"",null,"",null,"",null,null,null,"",null,"",null,"",null,"",null,null,null,"",null,"",null,"",null,"",null,null,null,"",null,"",null,"",null,"",null,null,null,"",null,"",null,"",null,"",null,null,null,null,{"$f":"resultat!AL42","v":42},{"$f":"resultat!AM42","v":"Freddy/Benoit"},null,null,"Terrain  ",36,"","","","",0,0]
["Terrain",38,null,"",null,"",null,"",null,"",null,null,null,"",null,"",null,"",null,"",null,null,null,"",null,"",null,"",null,"",null,null,null,"",null,"",null,"",null,"",null,null,null,"",null,"",null,"",null,"",null,null,null,"",null,"",null,"",null,"",null,null,null,null,{"$f":"resultat!AL43","v":43},{"$f":"resultat!AM43","v":"Frères ALLAIRE"},null,null,"Terrain  ",37,"","","","",0,0]
["Terrain",39,null,"",null,"",null,"",null,"",null,null,null,"",null,"",null,"",null,"",null,null,null,"",null,"",null,"",null,"",null,null,null,"",null,"",null,"",null,"",null,null,null,"",null,"",null,"",null,"",null,null,null,"",null,"",null,"",null,"",null,null,null,null,{"$f":"resultat!AL44","v":44},{"$f":"resultat!AM44","v":"Guy/Jean BARREAU"},null,null,"Terrain  ",38,"","","","",0,0]
["Terrain",40,null,"",null,"",null,"",null,"",null,null,null,"",null,"",null,"",null,"",null,null,null,"",null,"",null,"",null,"",null,null,null,"",null,"",null,"",null,"",null,null,null,"",null,"",null,"",null,"",null,null,null,"",null,"",null,"",null,"",null,null,null,null,{"$f":"resultat!AL45","v":45},{"$f":"resultat!AM45","v":"Carl/Edouard"},null,null,"Terrain  ",39,"","","","",0,0]
["Terrain",41,null,"",null,"",null,"",null,"",null,null,null,"",null,"",null,"",null,"",null,null,null,"",null,"",null,"",null,"",null,null,null,"",null,"",null,"",null,"",null,null,null,"",null,"",null,"",null,"",null,null,null,"",null,"",null,"",null,"",null,null,null,null,{"$f":"resultat!AL46","v":46},{"$f":"resultat!AM46","v":"Serge/Philippe"},null,null,"Terrain  ",40,"","","","",0,0]
["Terrain",42,null,"",null,"",null,"",null,"",null,null,null,"",null,"",null,"",null,"",null,null,null,"",null,"",null,"",null,"",null,null,null,"",null,"",null,"",null,"",null,null,null,"",null,"",null,"",null,"",null,null,null,"",null,"",null,"",null,"",null,null,null,null,{"$f":"resultat!AL47","v":47},{"$f":"resultat!AM47","v":"Boubou"},null,null,"Terrain  ",41,"","","","",0,0]
["Terrain",43,null,"",null,"",null,"",null,"",null,null,null,"",null,"",null,"",null,"",null,null,null,"",null,"",null,"",null,"",null,null,null,"",null,"",null,"",null,"",null,null,null,"",null,"",null,"",null,"",null,null,null,"",null,"",null,"",null,"",null,null,null,null,{"$f":"resultat!AL48","v":48},{"$f":"resultat!AM48","v":"Luc"},null,null,"Terrain  ",42,"","","","",0,0]
["Terrain",44,null,"",null,"",null,"",null,"",null,null,null,"",null,"",null,"",null,"",null,null,null,"",null,"",null,"",null,"",null,null,null,"",null,"",null,"",null,"",null,null,null,"",null,"",null,"",null,"",null,null,null,"",null,"",null,"",null,"",null,null,null,null,{"$f":"resultat!AL49","v":49},{"$f":"resultat!AM49","v":"Jacky/Olivier"},null,null,"Terrain  ",43,"","","","",0,0]
["Terrain",45,null,"",null,"",null,"",null,"",null,null,null,"",null,"",null,"",null,"",null,null,null,"",null,"",null,"",null,"",null,null,null,"",null,"",null,"",null,"",null,null,null,"",null,"",null,"",null,"",null,null,null,"",null,"",null,"",null,"",null,null,null,null,{"$f":"resultat!AL50","v":50},{"$f":"resultat!AM50","v":"Adeline / Mathieu"},null,null,"Terrain  ",44,"","","","",0,0]
["Terrain",46,null,"",null,"",null,"",null,"",null,null,null,"",null,"",null,"",null,"",null,null,null,"",null,"",null,"",null,"",null,null,null,"",null,"",null,"",null,"",null,null,null,"",null,"",null,"",null,"",null,null,null,"",null,"",null,"",null,"",null,null,null,null,{"$f":"resultat!AL51","v":51},{"$f":"resultat!AM51","v":"Mickaël / Freddy"},null,null,"Terrain  ",45,"","","","",0,0]
["Terrain",47,null,"",null,"",null,"",null,"",null,null,null,"",null,"",null,"",null,"",null,null,null,"",null,"",null,"",null,"",null,null,null,"",null,"",null,"",null,"",null,null,null,"",null,"",null,"",null,"",null,null,null,"",null,"",null,"",null,"",null,null,null,null,{"$f":"resultat!AL52","v":52},{"$f":"resultat!AM52","v":"Jacques / Michel"},null,null,"Terrain  ",46,"","","","",0,0]
["Terrain",48,null,"",null,"",null,"",null,"",null,null,null,"",null,"",null,"",null,"",null,null,null,"",null,"",null,"",null,"",null,null,null,"",null,"",null,"",null,"",null,null,null,"",null,"",null,"",null,"",null,null,null,"",null,"",null,"",null,"",null,null,null,null,{"$f":"resultat!AL53","v":53},{"$f":"resultat!AM53","v":"Aurélien / Didier"},null,null,"Terrain  ",47,"","","","",0,0]
["Terrain",49,null,"",null,"",null,"",null,"",null,null,null,"",null,"",null,"",null,"",null,null,null,"",null,"",null,"",null,"",null,null,null,"",null,"",null,"",null,"",null,null,null,"",null,"",null,"",null,"",null,null,null,"",null,"",null,"",null,"",null,null,null,null,{"$f":"resultat!AL54","v":54},{"$f":"resultat!AM54","v":"Thierry / Damien"},null,null,"Terrain  ",48,"","","","",0,0]
["Terrain",50,null,"",null,"",null,"",null,"",null,null,null,"",null,"",null,"",null,"",null,null,null,"",null,"",null,"",null,"",null,null,null,"",null,"",null,"",null,"",null,null,null,"",null,"",null,"",null,"",null,null,null,"",null,"",null,"",null,"",null,null,null,null,{"$f":"resultat!AL55","v":55},{"$f":"resultat!AM55","v":"Phillipe / Michel"},null,null,"Terrain  ",49,"","","","",0,0]
["Terrain",51,null,"",null,"",null,"",null,"",null,null,null,"",null,"",null,"",null,"",null,null,null,"",null,"",null,"",null,"",null,null,null,"",null,"",null,"",null,"",null,null,null,"",null,"",null,"",null,"",null,null,null,"",null,"",null,"",null,"",null,null,null,null,{"$f":"resultat!AL56","v":56},{"$f":"resultat!AM56","v":"René / Robert"},null,null,"Terrain  ",50,"","","","",0,0]
["Terrain",52,null,"",null,"",null,"",null,"",null,null,null,"",null,"",null,"",null,"",null,null,null,"",null,"",null,"",null,"",null,null,null,"",null,"",null,"",null,"",null,null,null,"",null,"",null,"",null,"",null,null,null,"",null,"",null,"",null,"",null,null,null,null,{"$f":"resultat!AL57","v":57},{"$f":"resultat!AM57","v":"Julot"},null,null,"Terrain  ",51,"","","","",0,0]
["Terrain",53,null,"",null,"",null,"",null,"",null,null,null,"",null,"",null,"",null,"",null,null,null,"",null,"",null,"",null,"",null,null,null,"",null,"",null,"",null,"",null,null,null,"",null,"",null,"",null,"",null,null,null,"",null,"",null,"",null,"",null,null,null,null,{"$f":"resultat!AL58","v":58},{"$f":"resultat!AM58","v":"Francis"},null,null,"Terrain  ",52,"","","","",0,0]
["Terrain",54,null,"",null,"",null,"",null,"",null,null,null,"",null,"",null,"",null,"",null,null,null,"",null,"",null,"",null,"",null,null,null,"",null,"",null,"",null,"",null,null,null,"",null,"",null,"",null,"",null,null,null,"",null,"",null,"",null,"",null,null,null,null,{"$f":"resultat!AL59","v":59},{"$f":"resultat!AM59","v":"marco"},null,null,"Terrain  ",53,"","","","",0,0]
["Terrain",55,null,"",null,"",null,"",null,"",null,null,null,"",null,"",null,"",null,"",null,null,null,"",null,"",null,"",null,"",null,null,null,"",null,"",null,"",null,"",null,null,null,"",null,"",null,"",null,"",null,null,null,"",null,"",null,"",null,"",null,null,null,null,{"$f":"resultat!AL60","v":60},{"$f":"resultat!AM60","v":"Denise"},null,null,"Terrain  ",54,"","","","",0,0]
["Terrain",56,null,"",null,"",null,"",null,"",null,null,null,"",null,"",null,"",null,"",null,null,null,"",null,"",null,"",null,"",null,null,null,"",null,"",null,"",null,"",null,null,null,"",null,"",null,"",null,"",null,null,null,"",null,"",null,"",null,"",null,null,null,null,{"$f":"resultat!AL61","v":61},{"$f":"resultat!AM61","v":"yvon"},null,null,"Terrain  ",55,"","","","",0,0]
["Terrain",57,null,"",null,"",null,"",null,"",null,null,null,"",null,"",null,"",null,"",null,null,null,"",null,"",null,"",null,"",null,null,null,"",null,"",null,"",null,"",null,null,null,"",null,"",null,"",null,"",null,null,null,"",null,"",null,"",null,"",null,null,null,null,{"$f":"resultat!AL62","v":62},{"$f":"resultat!AM62","v":"jacques"},null,null,"Terrain  ",56,"","","","",0,0]
["Terrain",58,null,"",null,"",null,"",null,"",null,null,null,"",null,"",null,"",null,"",null,null,null,"",null,"",null,"",null,"",null,null,null,"",null,"",null,"",null,"",null,null,null,"",null,"",null,"",null,"",null,null,null,"",null,"",null,"",null,"",null,null,null,null,{"$f":"resultat!AL63","v":63},{"$f":"resultat!AM63","v":"Pierre"},null,null,"Terrain  ",57,"","","","",0,0]
["Terrain",59,null,"",null,"",null,"",null,"",null,null,null,"",null,"",null,"",null,"",null,null,null,"",null,"",null,"",null,"",null,null,null,"",null,"",null,"",null,"",null,null,null,"",null,"",null,"",null,"",null,null,null,"",null,"",null,"",null,"",null,null,null,null,{"$f":"resultat!AL64","v":64},{"$f":"resultat!AM64","v":"Marcel"},null,null,"Terrain  ",58,"","","","",0,0]
["Terrain",60,null,"",null,"",null,"",null,"",null,null,null,"",null,"",null,"",null,"",null,null,null,"",null,"",null,"",null,"",null,null,null,"",null,"",null,"",null,"",null,null,null,"",null,"",null,"",null,"",null,null,null,"",null,"",null,"",null,"",null,null,null,null,{"$f":"resultat!AL65","v":65},{"$f":"resultat!AM65","v":"Sébastien"},null,null,"Terrain  ",59,"","","","",0,0]
["Terrain",61,null,"",null,"",null,"",null,"",null,null,null,"",null,"",null,"",null,"",null,null,null,"",null,"",null,"",null,"",null,null,null,"",null,"",null,"",null,"",null,null,null,"",null,"",null,"",null,"",null,null,null,"",null,"",null,"",null,"",null,null,null,null,{"$f":"resultat!AL66","v":66},{"$f":"resultat!AM66","v":"Florian"},null,null,"Terrain  ",60,"","","","",0,0]
["Terrain",62,null,"",null,"",null,"",null,"",null,null,null,"",null,"",null,"",null,"",null,null,null,"",null,"",null,"",null,"",null,null,null,"",null,"",null,"",null,"",null,null,null,"",null,"",null,"",null,"",null,null,null,"",null,"",null,"",null,"",null,null,null,null,{"$f":"resultat!AL67","v":67},{"$f":"resultat!AM67","v":"Eric / Yvonnick"},null,null,"Terrain  ",61,"","","","",0,0]
["Terrain",63,null,"",null,"",null,"",null,"",null,null,null,"",null,"",null,"",null,"",null,null,null,"",null,"",null,"",null,"",null,null,null,"",null,"",null,"",null,"",null,null,null,"",null,"",null,"",null,"",null,null,null,"",null,"",null,"",null,"",null,null,null,null,{"$f":"resultat!AL68","v":68},{"$f":"resultat!AM68","v":"Alain / Joël"},null,null,"Terrain  ",62,"","","","",0,0]
["Terrain",64,null,"",null,"",null,"",null,"",null,null,null,"",null,"",null,"",null,"",null,null,null,"",null,"",null,"",null,"",null,null,null,"",null,"",null,"",null,"",null,null,null,"",null,"",null,"",null,"",null,null,null,"",null,"",null,"",null,"",null,null,null,null,{"$f":"resultat!AL69","v":69},{"$f":"resultat!AM69","v":"L'archi / Jean-Pierre"},null,null,"Terrain  ",63,"","","","",0,0]
[null,null,null,null,null,null,null,null,null,null,null,null,null,null,null,null,null,null,null,null,"Copie résultat 1",null,null,null,null,null,null,null,null,null,null,null,null,null,null,null,null,null,null,null,"Copie résultat 1",null,null,null,null,null,null,null,null,null,null,null,null,null,null,null,null,null,null,null,null,null,null,null,{"$f":"resultat!AL70","v":70},{"$f":"resultat!AM70","v":"Alain / Christophe"},null,null,"Terrain  ",64,"","","","",0,0]
[null,null,null,null,null,{"$f":"IF((F166)=1,$BN$1,\"\")&IF((F166)=2,$BN$2,\"\")&IF((F166)=3,$BN$3,\"\")&IF((F166)=4,$BN$4,\"\")&IF((F166)=5,$BN$5,\"\")&IF((F166)=6,$BN$6,\"\")&IF((F166)=7,$BN$7,\"\")&IF((F166)=8,$BN$8,\"\")&IF((F166)=9,$BN$9,\"\")&IF((F166)=10,$BN$10,\"\")&IF((F166)=11,$BN$11,\"\")&IF((F166)=12,$BN$12,\"\")&IF((F166)=13,$BN$13,\"\")&IF((F166)=14,$BN$14,\"\")&IF((F166)=15,$BN$15,\"\")&IF((F166)=16,$BN$16,\"\")&IF((F166)=17,$BN$17,\"\")&IF((F166)=18,$BN$18,\"\")&IF((F166)=19,$BN$19,\"\")&IF((F166)=20,$BN$20,\"\")&IF((F166)=21,$BN$21,\"\")&IF((F166)=22,$BN$22,\"\")&IF((F166)=23,$BN$23,\"\")&IF((F166)=24,$BN$24,\"\")&IF((F166)=25,$BN$25,\"\")&IF((F166)=26,$BN$26,\"\")&IF((F166)=27,$BN$27,\"\")&IF((F166)=28,$BN$28,\"\")&IF((F166)=29,$BN$29,\"\")&IF((F166)=30,$BN$30,\"\")&IF((F166)=31,$BN$31,\"\")&IF((F166)=32,$BN$32,\"\")&IF((F166)=33,$BN$33,\"\")&IF((F166)=34,$BN$34,\"\")&IF((F166)=35,$BN$35,\"\")&IF((F166)=36,$BN$36,\"\")&IF((F166)=37,$BN$37,\"\")&IF((F166)=38,$BN$38,\"\")&IF((F166)=39,$BN$39,\"\")&IF((F166)=40,$BN$40,\"\")&IF((F166)=41,$BN$41,\"\")&IF((F166)=42,$BN$42,\"\")&IF((F166)=43,$BN$43,\"\")&IF((F166)=44,$BN$44,\"\")&IF((F166)=45,$BN$45,\"\")&IF((F166)=46,$BN$46,\"\")&IF((F166)=47,$BN$47,\"\")&IF((F166)=48,$BN$48,\"\")&IF((F166)=49,$BN$49,\"\")&IF((F166)=50,$BN$50,\"\")&IF((F166)=51,$BN$51,\"\")&IF((F166)=52,$BN$52,\"\")&IF((F166)=53,$BN$53,\"\")&IF((F166)=54,$BN$54,\"\")&IF((F166)=55,$BN$55,\"\")&IF((F166)=56,$BN$56,\"\")&IF((F166)=57,$BN$57,\"\")&IF((F166)=58,$BN$58,\"\")&IF((F166)=59,$BN$59,\"\")&IF((F166)=60,$BN$60,\"\")&IF((F166)=61,$BN$61,\"\")&IF((F166)=62,$BN$62,\"\")&IF((F166)=63,$BN$63,\"\")&IF((F166)=64,$BN$64,\"\")&IF((F166)=65,$BN$65,\"\")&IF((F166)=66,$BN$66,\"\")&IF((F166)=67,$BN$67,\"\")&IF((F166)=68,$BN$68,\"\")&IF((F166)=69,$BN$69,\"\")&IF((F166)=70,$BN$70,\"\")&IF((F166)=71,$BN$71,\"\")&IF((F166)=72,$BN$72,\"\")&IF((F166)=73,$BN$73,\"\")&IF((F166)=74,$BN$74,\"\")&IF((F166)=75,$BN$75,\"\")&IF((F166)=76,$BN$76,\"\")&IF((F166)=77,$BN$77,\"\")&IF((F166)=78,$BN$78,\"\")&IF((F166)=79,$BN$79,\"\")&IF((F166)=80,$BN$80,\"\")&IF((F166)=81,$BN$81,\"\")&IF((F166)=82,$BN$82,\"\")&IF((F166)=83,$BN$83,\"\")&IF((F166)=84,$BN$84,\"\")&IF((F166)=85,$BN$85,\"\")&IF((F166)=86,$BN$86,\"\")&IF((F166)=87,$BN$87,\"\")&IF((F166)=88,$BN$88,\"\")&IF((F166)=89,$BN$89,\"\")&IF((F166)=90,$BN$90,\"\")&IF((F166)=91,$BN$91,\"\")&IF((F166)=92,$BN$92,\"\")&IF((F166)=93,$BN$93,\"\")&IF((F166)=94,$BN$94,\"\")&IF((F166)=95,$BN$95,\"\")&IF((F166)=96,$BN$96,\"\")&IF((F166)=97,$BN$97,\"\")&IF((F166)=98,$BN$98,\"\")&IF((F166)=99,$BN$99,\"\")&IF((F166)=100,$BN$100,\"\")&IF((F166)=101,$BN$101,\"\")&IF((F166)=102,$BN$102,\"\")&IF((F166)=103,$BN$103,\"\")&IF((F166)=104,$BN$104,\"\")&IF((F166)=105,$BN$105,\"\")&IF((F166)=106,$BN$106,\"\")&IF((F166)=107,$BN$107,\"\")&IF((F166)=108,$BN$108,\"\")&IF((F166)=109,$BN$109,\"\")&IF((F166)=110,$BN$110,\"\")&IF((F166)=111,$BN$111,\"\")&IF((F166)=112,$BN$112,\"\")&IF((F166)=113,$BN$113,\"\")&IF((F166)=114,$BN$114,\"\")&IF((F166)=115,$BN$115,\"\")&IF((F166)=116,$BN$116,\"\")&IF((F166)=117,$BN$117,\"\")&IF((F166)=118,$BN$118,\"\")&IF((F166)=119,$BN$119,\"\")&IF((F166)=120,$BN$120,\"\")&IF((F166)=121,$BN$121,\"\")&IF((F166)=122,$BN$122,\"\")&IF((F166)=123,$BN$123,\"\")&IF((F166)=124,$BN$124,\"\")","v":""},null,null,null,null,null,null,null,null,null,null,null,null,null,null,null,null,null,null,null,null,null,null,null,null,null,null,null,null,null,null,null,null,null,null,null,null,null,null,null,null,null,null,null,null,null,null,null,null,null,null,null,null,null,null,null,null,null,null,{"$f":"resultat!AL71","v":71},{"$f":"resultat!AM71","v":"Ben / Jimmy"}]
[null,null,null,null,null,"",null,null,null,null,null,null,null,null,null,null,null,null,null,null,null,null,null,null,null,null,null,null,null,null,null,null,null,null,null,null,null,null,null,null,null,null,null,null,null,null,null,null,null,null,null,null,null,null,null,null,null,null,null,null,null,null,null,null,{"$f":"resultat!AL72","v":72},{"$f":"resultat!AM72","v":"Le Suisse / Yoyo"}]
[null,null,null,null,null,null,null,null,null,null,null,null,null,null,null,null,null,null,null,null,null,null,null,null,null,null,null,null,null,null,null,null,null,null,null,null,null,null,null,null,null,null,null,null,null,null,null,null,null,null,null,null,null,null,null,null,null,null,null,null,null,null,null,null,{"$f":"resultat!AL73","v":73},{"$f":"resultat!AM73","v":"Laurent / Mickaël"},null,null,null,null," 2 è tour",null,null,null,"Resultat"]
[null,null,null,null,null,null,null,null,null,null,null,null,null,null,null,null,null,null,null,null,null,null,null,null,null,null,null,null,null,null,null,null,null,null,null,null,null,null,null,null,null,null,null,null,null,null,null,null,null,null,null,null,null,null,null,null,null,null,null,null,null,null,null,null,{"$f":"resultat!AL74","v":74},{"$f":"resultat!AM74","v":"Charles/ Nénesse"},null,null,"Terrain  ",{"$f":"B6","v":1},{"$f":"N6","v":""},{"$f":"P6","v":""},{"$f":"R6","v":""},{"$f":"T6","v":""},{"$f":"U6","v":0},{"$f":"V6","v":0}]
[null,null,null,null,null,null,null,null,null,null,null,null,null,null,null,null,null,null,null,null,"Copie résultat 1",null,null,null,null,null,null,null,null,null,null,null,null,null,null,null,null,null,null,null,null,null,null,null,null,null,null,null,null,null,null,null,null,null,null,null,null,null,null,null,null,null,null,null,{"$f":"resultat!AL75","v":75},{"$f":"resultat!AM75","v":"Sylvain / Julien"},null,null,"Terrain  ",{"$f":"B7","v":2},{"$f":"N7","v":""},{"$f":"P7","v":""},{"$f":"R7","v":""},{"$f":"T7","v":""},0,0]
[null,null,null,null,null,null,null,null,null,null,null,null,null,null,null,null,null,null,null,null,null,null,null,null,null,null,null,null,null,null,null,null,null,null,null,null,null,null,null,null,null,null,null,null,null,null,null,null,null,null,null,null,null,null,null,null,null,null,null,null,null,null,null,null,{"$f":"resultat!AL76","v":76},{"$f":"resultat!AM76","v":"Fanfan / Jonathan"},null,null,"Terrain  ",3,"","","",{"$f":"T8","v":""},0,0]
[null,null,null,null,null,null,null,null,null,null,null,null,null,null,null,null,null,null,null,null,null,null,null,null,null,null,null,null,null,null,null,null,null,null,null,null,null,null,null,null,null,null,null,null,null,null,null,null,null,null,null,null,null,null,null,null,null,null,null,null,null,null,null,null,{"$f":"resultat!AL77","v":77},{"$f":"resultat!AM77","v":"Gégé / Eric"},null,null,"Terrain  ",4,"","","",{"$f":"T9","v":""},0,0]
[null,null,null,null,null,null,null,null,null,null,null,null,null,null,null,null,null,null,null,null,null,null,null,null,null,null,null,null,null,null,null,null,null,null,null,null,null,null,null,null,null,null,null,null,null,null,null,null,null,null,null,null,null,null,null,null,null,null,null,null,null,null,null,null,{"$f":"resultat!AL78","v":78},{"$f":"resultat!AM78","v":"Landry / Martial"},null,null,"Terrain  ",5,"","","",{"$f":"T10","v":""},0,0]
[null,null,null,null,null,null,null,null,null,null,null,null,null,null,null,null,null,null,null,null,null,null,null,null,null,null,null,null,null,null,null,null,null,null,null,null,null,null,null,null,null,null,null,null,null,null,null,null,null,null,null,null,null,null,null,null,null,null,null,null,null,null,null,null,{"$f":"resultat!AL79","v":79},{"$f":"resultat!AM79","v":"Mickaël / Freddy"},null,null,"Terrain  ",6,"","","",{"$f":"T11","v":""},0,0]
[null,null,null,null,null,null,null,null,null,null,null,null,null,null,null,null,null,null,null,null,null,null,null,null,null,null,null,null,null,null,null,null,null,null,null,null,null,null,null,null,null,null,null,null,null,null,null,null,null,null,null,null,null,null,null,null,null,null,null,null,null,null,null,null,{"$f":"resultat!AL80","v":80},{"$f":"resultat!AM80","v":"Jacques / Michel"},null,null,"Terrain  ",7,"","","",{"$f":"T12","v":""},0,0]
[null,null,null,null,null,null,null,null,null,null,null,null,null,null,null,null,null,null,null,null,null,null,null,null,null,null,null,null,null,null,null,null,null,null,null,null,null,null,null,null,null,null,null,null,null,null,null,null,null,null,null,null,null,null,null,null,null,null,null,null,null,null,null,null,{"$f":"resultat!AL81","v":81},{"$f":"resultat!AM81","v":"Aurélien / Didier"},null,null,"Terrain  ",8,"","","",{"$f":"T13","v":""},0,0]
[null,null,null,null,null,null,null,null,null,null,null,null,null,null,null,null,null,null,null,null,null,null,null,null,null,null,null,null,null,null,null,null,null,null,null,null,null,null,null,null,null,null,null,null,null,null,null,null,null,null,null,null,null,null,null,null,null,null,null,null,null,null,null,null,{"$f":"resultat!AL82","v":82},{"$f":"resultat!AM82","v":"Thierry / Damien"},null,null,"Terrain  ",9,"","","",{"$f":"T14","v":""},0,0]
[null,null,null,null,null,null,null,null,null,null,null,null,null,null,null,null,null,null,null,null,null,null,null,null,null,null,null,null,null,null,null,null,null,null,null,null,null,null,null,null,null,null,null,null,null,null,null,null,null,null,null,null,null,null,null,null,null,null,null,null,null,null,null,null,{"$f":"resultat!AL83","v":83},{"$f":"resultat!AM83","v":"Phillipe / Michel"},null,null,"Terrain  ",10,"","","",{"$f":"T15","v":""},0,0]
[null,null,null,null,null,null,null,null,null,null,null,null,null,null,null,null,null,null,null,null,null,null,null,null,null,null,null,null,null,null,null,null,null,null,null,null,null,null,null,null,null,null,null,null,null,null,null,null,null,null,null,null,null,null,null,null,null,null,null,null,null,null,null,null,{"$f":"resultat!AL84","v":84},{"$f":"resultat!AM84","v":"René / Robert"},null,null,"Terrain  ",11,"","","",{"$f":"T16","v":""},0,0]
[null,null,null,null,null,null,null,null,null,null,null,null,null,null,null,null,null,null,null,null,null,null,null,null,null,null,null,null,null,null,null,null,null,null,null,null,null,null,null,null,null,null,null,null,null,null,null,null,null,null,null,null,null,null,null,null,null,null,null,null,null,null,null,null,{"$f":"resultat!AL85","v":85},{"$f":"resultat!AM85","v":"Yoann / Christian"},null,null,"Terrain  ",12,"","","",{"$f":"T17","v":""},0,0]
[null,null,null,null,null,null,null,null,null,null,null,null,null,null,null,null,null,null,null,null,null,null,null,null,null,null,null,null,null,null,null,null,null,null,null,null,null,null,null,null,null,null,null,null,null,null,null,null,null,null,null,null,null,null,null,null,null,null,null,null,null,null,null,null,{"$f":"resultat!AL86","v":86},{"$f":"resultat!AM86","v":"Patrick / Roger"},null,null,"Terrain  ",13,"","","",{"$f":"T18","v":""},0,0]
[null,null,null,null,null,null,null,null,null,null,null,null,null,null,null,null,null,null,null,null,null,null,null,null,null,null,null,null,null,null,null,null,null,null,null,null,null,null,null,null,null,null,null,null,null,null,null,null,null,null,null,null,null,null,null,null,null,null,null,null,null,null,null,null,{"$f":"resultat!AL87","v":87},{"$f":"resultat!AM87","v":"Gérard / Edouard"},null,null,"Terrain  ",14,"","","",{"$f":"T19","v":""},0,0]
[null,null,null,null,null,null,null,null,null,null,null,null,null,null,null,null,null,null,null,null,null,null,null,null,null,null,null,null,null,null,null,null,null,null,null,null,null,null,null,null,null,null,null,null,null,null,null,null,null,null,null,null,null,null,null,null,null,null,null,null,null,null,null,null,{"$f":"resultat!AL88","v":88},{"$f":"resultat!AM88","v":"Adeline / Mathieu"},null,null,"Terrain  ",15,"","","",{"$f":"T20","v":""},0,0]
[null,null,null,null,null,null,null,null,null,null,null,null,null,null,null,null,null,null,null,null,null,null,null,null,null,null,null,null,null,null,null,null,null,null,null,null,null,null,null,null,null,null,null,null,null,null,null,null,null,null,null,null,null,null,null,null,null,null,null,null,null,null,null,null,{"$f":"resultat!AL89","v":89},{"$f":"resultat!AM89","v":"Bruno/Philippe"},null,null,"Terrain  ",16,"","","",{"$f":"T21","v":""},0,0]
[null,null,null,null,null,null,null,null,null,null,null,null,null,null,null,null,null,null,null,null,null,null,null,null,null,null,null,null,null,null,null,null,null,null,null,null,null,null,null,null,null,null,null,null,null,null,null,null,null,null,null,null,null,null,null,null,null,null,null,null,null,null,null,null,{"$f":"resultat!AL90","v":90},{"$f":"resultat!AM90","v":"Joe/Geo"},null,null,"Terrain  ",17,"","","",{"$f":"T22","v":""},0,0]
[null,null,null,null,null,null,null,null,null,null,null,null,null,null,null,null,null,null,null,null,null,null,null,null,null,null,null,null,null,null,null,null,null,null,null,null,null,null,null,null,null,null,null,null,null,null,null,null,null,null,null,null,null,null,null,null,null,null,null,null,null,null,null,null,{"$f":"resultat!AL91","v":91},{"$f":"resultat!AM91","v":"Frères MARTIN"},null,null,"Terrain  ",18,"","","",{"$f":"T23","v":""},0,0]
[null,null,null,null,null,null,null,null,null,null,null,null,null,null,null,null,null,null,null,null,null,null,null,null,null,null,null,null,null,null,null,null,null,null,null,null,null,null,null,null,null,null,null,null,null,null,null,null,null,null,null,null,null,null,null,null,null,null,null,null,null,null,null,null,{"$f":"resultat!AL92","v":92},{"$f":"resultat!AM92","v":"Alcide/ Henri"},null,null,"Terrain  ",19,"","","",{"$f":"T24","v":""},0,0]
[null,null,null,null,null,null,null,null,null,null,null,null,null,null,null,null,null,null,null,null,null,null,null,null,null,null,null,null,null,null,null,null,null,null,null,null,null,null,null,null,null,null,null,null,null,null,null,null,null,null,null,null,null,null,null,null,null,null,null,null,null,null,null,null,{"$f":"resultat!AL93","v":93},{"$f":"resultat!AM93","v":"Clément/Charles"},null,null,"Terrain  ",20,"","","",{"$f":"T25","v":""},0,0]
[null,null,null,null,null,null,null,null,null,null,null,null,null,null,null,null,null,null,null,null,null,null,null,null,null,null,null,null,null,null,null,null,null,null,null,null,null,null,null,null,null,null,null,null,null,null,null,null,null,null,null,null,null,null,null,null,null,null,null,null,null,null,null,null,{"$f":"resultat!AL94","v":94},{"$f":"resultat!AM94","v":"Romain/Florian"},null,null,"Terrain  ",21,"","","",{"$f":"T26","v":""},0,0]
[null,null,null,null,null,null,null,null,null,null,null,null,null,null,null,null,null,null,null,null,null,null,null,null,null,null,null,null,null,null,null,null,null,null,null,null,null,null,null,null,null,null,null,null,null,null,null,null,null,null,null,null,null,null,null,null,null,null,null,null,null,null,null,null,{"$f":"resultat!AL95","v":95},{"$f":"resultat!AM95","v":"Philippe/Nico"},null,null,"Terrain  ",22,"","","",{"$f":"T27","v":""},0,0]
[null,null,null,null,null,null,null,null,null,null,null,null,null,null,null,null,null,null,null,null,null,null,null,null,null,null,null,null,null,null,null,null,null,null,null,null,null,null,null,null,null,null,null,null,null,null,null,null,null,null,null,null,null,null,null,null,null,null,null,null,null,null,null,null,{"$f":"resultat!AL96","v":96},{"$f":"resultat!AM96","v":"Vincent/François"},null,null,"Terrain  ",23,"","","",{"$f":"T28","v":""},0,0]
[null,null,null,null,null,null,null,null,null,null,null,null,null,null,null,null,null,null,null,null,null,null,null,null,null,null,null,null,null,null,null,null,null,null,null,null,null,null,null,null,null,null,null,null,null,null,null,null,null,null,null,null,null,null,null,null,null,null,null,null,null,null,null,null,{"$f":"resultat!AL97","v":97},{"$f":"resultat!AM97","v":"Jean/Etienne"},null,null,"Terrain  ",24,"","","",{"$f":"T29","v":""},0,0]
[null,null,null,null,null,null,null,null,null,null,null,null,null,null,null,null,null,null,null,null,null,null,null,null,null,null,null,null,null,null,null,null,null,null,null,null,null,null,null,null,null,null,null,null,null,null,null,null,null,null,null,null,null,null,null,null,null,null,null,null,null,null,null,null,{"$f":"resultat!AL98","v":98},{"$f":"resultat!AM98","v":"Freddy/Benoit"},null,null,"Terrain  ",25,"","","",{"$f":"T30","v":""},0,0]
[null,null,null,null,null,null,null,null,null,null,null,null,null,null,null,null,null,null,null,null,null,null,null,null,null,null,null,null,null,null,null,null,null,null,null,null,null,null,null,null,null,null,null,null,null,null,null,null,null,null,null,null,null,null,null,null,null,null,null,null,null,null,null,null,{"$f":"resultat!AL99","v":99},{"$f":"resultat!AM99","v":"Frères ALLAIRE"},null,null,"Terrain  ",26,"","","",{"$f":"T31","v":""},0,0]
[null,null,null,null,null,null,null,null,null,null,null,null,null,null,null,null,null,null,null,null,null,null,null,null,null,null,null,null,null,null,null,null,null,null,null,null,null,null,null,null,null,null,null,null,null,null,null,null,null,null,null,null,null,null,null,null,null,null,null,null,null,null,null,null,{"$f":"resultat!AL100","v":100},{"$f":"resultat!AM100","v":"Guy/Jean BARREAU"},null,null,"Terrain  ",27,"","","",{"$f":"T32","v":""},0,0]
[null,null,"Equ",null,null,null,null,null,null,null,null,null,null,null,null,null,null,null,null,null,null,null,null,null,null,null,null,null,null,null,null,null,null,null,null,null,null,null,null,null,null,null,null,null,null,null,null,null,null,null,null,null,null,null,null,null,null,null,null,null,null,null,null,null,{"$f":"resultat!AL101","v":101},{"$f":"resultat!AM101","v":"Carl/Edouard"},null,null,"Terrain  ",28,"","","",{"$f":"T33","v":""},0,0]
[null,null,"Equ",null,null,null,null,null,null,null,null,null,null,null,null,null,null,null,null,null,null,null,null,null,null,null,null,null,null,null,null,null,null,null,null,null,null,null,null,null,null,null,null,null,null,null,null,null,null,null,null,null,null,null,null,null,null,null,null,null,null,null,null,null,{"$f":"resultat!AL102","v":102},{"$f":"resultat!AM102","v":"Serge/Philippe"},null,null,"Terrain  ",29,"","","",{"$f":"T34","v":""},0,0]
[null,null,"Equ",null,null,null,null,null,null,null,null,null,null,null,null,null,null,null,null,null,null,null,null,null,null,null,null,null,null,null,null,null,null,null,null,null,null,null,null,null,null,null,null,null,null,null,null,null,null,null,null,null,null,null,null,null,null,null,null,null,null,null,null,null,{"$f":"resultat!AL103","v":103},{"$f":"resultat!AM103","v":"Boubou"},null,null,"Terrain  ",30,"","","",{"$f":"T35","v":""},0,0]
[null,null,"Equ",null,null,null,null,null,null,null,null,null,null,null,null,null,null,null,null,null,null,null,null,null,null,null,null,null,null,null,null,null,null,null,null,null,null,null,null,null,null,null,null,null,null,null,null,null,null,null,null,null,null,null,null,null,null,null,null,null,null,null,null,null,{"$f":"resultat!AL104","v":104},{"$f":"resultat!AM104","v":"Luc"},null,null,"Terrain  ",31,"","","",{"$f":"T36","v":""},0,0]
[null,null,"Equ",null,null,null,null,null,null,null,null,null,null,null,null,null,null,null,null,null,null,null,null,null,null,null,null,null,null,null,null,null,null,null,null,null,null,null,null,null,null,null,null,null,null,null,null,null,null,null,null,null,null,null,null,null,null,null,null,null,null,null,null,null,{"$f":"resultat!AL105","v":105},{"$f":"resultat!AM105","v":"Jacky/Olivier"},null,null,"Terrain  ",32,"","","",{"$f":"T37","v":""},0,0]
[null,null,"Equ",null,null,null,null,null,null,null,null,null,null,null,null,null,null,null,null,null,null,null,null,null,null,null,null,null,null,null,null,null,null,null,null,null,null,null,null,null,null,null,null,null,null,null,null,null,null,null,null,null,null,null,null,null,null,null,null,null,null,null,null,null,{"$f":"resultat!AL106","v":106},{"$f":"resultat!AM106","v":"Adeline / Mathieu"},null,null,"Terrain  ",33,"","","",{"$f":"T38","v":""},0,0]
[null,null,"Equ",null,null,null,null,null,null,null,null,null,null,null,null,null,null,null,null,null,null,null,null,null,null,null,null,null,null,null,null,null,null,null,null,null,null,null,null,null,null,null,null,null,null,null,null,null,null,null,null,null,null,null,null,null,null,null,null,null,null,null,null,null,{"$f":"resultat!AL107","v":107},{"$f":"resultat!AM107","v":"Julot"},null,null,"Terrain  ",34,"","","",{"$f":"T39","v":""},0,0]
[null,null,"Equ",null,null,null,null,null,null,null,null,null,null,null,null,null,null,null,null,null,null,null,null,null,null,null,null,null,null,null,null,null,null,null,null,null,null,null,null,null,null,null,null,null,null,null,null,null,null,null,null,null,null,null,null,null,null,null,null,null,null,null,null,null,{"$f":"resultat!AL108","v":108},{"$f":"resultat!AM108","v":"Francis"},null,null,"Terrain  ",35,"","","",{"$f":"T40","v":""},0,0]
[null,null,"Equ",null,null,null,null,null,null,null,null,null,null,null,null,null,null,null,null,null,null,null,null,null,null,null,null,null,null,null,null,null,null,null,null,null,null,null,null,null,null,null,null,null,null,null,null,null,null,null,null,null,null,null,null,null,null,null,null,null,null,null,null,null,{"$f":"resultat!AL109","v":109},{"$f":"resultat!AM109","v":"marco"},null,null,"Terrain  ",36,"","","",{"$f":"T41","v":""},0,0]
[null,null,"Equ",null,null,null,null,null,null,null,null,null,null,null,null,null,null,null,null,null,null,null,null,null,null,null,null,null,null,null,null,null,null,null,null,null,null,null,null,null,null,null,null,null,null,null,null,null,null,null,null,null,null,null,null,null,null,null,null,null,null,null,null,null,{"$f":"resultat!AL110","v":110},{"$f":"resultat!AM110","v":"Denise"},null,null,"Terrain  ",37,"","","",{"$f":"T42","v":""},0,0]
[null,null,"Equ",null,null,null,null,null,null,null,null,null,null,null,null,null,null,null,null,null,null,null,null,null,null,null,null,null,null,null,null,null,null,null,null,null,null,null,null,null,null,null,null,null,null,null,null,null,null,null,null,null,null,null,null,null,null,null,null,null,null,null,null,null,{"$f":"resultat!AL111","v":111},{"$f":"resultat!AM111","v":"yvon"},null,null,"Terrain  ",38,"","","",{"$f":"T43","v":""},0,0]
[null,null,"Equ",null,null,null,null,null,null,null,null,null,null,null,null,null,null,null,null,null,null,null,null,null,null,null,null,null,null,null,null,null,null,null,null,null,null,null,null,null,null,null,null,null,null,null,null,null,null,null,null,null,null,null,null,null,null,null,null,null,null,null,null,null,{"$f":"resultat!AL112","v":112},{"$f":"resultat!AM112","v":"jacques"},null,null,"Terrain  ",39,"","","",{"$f":"T44","v":""},0,0]
[null,null,"Equ",null,null,null,null,null,null,null,null,null,null,null,null,null,null,null,null,null,null,null,null,null,null,null,null,null,null,null,null,null,null,null,null,null,null,null,null,null,null,null,null,null,null,null,null,null,null,null,null,null,null,null,null,null,null,null,null,null,null,null,null,null,{"$f":"resultat!AL113","v":113},{"$f":"resultat!AM113","v":"Pierre"},null,null,"Terrain  ",40,"","","",{"$f":"T45","v":""},0,0]
[null,null,"Equ",null,null,null,null,null,null,null,null,null,null,null,null,null,null,null,null,null,null,null,null,null,null,null,null,null,null,null,null,null,null,null,null,null,null,null,null,null,null,null,null,null,null,null,null,null,null,null,null,null,null,null,null,null,null,null,null,null,null,null,null,null,{"$f":"resultat!AL114","v":114},{"$f":"resultat!AM114","v":"Marcel"},null,null,"Terrain  ",41,"","","",{"$f":"T46","v":""},0,0]
[null,null,"Equ",null,null,null,null,null,null,null,null,null,null,null,null,null,null,null,null,null,null,null,null,null,null,null,null,null,null,null,null,null,null,null,null,null,null,null,null,null,null,null,null,null,null,null,null,null,null,null,null,null,null,null,null,null,null,null,null,null,null,null,null,null,{"$f":"resultat!AL115","v":115},{"$f":"resultat!AM115","v":"Sébastien"},null,null,"Terrain  ",42,"","","",{"$f":"T47","v":""},0,0]
[null,null,"Equ",null,null,null,null,null,null,null,null,null,null,null,null,null,null,null,null,null,null,null,null,null,null,null,null,null,null,null,null,null,null,null,null,null,null,null,null,null,null,null,null,null,null,null,null,null,null,null,null,null,null,null,null,null,null,null,null,null,null,null,null,null,{"$f":"resultat!AL116","v":116},{"$f":"resultat!AM116","v":"Florian"},null,null,"Terrain  ",43,"","","",{"$f":"T48","v":""},0,0]
[null,null,"Equ",null,null,null,null,null,null,null,null,null,null,null,null,null,null,null,null,null,null,null,null,null,null,null,null,null,null,null,null,null,null,null,null,null,null,null,null,null,null,null,null,null,null,null,null,null,null,null,null,null,null,null,null,null,null,null,null,null,null,null,null,null,{"$f":"resultat!AL117","v":117},{"$f":"resultat!AM117","v":"Eric / Yvonnick"},null,null,"Terrain  ",44,"","","",{"$f":"T49","v":""},0,0]
[null,null,"Equ",null,null,null,null,null,null,null,null,null,null,null,null,null,null,null,null,null,null,null,null,null,null,null,null,null,null,null,null,null,null,null,null,null,null,null,null,null,null,null,null,null,null,null,null,null,null,null,null,null,null,null,null,null,null,null,null,null,null,null,null,null,{"$f":"resultat!AL118","v":118},{"$f":"resultat!AM118","v":"Alain / Joël"},null,null,"Terrain  ",45,"","","",{"$f":"T50","v":""},0,0]
[null,null,"Equ",null,null,null,null,null,null,null,null,null,null,null,null,null,null,null,null,null,null,null,null,null,null,null,null,null,null,null,null,null,null,null,null,null,null,null,null,null,null,null,null,null,null,null,null,null,null,null,null,null,null,null,null,null,null,null,null,null,null,null,null,null,{"$f":"resultat!AL119","v":119},{"$f":"resultat!AM119","v":"L'archi / Jean-Pierre"},null,null,"Terrain  ",46,"","","",{"$f":"T51","v":""},0,0]
[null,null,"Equ",null,null,null,null,null,null,null,null,null,null,null,null,null,null,null,null,null,null,null,null,null,null,null,null,null,null,null,null,null,null,null,null,null,null,null,null,null,null,null,null,null,null,null,null,null,null,null,null,null,null,null,null,null,null,null,null,null,null,null,null,null,{"$f":"resultat!AL120","v":120},{"$f":"resultat!AM120","v":"Alain / Christophe"},null,null,"Terrain  ",47,"","","",{"$f":"T52","v":""},0,0]
[null,null,"Equ",null,null,null,null,null,null,null,null,null,null,null,null,null,null,null,null,null,null,null,null,null,null,null,null,null,null,null,null,null,null,null,null,null,null,null,null,null,null,null,null,null,null,null,null,null,null,null,null,null,null,null,null,null,null,null,null,null,null,null,null,null,{"$f":"resultat!AL121","v":121},{"$f":"resultat!AM121","v":"Ben / Jimmy"},null,null,"Terrain  ",48,"","","",{"$f":"T53","v":""},0,0]
[null,null,"Equ",null,null,null,null,null,null,null,null,null,null,null,null,null,null,null,null,null,null,null,null,null,null,null,null,null,null,null,null,null,null,null,null,null,null,null,null,null,null,null,null,null,null,null,null,null,null,null,null,null,null,null,null,null,null,null,null,null,null,null,null,null,{"$f":"resultat!AL122","v":122},{"$f":"resultat!AM122","v":"Le Suisse / Yoyo"},null,null,"Terrain  ",49,"","","",{"$f":"T54","v":""},0,0]
[null,null,"Equ",null,null,null,null,null,null,null,null,null,null,null,null,null,null,null,null,null,null,null,null,null,null,null,null,null,null,null,null,null,null,null,null,null,null,null,null,null,null,null,null,null,null,null,null,null,null,null,null,null,null,null,null,null,null,null,null,null,null,null,null,null,{"$f":"resultat!AL123","v":123},{"$f":"resultat!AM123","v":"Laurent / Mickaël"},null,null,"Terrain  ",50,"","","",{"$f":"T55","v":""},0,0]
[null,null,"Equ",null,null,null,null,null,null,null,null,null,null,null,null,null,null,null,null,null,null,null,null,null,null,null,null,null,null,null,null,null,null,null,null,null,null,null,null,null,null,null,null,null,null,null,null,null,null,null,null,null,null,null,null,null,null,null,null,null,null,null,null,null,{"$f":"resultat!AL124","v":124},{"$f":"resultat!AM124","v":"Charles/ Nénesse"},null,null,"Terrain  ",51,"","","",{"$f":"T56","v":""},0,0]
[null,null,"Equ",null,null,null,null,null,null,null,null,null,null,null,null,null,null,null,null,null,null,null,null,null,null,null,null,null,null,null,null,null,null,null,null,null,null,null,null,null,null,null,null,null,null,null,null,null,null,null,null,null,null,null,null,null,null,null,null,null,null,null,null,null,{"$f":"resultat!AL125","v":125},{"$f":"resultat!AM125","v":"Sylvain / Julien"},null,null,"Terrain  ",52,"","","",{"$f":"T57","v":""},0,0]
[null,null,"Equ",null,null,null,null,null,null,null,null,null,null,null,null,null,null,null,null,null,null,null,null,null,null,null,null,null,null,null,null,null,null,null,null,null,null,null,null,null,null,null,null,null,null,null,null,null,null,null,null,null,null,null,null,null,null,null,null,null,null,null,null,null,{"$f":"resultat!AL126","v":126},{"$f":"resultat!AM126","v":"Fanfan / Jonathan"},null,null,"Terrain  ",53,"","","",{"$f":"T58","v":""},0,0]
[null,null,"Equ",null,null,null,null,null,null,null,null,null,null,null,null,null,null,null,null,null,null,null,null,null,null,null,null,null,null,null,null,null,null,null,null,null,null,null,null,null,null,null,null,null,null,null,null,null,null,null,null,null,null,null,null,null,null,null,null,null,null,null,null,null,{"$f":"resultat!AL127","v":127},{"$f":"resultat!AM127","v":"Gégé / Eric"},null,null,"Terrain  ",54,"","","",{"$f":"T59","v":""},0,0]
[null,null,"Equ",null,null,null,null,null,null,null,null,null,null,null,null,null,null,null,null,null,null,null,null,null,null,null,null,null,null,null,null,null,null,null,null,null,null,null,null,null,null,null,null,null,null,null,null,null,null,null,null,null,null,null,null,null,null,null,null,null,null,null,null,null,{"$f":"resultat!AL128","v":128},{"$f":"resultat!AM128","v":"Landry / Martial"},null,null,"Terrain  ",55,"","","",{"$f":"T60","v":""},0,0]
[null,null,"Equ",null,null,null,null,null,null,null,null,null,null,null,null,null,null,null,null,null,null,null,null,null,null,null,null,null,null,null,null,null,null,null,null,null,null,null,null,null,null,null,null,null,null,null,null,null,null,null,null,null,null,null,null,null,null,null,null,null,null,null,null,null,null,null,null,null,"Terrain  ",56,"","","",{"$f":"T61","v":""},0,0]
[null,null,"Equ",null,null,null,null,null,null,null,null,null,null,null,null,null,null,null,null,null,null,null,null,null,null,null,null,null,null,null,null,null,null,null,null,null,null,null,null,null,null,null,null,null,null,null,null,null,null,null,null,null,null,null,null,null,null,null,null,null,null,null,null,null,null,null,null,null,"Terrain  ",57,"","","",{"$f":"T62","v":""},0,0]
[null,null,"Equ",null,null,null,null,null,null,null,null,null,null,null,null,null,null,null,null,null,null,null,null,null,null,null,null,null,null,null,null,null,null,null,null,null,null,null,null,null,null,null,null,null,null,null,null,null,null,null,null,null,null,null,null,null,null,null,null,null,null,null,null,null,null,null,null,null,"Terrain  ",58,"","","",{"$f":"T63","v":""},0,0]
[null,null,"Equ",null,null,null,null,null,null,null,null,null,null,null,null,null,null,null,null,null,null,null,null,null,null,null,null,null,null,null,null,null,null,null,null,null,null,null,null,null,null,null,null,null,null,null,null,null,null,null,null,null,null,null,null,null,null,null,null,null,null,null,null,null,null,null,null,null,"Terrain  ",59,"","","",{"$f":"T64","v":""},0,0]
[null,null,"Equ",null,null,null,null,null,null,null,null,null,null,null,null,null,null,null,null,null,null,null,null,null,null,null,null,null,null,null,null,null,null,null,null,null,null,null,null,null,null,null,null,null,null,null,null,null,null,null,null,null,null,null,null,null,null,null,null,null,null,null,null,null,null,null,null,null,"Terrain  ",60,"","","",{"$f":"T65","v":""},0,0]
[null,null,"Equ",null,null,null,null,null,null,null,null,null,null,null,null,null,null,null,null,null,null,null,null,null,null,null,null,null,null,null,null,null,null,null,null,null,null,null,null,null,null,null,null,null,null,null,null,null,null,null,null,null,null,null,null,null,null,null,null,null,null,null,null,null,null,null,null,null,"Terrain  ",61,"","","",{"$f":"T66","v":""},0,0]
[null,null,"Equ",null,null,null,null,null,null,null,null,null,null,null,null,null,null,null,null,null,null,null,null,null,null,null,null,null,null,null,null,null,null,null,null,null,null,null,null,null,null,null,null,null,null,null,null,null,null,null,null,null,null,null,null,null,null,null,null,null,null,null,null,null,null,null,null,null,"Terrain  ",62,"","","",{"$f":"T67","v":""},0,0]
[null,null,"Equ",null,null,null,null,null,null,null,null,null,null,null,null,null,null,null,null,null,null,null,null,null,null,null,null,null,null,null,null,null,null,null,null,null,null,null,null,null,null,null,null,null,null,null,null,null,null,null,null,null,null,null,null,null,null,null,null,null,null,null,null,null,null,null,null,null,"Terrain  ",63,"","","",{"$f":"T68","v":""},0,0]
[null,null,"Equ",null,null,null,null,null,null,null,null,null,null,null,null,null,null,null,null,null,null,null,null,null,null,null,null,null,null,null,null,null,null,null,null,null,null,null,null,null,null,null,null,null,null,null,null,null,null,null,null,null,null,null,null,null,null,null,null,null,null,null,null,null,null,null,null,null,"Terrain  ",64,"","","",{"$f":"T69","v":""},0,0]
[null,null,"Equ"]
[null,null,"Equ"]
[null,null,"Equ",null,null,null,null,null,null,null,null,null,null,null,null,null,null,null,null,null,null,null,null,null,null,null,null,null,null,null,null,null,null,null,null,null,null,null,null,null,null,null,null,null,null,null,null,null,null,null,null,null,null,null,null,null,null,null,null,null,null,null,null,null,null,null,null,null,null,null,"3 è tour",null,null,null,"Resultat"]
[null,null,"Equ",null,null,null,null,null,null,null,null,null,null,null,null,null,null,null,null,null,null,null,null,null,null,null,null,null,null,null,null,null,null,null,null,null,null,null,null,null,null,null,null,null,null,null,null,null,null,null,null,null,null,null,null,null,null,null,null,null,null,null,null,null,null,null,null,null,"Terrain  ",{"$f":"B6","v":1},{"$f":"X6","v":""},{"$f":"Z6","v":""},{"$f":"AB6","v":""},{"$f":"AD6","v":""},{"$f":"AE6","v":0},0]
[null,null,"Equ",null,null,null,null,null,null,null,null,null,null,null,null,null,null,null,null,null,null,null,null,null,null,null,null,null,null,null,null,null,null,null,null,null,null,null,null,null,null,null,null,null,null,null,null,null,null,null,null,null,null,null,null,null,null,null,null,null,null,null,null,null,null,null,null,null,"Terrain  ",{"$f":"B7","v":2},{"$f":"X7","v":""},{"$f":"Z7","v":""},{"$f":"AB7","v":""},{"$f":"AD7","v":""},{"$f":"AE7","v":0},{"$f":"AF7","v":0}]
[null,null,"Equ",null,null,null,null,null,null,null,null,null,null,null,null,null,null,null,null,null,null,null,null,null,null,null,null,null,null,null,null,null,null,null,null,null,null,null,null,null,null,null,null,null,null,null,null,null,null,null,null,null,null,null,null,null,null,null,null,null,null,null,null,null,null,null,null,null,"Terrain  ",3,"","","","",0,0]
[null,null,"Equ",null,null,null,null,null,null,null,null,null,null,null,null,null,null,null,null,null,null,null,null,null,null,null,null,null,null,null,null,null,null,null,null,null,null,null,null,null,null,null,null,null,null,null,null,null,null,null,null,null,null,null,null,null,null,null,null,null,null,null,null,null,null,null,null,null,"Terrain  ",4,"","","","",0,0]
[null,null,"Equ",null,null,null,null,null,null,null,null,null,null,null,null,null,null,null,null,null,null,null,null,null,null,null,null,null,null,null,null,null,null,null,null,null,null,null,null,null,null,null,null,null,null,null,null,null,null,null,null,null,null,null,null,null,null,null,null,null,null,null,null,null,null,null,null,null,"Terrain  ",5,"","","","",0,0]
[null,null,"Equ",null,null,null,null,null,null,null,null,null,null,null,null,null,null,null,null,null,null,null,null,null,null,null,null,null,null,null,null,null,null,null,null,null,null,null,null,null,null,null,null,null,null,null,null,null,null,null,null,null,null,null,null,null,null,null,null,null,null,null,null,null,null,null,null,null,"Terrain  ",6,"","","","",0,0]
[null,null,"Equ",null,null,null,null,null,null,null,null,null,null,null,null,null,null,null,null,null,null,null,null,null,null,null,null,null,null,null,null,null,null,null,null,null,null,null,null,null,null,null,null,null,null,null,null,null,null,null,null,null,null,null,null,null,null,null,null,null,null,null,null,null,null,null,null,null,"Terrain  ",7,"","","","",0,0]
[null,null,"Equ",null,null,null,null,null,null,null,null,null,null,null,null,null,null,null,null,null,null,null,null,null,null,null,null,null,null,null,null,null,null,null,null,null,null,null,null,null,null,null,null,null,null,null,null,null,null,null,null,null,null,null,null,null,null,null,null,null,null,null,null,null,null,null,null,null,"Terrain  ",8,"","","","",0,0]
[null,null,"Equ",null,null,null,null,null,null,null,null,null,null,null,null,null,null,null,null,null,null,null,null,null,null,null,null,null,null,null,null,null,null,null,null,null,null,null,null,null,null,null,null,null,null,null,null,null,null,null,null,null,null,null,null,null,null,null,null,null,null,null,null,null,null,null,null,null,"Terrain  ",9,"","","","",0,0]
[null,null,"Equ",null,null,null,null,null,null,null,null,null,null,null,null,null,null,null,null,null,null,null,null,null,null,null,null,null,null,null,null,null,null,null,null,null,null,null,null,null,null,null,null,null,null,null,null,null,null,null,null,null,null,null,null,null,null,null,null,null,null,null,null,null,null,null,null,null,"Terrain  ",10,"","","","",0,0]
[null,null,"Equ",null,null,null,null,null,null,null,null,null,null,null,null,null,null,null,null,null,null,null,null,null,null,null,null,null,null,null,null,null,null,null,null,null,null,null,null,null,null,null,null,null,null,null,null,null,null,null,null,null,null,null,null,null,null,null,null,null,null,null,null,null,null,null,null,null,"Terrain  ",11,"","","","",0,0]
[null,null,"Equ",null,null,null,null,null,null,null,null,null,null,null,null,null,null,null,null,null,null,null,null,null,null,null,null,null,null,null,null,null,null,null,null,null,null,null,null,null,null,null,null,null,null,null,null,null,null,null,null,null,null,null,null,null,null,null,null,null,null,null,null,null,null,null,null,null,"Terrain  ",12,"","","","",0,0]
[null,null,"Equ",null,null,null,null,null,null,null,null,null,null,null,null,null,null,null,null,null,null,null,null,null,null,null,null,null,null,null,null,null,null,null,null,null,null,null,null,null,null,null,null,null,null,null,null,null,null,null,null,null,null,null,null,null,null,null,null,null,null,null,null,null,null,null,null,null,"Terrain  ",13,"","","","",0,0]
[null,null,"Equ",null,null,null,null,null,null,null,null,null,null,null,null,null,null,null,null,null,null,null,null,null,null,null,null,null,null,null,null,null,null,null,null,null,null,null,null,null,null,null,null,null,null,null,null,null,null,null,null,null,null,null,null,null,null,null,null,null,null,null,null,null,null,null,null,null,"Terrain  ",14,"","","","",0,0]
[null,null,"Equ",null,null,null,null,null,null,null,null,null,null,null,null,null,null,null,null,null,null,null,null,null,null,null,null,null,null,null,null,null,null,null,null,null,null,null,null,null,null,null,null,null,null,null,null,null,null,null,null,null,null,null,null,null,null,null,null,null,null,null,null,null,null,null,null,null,"Terrain  ",15,"","","","",0,0]
[null,null,"Equ",null,null,null,null,null,null,null,null,null,null,null,null,null,null,null,null,null,null,null,null,null,null,null,null,null,null,null,null,null,null,null,null,null,null,null,null,null,null,null,null,null,null,null,null,null,null,null,null,null,null,null,null,null,null,null,null,null,null,null,null,null,null,null,null,null,"Terrain  ",16,"","","","",0,0]
[null,null,"Equ",null,null,null,null,null,null,null,null,null,null,null,null,null,null,null,null,null,null,null,null,null,null,null,null,null,null,null,null,null,null,null,null,null,null,null,null,null,null,null,null,null,null,null,null,null,null,null,null,null,null,null,null,null,null,null,null,null,null,null,null,null,null,null,null,null,"Terrain  ",17,"","","","",0,0]
[null,null,"Equ",null,null,null,null,null,null,null,null,null,null,null,null,null,null,null,null,null,null,null,null,null,null,null,null,null,null,null,null,null,null,null,null,null,null,null,null,null,null,null,null,null,null,null,null,null,null,null,null,null,null,null,null,null,null,null,null,null,null,null,null,null,null,null,null,null,"Terrain  ",18,"","","","",0,0]
[null,null,"Equ",null,null,null,null,null,null,null,null,null,null,null,null,null,null,null,null,null,null,null,null,null,null,null,null,null,null,null,null,null,null,null,null,null,null,null,null,null,null,null,null,null,null,null,null,null,null,null,null,null,null,null,null,null,null,null,null,null,null,null,null,null,null,null,null,null,"Terrain  ",19,"","","","",0,0]
[null,null,"Equ",null,null,null,null,null,null,null,null,null,null,null,null,null,null,null,null,null,null,null,null,null,null,null,null,null,null,null,null,null,null,null,null,null,null,null,null,null,null,null,null,null,null,null,null,null,null,null,null,null,null,null,null,null,null,null,null,null,null,null,null,null,null,null,null,null,"Terrain  ",20,"","","","",0,0]
[null,null,"Equ",null,null,null,null,null,null,null,null,null,null,null,null,null,null,null,null,null,null,null,null,null,null,null,null,null,null,null,null,null,null,null,null,null,null,null,null,null,null,null,null,null,null,null,null,null,null,null,null,null,null,null,null,null,null,null,null,null,null,null,null,null,null,null,null,null,"Terrain  ",21,"","","","",0,0]
[null,null,"Equ",null,null,null,null,null,null,null,null,null,null,null,null,null,null,null,null,null,null,null,null,null,null,null,null,null,null,null,null,null,null,null,null,null,null,null,null,null,null,null,null,null,null,null,null,null,null,null,null,null,null,null,null,null,null,null,null,null,null,null,null,null,null,null,null,null,"Terrain  ",22,"","","","",0,0]
[null,null,"Equ",null,null,null,null,null,null,null,null,null,null,null,null,null,null,null,null,null,null,null,null,null,null,null,null,null,null,null,null,null,null,null,null,null,null,null,null,null,null,null,null,null,null,null,null,null,null,null,null,null,null,null,null,null,null,null,null,null,null,null,null,null,null,null,null,null,"Terrain  ",23,"","","","",0,0]
[null,null,"Equ",null,null,null,null,null,null,null,null,null,null,null,null,null,null,null,null,null,null,null,null,null,null,null,null,null,null,null,null,null,null,null,null,null,null,null,null,null,null,null,null,null,null,null,null,null,null,null,null,null,null,null,null,null,null,null,null,null,null,null,null,null,null,null,null,null,"Terrain  ",24,"","","","",0,0]
[null,null,null,null,null,null,null,null,null,null,null,null,null,null,null,null,null,null,null,null,null,null,null,null,null,null,null,null,null,null,null,null,null,null,null,null,null,null,null,null,null,null,null,null,null,null,null,null,null,null,null,null,null,null,null,null,null,null,null,null,null,null,null,null,null,null,null,null,"Terrain  ",25,"","","","",0,0]
[null,null,null,null,null,null,null,null,null,null,null,null,null,null,null,null,null,null,null,null,null,null,null,null,null,null,null,null,null,null,null,null,null,null,null,null,null,null,null,null,null,null,null,null,null,null,null,null,null,null,null,null,null,null,null,null,null,null,null,null,null,null,null,null,null,null,null,null,"Terrain  ",26,"","","","",0,0]
[null,null,null,null,null,null,null,null,null,null,null,null,null,null,null,null,null,null,null,null,null,null,null,null,null,null,null,null,null,null,null,null,null,null,null,null,null,null,null,null,null,null,null,null,null,null,null,null,null,null,null,null,null,null,null,null,null,null,null,null,null,null,null,null,null,null,null,null,"Terrain  ",27,"","","","",0,0]
[null,null,null,null,null,null,null,null,null,null,null,null,null,null,null,null,null,null,null,null,null,null,null,null,null,null,null,null,null,null,null,null,null,null,null,null,null,null,null,null,null,null,null,null,null,null,null,null,null,null,null,null,null,null,null,null,null,null,null,null,null,null,null,null,null,null,null,null,"Terrain  ",28,"","","","",0,0]
[null,null,null,null,null,null,null,null,null,null,null,null,null,null,null,null,null,null,null,null,null,null,null,null,null,null,null,null,null,null,null,null,null,null,null,null,null,null,null,null,null,null,null,null,null,null,null,null,null,null,null,null,null,null,null,null,null,null,null,null,null,null,null,null,null,null,null,null,"Terrain  ",29,"","","","",0,0]
[null,null,null,null,null,null,null,null,null,null,null,null,null,null,null,null,null,null,null,null,null,null,null,null,null,null,null,null,null,null,null,null,null,null,null,null,null,null,null,null,null,null,null,null,null,null,null,null,null,null,null,null,null,null,null,null,null,null,null,null,null,null,null,null,null,null,null,null,"Terrain  ",30,"","","","",0,0]
[null,null,null,null,null,null,null,null,null,null,null,null,null,null,null,null,null,null,null,null,null,null,null,null,null,null,null,null,null,null,null,null,null,null,null,null,null,null,null,null,null,null,null,null,null,null,null,null,null,null,null,null,null,null,null,null,null,null,null,null,null,null,null,null,null,null,null,null,"Terrain  ",31,"","","","",0,0]
[null,null,null,null,null,null,null,null,null,null,null,null,null,null,null,null,null,null,null,null,null,null,null,null,null,null,null,null,null,null,null,null,null,null,null,null,null,null,null,null,null,null,null,null,null,null,null,null,null,null,null,null,null,null,null,null,null,null,null,null,null,null,null,null,null,null,null,null,"Terrain  ",32,"","","","",0,0]
[null,null,null,null,null,null,null,null,null,null,null,null,null,null,null,null,null,null,null,null,null,null,null,null,null,null,null,null,null,null,null,null,null,null,null,null,null,null,null,null,null,null,null,null,null,null,null,null,null,null,null,null,null,null,null,null,null,null,null,null,null,null,null,null,null,null,null,null,"Terrain  ",33,"","","","",0,0]
[null,null,null,null,null,null,null,null,null,null,null,null,null,null,null,null,null,null,null,null,null,null,null,null,null,null,null,null,null,null,null,null,null,null,null,null,null,null,null,null,null,null,null,null,null,null,null,null,null,null,null,null,null,null,null,null,null,null,null,null,null,null,null,null,null,null,null,null,"Terrain  ",34,"","","","",0,0]
[null,null,null,null,null,null,null,null,null,null,null,null,null,null,null,null,null,null,null,null,null,null,null,null,null,null,null,null,null,null,null,null,null,null,null,null,null,null,null,null,null,null,null,null,null,null,null,null,null,null,null,null,null,null,null,null,null,null,null,null,null,null,null,null,null,null,null,null,"Terrain  ",35,"","","","",0,0]
[null,null,null,null,null,null,null,null,null,null,null,null,null,null,null,null,null,null,null,null,null,null,null,null,null,null,null,null,null,null,null,null,null,null,null,null,null,null,null,null,null,null,null,null,null,null,null,null,null,null,null,null,null,null,null,null,null,null,null,null,null,null,null,null,null,null,null,null,"Terrain  ",36,"","","","",0,0]
[null,null,null,null,null,null,null,null,null,null,null,null,null,null,null,null,null,null,null,null,null,null,null,null,null,null,null,null,null,null,null,null,null,null,null,null,null,null,null,null,null,null,null,null,null,null,null,null,null,null,null,null,null,null,null,null,null,null,null,null,null,null,null,null,null,null,null,null,"Terrain  ",37,"","","","",0,0]
[null,null,null,null,null,null,null,null,null,null,null,null,null,null,null,null,null,null,null,null,null,null,null,null,null,null,null,null,null,null,null,null,null,null,null,null,null,null,null,null,null,null,null,null,null,null,null,null,null,null,null,null,null,null,null,null,null,null,null,null,null,null,null,null,null,null,null,null,"Terrain  ",38,"","","","",0,0]
[null,null,null,null,null,null,null,null,null,null,null,null,null,null,null,null,null,null,null,null,null,null,null,null,null,null,null,null,null,null,null,null,null,null,null,null,null,null,null,null,null,null,null,null,null,null,null,null,null,null,null,null,null,null,null,null,null,null,null,null,null,null,null,null,null,null,null,null,"Terrain  ",39,"","","","",0,0]
[null,null,null,null,null,null,null,null,null,null,null,null,null,null,null,null,null,null,null,null,null,null,null,null,null,null,null,null,null,null,null,null,null,null,null,null,null,null,null,null,null,null,null,null,null,null,null,null,null,null,null,null,null,null,null,null,null,null,null,null,null,null,null,null,null,null,null,null,"Terrain  ",40,"","","","",0,0]
[null,null,null,null,null,null,null,null,null,null,null,null,null,null,null,null,null,null,null,null,null,null,null,null,null,null,null,null,null,null,null,null,null,null,null,null,null,null,null,null,null,null,null,null,null,null,null,null,null,null,null,null,null,null,null,null,null,null,null,null,null,null,null,null,null,null,null,null,"Terrain  ",41,"","","","",0,0]
[null,null,null,null,null,null,null,null,null,null,null,null,null,null,null,null,null,null,null,null,null,null,null,null,null,null,null,null,null,null,null,null,null,null,null,null,null,null,null,null,null,null,null,null,null,null,null,null,null,null,null,null,null,null,null,null,null,null,null,null,null,null,null,null,null,null,null,null,"Terrain  ",42,"","","","",0,0]
[null,null,null,null,null,null,null,null,null,null,null,null,null,null,null,null,null,null,null,null,null,null,null,null,null,null,null,null,null,null,null,null,null,null,null,null,null,null,null,null,null,null,null,null,null,null,null,null,null,null,null,null,null,null,null,null,null,null,null,null,null,null,null,null,null,null,null,null,"Terrain  ",43,"","","","",0,0]
[null,null,null,null,null,null,null,null,null,null,null,null,null,null,null,null,null,null,null,null,null,null,null,null,null,null,null,null,null,null,null,null,null,null,null,null,null,null,null,null,null,null,null,null,null,null,null,null,null,null,null,null,null,null,null,null,null,null,null,null,null,null,null,null,null,null,null,null,"Terrain  ",44,"","","","",0,0]
[null,null,null,null,null,null,null,null,null,null,null,null,null,null,null,null,null,null,null,null,null,null,null,null,null,null,null,null,null,null,null,null,null,null,null,null,null,null,null,null,null,null,null,null,null,null,null,null,null,null,null,null,null,null,null,null,null,null,null,null,null,null,null,null,null,null,null,null,"Terrain  ",45,"","","","",0,0]
[null,null,null,null,null,null,null,null,null,null,null,null,null,null,null,null,null,null,null,null,null,null,null,null,null,null,null,null,null,null,null,null,null,null,null,null,null,null,null,null,null,null,null,null,null,null,null,null,null,null,null,null,null,null,null,null,null,null,null,null,null,null,null,null,null,null,null,null,"Terrain  ",46,"","","","",0,0]
[null,null,null,null,null,null,null,null,null,null,null,null,null,null,null,null,null,null,null,null,null,null,null,null,null,null,null,null,null,null,null,null,null,null,null,null,null,null,null,null,null,null,null,null,null,null,null,null,null,null,null,null,null,null,null,null,null,null,null,null,null,null,null,null,null,null,null,null,"Terrain  ",47,"","","","",0,0]
[null,null,null,null,null,null,null,null,null,null,null,null,null,null,null,null,null,null,null,null,null,null,null,null,null,null,null,null,null,null,null,null,null,null,null,null,null,null,null,null,null,null,null,null,null,null,null,null,null,null,null,null,null,null,null,null,null,null,null,null,null,null,null,null,null,null,null,null,"Terrain  ",48,"","","","",0,0]
[null,null,null,null,null,null,null,null,null,null,null,null,null,null,null,null,null,null,null,null,null,null,null,null,null,null,null,null,null,null,null,null,null,null,null,null,null,null,null,null,null,null,null,null,null,null,null,null,null,null,null,null,null,null,null,null,null,null,null,null,null,null,null,null,null,null,null,null,"Terrain  ",49,"","","","",0,0]
[null,null,null,null,null,null,null,null,null,null,null,null,null,null,null,null,null,null,null,null,null,null,null,null,null,null,null,null,null,null,null,null,null,null,null,null,null,null,null,null,null,null,null,null,null,null,null,null,null,null,null,null,null,null,null,null,null,null,null,null,null,null,null,null,null,null,null,null,"Terrain  ",50,"","","","",0,0]
[null,null,null,null,null,null,null,null,null,null,null,null,null,null,null,null,null,null,null,null,null,null,null,null,null,null,null,null,null,null,null,null,null,null,null,null,null,null,null,null,null,null,null,null,null,null,null,null,null,null,null,null,null,null,null,null,null,null,null,null,null,null,null,null,null,null,null,null,"Terrain  ",51,"","","","",0,0]
[null,null,null,null,null,null,null,null,null,null,null,null,null,null,null,null,null,null,null,null,null,null,null,null,null,null,null,null,null,null,null,null,null,null,null,null,null,null,null,null,null,null,null,null,null,null,null,null,null,null,null,null,null,null,null,null,null,null,null,null,null,null,null,null,null,null,null,null,"Terrain  ",52,"","","","",0,0]
[null,null,null,null,null,null,null,null,null,null,null,null,null,null,null,null,null,null,null,null,null,null,null,null,null,null,null,null,null,null,null,null,null,null,null,null,null,null,null,null,null,null,null,null,null,null,null,null,null,null,null,null,null,null,null,null,null,null,null,null,null,null,null,null,null,null,null,null,"Terrain  ",53,"","","","",0,0]
[null,null,null,null,null,null,null,null,null,null,null,null,null,null,null,null,null,null,null,null,null,null,null,null,null,null,null,null,null,null,null,null,null,null,null,null,null,null,null,null,null,null,null,null,null,null,null,null,null,null,null,null,null,null,null,null,null,null,null,null,null,null,null,null,null,null,null,null,"Terrain  ",54,"","","","",0,0]
[null,null,null,null,null,null,null,null,null,null,null,null,null,null,null,null,null,null,null,null,null,null,null,null,null,null,null,null,null,null,null,null,null,null,null,null,null,null,null,null,null,null,null,null,null,null,null,null,null,null,null,null,null,null,null,null,null,null,null,null,null,null,null,null,null,null,null,null,"Terrain  ",55,"","","","",0,0]
[null,null,null,null,null,null,null,null,null,null,null,null,null,null,null,null,null,null,null,null,null,null,null,null,null,null,null,null,null,null,null,null,null,null,null,null,null,null,null,null,null,15,null,null,null,null,null,null,null,null,null,null,null,null,null,null,null,null,null,null,null,null,null,null,null,null,null,null,"Terrain  ",56,"","","","",0,0]
[null,null,null,null,null,null,null,null,null,null,null,null,null,null,null,null,null,null,null,null,null,null,null,null,null,null,null,null,null,null,null,null,null,null,null,null,null,null,null,null,null,15,null,null,null,null,null,null,null,null,null,null,null,null,null,null,null,null,null,null,null,null,null,null,null,null,null,null,"Terrain  ",57,"","","","",0,0]
[null,null,null,null,null,null,null,null,null,null,null,null,null,null,null,null,null,null,null,null,null,null,null,null,null,null,null,null,null,null,null,null,null,null,null,null,null,null,null,null,null,15,null,null,null,null,null,null,null,null,null,null,null,null,null,null,null,null,null,null,null,null,null,null,null,null,null,null,"Terrain  ",58,"","","","",0,0]
[null,null,null,null,null,null,null,null,null,null,null,null,null,null,null,null,null,null,null,null,null,null,null,null,null,null,null,null,null,null,null,null,null,null,null,null,null,null,null,null,null,15,null,null,null,null,null,null,null,null,null,null,null,null,null,null,null,null,null,null,null,null,null,null,null,null,null,null,"Terrain  ",59,"","","","",0,0]
[null,null,null,null,null,null,null,null,null,null,null,null,null,null,null,null,null,null,null,null,null,null,null,null,null,null,null,null,null,null,null,null,null,null,null,null,null,null,null,null,null,15,null,null,null,null,null,null,null,null,null,null,null,null,null,null,null,null,null,null,null,null,null,null,null,null,null,null,"Terrain  ",60,"","","","",0,0]
[null,null,null,null,null,null,null,null,null,null,null,null,null,null,null,null,null,null,null,null,null,null,null,null,null,null,null,null,null,null,null,null,null,null,null,null,null,null,null,null,null,15,null,null,null,null,null,null,null,null,null,null,null,null,null,null,null,null,null,null,null,null,null,null,null,null,null,null,"Terrain  ",61,"","","","",0,0]
[null,null,null,null,null,null,null,null,null,null,null,null,null,null,null,null,null,null,null,null,null,null,null,null,null,null,null,null,null,null,null,null,null,null,null,null,null,null,null,null,null,15,null,null,null,null,null,null,null,null,null,null,null,null,null,null,null,null,null,null,null,null,null,null,null,null,null,null,"Terrain  ",62,"","","","",0,0]
[null,null,null,null,null,null,null,null,null,null,null,null,null,null,null,null,null,null,null,null,null,null,null,null,null,null,null,null,null,null,null,null,null,null,null,null,null,null,null,null,null,15,null,null,null,null,null,null,null,null,null,null,null,null,null,null,null,null,null,null,null,null,null,null,null,null,null,null,"Terrain  ",63,"","","","",0,0]
[null,null,null,null,null,null,null,null,null,null,null,null,null,null,null,null,null,null,null,null,null,null,null,null,null,null,null,null,null,null,null,null,null,null,null,null,null,null,null,null,null,15,null,null,null,null,null,null,null,null,null,null,null,null,null,null,null,null,null,null,null,null,null,null,null,null,null,null,"Terrain  ",64,"","","","",0,0]
[null,null,null,null,null,null,null,null,null,null,null,null,null,null,null,null,null,null,null,null,null,null,null,null,null,null,null,null,null,null,null,null,null,null,null,null,null,null,null,null,null,15]
[null,null,null,null,null,null,null,null,null,null,null,null,null,null,null,null,null,null,null,null,null,null,null,null,null,null,null,null,null,null,null,null,null,null,null,null,null,null,null,null,null,15]
[null,null,null,null,null,null,null,null,null,null,null,null,null,null,null,null,null,null,null,null,null,null,null,null,null,null,null,null,null,null,null,null,null,null,null,null,null,null,null,null,null,15,null,null,null,null,null,null,null,null,null,null,null,null,null,null,null,null,null,null,null,null,null,null,null,null,null,null,null,null,"4 è tour",null,null,null,"Resultat"]
[null,null,null,null,null,null,null,null,null,null,null,null,null,null,null,null,null,null,null,null,null,null,null,null,null,null,null,null,null,null,null,null,null,null,null,null,null,null,null,null,null,15,null,null,null,null,null,null,null,null,null,null,null,null,null,null,null,null,null,null,null,null,null,null,null,null,null,null,"Terrain  ",{"$f":"B6","v":1},{"$f":"AH6","v":""},{"$f":"AJ6","v":""},{"$f":"AL6","v":""},{"$f":"AN6","v":""},{"$f":"AO6","v":0},{"$f":"AP6","v":0}]
[null,null,null,null,null,null,null,null,null,null,null,null,null,null,null,null,null,null,null,null,null,null,null,null,null,null,null,null,null,null,null,null,null,null,null,null,null,null,null,null,null,15,null,null,null,null,null,null,null,null,null,null,null,null,null,null,null,null,null,null,null,null,null,null,null,null,null,null,"Terrain  ",2,"","","","",0,0]
[null,null,null,null,null,null,null,null,null,null,null,null,null,null,null,null,null,null,null,null,null,null,null,null,null,null,null,null,null,null,null,null,null,null,null,null,null,null,null,null,null,15,null,null,null,null,null,null,null,null,null,null,null,null,null,null,null,null,null,null,null,null,null,null,null,null,null,null,"Terrain  ",3,"","","","",0,0]
[null,null,null,null,null,null,null,null,null,null,null,null,null,null,null,null,null,null,null,null,null,null,null,null,null,null,null,null,null,null,null,null,null,null,null,null,null,null,null,null,null,15,null,null,null,null,null,null,null,null,null,null,null,null,null,null,null,null,null,null,null,null,null,null,null,null,null,null,"Terrain  ",4,"","","","",0,0]
[null,null,null,null,null,null,null,null,null,null,null,null,null,null,null,null,null,null,null,null,null,null,null,null,null,null,null,null,null,null,null,null,null,null,null,null,null,null,null,null,null,15,null,null,null,null,null,null,null,null,null,null,null,null,null,null,null,null,null,null,null,null,null,null,null,null,null,null,"Terrain  ",5,"","","","",0,0]
[null,null,null,null,null,null,null,null,null,null,null,null,null,null,null,null,null,null,null,null,null,null,null,null,null,null,null,null,null,null,null,null,null,null,null,null,null,null,null,null,null,15,null,null,null,null,null,null,null,null,null,null,null,null,null,null,null,null,null,null,null,null,null,null,null,null,null,null,"Terrain  ",6,"","","","",0,0]
[null,null,null,null,null,null,null,null,null,null,null,null,null,null,null,null,null,null,null,null,null,null,null,null,null,null,null,null,null,null,null,null,null,null,null,null,null,null,null,null,null,15,null,null,null,null,null,null,null,null,null,null,null,null,null,null,null,null,null,null,null,null,null,null,null,null,null,null,"Terrain  ",7,"","","","",0,0]
[null,null,null,null,null,null,null,null,null,null,null,null,null,null,null,null,null,null,null,null,null,null,null,null,null,null,null,null,null,null,null,null,null,null,null,null,null,null,null,null,null,15,null,null,null,null,null,null,null,null,null,null,null,null,null,null,null,null,null,null,null,null,null,null,null,null,null,null,"Terrain  ",8,"","","","",0,0]
[null,null,null,null,null,null,null,null,null,null,null,null,null,null,null,null,null,null,null,null,null,null,null,null,null,null,null,null,null,null,null,null,null,null,null,null,null,null,null,null,null,15,null,null,null,null,null,null,null,null,null,null,null,null,null,null,null,null,null,null,null,null,null,null,null,null,null,null,"Terrain  ",9,"","","","",0,0]
[null,null,null,null,null,null,null,null,null,null,null,null,null,null,null,null,null,null,null,null,null,null,null,null,null,null,null,null,null,null,null,null,null,null,null,null,null,null,null,null,null,15,null,null,null,null,null,null,null,null,null,null,null,null,null,null,null,null,null,null,null,null,null,null,null,null,null,null,"Terrain  ",10,"","","","",0,0]
[null,null,null,null,null,null,null,null,null,null,null,null,null,null,null,null,null,null,null,null,null,null,null,null,null,null,null,null,null,null,null,null,null,null,null,null,null,null,null,null,null,15,null,null,null,null,null,null,null,null,null,null,null,null,null,null,null,null,null,null,null,null,null,null,null,null,null,null,"Terrain  ",11,"","","","",0,0]
[null,null,null,null,null,null,null,null,null,null,null,null,null,null,null,null,null,null,null,null,null,null,null,null,null,null,null,null,null,null,null,null,null,null,null,null,null,null,null,null,null,null,null,null,null,null,null,null,null,null,null,null,null,null,null,null,null,null,null,null,null,null,null,null,null,null,null,null,"Terrain  ",12,"","","","",0,0]
[null,null,null,null,null,null,null,null,null,null,null,null,null,null,null,null,null,null,null,null,null,null,null,null,null,null,null,null,null,null,null,null,null,null,null,null,null,null,null,null,null,null,null,null,null,null,null,null,null,null,null,null,null,null,null,null,null,null,null,null,null,null,null,null,null,null,null,null,"Terrain  ",13,"","","","",0,0]
[null,null,null,null,null,null,null,null,null,null,null,null,null,null,null,null,null,null,null,null,null,null,null,null,null,null,null,null,null,null,null,null,null,null,null,null,null,null,null,null,null,null,null,null,null,null,null,null,null,null,null,null,null,null,null,null,null,null,null,null,null,null,null,null,null,null,null,null,"Terrain  ",14,"","","","",0,0]
[null,null,null,null,null,null,null,null,null,null,null,null,null,null,null,null,null,null,null,null,null,null,null,null,null,null,null,null,null,null,null,null,null,null,null,null,null,null,null,null,null,null,null,null,null,null,null,null,null,null,null,null,null,null,null,null,null,null,null,null,null,null,null,null,null,null,null,null,"Terrain  ",15,"","","","",0,0]
[null,null,null,null,null,null,null,null,null,null,null,null,null,null,null,null,null,null,null,null,null,null,null,null,null,null,null,null,null,null,null,null,null,null,null,null,null,null,null,null,null,null,null,null,null,null,null,null,null,null,null,null,null,null,null,null,null,null,null,null,null,null,null,null,null,null,null,null,"Terrain  ",16,"","","","",0,0]
[null,null,null,null,null,null,null,null,null,null,null,null,null,null,null,null,null,null,null,null,null,null,null,null,null,null,null,null,null,null,null,null,null,null,null,null,null,null,null,null,null,null,null,null,null,null,null,null,null,null,null,null,null,null,null,null,null,null,null,null,null,null,null,null,null,null,null,null,"Terrain  ",17,"","","","",0,0]
[null,null,null,null,null,null,null,null,null,null,null,null,null,null,null,null,null,null,null,null,null,null,null,null,null,null,null,null,null,null,null,null,null,null,null,null,null,null,null,null,null,null,null,null,null,null,null,null,null,null,null,null,null,null,null,null,null,null,null,null,null,null,null,null,null,null,null,null,"Terrain  ",18,"","","","",0,0]
[null,null,null,null,null,null,null,null,null,null,null,null,null,null,null,null,null,null,null,null,null,null,null,null,null,null,null,null,null,null,null,null,null,null,null,null,null,null,null,null,null,null,null,null,null,null,null,null,null,null,null,null,null,null,null,null,null,null,null,null,null,null,null,null,null,null,null,null,"Terrain  ",19,"","","","",0,0]
[null,null,null,null,null,null,null,null,null,null,null,null,null,null,null,null,null,null,null,null,null,null,null,null,null,null,null,null,null,null,null,null,null,null,null,null,null,null,null,null,null,null,null,null,null,null,null,null,null,null,null,null,null,null,null,null,null,null,null,null,null,null,null,null,null,null,null,null,"Terrain  ",20,"","","","",0,0]
[null,null,null,null,null,null,null,null,null,null,null,null,null,null,null,null,null,null,null,null,null,null,null,null,null,null,null,null,null,null,null,null,null,null,null,null,null,null,null,null,null,null,null,null,null,null,null,null,null,null,null,null,null,null,null,null,null,null,null,null,null,null,null,null,null,null,null,null,"Terrain  ",21,"","","","",0,0]
[null,null,null,null,null,null,null,null,null,null,null,null,null,null,null,null,null,null,null,null,null,null,null,null,null,null,null,null,null,null,null,null,null,null,null,null,null,null,null,null,null,null,null,null,null,null,null,null,null,null,null,null,null,null,null,null,null,null,null,null,null,null,null,null,null,null,null,null,"Terrain  ",22,"","","","",0,0]
[null,null,null,null,null,null,null,null,null,null,null,null,null,null,null,null,null,null,null,null,null,null,null,null,null,null,null,null,null,null,null,null,null,null,null,null,null,null,null,null,null,null,null,null,null,null,null,null,null,null,null,null,null,null,null,null,null,null,null,null,null,null,null,null,null,null,null,null,"Terrain  ",23,"","","","",0,0]
[null,null,null,null,null,null,null,null,null,null,null,null,null,null,null,null,null,null,null,null,null,null,null,null,null,null,null,null,null,null,null,null,null,null,null,null,null,null,null,null,null,null,null,null,null,null,null,null,null,null,null,null,null,null,null,null,null,null,null,null,null,null,null,null,null,null,null,null,"Terrain  ",24,"","","","",0,0]
[null,null,null,null,null,null,null,null,null,null,null,null,null,null,null,null,null,null,null,null,null,null,null,null,null,null,null,null,null,null,null,null,null,null,null,null,null,null,null,null,null,null,null,null,null,null,null,null,null,null,null,null,null,null,null,null,null,null,null,null,null,null,null,null,null,null,null,null,"Terrain  ",25,"","","","",0,0]
[null,null,null,null,null,null,null,null,null,null,null,null,null,null,null,null,null,null,null,null,null,null,null,null,null,null,null,null,null,null,null,null,null,null,null,null,null,null,null,null,null,null,null,null,null,null,null,null,null,null,null,null,null,null,null,null,null,null,null,null,null,null,null,null,null,null,null,null,"Terrain  ",26,"","","","",0,0]
[null,null,null,null,null,null,null,null,null,null,null,null,null,null,null,null,null,null,null,null,null,null,null,null,null,null,null,null,null,null,null,null,null,null,null,null,null,null,null,null,null,null,null,null,null,null,null,null,null,null,null,null,null,null,null,null,null,null,null,null,null,null,null,null,null,null,null,null,"Terrain  ",27,"","","","",0,0]
[null,null,null,null,null,null,null,null,null,null,null,null,null,null,null,null,null,null,null,null,null,null,null,null,null,null,null,null,null,null,null,null,null,null,null,null,null,null,null,null,null,null,null,null,null,null,null,null,null,null,null,null,null,null,null,null,null,null,null,null,null,null,null,null,null,null,null,null,"Terrain  ",28,"","","","",0,0]
[null,null,null,null,null,null,null,null,null,null,null,null,null,null,null,null,null,null,null,null,null,null,null,null,null,null,null,null,null,null,null,null,null,null,null,null,null,null,null,null,null,null,null,null,null,null,null,null,null,null,null,null,null,null,null,null,null,null,null,null,null,null,null,null,null,null,null,null,"Terrain  ",29,"","","","",0,0]
[null,null,null,null,null,null,null,null,null,null,null,null,null,null,null,null,null,null,null,null,null,null,null,null,null,null,null,null,null,null,null,null,null,null,null,null,null,null,null,null,null,null,null,null,null,null,null,null,null,null,null,null,null,null,null,null,null,null,null,null,null,null,null,null,null,null,null,null,"Terrain  ",30,"","","","",0,0]
[null,null,null,null,null,null,null,null,null,null,null,null,null,null,null,null,null,null,null,null,null,null,null,null,null,null,null,null,null,null,null,null,null,null,null,null,null,null,null,null,null,null,null,null,null,null,null,null,null,null,null,null,null,null,null,null,null,null,null,null,null,null,null,null,null,null,null,null,"Terrain  ",31,"","","","",0,0]
[null,null,null,null,null,null,null,null,null,null,null,null,null,null,null,null,null,null,null,null,null,null,null,null,null,null,null,null,null,null,null,null,null,null,null,null,null,null,null,null,null,null,null,null,null,null,null,null,null,null,null,null,null,null,null,null,null,null,null,null,null,null,null,null,null,null,null,null,"Terrain  ",32,"","","","",0,0]
[null,null,null,null,null,null,null,null,null,null,null,null,null,null,null,null,null,null,null,null,null,null,null,null,null,null,null,null,null,null,null,null,null,null,null,null,null,null,null,null,null,null,null,null,null,null,null,null,null,null,null,null,null,null,null,null,null,null,null,null,null,null,null,null,null,null,null,null,"Terrain  ",{"$f":"B38","v":33},{"$f":"AH38","v":""},{"$f":"AJ38","v":""},{"$f":"AL38","v":""},{"$f":"AN38","v":""},{"$f":"AO38","v":0},{"$f":"AP38","v":0}]
[null,null,null,null,null,null,null,null,null,null,null,null,null,null,null,null,null,null,null,null,null,null,null,null,null,null,null,null,null,null,null,null,null,null,null,null,null,null,null,null,null,null,null,null,null,null,null,null,null,null,null,null,null,null,null,null,null,null,null,null,null,null,null,null,null,null,null,null,"Terrain  ",34,"","","","",0,0]
[null,null,null,null,null,null,null,null,null,null,null,null,null,null,null,null,null,null,null,null,null,null,null,null,null,null,null,null,null,null,null,null,null,null,null,null,null,null,null,null,null,null,null,null,null,null,null,null,null,null,null,null,null,null,null,null,null,null,null,null,null,null,null,null,null,null,null,null,"Terrain  ",35,"","","","",0,0]
[null,null,null,null,null,null,null,null,null,null,null,null,null,null,null,null,null,null,null,null,null,null,null,null,null,null,null,null,null,null,null,null,null,null,null,null,null,null,null,null,null,null,null,null,null,null,null,null,null,null,null,null,null,null,null,null,null,null,null,null,null,null,null,null,null,null,null,null,"Terrain  ",36,"","","","",0,0]
[null,null,null,null,null,null,null,null,null,null,null,null,null,null,null,null,null,null,null,null,null,null,null,null,null,null,null,null,null,null,null,null,null,null,null,null,null,null,null,null,null,null,null,null,null,null,null,null,null,null,null,null,null,null,null,null,null,null,null,null,null,null,null,null,null,null,null,null,"Terrain  ",37,"","","","",0,0]
[null,null,null,null,null,null,null,null,null,null,null,null,null,null,null,null,null,null,null,null,null,null,null,null,null,null,null,null,null,null,null,null,null,null,null,null,null,null,null,null,null,null,null,null,null,null,null,null,null,null,null,null,null,null,null,null,null,null,null,null,null,null,null,null,null,null,null,null,"Terrain  ",38,"","","","",0,0]
[null,null,null,null,null,null,null,null,null,null,null,null,null,null,null,null,null,null,null,null,null,null,null,null,null,null,null,null,null,null,null,null,null,null,null,null,null,null,null,null,null,null,null,null,null,null,null,null,null,null,null,null,null,null,null,null,null,null,null,null,null,null,null,null,null,null,null,null,"Terrain  ",39,"","","","",0,0]
[null,null,null,null,null,null,null,null,null,null,null,null,null,null,null,null,null,null,null,null,null,null,null,null,null,null,null,null,null,null,null,null,null,null,null,null,null,null,null,null,null,null,null,null,null,null,null,null,null,null,null,null,null,null,null,null,null,null,null,null,null,null,null,null,null,null,null,null,"Terrain  ",40,"","","","",0,0]
[null,null,null,null,null,null,null,null,null,null,null,null,null,null,null,null,null,null,null,null,null,null,null,null,null,null,null,null,null,null,null,null,null,null,null,null,null,null,null,null,null,null,null,null,null,null,null,null,null,null,null,null,null,null,null,null,null,null,null,null,null,null,null,null,null,null,null,null,"Terrain  ",41,"","","","",0,0]
[null,null,null,null,null,null,null,null,null,null,null,null,null,null,null,null,null,null,null,null,null,null,null,null,null,null,null,null,null,null,null,null,null,null,null,null,null,null,null,null,null,null,null,null,null,null,null,null,null,null,null,null,null,null,null,null,null,null,null,null,null,null,null,null,null,null,null,null,"Terrain  ",42,"","","","",0,0]
[null,null,null,null,null,null,null,null,null,null,null,null,null,null,null,null,null,null,null,null,null,null,null,null,null,null,null,null,null,null,null,null,null,null,null,null,null,null,null,null,null,null,null,null,null,null,null,null,null,null,null,null,null,null,null,null,null,null,null,null,null,null,null,null,null,null,null,null,"Terrain  ",43,"","","","",0,0]
[null,null,null,null,null,null,null,null,null,null,null,null,null,null,null,null,null,null,null,null,null,null,null,null,null,null,null,null,null,null,null,null,null,null,null,null,null,null,null,null,null,null,null,null,null,null,null,null,null,null,null,null,null,null,null,null,null,null,null,null,null,null,null,null,null,null,null,null,"Terrain  ",44,"","","","",0,0]
[null,null,null,null,null,null,null,null,null,null,null,null,null,null,null,null,null,null,null,null,null,null,null,null,null,null,null,null,null,null,null,null,null,null,null,null,null,null,null,null,null,null,null,null,null,null,null,null,null,null,null,null,null,null,null,null,null,null,null,null,null,null,null,null,null,null,null,null,"Terrain  ",45,"","","","",0,0]
[null,null,null,null,null,null,null,null,null,null,null,null,null,null,null,null,null,null,null,null,null,null,null,null,null,null,null,null,null,null,null,null,null,null,null,null,null,null,null,null,null,null,null,null,null,null,null,null,null,null,null,null,null,null,null,null,null,null,null,null,null,null,null,null,null,null,null,null,"Terrain  ",46,"","","","",0,0]
[null,null,null,null,null,null,null,null,null,null,null,null,null,null,null,null,null,null,null,null,null,null,null,null,null,null,null,null,null,null,null,null,null,null,null,null,null,null,null,null,null,null,null,null,null,null,null,null,null,null,null,null,null,null,null,null,null,null,null,null,null,null,null,null,null,null,null,null,"Terrain  ",47,"","","","",0,0]
[null,null,null,null,null,null,null,null,null,null,null,null,null,null,null,null,null,null,null,null,null,null,null,null,null,null,null,null,null,null,null,null,null,null,null,null,null,null,null,null,null,null,null,null,null,null,null,null,null,null,null,null,null,null,null,null,null,null,null,null,null,null,null,null,null,null,null,null,"Terrain  ",48,"","","","",0,0]
[null,null,null,null,null,null,null,null,null,null,null,null,null,null,null,null,null,null,null,null,null,null,null,null,null,null,null,null,null,null,null,null,null,null,null,null,null,null,null,null,null,null,null,null,null,null,null,null,null,null,null,null,null,null,null,null,null,null,null,null,null,null,null,null,null,null,null,null,"Terrain  ",49,"","","","",0,0]
[null,null,null,null,null,null,null,null,null,null,null,null,null,null,null,null,null,null,null,null,null,null,null,null,null,null,null,null,null,null,null,null,null,null,null,null,null,null,null,null,null,null,null,null,null,null,null,null,null,null,null,null,null,null,null,null,null,null,null,null,null,null,null,null,null,null,null,null,"Terrain  ",50,"","","","",0,0]
[null,null,null,null,null,null,null,null,null,null,null,null,null,null,null,null,null,null,null,null,null,null,null,null,null,null,null,null,null,null,null,null,null,null,null,null,null,null,null,null,null,null,null,null,null,null,null,null,null,null,null,null,null,null,null,null,null,null,null,null,null,null,null,null,null,null,null,null,"Terrain  ",51,"","","","",0,0]
[null,null,null,null,null,null,null,null,null,null,null,null,null,null,null,null,null,null,null,null,null,null,null,null,null,null,null,null,null,null,null,null,null,null,null,null,null,null,null,null,null,null,null,null,null,null,null,null,null,null,null,null,null,null,null,null,null,null,null,null,null,null,null,null,null,null,null,null,"Terrain  ",52,"","","","",0,0]
[null,null,null,null,null,null,null,null,null,null,null,null,null,null,null,null,null,null,null,null,null,null,null,null,null,null,null,null,null,null,null,null,null,null,null,null,null,null,null,null,null,null,null,null,null,null,null,null,null,null,null,null,null,null,null,null,null,null,null,null,null,null,null,null,null,null,null,null,"Terrain  ",53,"","","","",0,0]
[null,null,null,null,null,null,null,null,null,null,null,null,null,null,null,null,null,null,null,null,null,null,null,null,null,null,null,null,null,null,null,null,null,null,null,null,null,null,null,null,null,null,null,null,null,null,null,null,null,null,null,null,null,null,null,null,null,null,null,null,null,null,null,null,null,null,null,null,"Terrain  ",54,"","","","",0,0]
[null,null,null,null,null,null,null,null,null,null,null,null,null,null,null,null,null,null,null,null,null,null,null,null,null,null,null,null,null,null,null,null,null,null,null,null,null,null,null,null,null,null,null,null,null,null,null,null,null,null,null,null,null,null,null,null,null,null,null,null,null,null,null,null,null,null,null,null,"Terrain  ",55,"","","","",0,0]
[null,null,null,null,null,null,null,null,null,null,null,null,null,null,null,null,null,null,null,null,null,null,null,null,null,null,null,null,null,null,null,null,null,null,null,null,null,null,null,null,null,null,null,null,null,null,null,null,null,null,null,null,null,null,null,null,null,null,null,null,null,null,null,null,null,null,null,null,"Terrain  ",56,"","","","",0,0]
[null,null,null,null,null,null,null,null,null,null,null,null,null,null,null,null,null,null,null,null,null,null,null,null,null,null,null,null,null,null,null,null,null,null,null,null,null,null,null,null,null,null,null,null,null,null,null,null,null,null,null,null,null,null,null,null,null,null,null,null,null,null,null,null,null,null,null,null,"Terrain  ",57,"","","","",0,0]
[null,null,null,null,null,null,null,null,null,null,null,null,null,null,null,null,null,null,null,null,null,null,null,null,null,null,null,null,null,null,null,null,null,null,null,null,null,null,null,null,null,null,null,null,null,null,null,null,null,null,null,null,null,null,null,null,null,null,null,null,null,null,null,null,null,null,null,null,"Terrain  ",58,"","","","",0,0]
[null,null,null,null,null,null,null,null,null,null,null,null,null,null,null,null,null,null,null,null,null,null,null,null,null,null,null,null,null,null,null,null,null,null,null,null,null,null,null,null,null,null,null,null,null,null,null,null,null,null,null,null,null,null,null,null,null,null,null,null,null,null,null,null,null,null,null,null,"Terrain  ",59,"","","","",0,0]
[null,null,null,null,null,null,null,null,null,null,null,null,null,null,null,null,null,null,null,null,null,null,null,null,null,null,null,null,null,null,null,null,null,null,null,null,null,null,null,null,null,null,null,null,null,null,null,null,null,null,null,null,null,null,null,null,null,null,null,null,null,null,null,null,null,null,null,null,"Terrain  ",60,"","","","",0,0]
[null,null,null,null,null,null,null,null,null,null,null,null,null,null,null,null,null,null,null,null,null,null,null,null,null,null,null,null,null,null,null,null,null,null,null,null,null,null,null,null,null,null,null,null,null,null,null,null,null,null,null,null,null,null,null,null,null,null,null,null,null,null,null,null,null,null,null,null,"Terrain  ",61,"","","","",0,0]
[null,null,null,null,null,null,null,null,null,null,null,null,null,null,null,null,null,null,null,null,null,null,null,null,null,null,null,null,null,null,null,null,null,null,null,null,null,null,null,null,null,null,null,null,null,null,null,null,null,null,null,null,null,null,null,null,null,null,null,null,null,null,null,null,null,null,null,null,"Terrain  ",62,"","","","",0,0]
[null,null,null,null,null,null,null,null,null,null,null,null,null,null,null,null,null,null,null,null,null,null,null,null,null,null,null,null,null,null,null,null,null,null,null,null,null,null,null,null,null,null,null,null,null,null,null,null,null,null,null,null,null,null,null,null,null,null,null,null,null,null,null,null,null,null,null,null,"Terrain  ",63,"","","","",0,0]
[null,null,null,null,null,null,null,null,null,null,null,null,null,null,null,null,null,null,null,null,null,null,null,null,null,null,null,null,null,null,null,null,null,null,null,null,null,null,null,null,null,null,null,null,null,null,null,null,null,null,null,null,null,null,null,null,null,null,null,null,null,null,null,null,null,null,null,null,"Terrain  ",64,"","","","",0,0]
[]
[]
[null,null,null,null,null,null,null,null,null,null,null,null,null,null,null,null,null,null,null,null,null,null,null,null,null,null,null,null,null,null,null,null,null,null,null,null,null,null,null,null,null,null,null,null,null,null,null,null,null,null,null,null,null,null,null,null,null,null,null,null,null,null,null,null,null,null,null,null,null,null,"5 è tour",null,null,null,"Resultat"]
[null,null,null,null,null,null,null,null,null,null,null,null,null,null,null,null,null,null,null,null,null,null,null,null,null,null,null,null,null,null,null,null,null,null,null,null,null,null,null,null,null,null,null,null,null,null,null,null,null,null,null,null,null,null,null,null,null,null,null,null,null,null,null,null,null,null,null,null,"Terrain  ",{"$f":"B6","v":1},{"$f":"AR6","v":""},{"$f":"AT6","v":""},{"$f":"AV6","v":""},{"$f":"AX6","v":""},{"$f":"AY6","v":0},{"$f":"AZ6","v":0}]
[null,null,null,null,null,null,null,null,null,null,null,null,null,null,null,null,null,null,null,null,null,null,null,null,null,null,null,null,null,null,null,null,null,null,null,null,null,null,null,null,null,null,null,null,null,null,null,null,null,null,null,null,null,null,null,null,null,null,null,null,null,null,null,null,null,null,null,null,"Terrain  ",2,"","","","",0,0]
[null,null,null,null,null,null,null,null,null,null,null,null,null,null,null,null,null,null,null,null,null,null,null,null,null,null,null,null,null,null,null,null,null,null,null,null,null,null,null,null,null,null,null,null,null,null,null,null,null,null,null,null,null,null,null,null,null,null,null,null,null,null,null,null,null,null,null,null,"Terrain  ",3,"","","","",0,0]
[null,null,null,null,null,null,null,null,null,null,null,null,null,null,null,null,null,null,null,null,null,null,null,null,null,null,null,null,null,null,null,null,null,null,null,null,null,null,null,null,null,null,null,null,null,null,null,null,null,null,null,null,null,null,null,null,null,null,null,null,null,null,null,null,null,null,null,null,"Terrain  ",4,"","","","",0,0]
[null,null,null,null,null,null,null,null,null,null,null,null,null,null,null,null,null,null,null,null,null,null,null,null,null,null,null,null,null,null,null,null,null,null,null,null,null,null,null,null,null,null,null,null,null,null,null,null,null,null,null,null,null,null,null,null,null,null,null,null,null,null,null,null,null,null,null,null,"Terrain  ",5,"","","","",0,0]
[null,null,null,null,null,null,null,null,null,null,null,null,null,null,null,null,null,null,null,null,null,null,null,null,null,null,null,null,null,null,null,null,null,null,null,null,null,null,null,null,null,null,null,null,null,null,null,null,null,null,null,null,null,null,null,null,null,null,null,null,null,null,null,null,null,null,null,null,"Terrain  ",6,"","","","",0,0]
[null,null,null,null,null,null,null,null,null,null,null,null,null,null,null,null,null,null,null,null,null,null,null,null,null,null,null,null,null,null,null,null,null,null,null,null,null,null,null,null,null,null,null,null,null,null,null,null,null,null,null,null,null,null,null,null,null,null,null,null,null,null,null,null,null,null,null,null,"Terrain  ",7,"","","","",0,0]
[null,null,null,null,null,null,null,null,null,null,null,null,null,null,null,null,null,null,null,null,null,null,null,null,null,null,null,null,null,null,null,null,null,null,null,null,null,null,null,null,null,null,null,null,null,null,null,null,null,null,null,null,null,null,null,null,null,null,null,null,null,null,null,null,null,null,null,null,"Terrain  ",8,"","","","",0,0]
[null,null,null,null,null,null,null,null,null,null,null,null,null,null,null,null,null,null,null,null,null,null,null,null,null,null,null,null,null,null,null,null,null,null,null,null,null,null,null,null,null,null,null,null,null,null,null,null,null,null,null,null,null,null,null,null,null,null,null,null,null,null,null,null,null,null,null,null,"Terrain  ",9,"","","","",0,0]
[null,null,null,null,null,null,null,null,null,null,null,null,null,null,null,null,null,null,null,null,null,null,null,null,null,null,null,null,null,null,null,null,null,null,null,null,null,null,null,null,null,null,null,null,null,null,null,null,null,null,null,null,null,null,null,null,null,null,null,null,null,null,null,null,null,null,null,null,"Terrain  ",10,"","","","",0,0]
[null,null,null,null,null,null,null,null,null,null,null,null,null,null,null,null,null,null,null,null,null,null,null,null,null,null,null,null,null,null,null,null,null,null,null,null,null,null,null,null,null,null,null,null,null,null,null,null,null,null,null,null,null,null,null,null,null,null,null,null,null,null,null,null,null,null,null,null,"Terrain  ",11,"","","","",0,0]
[null,null,null,null,null,null,null,null,null,null,null,null,null,null,null,null,null,null,null,null,null,null,null,null,null,null,null,null,null,null,null,null,null,null,null,null,null,null,null,null,null,null,null,null,null,null,null,null,null,null,null,null,null,null,null,null,null,null,null,null,null,null,null,null,null,null,null,null,"Terrain  ",12,"","","","",0,0]
[null,null,null,null,null,null,null,null,null,null,null,null,null,null,null,null,null,null,null,null,null,null,null,null,null,null,null,null,null,null,null,null,null,null,null,null,null,null,null,null,null,null,null,null,null,null,null,null,null,null,null,null,null,null,null,null,null,null,null,null,null,null,null,null,null,null,null,null,"Terrain  ",13,"","","","",0,0]
[null,null,null,null,null,null,null,null,null,null,null,null,null,null,null,null,null,null,null,null,null,null,null,null,null,null,null,null,null,null,null,null,null,null,null,null,null,null,null,null,null,null,null,null,null,null,null,null,null,null,null,null,null,null,null,null,null,null,null,null,null,null,null,null,null,null,null,null,"Terrain  ",14,"","","","",0,0]
[null,null,null,null,null,null,null,null,null,null,null,null,null,null,null,null,null,null,null,null,null,null,null,null,null,null,null,null,null,null,null,null,null,null,null,null,null,null,null,null,null,null,null,null,null,null,null,null,null,null,null,null,null,null,null,null,null,null,null,null,null,null,null,null,null,null,null,null,"Terrain  ",15,"","","","",0,0]
[null,null,null,null,null,null,null,null,null,null,null,null,null,null,null,null,null,null,null,null,null,null,null,null,null,null,null,null,null,null,null,null,null,null,null,null,null,null,null,null,null,null,null,null,null,null,null,null,null,null,null,null,null,null,null,null,null,null,null,null,null,null,null,null,null,null,null,null,"Terrain  ",16,"","","","",0,0]
[null,null,null,null,null,null,null,null,null,null,null,null,null,null,null,null,null,null,null,null,null,null,null,null,null,null,null,null,null,null,null,null,null,null,null,null,null,null,null,null,null,null,null,null,null,null,null,null,null,null,null,null,null,null,null,null,null,null,null,null,null,null,null,null,null,null,null,null,"Terrain  ",17,"","","","",0,0]
[null,null,null,null,null,null,null,null,null,null,null,null,null,null,null,null,null,null,null,null,null,null,null,null,null,null,null,null,null,null,null,null,null,null,null,null,null,null,null,null,null,null,null,null,null,null,null,null,null,null,null,null,null,null,null,null,null,null,null,null,null,null,null,null,null,null,null,null,"Terrain  ",18,"","","","",0,0]
[null,null,null,null,null,null,null,null,null,null,null,null,null,null,null,null,null,null,null,null,null,null,null,null,null,null,null,null,null,null,null,null,null,null,null,null,null,null,null,null,null,null,null,null,null,null,null,null,null,null,null,null,null,null,null,null,null,null,null,null,null,null,null,null,null,null,null,null,"Terrain  ",19,"","","","",0,0]
[null,null,null,null,null,null,null,null,null,null,null,null,null,null,null,null,null,null,null,null,null,null,null,null,null,null,null,null,null,null,null,null,null,null,null,null,null,null,null,null,null,null,null,null,null,null,null,null,null,null,null,null,null,null,null,null,null,null,null,null,null,null,null,null,null,null,null,null,"Terrain  ",20,"","","","",0,0]
[null,null,null,null,null,null,null,null,null,null,null,null,null,null,null,null,null,null,null,null,null,null,null,null,null,null,null,null,null,null,null,null,null,null,null,null,null,null,null,null,null,null,null,null,null,null,null,null,null,null,null,null,null,null,null,null,null,null,null,null,null,null,null,null,null,null,null,null,"Terrain  ",21,"","","","",0,0]
[null,null,null,null,null,null,null,null,null,null,null,null,null,null,null,null,null,null,null,null,null,null,null,null,null,null,null,null,null,null,null,null,null,null,null,null,null,null,null,null,null,null,null,null,null,null,null,null,null,null,null,null,null,null,null,null,null,null,null,null,null,null,null,null,null,null,null,null,"Terrain  ",22,"","","","",0,0]
[null,null,null,null,null,null,null,null,null,null,null,null,null,null,null,null,null,null,null,null,null,null,null,null,null,null,null,null,null,null,null,null,null,null,null,null,null,null,null,null,null,null,null,null,null,null,null,null,null,null,null,null,null,null,null,null,null,null,null,null,null,null,null,null,null,null,null,null,"Terrain  ",23,"","","","",0,0]
[null,null,null,null,null,null,null,null,null,null,null,null,null,null,null,null,null,null,null,null,null,null,null,null,null,null,null,null,null,null,null,null,null,null,null,null,null,null,null,null,null,null,null,null,null,null,null,null,null,null,null,null,null,null,null,null,null,null,null,null,null,null,null,null,null,null,null,null,"Terrain  ",24,"","","","",0,0]
[null,null,null,null,null,null,null,null,null,null,null,null,null,null,null,null,null,null,null,null,null,null,null,null,null,null,null,null,null,null,null,null,null,null,null,null,null,null,null,null,null,null,null,null,null,null,null,null,null,null,null,null,null,null,null,null,null,null,null,null,null,null,null,null,null,null,null,null,"Terrain  ",25,"","","","",0,0]
[null,null,null,null,null,null,null,null,null,null,null,null,null,null,null,null,null,null,null,null,null,null,null,null,null,null,null,null,null,null,null,null,null,null,null,null,null,null,null,null,null,null,null,null,null,null,null,null,null,null,null,null,null,null,null,null,null,null,null,null,null,null,null,null,null,null,null,null,"Terrain  ",26,"","","","",0,0]
[null,null,null,null,null,null,null,null,null,null,null,null,null,null,null,null,null,null,null,null,null,null,null,null,null,null,null,null,null,null,null,null,null,null,null,null,null,null,null,null,null,null,null,null,null,null,null,null,null,null,null,null,null,null,null,null,null,null,null,null,null,null,null,null,null,null,null,null,"Terrain  ",27,"","","","",0,0]
[null,null,null,null,null,null,null,null,null,null,null,null,null,null,null,null,null,null,null,null,null,null,null,null,null,null,null,null,null,null,null,null,null,null,null,null,null,null,null,null,null,null,null,null,null,null,null,null,null,null,null,null,null,null,null,null,null,null,null,null,null,null,null,null,null,null,null,null,"Terrain  ",28,"","","","",0,0]
[null,null,null,null,null,null,null,null,null,null,null,null,null,null,null,null,null,null,null,null,null,null,null,null,null,null,null,null,null,null,null,null,null,null,null,null,null,null,null,null,null,null,null,null,null,null,null,null,null,null,null,null,null,null,null,null,null,null,null,null,null,null,null,null,null,null,null,null,"Terrain  ",29,"","","","",0,0]
[null,null,null,null,null,null,null,null,null,null,null,null,null,null,null,null,null,null,null,null,null,null,null,null,null,null,null,null,null,null,null,null,null,null,null,null,null,null,null,null,null,null,null,null,null,null,null,null,null,null,null,null,null,null,null,null,null,null,null,null,null,null,null,null,null,null,null,null,"Terrain  ",30,"","","","",0,0]
[null,null,null,null,null,null,null,null,null,null,null,null,null,null,null,null,null,null,null,null,null,null,null,null,null,null,null,null,null,null,null,null,null,null,null,null,null,null,null,null,null,null,null,null,null,null,null,null,null,null,null,null,null,null,null,null,null,null,null,null,null,null,null,null,null,null,null,null,"Terrain  ",31,"","","","",0,0]
[null,null,null,null,null,null,null,null,null,null,null,null,null,null,null,null,null,null,null,null,null,null,null,null,null,null,null,null,null,null,null,null,null,null,null,null,null,null,null,null,null,null,null,null,null,null,null,null,null,null,null,null,null,null,null,null,null,null,null,null,null,null,null,null,null,null,null,null,"Terrain  ",32,"","","","",0,0]
[null,null,null,null,null,null,null,null,null,null,null,null,null,null,null,null,null,null,null,null,null,null,null,null,null,null,null,null,null,null,null,null,null,null,null,null,null,null,null,null,null,null,null,null,null,null,null,null,null,null,null,null,null,null,null,null,null,null,null,null,null,null,null,null,null,null,null,null,"Terrain  ",{"$f":"B38","v":33},{"$f":"AR38","v":""},{"$f":"AT38","v":""},{"$f":"AV38","v":""},{"$f":"AX38","v":""},{"$f":"AY38","v":0},{"$f":"AZ38","v":0}]
[null,null,null,null,null,null,null,null,null,null,null,null,null,null,null,null,null,null,null,null,null,null,null,null,null,null,null,null,null,null,null,null,null,null,null,null,null,null,null,null,null,null,null,null,null,null,null,null,null,null,null,null,null,null,null,null,null,null,null,null,null,null,null,null,null,null,null,null,"Terrain  ",34,"","","","",0,0]
[null,null,null,null,null,null,null,null,null,null,null,null,null,null,null,null,null,null,null,null,null,null,null,null,null,null,null,null,null,null,null,null,null,null,null,null,null,null,null,null,null,null,null,null,null,null,null,null,null,null,null,null,null,null,null,null,null,null,null,null,null,null,null,null,null,null,null,null,"Terrain  ",35,"","","","",0,0]
[null,null,null,null,null,null,null,null,null,null,null,null,null,null,null,null,null,null,null,null,null,null,null,null,null,null,null,null,null,null,null,null,null,null,null,null,null,null,null,null,null,null,null,null,null,null,null,null,null,null,null,null,null,null,null,null,null,null,null,null,null,null,null,null,null,null,null,null,"Terrain  ",36,"","","","",0,0]
[null,null,null,null,null,null,null,null,null,null,null,null,null,null,null,null,null,null,null,null,null,null,null,null,null,null,null,null,null,null,null,null,null,null,null,null,null,null,null,null,null,null,null,null,null,null,null,null,null,null,null,null,null,null,null,null,null,null,null,null,null,null,null,null,null,null,null,null,"Terrain  ",37,"","","","",0,0]
[null,null,null,null,null,null,null,null,null,null,null,null,null,null,null,null,null,null,null,null,null,null,null,null,null,null,null,null,null,null,null,null,null,null,null,null,null,null,null,null,null,null,null,null,null,null,null,null,null,null,null,null,null,null,null,null,null,null,null,null,null,null,null,null,null,null,null,null,"Terrain  ",38,"","","","",0,0]
[null,null,null,null,null,null,null,null,null,null,null,null,null,null,null,null,null,null,null,null,null,null,null,null,null,null,null,null,null,null,null,null,null,null,null,null,null,null,null,null,null,null,null,null,null,null,null,null,null,null,null,null,null,null,null,null,null,null,null,null,null,null,null,null,null,null,null,null,"Terrain  ",39,"","","","",0,0]
[null,null,null,null,null,null,null,null,null,null,null,null,null,null,null,null,null,null,null,null,null,null,null,null,null,null,null,null,null,null,null,null,null,null,null,null,null,null,null,null,null,null,null,null,null,null,null,null,null,null,null,null,null,null,null,null,null,null,null,null,null,null,null,null,null,null,null,null,"Terrain  ",40,"","","","",0,0]
[null,null,null,null,null,null,null,null,null,null,null,null,null,null,null,null,null,null,null,null,null,null,null,null,null,null,null,null,null,null,null,null,null,null,null,null,null,null,null,null,null,null,null,null,null,null,null,null,null,null,null,null,null,null,null,null,null,null,null,null,null,null,null,null,null,null,null,null,"Terrain  ",41,"","","","",0,0]
[null,null,null,null,null,null,null,null,null,null,null,null,null,null,null,null,null,null,null,null,null,null,null,null,null,null,null,null,null,null,null,null,null,null,null,null,null,null,null,null,null,null,null,null,null,null,null,null,null,null,null,null,null,null,null,null,null,null,null,null,null,null,null,null,null,null,null,null,"Terrain  ",42,"","","","",0,0]
[null,null,null,null,null,null,null,null,null,null,null,null,null,null,null,null,null,null,null,null,null,null,null,null,null,null,null,null,null,null,null,null,null,null,null,null,null,null,null,null,null,null,null,null,null,null,null,null,null,null,null,null,null,null,null,null,null,null,null,null,null,null,null,null,null,null,null,null,"Terrain  ",43,"","","","",0,0]
[null,null,null,null,null,null,null,null,null,null,null,null,null,null,null,null,null,null,null,null,null,null,null,null,null,null,null,null,null,null,null,null,null,null,null,null,null,null,null,null,null,null,null,null,null,null,null,null,null,null,null,null,null,null,null,null,null,null,null,null,null,null,null,null,null,null,null,null,"Terrain  ",44,"","","","",0,0]
[null,null,null,null,null,null,null,null,null,null,null,null,null,null,null,null,null,null,null,null,null,null,null,null,null,null,null,null,null,null,null,null,null,null,null,null,null,null,null,null,null,null,null,null,null,null,null,null,null,null,null,null,null,null,null,null,null,null,null,null,null,null,null,null,null,null,null,null,"Terrain  ",45,"","","","",0,0]
[null,null,null,null,null,null,null,null,null,null,null,null,null,null,null,null,null,null,null,null,null,null,null,null,null,null,null,null,null,null,null,null,null,null,null,null,null,null,null,null,null,null,null,null,null,null,null,null,null,null,null,null,null,null,null,null,null,null,null,null,null,null,null,null,null,null,null,null,"Terrain  ",46,"","","","",0,0]
[null,null,null,null,null,null,null,null,null,null,null,null,null,null,null,null,null,null,null,null,null,null,null,null,null,null,null,null,null,null,null,null,null,null,null,null,null,null,null,null,null,null,null,null,null,null,null,null,null,null,null,null,null,null,null,null,null,null,null,null,null,null,null,null,null,null,null,null,"Terrain  ",47,"","","","",0,0]
[null,null,null,null,null,null,null,null,null,null,null,null,null,null,null,null,null,null,null,null,null,null,null,null,null,null,null,null,null,null,null,null,null,null,null,null,null,null,null,null,null,null,null,null,null,null,null,null,null,null,null,null,null,null,null,null,null,null,null,null,null,null,null,null,null,null,null,null,"Terrain  ",48,"","","","",0,0]
[null,null,null,null,null,null,null,null,null,null,null,null,null,null,null,null,null,null,null,null,null,null,null,null,null,null,null,null,null,null,null,null,null,null,null,null,null,null,null,null,null,null,null,null,null,null,null,null,null,null,null,null,null,null,null,null,null,null,null,null,null,null,null,null,null,null,null,null,"Terrain  ",49,"","","","",0,0]
[null,null,null,null,null,null,null,null,null,null,null,null,null,null,null,null,null,null,null,null,null,null,null,null,null,null,null,null,null,null,null,null,null,null,null,null,null,null,null,null,null,null,null,null,null,null,null,null,null,null,null,null,null,null,null,null,null,null,null,null,null,null,null,null,null,null,null,null,"Terrain  ",50,"","","","",0,0]
[null,null,null,null,null,null,null,null,null,null,null,null,null,null,null,null,null,null,null,null,null,null,null,null,null,null,null,null,null,null,null,null,null,null,null,null,null,null,null,null,null,null,null,null,null,null,null,null,null,null,null,null,null,null,null,null,null,null,null,null,null,null,null,null,null,null,null,null,"Terrain  ",51,"","","","",0,0]
[null,null,null,null,null,null,null,null,null,null,null,null,null,null,null,null,null,null,null,null,null,null,null,null,null,null,null,null,null,null,null,null,null,null,null,null,null,null,null,null,null,null,null,null,null,null,null,null,null,null,null,null,null,null,null,null,null,null,null,null,null,null,null,null,null,null,null,null,"Terrain  ",52,"","","","",0,0]
[null,null,null,null,null,null,null,null,null,null,null,null,null,null,null,null,null,null,null,null,null,null,null,null,null,null,null,null,null,null,null,null,null,null,null,null,null,null,null,null,null,null,null,null,null,null,null,null,null,null,null,null,null,null,null,null,null,null,null,null,null,null,null,null,null,null,null,null,"Terrain  ",53,"","","","",0,0]
[null,null,null,null,null,null,null,null,null,null,null,null,null,null,null,null,null,null,null,null,null,null,null,null,null,null,null,null,null,null,null,null,null,null,null,null,null,null,null,null,null,null,null,null,null,null,null,null,null,null,null,null,null,null,null,null,null,null,null,null,null,null,null,null,null,null,null,null,"Terrain  ",54,"","","","",0,0]
[null,null,null,null,null,null,null,null,null,null,null,null,null,null,null,null,null,null,null,null,null,null,null,null,null,null,null,null,null,null,null,null,null,null,null,null,null,null,null,null,null,null,null,null,null,null,null,null,null,null,null,null,null,null,null,null,null,null,null,null,null,null,null,null,null,null,null,null,"Terrain  ",55,"","","","",0,0]
[null,null,null,null,null,null,null,null,null,null,null,null,null,null,null,null,null,null,null,null,null,null,null,null,null,null,null,null,null,null,null,null,null,null,null,null,null,null,null,null,null,null,null,null,null,null,null,null,null,null,null,null,null,null,null,null,null,null,null,null,null,null,null,null,null,null,null,null,"Terrain  ",56,"","","","",0,0]
[null,null,null,null,null,null,null,null,null,null,null,null,null,null,null,null,null,null,null,null,null,null,null,null,null,null,null,null,null,null,null,null,null,null,null,null,null,null,null,null,null,null,null,null,null,null,null,null,null,null,null,null,null,null,null,null,null,null,null,null,null,null,null,null,null,null,null,null,"Terrain  ",57,"","","","",0,0]
[null,null,null,null,null,null,null,null,null,null,null,null,null,null,null,null,null,null,null,null,null,null,null,null,null,null,null,null,null,null,null,null,null,null,null,null,null,null,null,null,null,null,null,null,null,null,null,null,null,null,null,null,null,null,null,null,null,null,null,null,null,null,null,null,null,null,null,null,"Terrain  ",58,"","","","",0,0]
[null,null,null,null,null,null,null,null,null,null,null,null,null,null,null,null,null,null,null,null,null,null,null,null,null,null,null,null,null,null,null,null,null,null,null,null,null,null,null,null,null,null,null,null,null,null,null,null,null,null,null,null,null,null,null,null,null,null,null,null,null,null,null,null,null,null,null,null,"Terrain  ",59,"","","","",0,0]
[null,null,null,null,null,null,null,null,null,null,null,null,null,null,null,null,null,null,null,null,null,null,null,null,null,null,null,null,null,null,null,null,null,null,null,null,null,null,null,null,null,null,null,null,null,null,null,null,null,null,null,null,null,null,null,null,null,null,null,null,null,null,null,null,null,null,null,null,"Terrain  ",60,"","","","",0,0]
[null,null,null,null,null,null,null,null,null,null,null,null,null,null,null,null,null,null,null,null,null,null,null,null,null,null,null,null,null,null,null,null,null,null,null,null,null,null,null,null,null,null,null,null,null,null,null,null,null,null,null,null,null,null,null,null,null,null,null,null,null,null,null,null,null,null,null,null,"Terrain  ",61,"","","","",0,0]
[null,null,null,null,null,null,null,null,null,null,null,null,null,null,null,null,null,null,null,null,null,null,null,null,null,null,null,null,null,null,null,null,null,null,null,null,null,null,null,null,null,null,null,null,null,null,null,null,null,null,null,null,null,null,null,null,null,null,null,null,null,null,null,null,null,null,null,null,"Terrain  ",62,"","","","",0,0]
[null,null,null,null,null,null,null,null,null,null,null,null,null,null,null,null,null,null,null,null,null,null,null,null,null,null,null,null,null,null,null,null,null,null,null,null,null,null,null,null,null,null,null,null,null,null,null,null,null,null,null,null,null,null,null,null,null,null,null,null,null,null,null,null,null,null,null,null,"Terrain  ",63,"","","","",0,0]
[null,null,null,null,null,null,null,null,null,null,null,null,null,null,null,null,null,null,null,null,null,null,null,null,null,null,null,null,null,null,null,null,null,null,null,null,null,null,null,null,null,null,null,null,null,null,null,null,null,null,null,null,null,null,null,null,null,null,null,null,null,null,null,null,null,null,null,null,"Terrain  ",64,"","","","",0,0]
[]
[]
[null,null,null,null,null,null,null,null,null,null,null,null,null,null,null,null,null,null,null,null,null,null,null,null,null,null,null,null,null,null,null,null,null,null,null,null,null,null,null,null,null,null,null,null,null,null,null,null,null,null,null,null,null,null,null,null,null,null,null,null,null,null,null,null,null,null,null,null,null,null,"6 è tour",null,null,null,"Resultat"]
[null,null,null,null,null,null,null,null,null,null,null,null,null,null,null,null,null,null,null,null,null,null,null,null,null,null,null,null,null,null,null,null,null,null,null,null,null,null,null,null,null,null,null,null,null,null,null,null,null,null,null,null,null,null,null,null,null,null,null,null,null,null,null,null,null,null,null,null,"Terrain  ",{"$f":"B6","v":1},{"$f":"BB6","v":""},{"$f":"BD6","v":""},{"$f":"BF6","v":""},{"$f":"BH6","v":""},{"$f":"BI6","v":0},{"$f":"BJ6","v":0}]
[null,null,null,null,null,null,null,null,null,null,null,null,null,null,null,null,null,null,null,null,null,null,null,null,null,null,null,null,null,null,null,null,null,null,null,null,null,null,null,null,null,null,null,null,null,null,null,null,null,null,null,null,null,null,null,null,null,null,null,null,null,null,null,null,null,null,null,null,"Terrain  ",2,"","","","",0,0]
[null,null,null,null,null,null,null,null,null,null,null,null,null,null,null,null,null,null,null,null,null,null,null,null,null,null,null,null,null,null,null,null,null,null,null,null,null,null,null,null,null,null,null,null,null,null,null,null,null,null,null,null,null,null,null,null,null,null,null,null,null,null,null,null,null,null,null,null,"Terrain  ",3,"","","","",0,0]
[null,null,null,null,null,null,null,null,null,null,null,null,null,null,null,null,null,null,null,null,null,null,null,null,null,null,null,null,null,null,null,null,null,null,null,null,null,null,null,null,null,null,null,null,null,null,null,null,null,null,null,null,null,null,null,null,null,null,null,null,null,null,null,null,null,null,null,null,"Terrain  ",4,"","","","",0,0]
[null,null,null,null,null,null,null,null,null,null,null,null,null,null,null,null,null,null,null,null,null,null,null,null,null,null,null,null,null,null,null,null,null,null,null,null,null,null,null,null,null,null,null,null,null,null,null,null,null,null,null,null,null,null,null,null,null,null,null,null,null,null,null,null,null,null,null,null,"Terrain  ",5,"","","","",0,0]
[null,null,null,null,null,null,null,null,null,null,null,null,null,null,null,null,null,null,null,null,null,null,null,null,null,null,null,null,null,null,null,null,null,null,null,null,null,null,null,null,null,null,null,null,null,null,null,null,null,null,null,null,null,null,null,null,null,null,null,null,null,null,null,null,null,null,null,null,"Terrain  ",6,"","","","",0,0]
[null,null,null,null,null,null,null,null,null,null,null,null,null,null,null,null,null,null,null,null,null,null,null,null,null,null,null,null,null,null,null,null,null,null,null,null,null,null,null,null,null,null,null,null,null,null,null,null,null,null,null,null,null,null,null,null,null,null,null,null,null,null,null,null,null,null,null,null,"Terrain  ",7,"","","","",0,0]
[null,null,null,null,null,null,null,null,null,null,null,null,null,null,null,null,null,null,null,null,null,null,null,null,null,null,null,null,null,null,null,null,null,null,null,null,null,null,null,null,null,null,null,null,null,null,null,null,null,null,null,null,null,null,null,null,null,null,null,null,null,null,null,null,null,null,null,null,"Terrain  ",8,"","","","",0,0]
[null,null,null,null,null,null,null,null,null,null,null,null,null,null,null,null,null,null,null,null,null,null,null,null,null,null,null,null,null,null,null,null,null,null,null,null,null,null,null,null,null,null,null,null,null,null,null,null,null,null,null,null,null,null,null,null,null,null,null,null,null,null,null,null,null,null,null,null,"Terrain  ",9,"","","","",0,0]
[null,null,null,null,null,null,null,null,null,null,null,null,null,null,null,null,null,null,null,null,null,null,null,null,null,null,null,null,null,null,null,null,null,null,null,null,null,null,null,null,null,null,null,null,null,null,null,null,null,null,null,null,null,null,null,null,null,null,null,null,null,null,null,null,null,null,null,null,"Terrain  ",10,"","","","",0,0]
[null,null,null,null,null,null,null,null,null,null,null,null,null,null,null,null,null,null,null,null,null,null,null,null,null,null,null,null,null,null,null,null,null,null,null,null,null,null,null,null,null,null,null,null,null,null,null,null,null,null,null,null,null,null,null,null,null,null,null,null,null,null,null,null,null,null,null,null,"Terrain  ",11,"","","","",0,0]
[null,null,null,null,null,null,null,null,null,null,null,null,null,null,null,null,null,null,null,null,null,null,null,null,null,null,null,null,null,null,null,null,null,null,null,null,null,null,null,null,null,null,null,null,null,null,null,null,null,null,null,null,null,null,null,null,null,null,null,null,null,null,null,null,null,null,null,null,"Terrain  ",12,"","","","",0,0]
[null,null,null,null,null,null,null,null,null,null,null,null,null,null,null,null,null,null,null,null,null,null,null,null,null,null,null,null,null,null,null,null,null,null,null,null,null,null,null,null,null,null,null,null,null,null,null,null,null,null,null,null,null,null,null,null,null,null,null,null,null,null,null,null,null,null,null,null,"Terrain  ",13,"","","","",0,0]
[null,null,null,null,null,null,null,null,null,null,null,null,null,null,null,null,null,null,null,null,null,null,null,null,null,null,null,null,null,null,null,null,null,null,null,null,null,null,null,null,null,null,null,null,null,null,null,null,null,null,null,null,null,null,null,null,null,null,null,null,null,null,null,null,null,null,null,null,"Terrain  ",14,"","","","",0,0]
[null,null,null,null,null,null,null,null,null,null,null,null,null,null,null,null,null,null,null,null,null,null,null,null,null,null,null,null,null,null,null,null,null,null,null,null,null,null,null,null,null,null,null,null,null,null,null,null,null,null,null,null,null,null,null,null,null,null,null,null,null,null,null,null,null,null,null,null,"Terrain  ",15,"","","","",0,0]
[null,null,null,null,null,null,null,null,null,null,null,null,null,null,null,null,null,null,null,null,null,null,null,null,null,null,null,null,null,null,null,null,null,null,null,null,null,null,null,null,null,null,null,null,null,null,null,null,null,null,null,null,null,null,null,null,null,null,null,null,null,null,null,null,null,null,null,null,"Terrain  ",16,"","","","",0,0]
[null,null,null,null,null,null,null,null,null,null,null,null,null,null,null,null,null,null,null,null,null,null,null,null,null,null,null,null,null,null,null,null,null,null,null,null,null,null,null,null,null,null,null,null,null,null,null,null,null,null,null,null,null,null,null,null,null,null,null,null,null,null,null,null,null,null,null,null,"Terrain  ",17,"","","","",0,0]
[null,null,null,null,null,null,null,null,null,null,null,null,null,null,null,null,null,null,null,null,null,null,null,null,null,null,null,null,null,null,null,null,null,null,null,null,null,null,null,null,null,null,null,null,null,null,null,null,null,null,null,null,null,null,null,null,null,null,null,null,null,null,null,null,null,null,null,null,"Terrain  ",18,"","","","",0,0]
[null,null,null,null,null,null,null,null,null,null,null,null,null,null,null,null,null,null,null,null,null,null,null,null,null,null,null,null,null,null,null,null,null,null,null,null,null,null,null,null,null,null,null,null,null,null,null,null,null,null,null,null,null,null,null,null,null,null,null,null,null,null,null,null,null,null,null,null,"Terrain  ",19,"","","","",0,0]
[null,null,null,null,null,null,null,null,null,null,null,null,null,null,null,null,null,null,null,null,null,null,null,null,null,null,null,null,null,null,null,null,null,null,null,null,null,null,null,null,null,null,null,null,null,null,null,null,null,null,null,null,null,null,null,null,null,null,null,null,null,null,null,null,null,null,null,null,"Terrain  ",20,"","","","",0,0]
[null,null,null,null,null,null,null,null,null,null,null,null,null,null,null,null,null,null,null,null,null,null,null,null,null,null,null,null,null,null,null,null,null,null,null,null,null,null,null,null,null,null,null,null,null,null,null,null,null,null,null,null,null,null,null,null,null,null,null,null,null,null,null,null,null,null,null,null,"Terrain  ",21,"","","","",0,0]
[null,null,null,null,null,null,null,null,null,null,null,null,null,null,null,null,null,null,null,null,null,null,null,null,null,null,null,null,null,null,null,null,null,null,null,null,null,null,null,null,null,null,null,null,null,null,null,null,null,null,null,null,null,null,null,null,null,null,null,null,null,null,null,null,null,null,null,null,"Terrain  ",22,"","","","",0,0]
[null,null,null,null,null,null,null,null,null,null,null,null,null,null,null,null,null,null,null,null,null,null,null,null,null,null,null,null,null,null,null,null,null,null,null,null,null,null,null,null,null,null,null,null,null,null,null,null,null,null,null,null,null,null,null,null,null,null,null,null,null,null,null,null,null,null,null,null,"Terrain  ",23,"","","","",0,0]
[null,null,null,null,null,null,null,null,null,null,null,null,null,null,null,null,null,null,null,null,null,null,null,null,null,null,null,null,null,null,null,null,null,null,null,null,null,null,null,null,null,null,null,null,null,null,null,null,null,null,null,null,null,null,null,null,null,null,null,null,null,null,null,null,null,null,null,null,"Terrain  ",24,"","","","",0,0]
[null,null,null,null,null,null,null,null,null,null,null,null,null,null,null,null,null,null,null,null,null,null,null,null,null,null,null,null,null,null,null,null,null,null,null,null,null,null,null,null,null,null,null,null,null,null,null,null,null,null,null,null,null,null,null,null,null,null,null,null,null,null,null,null,null,null,null,null,"Terrain  ",25,"","","","",0,0]
[null,null,null,null,null,null,null,null,null,null,null,null,null,null,null,null,null,null,null,null,null,null,null,null,null,null,null,null,null,null,null,null,null,null,null,null,null,null,null,null,null,null,null,null,null,null,null,null,null,null,null,null,null,null,null,null,null,null,null,null,null,null,null,null,null,null,null,null,"Terrain  ",26,"","","","",0,0]
[null,null,null,null,null,null,null,null,null,null,null,null,null,null,null,null,null,null,null,null,null,null,null,null,null,null,null,null,null,null,null,null,null,null,null,null,null,null,null,null,null,null,null,null,null,null,null,null,null,null,null,null,null,null,null,null,null,null,null,null,null,null,null,null,null,null,null,null,"Terrain  ",27,"","","","",0,0]
[null,null,null,null,null,null,null,null,null,null,null,null,null,null,null,null,null,null,null,null,null,null,null,null,null,null,null,null,null,null,null,null,null,null,null,null,null,null,null,null,null,null,null,null,null,null,null,null,null,null,null,null,null,null,null,null,null,null,null,null,null,null,null,null,null,null,null,null,"Terrain  ",28,"","","","",0,0]
[null,null,null,null,null,null,null,null,null,null,null,null,null,null,null,null,null,null,null,null,null,null,null,null,null,null,null,null,null,null,null,null,null,null,null,null,null,null,null,null,null,null,null,null,null,null,null,null,null,null,null,null,null,null,null,null,null,null,null,null,null,null,null,null,null,null,null,null,"Terrain  ",29,"","","","",0,0]
[null,null,null,null,null,null,null,null,null,null,null,null,null,null,null,null,null,null,null,null,null,null,null,null,null,null,null,null,null,null,null,null,null,null,null,null,null,null,null,null,null,null,null,null,null,null,null,null,null,null,null,null,null,null,null,null,null,null,null,null,null,null,null,null,null,null,null,null,"Terrain  ",30,"","","","",0,0]
[null,null,null,null,null,null,null,null,null,null,null,null,null,null,null,null,null,null,null,null,null,null,null,null,null,null,null,null,null,null,null,null,null,null,null,null,null,null,null,null,null,null,null,null,null,null,null,null,null,null,null,null,null,null,null,null,null,null,null,null,null,null,null,null,null,null,null,null,"Terrain  ",31,"","","","",0,0]
[null,null,null,null,null,null,null,null,null,null,null,null,null,null,null,null,null,null,null,null,null,null,null,null,null,null,null,null,null,null,null,null,null,null,null,null,null,null,null,null,null,null,null,null,null,null,null,null,null,null,null,null,null,null,null,null,null,null,null,null,null,null,null,null,null,null,null,null,"Terrain  ",32,"","","","",0,0]
[null,null,null,null,null,null,null,null,null,null,null,null,null,null,null,null,null,null,null,null,null,null,null,null,null,null,null,null,null,null,null,null,null,null,null,null,null,null,null,null,null,null,null,null,null,null,null,null,null,null,null,null,null,null,null,null,null,null,null,null,null,null,null,null,null,null,null,null,"Terrain  ",{"$f":"B38","v":33},{"$f":"BB38","v":""},{"$f":"BD38","v":""},{"$f":"BF38","v":""},{"$f":"BH38","v":""},{"$f":"BI38","v":0},{"$f":"BJ38","v":0}]
[null,null,null,null,null,null,null,null,null,null,null,null,null,null,null,null,null,null,null,null,null,null,null,null,null,null,null,null,null,null,null,null,null,null,null,null,null,null,null,null,null,null,null,null,null,null,null,null,null,null,null,null,null,null,null,null,null,null,null,null,null,null,null,null,null,null,null,null,"Terrain  ",34,"","","","",0,0]
[null,null,null,null,null,null,null,null,null,null,null,null,null,null,null,null,null,null,null,null,null,null,null,null,null,null,null,null,null,null,null,null,null,null,null,null,null,null,null,null,null,null,null,null,null,null,null,null,null,null,null,null,null,null,null,null,null,null,null,null,null,null,null,null,null,null,null,null,"Terrain  ",35,"","","","",0,0]
[null,null,null,null,null,null,null,null,null,null,null,null,null,null,null,null,null,null,null,null,null,null,null,null,null,null,null,null,null,null,null,null,null,null,null,null,null,null,null,null,null,null,null,null,null,null,null,null,null,null,null,null,null,null,null,null,null,null,null,null,null,null,null,null,null,null,null,null,"Terrain  ",36,"","","","",0,0]
[null,null,null,null,null,null,null,null,null,null,null,null,null,null,null,null,null,null,null,null,null,null,null,null,null,null,null,null,null,null,null,null,null,null,null,null,null,null,null,null,null,null,null,null,null,null,null,null,null,null,null,null,null,null,null,null,null,null,null,null,null,null,null,null,null,null,null,null,"Terrain  ",37,"","","","",0,0]
[null,null,null,null,null,null,null,null,null,null,null,null,null,null,null,null,null,null,null,null,null,null,null,null,null,null,null,null,null,null,null,null,null,null,null,null,null,null,null,null,null,null,null,null,null,null,null,null,null,null,null,null,null,null,null,null,null,null,null,null,null,null,null,null,null,null,null,null,"Terrain  ",38,"","","","",0,0]
[null,null,null,null,null,null,null,null,null,null,null,null,null,null,null,null,null,null,null,null,null,null,null,null,null,null,null,null,null,null,null,null,null,null,null,null,null,null,null,null,null,null,null,null,null,null,null,null,null,null,null,null,null,null,null,null,null,null,null,null,null,null,null,null,null,null,null,null,"Terrain  ",39,"","","","",0,0]
[null,null,null,null,null,null,null,null,null,null,null,null,null,null,null,null,null,null,null,null,null,null,null,null,null,null,null,null,null,null,null,null,null,null,null,null,null,null,null,null,null,null,null,null,null,null,null,null,null,null,null,null,null,null,null,null,null,null,null,null,null,null,null,null,null,null,null,null,"Terrain  ",40,"","","","",0,0]
[null,null,null,null,null,null,null,null,null,null,null,null,null,null,null,null,null,null,null,null,null,null,null,null,null,null,null,null,null,null,null,null,null,null,null,null,null,null,null,null,null,null,null,null,null,null,null,null,null,null,null,null,null,null,null,null,null,null,null,null,null,null,null,null,null,null,null,null,"Terrain  ",41,"","","","",0,0]
[null,null,null,null,null,null,null,null,null,null,null,null,null,null,null,null,null,null,null,null,null,null,null,null,null,null,null,null,null,null,null,null,null,null,null,null,null,null,null,null,null,null,null,null,null,null,null,null,null,null,null,null,null,null,null,null,null,null,null,null,null,null,null,null,null,null,null,null,"Terrain  ",42,"","","","",0,0]
[null,null,null,null,null,null,null,null,null,null,null,null,null,null,null,null,null,null,null,null,null,null,null,null,null,null,null,null,null,null,null,null,null,null,null,null,null,null,null,null,null,null,null,null,null,null,null,null,null,null,null,null,null,null,null,null,null,null,null,null,null,null,null,null,null,null,null,null,"Terrain  ",43,"","","","",0,0]
[null,null,null,null,null,null,null,null,null,null,null,null,null,null,null,null,null,null,null,null,null,null,null,null,null,null,null,null,null,null,null,null,null,null,null,null,null,null,null,null,null,null,null,null,null,null,null,null,null,null,null,null,null,null,null,null,null,null,null,null,null,null,null,null,null,null,null,null,"Terrain  ",44,"","","","",0,0]
[null,null,null,null,null,null,null,null,null,null,null,null,null,null,null,null,null,null,null,null,null,null,null,null,null,null,null,null,null,null,null,null,null,null,null,null,null,null,null,null,null,null,null,null,null,null,null,null,null,null,null,null,null,null,null,null,null,null,null,null,null,null,null,null,null,null,null,null,"Terrain  ",45,"","","","",0,0]
[null,null,null,null,null,null,null,null,null,null,null,null,null,null,null,null,null,null,null,null,null,null,null,null,null,null,null,null,null,null,null,null,null,null,null,null,null,null,null,null,null,null,null,null,null,null,null,null,null,null,null,null,null,null,null,null,null,null,null,null,null,null,null,null,null,null,null,null,"Terrain  ",46,"","","","",0,0]
[null,null,null,null,null,null,null,null,null,null,null,null,null,null,null,null,null,null,null,null,null,null,null,null,null,null,null,null,null,null,null,null,null,null,null,null,null,null,null,null,null,null,null,null,null,null,null,null,null,null,null,null,null,null,null,null,null,null,null,null,null,null,null,null,null,null,null,null,"Terrain  ",47,"","","","",0,0]
[null,null,null,null,null,null,null,null,null,null,null,null,null,null,null,null,null,null,null,null,null,null,null,null,null,null,null,null,null,null,null,null,null,null,null,null,null,null,null,null,null,null,null,null,null,null,null,null,null,null,null,null,null,null,null,null,null,null,null,null,null,null,null,null,null,null,null,null,"Terrain  ",48,"","","","",0,0]
[null,null,null,null,null,null,null,null,null,null,null,null,null,null,null,null,null,null,null,null,null,null,null,null,null,null,null,null,null,null,null,null,null,null,null,null,null,null,null,null,null,null,null,null,null,null,null,null,null,null,null,null,null,null,null,null,null,null,null,null,null,null,null,null,null,null,null,null,"Terrain  ",49,"","","","",0,0]
[null,null,null,null,null,null,null,null,null,null,null,null,null,null,null,null,null,null,null,null,null,null,null,null,null,null,null,null,null,null,null,null,null,null,null,null,null,null,null,null,null,null,null,null,null,null,null,null,null,null,null,null,null,null,null,null,null,null,null,null,null,null,null,null,null,null,null,null,"Terrain  ",50,"","","","",0,0]
[null,null,null,null,null,null,null,null,null,null,null,null,null,null,null,null,null,null,null,null,null,null,null,null,null,null,null,null,null,null,null,null,null,null,null,null,null,null,null,null,null,null,null,null,null,null,null,null,null,null,null,null,null,null,null,null,null,null,null,null,null,null,null,null,null,null,null,null,"Terrain  ",51,"","","","",0,0]
[null,null,null,null,null,null,null,null,null,null,null,null,null,null,null,null,null,null,null,null,null,null,null,null,null,null,null,null,null,null,null,null,null,null,null,null,null,null,null,null,null,null,null,null,null,null,null,null,null,null,null,null,null,null,null,null,null,null,null,null,null,null,null,null,null,null,null,null,"Terrain  ",52,"","","","",0,0]
[null,null,null,null,null,null,null,null,null,null,null,null,null,null,null,null,null,null,null,null,null,null,null,null,null,null,null,null,null,null,null,null,null,null,null,null,null,null,null,null,null,null,null,null,null,null,null,null,null,null,null,null,null,null,null,null,null,null,null,null,null,null,null,null,null,null,null,null,"Terrain  ",53,"","","","",0,0]
[null,null,null,null,null,null,null,null,null,null,null,null,null,null,null,null,null,null,null,null,null,null,null,null,null,null,null,null,null,null,null,null,null,null,null,null,null,null,null,null,null,null,null,null,null,null,null,null,null,null,null,null,null,null,null,null,null,null,null,null,null,null,null,null,null,null,null,null,"Terrain  ",54,"","","","",0,0]
[null,null,null,null,null,null,null,null,null,null,null,null,null,null,null,null,null,null,null,null,null,null,null,null,null,null,null,null,null,null,null,null,null,null,null,null,null,null,null,null,null,null,null,null,null,null,null,null,null,null,null,null,null,null,null,null,null,null,null,null,null,null,null,null,null,null,null,null,"Terrain  ",55,"","","","",0,0]
[null,null,null,null,null,null,null,null,null,null,null,null,null,null,null,null,null,null,null,null,null,null,null,null,null,null,null,null,null,null,null,null,null,null,null,null,null,null,null,null,null,null,null,null,null,null,null,null,null,null,null,null,null,null,null,null,null,null,null,null,null,null,null,null,null,null,null,null,"Terrain  ",56,"","","","",0,0]
[null,null,null,null,null,null,null,null,null,null,null,null,null,null,null,null,null,null,null,null,null,null,null,null,null,null,null,null,null,null,null,null,null,null,null,null,null,null,null,null,null,null,null,null,null,null,null,null,null,null,null,null,null,null,null,null,null,null,null,null,null,null,null,null,null,null,null,null,"Terrain  ",57,"","","","",0,0]
[null,null,null,null,null,null,null,null,null,null,null,null,null,null,null,null,null,null,null,null,null,null,null,null,null,null,null,null,null,null,null,null,null,null,null,null,null,null,null,null,null,null,null,null,null,null,null,null,null,null,null,null,null,null,null,null,null,null,null,null,null,null,null,null,null,null,null,null,"Terrain  ",58,"","","","",0,0]
[null,null,null,null,null,null,null,null,null,null,null,null,null,null,null,null,null,null,null,null,null,null,null,null,null,null,null,null,null,null,null,null,null,null,null,null,null,null,null,null,null,null,null,null,null,null,null,null,null,null,null,null,null,null,null,null,null,null,null,null,null,null,null,null,null,null,null,null,"Terrain  ",59,"","","","",0,0]
[null,null,null,null,null,null,null,null,null,null,null,null,null,null,null,null,null,null,null,null,null,null,null,null,null,null,null,null,null,null,null,null,null,null,null,null,null,null,null,null,null,null,null,null,null,null,null,null,null,null,null,null,null,null,null,null,null,null,null,null,null,null,null,null,null,null,null,null,"Terrain  ",60,"","","","",0,0]
[null,null,null,null,null,null,null,null,null,null,null,null,null,null,null,null,null,null,null,null,null,null,null,null,null,null,null,null,null,null,null,null,null,null,null,null,null,null,null,null,null,null,null,null,null,null,null,null,null,null,null,null,null,null,null,null,null,null,null,null,null,null,null,null,null,null,null,null,"Terrain  ",61,"","","","",0,0]
[null,null,null,null,null,null,null,null,null,null,null,null,null,null,null,null,null,null,null,null,null,null,null,null,null,null,null,null,null,null,null,null,null,null,null,null,null,null,null,null,null,null,null,null,null,null,null,null,null,null,null,null,null,null,null,null,null,null,null,null,null,null,null,null,null,null,null,null,"Terrain  ",62,"","","","",0,0]
[null,null,null,null,null,null,null,null,null,null,null,null,null,null,null,null,null,null,null,null,null,null,null,null,null,null,null,null,null,null,null,null,null,null,null,null,null,null,null,null,null,null,null,null,null,null,null,null,null,null,null,null,null,null,null,null,null,null,null,null,null,null,null,null,null,null,null,null,"Terrain  ",63,"","","","",0,0]
[null,null,null,null,null,null,null,null,null,null,null,null,null,null,null,null,null,null,null,null,null,null,null,null,null,null,null,null,null,null,null,null,null,null,null,null,null,null,null,null,null,null,null,null,null,null,null,null,null,null,null,null,null,null,null,null,null,null,null,null,null,null,null,null,null,null,null,null,"Terrain  ",64,"","","","",0,0]

{"sheet":"tableau","index":7,"n_rows":221,"n_cols":18,"rows_kept":221,"cut":false,"hidden":false,"merged":[[187,0,187,17],[2,0,2,17],[39,0,39,17],[76,0,76,17],[113,0,113,17],[150,0,150,17]]}
[null,null,null,null,"Plein  écran"]
[null,null,null,null,"Fermer  Plein  écran"]
["                                     1ER    tOUR                                                                    1ER    tOUR"]
["Terrain",null,null,null,null,null,null,null,null,"Terrain"]
[{"$f":"'66_128 eq'!B6","v":1},{"$f":"'66_128 eq'!C6","v":0},{"$f":"'66_128 eq'!D6","v":""},null,{"$f":"'66_128 eq'!F6","v":""},{"$f":"'66_128 eq'!G6","v":0},{"$f":"'66_128 eq'!H6","v":""},null,{"$f":"'66_128 eq'!J6","v":""},{"$f":"'66_128 eq'!B38","v":33},{"$f":"'66_128 eq'!C38","v":0},{"$f":"'66_128 eq'!D38","v":""},null,{"$f":"'66_128 eq'!F38","v":""},{"$f":"'66_128 eq'!G38","v":0},{"$f":"'66_128 eq'!H38","v":""},{"$f":"'66_128 eq'!I38","v":0},{"$f":"'66_128 eq'!J38","v":""}]
[{"$f":"'66_128 eq'!B7","v":2},{"$f":"'66_128 eq'!C7","v":0},{"$f":"'66_128 eq'!D7","v":""},null,{"$f":"'66_128 eq'!F7","v":""},{"$f":"'66_128 eq'!G7","v":0},{"$f":"'66_128 eq'!H7","v":""},null,{"$f":"'66_128 eq'!J7","v":""},{"$f":"'66_128 eq'!B39","v":34},{"$f":"'66_128 eq'!C39","v":0},{"$f":"'66_128 eq'!D39","v":""},null,{"$f":"'66_128 eq'!F39","v":""},{"$f":"'66_128 eq'!G39","v":0},{"$f":"'66_128 eq'!H39","v":""},{"$f":"'66_128 eq'!I39","v":0},{"$f":"'66_128 eq'!J39","v":""}]
[{"$f":"'66_128 eq'!B8","v":3},{"$f":"'66_128 eq'!C8","v":0},{"$f":"'66_128 eq'!D8","v":""},null,{"$f":"'66_128 eq'!F8","v":""},{"$f":"'66_128 eq'!G8","v":0},{"$f":"'66_128 eq'!H8","v":""},null,{"$f":"'66_128 eq'!J8","v":""},{"$f":"'66_128 eq'!B40","v":35},{"$f":"'66_128 eq'!C40","v":0},{"$f":"'66_128 eq'!D40","v":""},null,{"$f":"'66_128 eq'!F40","v":""},{"$f":"'66_128 eq'!G40","v":0},{"$f":"'66_128 eq'!H40","v":""},{"$f":"'66_128 eq'!I40","v":0},{"$f":"'66_128 eq'!J40","v":""}]
[{"$f":"'66_128 eq'!B9","v":4},{"$f":"'66_128 eq'!C9","v":0},{"$f":"'66_128 eq'!D9","v":""},null,{"$f":"'66_128 eq'!F9","v":""},{"$f":"'66_128 eq'!G9","v":0},{"$f":"'66_128 eq'!H9","v":""},null,{"$f":"'66_128 eq'!J9","v":""},{"$f":"'66_128 eq'!B41","v":36},{"$f":"'66_128 eq'!C41","v":0},{"$f":"'66_128 eq'!D41","v":""},null,{"$f":"'66_128 eq'!F41","v":""},{"$f":"'66_128 eq'!G41","v":0},{"$f":"'66_128 eq'!H41","v":""},{"$f":"'66_128 eq'!I41","v":0},{"$f":"'66_128 eq'!J41","v":""}]
[{"$f":"'66_128 eq'!B10","v":5},{"$f":"'66_128 eq'!C10","v":0},{"$f":"'66_128 eq'!D10","v":""},null,{"$f":"'66_128 eq'!F10","v":""},{"$f":"'66_128 eq'!G10","v":0},{"$f":"'66_128 eq'!H10","v":""},null,{"$f":"'66_128 eq'!J10","v":""},{"$f":"'66_128 eq'!B42","v":37},{"$f":"'66_128 eq'!C42","v":0},{"$f":"'66_128 eq'!D42","v":""},null,{"$f":"'66_128 eq'!F42","v":""},{"$f":"'66_128 eq'!G42","v":0},{"$f":"'66_128 eq'!H42","v":""},{"$f":"'66_128 eq'!I42","v":0},{"$f":"'66_128 eq'!J42","v":""}]
[{"$f":"'66_128 eq'!B11","v":6},{"$f":"'66_128 eq'!C11","v":0},{"$f":"'66_128 eq'!D11","v":""},null,{"$f":"'66_128 eq'!F11","v":""},{"$f":"'66_128 eq'!G11","v":0},{"$f":"'66_128 eq'!H11","v":""},null,{"$f":"'66_128 eq'!J11","v":""},{"$f":"'66_128 eq'!B43","v":38},{"$f":"'66_128 eq'!C43","v":0},{"$f":"'66_128 eq'!D43","v":""},null,{"$f":"'66_128 eq'!F43","v":""},{"$f":"'66_128 eq'!G43","v":0},{"$f":"'66_128 eq'!H43","v":""},{"$f":"'66_128 eq'!I43","v":0},{"$f":"'66_128 eq'!J43","v":""}]
[{"$f":"'66_128 eq'!B12","v":7},{"$f":"'66_128 eq'!C12","v":0},{"$f":"'66_128 eq'!D12","v":""},null,{"$f":"'66_128 eq'!F12","v":""},{"$f":"'66_128 eq'!G12","v":0},{"$f":"'66_128 eq'!H12","v":""},null,{"$f":"'66_128 eq'!J12","v":""},{"$f":"'66_128 eq'!B44","v":39},{"$f":"'66_128 eq'!C44","v":0},{"$f":"'66_128 eq'!D44","v":""},null,{"$f":"'66_128 eq'!F44","v":""},{"$f":"'66_128 eq'!G44","v":0},{"$f":"'66_128 eq'!H44","v":""},{"$f":"'66_128 eq'!I44","v":0},{"$f":"'66_128 eq'!J44","v":""}]
[{"$f":"'66_128 eq'!B13","v":8},{"$f":"'66_128 eq'!C13","v":0},{"$f":"'66_128 eq'!D13","v":""},null,{"$f":"'66_128 eq'!F13","v":""},{"$f":"'66_128 eq'!G13","v":0},{"$f":"'66_128 eq'!H13","v":""},null,{"$f":"'66_128 eq'!J13","v":""},{"$f":"'66_128 eq'!B45","v":40},{"$f":"'66_128 eq'!C45","v":0},{"$f":"'66_128 eq'!D45","v":""},null,{"$f":"'66_128 eq'!F45","v":""},{"$f":"'66_128 eq'!G45","v":0},{"$f":"'66_128 eq'!H45","v":""},{"$f":"'66_128 eq'!I45","v":0},{"$f":"'66_128 eq'!J45","v":""}]
[{"$f":"'66_128 eq'!B14","v":9},{"$f":"'66_128 eq'!C14","v":0},{"$f":"'66_128 eq'!D14","v":""},null,{"$f":"'66_128 eq'!F14","v":""},{"$f":"'66_128 eq'!G14","v":0},{"$f":"'66_128 eq'!H14","v":""},null,{"$f":"'66_128 eq'!J14","v":""},{"$f":"'66_128 eq'!B46","v":41},{"$f":"'66_128 eq'!C46","v":0},{"$f":"'66_128 eq'!D46","v":""},null,{"$f":"'66_128 eq'!F46","v":""},{"$f":"'66_128 eq'!G46","v":0},{"$f":"'66_128 eq'!H46","v":""},{"$f":"'66_128 eq'!I46","v":0},{"$f":"'66_128 eq'!J46","v":""}]
[{"$f":"'66_128 eq'!B15","v":10},{"$f":"'66_128 eq'!C15","v":0},{"$f":"'66_128 eq'!D15","v":""},null,{"$f":"'66_128 eq'!F15","v":""},{"$f":"'66_128 eq'!G15","v":0},{"$f":"'66_128 eq'!H15","v":""},null,{"$f":"'66_128 eq'!J15","v":""},{"$f":"'66_128 eq'!B47","v":42},{"$f":"'66_128 eq'!C47","v":0},{"$f":"'66_128 eq'!D47","v":""},null,{"$f":"'66_128 eq'!F47","v":""},{"$f":"'66_128 eq'!G47","v":0},{"$f":"'66_128 eq'!H47","v":""},{"$f":"'66_128 eq'!I47","v":0},{"$f":"'66_128 eq'!J47","v":""}]
[{"$f":"'66_128 eq'!B16","v":11},{"$f":"'66_128 eq'!C16","v":0},{"$f":"'66_128 eq'!D16","v":""},null,{"$f":"'66_128 eq'!F16","v":""},{"$f":"'66_128 eq'!G16","v":0},{"$f":"'66_128 eq'!H16","v":""},null,{"$f":"'66_128 eq'!J16","v":""},{"$f":"'66_128 eq'!B48","v":43},{"$f":"'66_128 eq'!C48","v":0},{"$f":"'66_128 eq'!D48","v":""},null,{"$f":"'66_128 eq'!F48","v":""},{"$f":"'66_128 eq'!G48","v":0},{"$f":"'66_128 eq'!H48","v":""},{"$f":"'66_128 eq'!I48","v":0},{"$f":"'66_128 eq'!J48","v":""}]
[{"$f":"'66_128 eq'!B17","v":12},{"$f":"'66_128 eq'!C17","v":0},{"$f":"'66_128 eq'!D17","v":""},null,{"$f":"'66_128 eq'!F17","v":""},{"$f":"'66_128 eq'!G17","v":0},{"$f":"'66_128 eq'!H17","v":""},null,{"$f":"'66_128 eq'!J17","v":""},{"$f":"'66_128 eq'!B49","v":44},{"$f":"'66_128 eq'!C49","v":0},{"$f":"'66_128 eq'!D49","v":""},null,{"$f":"'66_128 eq'!F49","v":""},{"$f":"'66_128 eq'!G49","v":0},{"$f":"'66_128 eq'!H49","v":""},{"$f":"'66_128 eq'!I49","v":0},{"$f":"'66_128 eq'!J49","v":""}]
[{"$f":"'66_128 eq'!B18","v":13},{"$f":"'66_128 eq'!C18","v":0},{"$f":"'66_128 eq'!D18","v":""},null,{"$f":"'66_128 eq'!F18","v":""},{"$f":"'66_128 eq'!G18","v":0},{"$f":"'66_128 eq'!H18","v":""},null,{"$f":"'66_128 eq'!J18","v":""},{"$f":"'66_128 eq'!B50","v":45},{"$f":"'66_128 eq'!C50","v":0},{"$f":"'66_128 eq'!D50","v":""},null,{"$f":"'66_128 eq'!F50","v":""},{"$f":"'66_128 eq'!G50","v":0},{"$f":"'66_128 eq'!H50","v":""},{"$f":"'66_128 eq'!I50","v":0},{"$f":"'66_128 eq'!J50","v":""}]
[{"$f":"'66_128 eq'!B19","v":14},{"$f":"'66_128 eq'!C19","v":0},{"$f":"'66_128 eq'!D19","v":""},null,{"$f":"'66_128 eq'!F19","v":""},{"$f":"'66_128 eq'!G19","v":0},{"$f":"'66_128 eq'!H19","v":""},null,{"$f":"'66_128 eq'!J19","v":""},{"$f":"'66_128 eq'!B51","v":46},{"$f":"'66_128 eq'!C51","v":0},{"$f":"'66_128 eq'!D51","v":""},null,{"$f":"'66_128 eq'!F51","v":""},{"$f":"'66_128 eq'!G51","v":0},{"$f":"'66_128 eq'!H51","v":""},{"$f":"'66_128 eq'!I51","v":0},{"$f":"'66_128 eq'!J51","v":""}]
[{"$f":"'66_128 eq'!B20","v":15},{"$f":"'66_128 eq'!C20","v":0},{"$f":"'66_128 eq'!D20","v":""},null,{"$f":"'66_128 eq'!F20","v":""},{"$f":"'66_128 eq'!G20","v":0},{"$f":"'66_128 eq'!H20","v":""},null,{"$f":"'66_128 eq'!J20","v":""},{"$f":"'66_128 eq'!B52","v":47},{"$f":"'66_128 eq'!C52","v":0},{"$f":"'66_128 eq'!D52","v":""},null,{"$f":"'66_128 eq'!F52","v":""},{"$f":"'66_128 eq'!G52","v":0},{"$f":"'66_128 eq'!H52","v":""},{"$f":"'66_128 eq'!I52","v":0},{"$f":"'66_128 eq'!J52","v":""}]
[{"$f":"'66_128 eq'!B21","v":16},{"$f":"'66_128 eq'!C21","v":0},{"$f":"'66_128 eq'!D21","v":""},null,{"$f":"'66_128 eq'!F21","v":""},{"$f":"'66_128 eq'!G21","v":0},{"$f":"'66_128 eq'!H21","v":""},null,{"$f":"'66_128 eq'!J21","v":""},{"$f":"'66_128 eq'!B53","v":48},{"$f":"'66_128 eq'!C53","v":0},{"$f":"'66_128 eq'!D53","v":""},null,{"$f":"'66_128 eq'!F53","v":""},{"$f":"'66_128 eq'!G53","v":0},{"$f":"'66_128 eq'!H53","v":""},{"$f":"'66_128 eq'!I53","v":0},{"$f":"'66_128 eq'!J53","v":""}]
[{"$f":"'66_128 eq'!B22","v":17},{"$f":"'66_128 eq'!C22","v":0},{"$f":"'66_128 eq'!D22","v":""},null,{"$f":"'66_128 eq'!F22","v":""},{"$f":"'66_128 eq'!G22","v":0},{"$f":"'66_128 eq'!H22","v":""},null,{"$f":"'66_128 eq'!J22","v":""},{"$f":"'66_128 eq'!B54","v":49},{"$f":"'66_128 eq'!C54","v":0},{"$f":"'66_128 eq'!D54","v":""},null,{"$f":"'66_128 eq'!F54","v":""},{"$f":"'66_128 eq'!G54","v":0},{"$f":"'66_128 eq'!H54","v":""},{"$f":"'66_128 eq'!I54","v":0},{"$f":"'66_128 eq'!J54","v":""}]
[{"$f":"'66_128 eq'!B23","v":18},{"$f":"'66_128 eq'!C23","v":0},{"$f":"'66_128 eq'!D23","v":""},null,{"$f":"'66_128 eq'!F23","v":""},{"$f":"'66_128 eq'!G23","v":0},{"$f":"'66_128 eq'!H23","v":""},null,{"$f":"'66_128 eq'!J23","v":""},{"$f":"'66_128 eq'!B55","v":50},{"$f":"'66_128 eq'!C55","v":0},{"$f":"'66_128 eq'!D55","v":""},null,{"$f":"'66_128 eq'!F55","v":""},{"$f":"'66_128 eq'!G55","v":0},{"$f":"'66_128 eq'!H55","v":""},{"$f":"'66_128 eq'!I55","v":0},{"$f":"'66_128 eq'!J55","v":""}]
[{"$f":"'66_128 eq'!B24","v":19},{"$f":"'66_128 eq'!C24","v":0},{"$f":"'66_128 eq'!D24","v":""},null,{"$f":"'66_128 eq'!F24","v":""},{"$f":"'66_128 eq'!G24","v":0},{"$f":"'66_128 eq'!H24","v":""},null,{"$f":"'66_128 eq'!J24","v":""},{"$f":"'66_128 eq'!B56","v":51},{"$f":"'66_128 eq'!C56","v":0},{"$f":"'66_128 eq'!D56","v":""},null,{"$f":"'66_128 eq'!F56","v":""},{"$f":"'66_128 eq'!G56","v":0},{"$f":"'66_128 eq'!H56","v":""},{"$f":"'66_128 eq'!I56","v":0},{"$f":"'66_128 eq'!J56","v":""}]
[{"$f":"'66_128 eq'!B25","v":20},{"$f":"'66_128 eq'!C25","v":0},{"$f":"'66_128 eq'!D25","v":""},null,{"$f":"'66_128 eq'!F25","v":""},{"$f":"'66_128 eq'!G25","v":0},{"$f":"'66_128 eq'!H25","v":""},null,{"$f":"'66_128 eq'!J25","v":""},{"$f":"'66_128 eq'!B57","v":52},{"$f":"'66_128 eq'!C57","v":0},{"$f":"'66_128 eq'!D57","v":""},null,{"$f":"'66_128 eq'!F57","v":""},{"$f":"'66_128 eq'!G57","v":0},{"$f":"'66_128 eq'!H57","v":""},{"$f":"'66_128 eq'!I57","v":0},{"$f":"'66_128 eq'!J57","v":""}]
[{"$f":"'66_128 eq'!B26","v":21},{"$f":"'66_128 eq'!C26","v":0},{"$f":"'66_128 eq'!D26","v":""},null,{"$f":"'66_128 eq'!F26","v":""},{"$f":"'66_128 eq'!G26","v":0},{"$f":"'66_128 eq'!H26","v":""},null,{"$f":"'66_128 eq'!J26","v":""},{"$f":"'66_128 eq'!B58","v":53},{"$f":"'66_128 eq'!C58","v":0},{"$f":"'66_128 eq'!D58","v":""},null,{"$f":"'66_128 eq'!F58","v":""},{"$f":"'66_128 eq'!G58","v":0},{"$f":"'66_128 eq'!H58","v":""},{"$f":"'66_128 eq'!I58","v":0},{"$f":"'66_128 eq'!J58","v":""}]
[{"$f":"'66_128 eq'!B27","v":22},{"$f":"'66_128 eq'!C27","v":0},{"$f":"'66_128 eq'!D27","v":""},null,{"$f":"'66_128 eq'!F27","v":""},{"$f":"'66_128 eq'!G27","v":0},{"$f":"'66_128 eq'!H27","v":""},null,{"$f":"'66_128 eq'!J27","v":""},{"$f":"'66_128 eq'!B59","v":54},{"$f":"'66_128 eq'!C59","v":0},{"$f":"'66_128 eq'!D59","v":""},null,{"$f":"'66_128 eq'!F59","v":""},{"$f":"'66_128 eq'!G59","v":0},{"$f":"'66_128 eq'!H59","v":""},{"$f":"'66_128 eq'!I59","v":0},{"$f":"'66_128 eq'!J59","v":""}]
[{"$f":"'66_128 eq'!B28","v":23},{"$f":"'66_128 eq'!C28","v":0},{"$f":"'66_128 eq'!D28","v":""},null,{"$f":"'66_128 eq'!F28","v":""},{"$f":"'66_128 eq'!G28","v":0},{"$f":"'66_128 eq'!H28","v":""},null,{"$f":"'66_128 eq'!J28","v":""},{"$f":"'66_128 eq'!B60","v":55},{"$f":"'66_128 eq'!C60","v":0},{"$f":"'66_128 eq'!D60","v":""},null,{"$f":"'66_128 eq'!F60","v":""},{"$f":"'66_128 eq'!G60","v":0},{"$f":"'66_128 eq'!H60","v":""},{"$f":"'66_128 eq'!I60","v":0},{"$f":"'66_128 eq'!J60","v":""}]
[{"$f":"'66_128 eq'!B29","v":24},{"$f":"'66_128 eq'!C29","v":0},{"$f":"'66_128 eq'!D29","v":""},null,{"$f":"'66_128 eq'!F29","v":""},{"$f":"'66_128 eq'!G29","v":0},{"$f":"'66_128 eq'!H29","v":""},null,{"$f":"'66_128 eq'!J29","v":""},{"$f":"'66_128 eq'!B61","v":56},{"$f":"'66_128 eq'!C61","v":0},{"$f":"'66_128 eq'!D61","v":""},null,{"$f":"'66_128 eq'!F61","v":""},{"$f":"'66_128 eq'!G61","v":0},{"$f":"'66_128 eq'!H61","v":""},{"$f":"'66_128 eq'!I61","v":0},{"$f":"'66_128 eq'!J61","v":""}]
[{"$f":"'66_128 eq'!B30","v":25},{"$f":"'66_128 eq'!C30","v":0},{"$f":"'66_128 eq'!D30","v":""},null,{"$f":"'66_128 eq'!F30","v":""},{"$f":"'66_128 eq'!G30","v":0},{"$f":"'66_128 eq'!H30","v":""},null,{"$f":"'66_128 eq'!J30","v":""},{"$f":"'66_128 eq'!B62","v":57},{"$f":"'66_128 eq'!C62","v":0},{"$f":"'66_128 eq'!D62","v":""},null,{"$f":"'66_128 eq'!F62","v":""},{"$f":"'66_128 eq'!G62","v":0},{"$f":"'66_128 eq'!H62","v":""},{"$f":"'66_128 eq'!I62","v":0},{"$f":"'66_128 eq'!J62","v":""}]
[{"$f":"'66_128 eq'!B31","v":26},{"$f":"'66_128 eq'!C31","v":0},{"$f":"'66_128 eq'!D31","v":""},null,{"$f":"'66_128 eq'!F31","v":""},{"$f":"'66_128 eq'!G31","v":0},{"$f":"'66_128 eq'!H31","v":""},null,{"$f":"'66_128 eq'!J31","v":""},{"$f":"'66_128 eq'!B63","v":58},{"$f":"'66_128 eq'!C63","v":0},{"$f":"'66_128 eq'!D63","v":""},null,{"$f":"'66_128 eq'!F63","v":""},{"$f":"'66_128 eq'!G63","v":0},{"$f":"'66_128 eq'!H63","v":""},{"$f":"'66_128 eq'!I63","v":0},{"$f":"'66_128 eq'!J63","v":""}]
[{"$f":"'66_128 eq'!B32","v":27},{"$f":"'66_128 eq'!C32","v":0},{"$f":"'66_128 eq'!D32","v":""},null,{"$f":"'66_128 eq'!F32","v":""},{"$f":"'66_128 eq'!G32","v":0},{"$f":"'66_128 eq'!H32","v":""},null,{"$f":"'66_128 eq'!J32","v":""},{"$f":"'66_128 eq'!B64","v":59},{"$f":"'66_128 eq'!C64","v":0},{"$f":"'66_128 eq'!D64","v":""},null,{"$f":"'66_128 eq'!F64","v":""},{"$f":"'66_128 eq'!G64","v":0},{"$f":"'66_128 eq'!H64","v":""},{"$f":"'66_128 eq'!I64","v":0},{"$f":"'66_128 eq'!J64","v":""}]
[{"$f":"'66_128 eq'!B33","v":28},{"$f":"'66_128 eq'!C33","v":0},{"$f":"'66_128 eq'!D33","v":""},null,{"$f":"'66_128 eq'!F33","v":""},{"$f":"'66_128 eq'!G33","v":0},{"$f":"'66_128 eq'!H33","v":""},null,{"$f":"'66_128 eq'!J33","v":""},{"$f":"'66_128 eq'!B65","v":60},{"$f":"'66_128 eq'!C65","v":0},{"$f":"'66_128 eq'!D65","v":""},null,{"$f":"'66_128 eq'!F65","v":""},{"$f":"'66_128 eq'!G65","v":0},{"$f":"'66_128 eq'!H65","v":""},{"$f":"'66_128 eq'!I65","v":0},{"$f":"'66_128 eq'!J65","v":""}]
[{"$f":"'66_128 eq'!B34","v":29},{"$f":"'66_128 eq'!C34","v":0},{"$f":"'66_128 eq'!D34","v":""},null,{"$f":"'66_128 eq'!F34","v":""},{"$f":"'66_128 eq'!G34","v":0},{"$f":"'66_128 eq'!H34","v":""},null,{"$f":"'66_128 eq'!J34","v":""},{"$f":"'66_128 eq'!B66","v":61},{"$f":"'66_128 eq'!C66","v":0},{"$f":"'66_128 eq'!D66","v":""},null,{"$f":"'66_128 eq'!F66","v":""},{"$f":"'66_128 eq'!G66","v":0},{"$f":"'66_128 eq'!H66","v":""},{"$f":"'66_128 eq'!I66","v":0},{"$f":"'66_128 eq'!J66","v":""}]
[{"$f":"'66_128 eq'!B35","v":30},{"$f":"'66_128 eq'!C35","v":0},{"$f":"'66_128 eq'!D35","v":""},null,{"$f":"'66_128 eq'!F35","v":""},{"$f":"'66_128 eq'!G35","v":0},{"$f":"'66_128 eq'!H35","v":""},null,{"$f":"'66_128 eq'!J35","v":""},{"$f":"'66_128 eq'!B67","v":62},{"$f":"'66_128 eq'!C67","v":0},{"$f":"'66_128 eq'!D67","v":""},null,{"$f":"'66_128 eq'!F67","v":""},{"$f":"'66_128 eq'!G67","v":0},{"$f":"'66_128 eq'!H67","v":""},{"$f":"'66_128 eq'!I67","v":0},{"$f":"'66_128 eq'!J67","v":""}]
[{"$f":"'66_128 eq'!B36","v":31},{"$f":"'66_128 eq'!C36","v":0},{"$f":"'66_128 eq'!D36","v":""},null,{"$f":"'66_128 eq'!F36","v":""},{"$f":"'66_128 eq'!G36","v":0},{"$f":"'66_128 eq'!H36","v":""},null,{"$f":"'66_128 eq'!J36","v":""},{"$f":"'66_128 eq'!B68","v":63},{"$f":"'66_128 eq'!C68","v":0},{"$f":"'66_128 eq'!D68","v":""},null,{"$f":"'66_128 eq'!F68","v":""},{"$f":"'66_128 eq'!G68","v":0},{"$f":"'66_128 eq'!H68","v":""},{"$f":"'66_128 eq'!I68","v":0},{"$f":"'66_128 eq'!J68","v":""}]
[{"$f":"'66_128 eq'!B37","v":32},{"$f":"'66_128 eq'!C37","v":0},{"$f":"'66_128 eq'!D37","v":""},null,{"$f":"'66_128 eq'!F37","v":""},{"$f":"'66_128 eq'!G37","v":0},{"$f":"'66_128 eq'!H37","v":""},null,{"$f":"'66_128 eq'!J37","v":""},{"$f":"'66_128 eq'!B69","v":64},{"$f":"'66_128 eq'!C69","v":0},{"$f":"'66_128 eq'!D69","v":""},null,{"$f":"'66_128 eq'!F69","v":""},{"$f":"'66_128 eq'!G69","v":0},{"$f":"'66_128 eq'!H69","v":""},{"$f":"'66_128 eq'!I69","v":0},{"$f":"'66_128 eq'!J69","v":""}]
[]
[null,null,null,null,null,null,null,null,null,null,null,null,null,"Tour 2"]
[]
["                                        2 è  tOUR                                                                    2 è    tOUR"]
["Terrain",null,null,null,null,null,null,null,null,"Terrain"]
[{"$f":"'66_128 eq'!B6","v":1},{"$f":"'66_128 eq'!M6","v":0},{"$f":"'66_128 eq'!N6","v":""},null,{"$f":"'66_128 eq'!P6","v":""},{"$f":"'66_128 eq'!Q6","v":0},{"$f":"'66_128 eq'!R6","v":""},null,{"$f":"'66_128 eq'!T6","v":""},{"$f":"'66_128 eq'!B38","v":33},{"$f":"'66_128 eq'!M38","v":0},{"$f":"'66_128 eq'!N38","v":""},null,{"$f":"'66_128 eq'!P38","v":""},{"$f":"'66_128 eq'!Q38","v":0},{"$f":"'66_128 eq'!R38","v":""},{"$f":"'66_128 eq'!I75","v":0},{"$f":"'66_128 eq'!T38","v":""}]
[{"$f":"'66_128 eq'!B7","v":2},{"$f":"'66_128 eq'!M7","v":0},{"$f":"'66_128 eq'!N7","v":""},null,{"$f":"'66_128 eq'!P7","v":""},{"$f":"'66_128 eq'!Q7","v":0},{"$f":"'66_128 eq'!R7","v":""},null,{"$f":"'66_128 eq'!T7","v":""},{"$f":"'66_128 eq'!B39","v":34},{"$f":"'66_128 eq'!M39","v":0},{"$f":"'66_128 eq'!N39","v":""},null,{"$f":"'66_128 eq'!P39","v":""},{"$f":"'66_128 eq'!Q39","v":0},{"$f":"'66_128 eq'!R39","v":""},{"$f":"'66_128 eq'!I76","v":0},{"$f":"'66_128 eq'!T39","v":""}]
[{"$f":"'66_128 eq'!B8","v":3},{"$f":"'66_128 eq'!M8","v":0},{"$f":"'66_128 eq'!N8","v":""},null,{"$f":"'66_128 eq'!P8","v":""},{"$f":"'66_128 eq'!Q8","v":0},{"$f":"'66_128 eq'!R8","v":""},null,{"$f":"'66_128 eq'!T8","v":""},{"$f":"'66_128 eq'!B40","v":35},{"$f":"'66_128 eq'!M40","v":0},{"$f":"'66_128 eq'!N40","v":""},null,{"$f":"'66_128 eq'!P40","v":""},{"$f":"'66_128 eq'!Q40","v":0},{"$f":"'66_128 eq'!R40","v":""},{"$f":"'66_128 eq'!I77","v":0},{"$f":"'66_128 eq'!T40","v":""}]
[{"$f":"'66_128 eq'!B9","v":4},{"$f":"'66_128 eq'!M9","v":0},{"$f":"'66_128 eq'!N9","v":""},null,{"$f":"'66_128 eq'!P9","v":""},{"$f":"'66_128 eq'!Q9","v":0},{"$f":"'66_128 eq'!R9","v":""},null,{"$f":"'66_128 eq'!T9","v":""},{"$f":"'66_128 eq'!B41","v":36},{"$f":"'66_128 eq'!M41","v":0},{"$f":"'66_128 eq'!N41","v":""},null,{"$f":"'66_128 eq'!P41","v":""},{"$f":"'66_128 eq'!Q41","v":0},{"$f":"'66_128 eq'!R41","v":""},{"$f":"'66_128 eq'!I78","v":0},{"$f":"'66_128 eq'!T41","v":""}]
[{"$f":"'66_128 eq'!B10","v":5},{"$f":"'66_128 eq'!M10","v":0},{"$f":"'66_128 eq'!N10","v":""},null,{"$f":"'66_128 eq'!P10","v":""},{"$f":"'66_128 eq'!Q10","v":0},{"$f":"'66_128 eq'!R10","v":""},null,{"$f":"'66_128 eq'!T10","v":""},{"$f":"'66_128 eq'!B42","v":37},{"$f":"'66_128 eq'!M42","v":0},{"$f":"'66_128 eq'!N42","v":""},null,{"$f":"'66_128 eq'!P42","v":""},{"$f":"'66_128 eq'!Q42","v":0},{"$f":"'66_128 eq'!R42","v":""},{"$f":"'66_128 eq'!I79","v":0},{"$f":"'66_128 eq'!T42","v":""}]
[{"$f":"'66_128 eq'!B11","v":6},{"$f":"'66_128 eq'!M11","v":0},{"$f":"'66_128 eq'!N11","v":""},null,{"$f":"'66_128 eq'!P11","v":""},{"$f":"'66_128 eq'!Q11","v":0},{"$f":"'66_128 eq'!R11","v":""},null,{"$f":"'66_128 eq'!T11","v":""},{"$f":"'66_128 eq'!B43","v":38},{"$f":"'66_128 eq'!M43","v":0},{"$f":"'66_128 eq'!N43","v":""},null,{"$f":"'66_128 eq'!P43","v":""},{"$f":"'66_128 eq'!Q43","v":0},{"$f":"'66_128 eq'!R43","v":""},{"$f":"'66_128 eq'!I80","v":0},{"$f":"'66_128 eq'!T43","v":""}]
[{"$f":"'66_128 eq'!B12","v":7},{"$f":"'66_128 eq'!M12","v":0},{"$f":"'66_128 eq'!N12","v":""},null,{"$f":"'66_128 eq'!P12","v":""},{"$f":"'66_128 eq'!Q12","v":0},{"$f":"'66_128 eq'!R12","v":""},null,{"$f":"'66_128 eq'!T12","v":""},{"$f":"'66_128 eq'!B44","v":39},{"$f":"'66_128 eq'!M44","v":0},{"$f":"'66_128 eq'!N44","v":""},null,{"$f":"'66_128 eq'!P44","v":""},{"$f":"'66_128 eq'!Q44","v":0},{"$f":"'66_128 eq'!R44","v":""},{"$f":"'66_128 eq'!I81","v":0},{"$f":"'66_128 eq'!T44","v":""}]
[{"$f":"'66_128 eq'!B13","v":8},{"$f":"'66_128 eq'!M13","v":0},{"$f":"'66_128 eq'!N13","v":""},null,{"$f":"'66_128 eq'!P13","v":""},{"$f":"'66_128 eq'!Q13","v":0},{"$f":"'66_128 eq'!R13","v":""},null,{"$f":"'66_128 eq'!T13","v":""},{"$f":"'66_128 eq'!B45","v":40},{"$f":"'66_128 eq'!M45","v":0},{"$f":"'66_128 eq'!N45","v":""},null,{"$f":"'66_128 eq'!P45","v":""},{"$f":"'66_128 eq'!Q45","v":0},{"$f":"'66_128 eq'!R45","v":""},{"$f":"'66_128 eq'!I82","v":0},{"$f":"'66_128 eq'!T45","v":""}]
[{"$f":"'66_128 eq'!B14","v":9},{"$f":"'66_128 eq'!M14","v":0},{"$f":"'66_128 eq'!N14","v":""},null,{"$f":"'66_128 eq'!P14","v":""},{"$f":"'66_128 eq'!Q14","v":0},{"$f":"'66_128 eq'!R14","v":""},null,{"$f":"'66_128 eq'!T14","v":""},{"$f":"'66_128 eq'!B46","v":41},{"$f":"'66_128 eq'!M46","v":0},{"$f":"'66_128 eq'!N46","v":""},null,{"$f":"'66_128 eq'!P46","v":""},{"$f":"'66_128 eq'!Q46","v":0},{"$f":"'66_128 eq'!R46","v":""},{"$f":"'66_128 eq'!I83","v":0},{"$f":"'66_128 eq'!T46","v":""}]
[{"$f":"'66_128 eq'!B15","v":10},{"$f":"'66_128 eq'!M15","v":0},{"$f":"'66_128 eq'!N15","v":""},null,{"$f":"'66_128 eq'!P15","v":""},{"$f":"'66_128 eq'!Q15","v":0},{"$f":"'66_128 eq'!R15","v":""},null,{"$f":"'66_128 eq'!T15","v":""},{"$f":"'66_128 eq'!B47","v":42},{"$f":"'66_128 eq'!M47","v":0},{"$f":"'66_128 eq'!N47","v":""},null,{"$f":"'66_128 eq'!P47","v":""},{"$f":"'66_128 eq'!Q47","v":0},{"$f":"'66_128 eq'!R47","v":""},{"$f":"'66_128 eq'!I84","v":0},{"$f":"'66_128 eq'!T47","v":""}]
[{"$f":"'66_128 eq'!B16","v":11},{"$f":"'66_128 eq'!M16","v":0},{"$f":"'66_128 eq'!N16","v":""},null,{"$f":"'66_128 eq'!P16","v":""},{"$f":"'66_128 eq'!Q16","v":0},{"$f":"'66_128 eq'!R16","v":""},null,{"$f":"'66_128 eq'!T16","v":""},{"$f":"'66_128 eq'!B48","v":43},{"$f":"'66_128 eq'!M48","v":0},{"$f":"'66_128 eq'!N48","v":""},null,{"$f":"'66_128 eq'!P48","v":""},{"$f":"'66_128 eq'!Q48","v":0},{"$f":"'66_128 eq'!R48","v":""},{"$f":"'66_128 eq'!I85","v":0},{"$f":"'66_128 eq'!T48","v":""}]
[{"$f":"'66_128 eq'!B17","v":12},{"$f":"'66_128 eq'!M17","v":0},{"$f":"'66_128 eq'!N17","v":""},null,{"$f":"'66_128 eq'!P17","v":""},{"$f":"'66_128 eq'!Q17","v":0},{"$f":"'66_128 eq'!R17","v":""},null,{"$f":"'66_128 eq'!T17","v":""},{"$f":"'66_128 eq'!B49","v":44},{"$f":"'66_128 eq'!M49","v":0},{"$f":"'66_128 eq'!N49","v":""},null,{"$f":"'66_128 eq'!P49","v":""},{"$f":"'66_128 eq'!Q49","v":0},{"$f":"'66_128 eq'!R49","v":""},{"$f":"'66_128 eq'!I86","v":0},{"$f":"'66_128 eq'!T49","v":""}]
[{"$f":"'66_128 eq'!B18","v":13},{"$f":"'66_128 eq'!M18","v":0},{"$f":"'66_128 eq'!N18","v":""},null,{"$f":"'66_128 eq'!P18","v":""},{"$f":"'66_128 eq'!Q18","v":0},{"$f":"'66_128 eq'!R18","v":""},null,{"$f":"'66_128 eq'!T18","v":""},{"$f":"'66_128 eq'!B50","v":45},{"$f":"'66_128 eq'!M50","v":0},{"$f":"'66_128 eq'!N50","v":""},null,{"$f":"'66_128 eq'!P50","v":""},{"$f":"'66_128 eq'!Q50","v":0},{"$f":"'66_128 eq'!R50","v":""},{"$f":"'66_128 eq'!I87","v":0},{"$f":"'66_128 eq'!T50","v":""}]
[{"$f":"'66_128 eq'!B19","v":14},{"$f":"'66_128 eq'!M19","v":0},{"$f":"'66_128 eq'!N19","v":""},null,{"$f":"'66_128 eq'!P19","v":""},{"$f":"'66_128 eq'!Q19","v":0},{"$f":"'66_128 eq'!R19","v":""},null,{"$f":"'66_128 eq'!T19","v":""},{"$f":"'66_128 eq'!B51","v":46},{"$f":"'66_128 eq'!M51","v":0},{"$f":"'66_128 eq'!N51","v":""},null,{"$f":"'66_128 eq'!P51","v":""},{"$f":"'66_128 eq'!Q51","v":0},{"$f":"'66_128 eq'!R51","v":""},{"$f":"'66_128 eq'!I88","v":0},{"$f":"'66_128 eq'!T51","v":""}]
[{"$f":"'66_128 eq'!B20","v":15},{"$f":"'66_128 eq'!M20","v":0},{"$f":"'66_128 eq'!N20","v":""},null,{"$f":"'66_128 eq'!P20","v":""},{"$f":"'66_128 eq'!Q20","v":0},{"$f":"'66_128 eq'!R20","v":""},null,{"$f":"'66_128 eq'!T20","v":""},{"$f":"'66_128 eq'!B52","v":47},{"$f":"'66_128 eq'!M52","v":0},{"$f":"'66_128 eq'!N52","v":""},null,{"$f":"'66_128 eq'!P52","v":""},{"$f":"'66_128 eq'!Q52","v":0},{"$f":"'66_128 eq'!R52","v":""},{"$f":"'66_128 eq'!I89","v":0},{"$f":"'66_128 eq'!T52","v":""}]
[{"$f":"'66_128 eq'!B21","v":16},{"$f":"'66_128 eq'!M21","v":0},{"$f":"'66_128 eq'!N21","v":""},null,{"$f":"'66_128 eq'!P21","v":""},{"$f":"'66_128 eq'!Q21","v":0},{"$f":"'66_128 eq'!R21","v":""},null,{"$f":"'66_128 eq'!T21","v":""},{"$f":"'66_128 eq'!B53","v":48},{"$f":"'66_128 eq'!M53","v":0},{"$f":"'66_128 eq'!N53","v":""},null,{"$f":"'66_128 eq'!P53","v":""},{"$f":"'66_128 eq'!Q53","v":0},{"$f":"'66_128 eq'!R53","v":""},{"$f":"'66_128 eq'!I90","v":0},{"$f":"'66_128 eq'!T53","v":""}]
[{"$f":"'66_128 eq'!B22","v":17},{"$f":"'66_128 eq'!M22","v":0},{"$f":"'66_128 eq'!N22","v":""},null,{"$f":"'66_128 eq'!P22","v":""},{"$f":"'66_128 eq'!Q22","v":0},{"$f":"'66_128 eq'!R22","v":""},null,{"$f":"'66_128 eq'!T22","v":""},{"$f":"'66_128 eq'!B54","v":49},{"$f":"'66_128 eq'!M54","v":0},{"$f":"'66_128 eq'!N54","v":""},null,{"$f":"'66_128 eq'!P54","v":""},{"$f":"'66_128 eq'!Q54","v":0},{"$f":"'66_128 eq'!R54","v":""},{"$f":"'66_128 eq'!I91","v":0},{"$f":"'66_128 eq'!T54","v":""}]
[{"$f":"'66_128 eq'!B23","v":18},{"$f":"'66_128 eq'!M23","v":0},{"$f":"'66_128 eq'!N23","v":""},null,{"$f":"'66_128 eq'!P23","v":""},{"$f":"'66_128 eq'!Q23","v":0},{"$f":"'66_128 eq'!R23","v":""},null,{"$f":"'66_128 eq'!T23","v":""},{"$f":"'66_128 eq'!B55","v":50},{"$f":"'66_128 eq'!M55","v":0},{"$f":"'66_128 eq'!N55","v":""},null,{"$f":"'66_128 eq'!P55","v":""},{"$f":"'66_128 eq'!Q55","v":0},{"$f":"'66_128 eq'!R55","v":""},{"$f":"'66_128 eq'!I92","v":0},{"$f":"'66_128 eq'!T55","v":""}]
[{"$f":"'66_128 eq'!B24","v":19},{"$f":"'66_128 eq'!M24","v":0},{"$f":"'66_128 eq'!N24","v":""},null,{"$f":"'66_128 eq'!P24","v":""},{"$f":"'66_128 eq'!Q24","v":0},{"$f":"'66_128 eq'!R24","v":""},null,{"$f":"'66_128 eq'!T24","v":""},{"$f":"'66_128 eq'!B56","v":51},{"$f":"'66_128 eq'!M56","v":0},{"$f":"'66_128 eq'!N56","v":""},null,{"$f":"'66_128 eq'!P56","v":""},{"$f":"'66_128 eq'!Q56","v":0},{"$f":"'66_128 eq'!R56","v":""},{"$f":"'66_128 eq'!I93","v":0},{"$f":"'66_128 eq'!T56","v":""}]
[{"$f":"'66_128 eq'!B25","v":20},{"$f":"'66_128 eq'!M25","v":0},{"$f":"'66_128 eq'!N25","v":""},null,{"$f":"'66_128 eq'!P25","v":""},{"$f":"'66_128 eq'!Q25","v":0},{"$f":"'66_128 eq'!R25","v":""},null,{"$f":"'66_128 eq'!T25","v":""},{"$f":"'66_128 eq'!B57","v":52},{"$f":"'66_128 eq'!M57","v":0},{"$f":"'66_128 eq'!N57","v":""},null,{"$f":"'66_128 eq'!P57","v":""},{"$f":"'66_128 eq'!Q57","v":0},{"$f":"'66_128 eq'!R57","v":""},{"$f":"'66_128 eq'!I94","v":0},{"$f":"'66_128 eq'!T57","v":""}]
[{"$f":"'66_128 eq'!B26","v":21},{"$f":"'66_128 eq'!M26","v":0},{"$f":"'66_128 eq'!N26","v":""},null,{"$f":"'66_128 eq'!P26","v":""},{"$f":"'66_128 eq'!Q26","v":0},{"$f":"'66_128 eq'!R26","v":""},null,{"$f":"'66_128 eq'!T26","v":""},{"$f":"'66_128 eq'!B58","v":53},{"$f":"'66_128 eq'!M58","v":0},{"$f":"'66_128 eq'!N58","v":""},null,{"$f":"'66_128 eq'!P58","v":""},{"$f":"'66_128 eq'!Q58","v":0},{"$f":"'66_128 eq'!R58","v":""},{"$f":"'66_128 eq'!I95","v":0},{"$f":"'66_128 eq'!T58","v":""}]
[{"$f":"'66_128 eq'!B27","v":22},{"$f":"'66_128 eq'!M27","v":0},{"$f":"'66_128 eq'!N27","v":""},null,{"$f":"'66_128 eq'!P27","v":""},{"$f":"'66_128 eq'!Q27","v":0},{"$f":"'66_128 eq'!R27","v":""},null,{"$f":"'66_128 eq'!T27","v":""},{"$f":"'66_128 eq'!B59","v":54},{"$f":"'66_128 eq'!M59","v":0},{"$f":"'66_128 eq'!N59","v":""},null,{"$f":"'66_128 eq'!P59","v":""},{"$f":"'66_128 eq'!Q59","v":0},{"$f":"'66_128 eq'!R59","v":""},{"$f":"'66_128 eq'!I96","v":0},{"$f":"'66_128 eq'!T59","v":""}]
[{"$f":"'66_128 eq'!B28","v":23},{"$f":"'66_128 eq'!M28","v":0},{"$f":"'66_128 eq'!N28","v":""},null,{"$f":"'66_128 eq'!P28","v":""},{"$f":"'66_128 eq'!Q28","v":0},{"$f":"'66_128 eq'!R28","v":""},null,{"$f":"'66_128 eq'!T28","v":""},{"$f":"'66_128 eq'!B60","v":55},{"$f":"'66_128 eq'!M60","v":0},{"$f":"'66_128 eq'!N60","v":""},null,{"$f":"'66_128 eq'!P60","v":""},{"$f":"'66_128 eq'!Q60","v":0},{"$f":"'66_128 eq'!R60","v":""},{"$f":"'66_128 eq'!I97","v":0},{"$f":"'66_128 eq'!T60","v":""}]
[{"$f":"'66_128 eq'!B29","v":24},{"$f":"'66_128 eq'!M29","v":0},{"$f":"'66_128 eq'!N29","v":""},null,{"$f":"'66_128 eq'!P29","v":""},{"$f":"'66_128 eq'!Q29","v":0},{"$f":"'66_128 eq'!R29","v":""},null,{"$f":"'66_128 eq'!T29","v":""},{"$f":"'66_128 eq'!B61","v":56},{"$f":"'66_128 eq'!M61","v":0},{"$f":"'66_128 eq'!N61","v":""},null,{"$f":"'66_128 eq'!P61","v":""},{"$f":"'66_128 eq'!Q61","v":0},{"$f":"'66_128 eq'!R61","v":""},{"$f":"'66_128 eq'!I98","v":0},{"$f":"'66_128 eq'!T61","v":""}]
[{"$f":"'66_128 eq'!B30","v":25},{"$f":"'66_128 eq'!M30","v":0},{"$f":"'66_128 eq'!N30","v":""},null,{"$f":"'66_128 eq'!P30","v":""},{"$f":"'66_128 eq'!Q30","v":0},{"$f":"'66_128 eq'!R30","v":""},null,{"$f":"'66_128 eq'!T30","v":""},{"$f":"'66_128 eq'!B62","v":57},{"$f":"'66_128 eq'!M62","v":0},{"$f":"'66_128 eq'!N62","v":""},null,{"$f":"'66_128 eq'!P62","v":""},{"$f":"'66_128 eq'!Q62","v":0},{"$f":"'66_128 eq'!R62","v":""},{"$f":"'66_128 eq'!I99","v":0},{"$f":"'66_128 eq'!T62","v":""}]
[{"$f":"'66_128 eq'!B31","v":26},{"$f":"'66_128 eq'!M31","v":0},{"$f":"'66_128 eq'!N31","v":""},null,{"$f":"'66_128 eq'!P31","v":""},{"$f":"'66_128 eq'!Q31","v":0},{"$f":"'66_128 eq'!R31","v":""},null,{"$f":"'66_128 eq'!T31","v":""},{"$f":"'66_128 eq'!B63","v":58},{"$f":"'66_128 eq'!M63","v":0},{"$f":"'66_128 eq'!N63","v":""},null,{"$f":"'66_128 eq'!P63","v":""},{"$f":"'66_128 eq'!Q63","v":0},{"$f":"'66_128 eq'!R63","v":""},{"$f":"'66_128 eq'!I100","v":0},{"$f":"'66_128 eq'!T63","v":""}]
[{"$f":"'66_128 eq'!B32","v":27},{"$f":"'66_128 eq'!M32","v":0},{"$f":"'66_128 eq'!N32","v":""},null,{"$f":"'66_128 eq'!P32","v":""},{"$f":"'66_128 eq'!Q32","v":0},{"$f":"'66_128 eq'!R32","v":""},null,{"$f":"'66_128 eq'!T32","v":""},{"$f":"'66_128 eq'!B64","v":59},{"$f":"'66_128 eq'!M64","v":0},{"$f":"'66_128 eq'!N64","v":""},null,{"$f":"'66_128 eq'!P64","v":""},{"$f":"'66_128 eq'!Q64","v":0},{"$f":"'66_128 eq'!R64","v":""},{"$f":"'66_128 eq'!I101","v":0},{"$f":"'66_128 eq'!T64","v":""}]
[{"$f":"'66_128 eq'!B33","v":28},{"$f":"'66_128 eq'!M33","v":0},{"$f":"'66_128 eq'!N33","v":""},null,{"$f":"'66_128 eq'!P33","v":""},{"$f":"'66_128 eq'!Q33","v":0},{"$f":"'66_128 eq'!R33","v":""},null,{"$f":"'66_128 eq'!T33","v":""},{"$f":"'66_128 eq'!B65","v":60},{"$f":"'66_128 eq'!M65","v":0},{"$f":"'66_128 eq'!N65","v":""},null,{"$f":"'66_128 eq'!P65","v":""},{"$f":"'66_128 eq'!Q65","v":0},{"$f":"'66_128 eq'!R65","v":""},{"$f":"'66_128 eq'!I102","v":0},{"$f":"'66_128 eq'!T65","v":""}]
[{"$f":"'66_128 eq'!B34","v":29},{"$f":"'66_128 eq'!M34","v":0},{"$f":"'66_128 eq'!N34","v":""},null,{"$f":"'66_128 eq'!P34","v":""},{"$f":"'66_128 eq'!Q34","v":0},{"$f":"'66_128 eq'!R34","v":""},null,{"$f":"'66_128 eq'!T34","v":""},{"$f":"'66_128 eq'!B66","v":61},{"$f":"'66_128 eq'!M66","v":0},{"$f":"'66_128 eq'!N66","v":""},null,{"$f":"'66_128 eq'!P66","v":""},{"$f":"'66_128 eq'!Q66","v":0},{"$f":"'66_128 eq'!R66","v":""},{"$f":"'66_128 eq'!I103","v":0},{"$f":"'66_128 eq'!T66","v":""}]
[{"$f":"'66_128 eq'!B35","v":30},{"$f":"'66_128 eq'!M35","v":0},{"$f":"'66_128 eq'!N35","v":""},null,{"$f":"'66_128 eq'!P35","v":""},{"$f":"'66_128 eq'!Q35","v":0},{"$f":"'66_128 eq'!R35","v":""},null,{"$f":"'66_128 eq'!T35","v":""},{"$f":"'66_128 eq'!B67","v":62},{"$f":"'66_128 eq'!M67","v":0},{"$f":"'66_128 eq'!N67","v":""},null,{"$f":"'66_128 eq'!P67","v":""},{"$f":"'66_128 eq'!Q67","v":0},{"$f":"'66_128 eq'!R67","v":""},{"$f":"'66_128 eq'!I104","v":0},{"$f":"'66_128 eq'!T67","v":""}]
[{"$f":"'66_128 eq'!B36","v":31},{"$f":"'66_128 eq'!M36","v":0},{"$f":"'66_128 eq'!N36","v":""},null,{"$f":"'66_128 eq'!P36","v":""},{"$f":"'66_128 eq'!Q36","v":0},{"$f":"'66_128 eq'!R36","v":""},null,{"$f":"'66_128 eq'!T36","v":""},{"$f":"'66_128 eq'!B68","v":63},{"$f":"'66_128 eq'!M68","v":0},{"$f":"'66_128 eq'!N68","v":""},null,{"$f":"'66_128 eq'!P68","v":""},{"$f":"'66_128 eq'!Q68","v":0},{"$f":"'66_128 eq'!R68","v":""},{"$f":"'66_128 eq'!I105","v":0},{"$f":"'66_128 eq'!T68","v":""}]
[{"$f":"'66_128 eq'!B37","v":32},{"$f":"'66_128 eq'!M37","v":0},{"$f":"'66_128 eq'!N37","v":""},null,{"$f":"'66_128 eq'!P37","v":""},{"$f":"'66_128 eq'!Q37","v":0},{"$f":"'66_128 eq'!R37","v":""},null,{"$f":"'66_128 eq'!T37","v":""},{"$f":"'66_128 eq'!B69","v":64},{"$f":"'66_128 eq'!M69","v":0},{"$f":"'66_128 eq'!N69","v":""},null,{"$f":"'66_128 eq'!P69","v":""},{"$f":"'66_128 eq'!Q69","v":0},{"$f":"'66_128 eq'!R69","v":""},{"$f":"'66_128 eq'!I106","v":0},{"$f":"'66_128 eq'!T69","v":""}]
[null,null,null,null,null,null,null,null,null,null,null,null,null,"Tour  3 "]
[]
[]
["                                     3 è    tOUR                                                                    3 è    tOUR"]
["Terrain",null,null,null,null,null,null,null,null,"Terrain"]
[{"$f":"'66_128 eq'!B6","v":1},{"$f":"'66_128 eq'!W6","v":0},{"$f":"'66_128 eq'!X6","v":""},null,{"$f":"'66_128 eq'!Z6","v":""},{"$f":"'66_128 eq'!AA6","v":0},{"$f":"'66_128 eq'!AB6","v":""},null,{"$f":"'66_128 eq'!AD6","v":""},{"$f":"'66_128 eq'!B38","v":33},{"$f":"'66_128 eq'!W38","v":0},{"$f":"'66_128 eq'!X38","v":""},null,{"$f":"'66_128 eq'!Z38","v":""},{"$f":"'66_128 eq'!AA38","v":0},{"$f":"'66_128 eq'!AB38","v":""},null,{"$f":"'66_128 eq'!AD38","v":""}]
[{"$f":"'66_128 eq'!B7","v":2},{"$f":"'66_128 eq'!W7","v":0},{"$f":"'66_128 eq'!X7","v":""},null,{"$f":"'66_128 eq'!Z7","v":""},{"$f":"'66_128 eq'!AA7","v":0},{"$f":"'66_128 eq'!AB7","v":""},null,{"$f":"'66_128 eq'!AD7","v":""},{"$f":"'66_128 eq'!B39","v":34},{"$f":"'66_128 eq'!W39","v":0},{"$f":"'66_128 eq'!X39","v":""},null,{"$f":"'66_128 eq'!Z39","v":""},{"$f":"'66_128 eq'!AA39","v":0},{"$f":"'66_128 eq'!AB39","v":""},null,{"$f":"'66_128 eq'!AD39","v":""}]
[{"$f":"'66_128 eq'!B8","v":3},{"$f":"'66_128 eq'!W8","v":0},{"$f":"'66_128 eq'!X8","v":""},null,{"$f":"'66_128 eq'!Z8","v":""},{"$f":"'66_128 eq'!AA8","v":0},{"$f":"'66_128 eq'!AB8","v":""},null,{"$f":"'66_128 eq'!AD8","v":""},{"$f":"'66_128 eq'!B40","v":35},{"$f":"'66_128 eq'!W40","v":0},{"$f":"'66_128 eq'!X40","v":""},null,{"$f":"'66_128 eq'!Z40","v":""},{"$f":"'66_128 eq'!AA40","v":0},{"$f":"'66_128 eq'!AB40","v":""},null,{"$f":"'66_128 eq'!AD40","v":""}]
[{"$f":"'66_128 eq'!B9","v":4},{"$f":"'66_128 eq'!W9","v":0},{"$f":"'66_128 eq'!X9","v":""},null,{"$f":"'66_128 eq'!Z9","v":""},{"$f":"'66_128 eq'!AA9","v":0},{"$f":"'66_128 eq'!AB9","v":""},null,{"$f":"'66_128 eq'!AD9","v":""},{"$f":"'66_128 eq'!B41","v":36},{"$f":"'66_128 eq'!W41","v":0},{"$f":"'66_128 eq'!X41","v":""},null,{"$f":"'66_128 eq'!Z41","v":""},{"$f":"'66_128 eq'!AA41","v":0},{"$f":"'66_128 eq'!AB41","v":""},null,{"$f":"'66_128 eq'!AD41","v":""}]
[{"$f":"'66_128 eq'!B10","v":5},{"$f":"'66_128 eq'!W10","v":0},{"$f":"'66_128 eq'!X10","v":""},null,{"$f":"'66_128 eq'!Z10","v":""},{"$f":"'66_128 eq'!AA10","v":0},{"$f":"'66_128 eq'!AB10","v":""},null,{"$f":"'66_128 eq'!AD10","v":""},{"$f":"'66_128 eq'!B42","v":37},{"$f":"'66_128 eq'!W42","v":0},{"$f":"'66_128 eq'!X42","v":""},null,{"$f":"'66_128 eq'!Z42","v":""},{"$f":"'66_128 eq'!AA42","v":0},{"$f":"'66_128 eq'!AB42","v":""},null,{"$f":"'66_128 eq'!AD42","v":""}]
[{"$f":"'66_128 eq'!B11","v":6},{"$f":"'66_128 eq'!W11","v":0},{"$f":"'66_128 eq'!X11","v":""},null,{"$f":"'66_128 eq'!Z11","v":""},{"$f":"'66_128 eq'!AA11","v":0},{"$f":"'66_128 eq'!AB11","v":""},null,{"$f":"'66_128 eq'!AD11","v":""},{"$f":"'66_128 eq'!B43","v":38},{"$f":"'66_128 eq'!W43","v":0},{"$f":"'66_128 eq'!X43","v":""},null,{"$f":"'66_128 eq'!Z43","v":""},{"$f":"'66_128 eq'!AA43","v":0},{"$f":"'66_128 eq'!AB43","v":""},null,{"$f":"'66_128 eq'!AD43","v":""}]
[{"$f":"'66_128 eq'!B12","v":7},{"$f":"'66_128 eq'!W12","v":0},{"$f":"'66_128 eq'!X12","v":""},null,{"$f":"'66_128 eq'!Z12","v":""},{"$f":"'66_128 eq'!AA12","v":0},{"$f":"'66_128 eq'!AB12","v":""},null,{"$f":"'66_128 eq'!AD12","v":""},{"$f":"'66_128 eq'!B44","v":39},{"$f":"'66_128 eq'!W44","v":0},{"$f":"'66_128 eq'!X44","v":""},null,{"$f":"'66_128 eq'!Z44","v":""},{"$f":"'66_128 eq'!AA44","v":0},{"$f":"'66_128 eq'!AB44","v":""},null,{"$f":"'66_128 eq'!AD44","v":""}]
[{"$f":"'66_128 eq'!B13","v":8},{"$f":"'66_128 eq'!W13","v":0},{"$f":"'66_128 eq'!X13","v":""},null,{"$f":"'66_128 eq'!Z13","v":""},{"$f":"'66_128 eq'!AA13","v":0},{"$f":"'66_128 eq'!AB13","v":""},null,{"$f":"'66_128 eq'!AD13","v":""},{"$f":"'66_128 eq'!B45","v":40},{"$f":"'66_128 eq'!W45","v":0},{"$f":"'66_128 eq'!X45","v":""},null,{"$f":"'66_128 eq'!Z45","v":""},{"$f":"'66_128 eq'!AA45","v":0},{"$f":"'66_128 eq'!AB45","v":""},null,{"$f":"'66_128 eq'!AD45","v":""}]
[{"$f":"'66_128 eq'!B14","v":9},{"$f":"'66_128 eq'!W14","v":0},{"$f":"'66_128 eq'!X14","v":""},null,{"$f":"'66_128 eq'!Z14","v":""},{"$f":"'66_128 eq'!AA14","v":0},{"$f":"'66_128 eq'!AB14","v":""},null,{"$f":"'66_128 eq'!AD14","v":""},{"$f":"'66_128 eq'!B46","v":41},{"$f":"'66_128 eq'!W46","v":0},{"$f":"'66_128 eq'!X46","v":""},null,{"$f":"'66_128 eq'!Z46","v":""},{"$f":"'66_128 eq'!AA46","v":0},{"$f":"'66_128 eq'!AB46","v":""},null,{"$f":"'66_128 eq'!AD46","v":""}]
[{"$f":"'66_128 eq'!B15","v":10},{"$f":"'66_128 eq'!W15","v":0},{"$f":"'66_128 eq'!X15","v":""},null,{"$f":"'66_128 eq'!Z15","v":""},{"$f":"'66_128 eq'!AA15","v":0},{"$f":"'66_128 eq'!AB15","v":""},null,{"$f":"'66_128 eq'!AD15","v":""},{"$f":"'66_128 eq'!B47","v":42},{"$f":"'66_128 eq'!W47","v":0},{"$f":"'66_128 eq'!X47","v":""},null,{"$f":"'66_128 eq'!Z47","v":""},{"$f":"'66_128 eq'!AA47","v":0},{"$f":"'66_128 eq'!AB47","v":""},null,{"$f":"'66_128 eq'!AD47","v":""}]
[{"$f":"'66_128 eq'!B16","v":11},{"$f":"'66_128 eq'!W16","v":0},{"$f":"'66_128 eq'!X16","v":""},null,{"$f":"'66_128 eq'!Z16","v":""},{"$f":"'66_128 eq'!AA16","v":0},{"$f":"'66_128 eq'!AB16","v":""},null,{"$f":"'66_128 eq'!AD16","v":""},{"$f":"'66_128 eq'!B48","v":43},{"$f":"'66_128 eq'!W48","v":0},{"$f":"'66_128 eq'!X48","v":""},null,{"$f":"'66_128 eq'!Z48","v":""},{"$f":"'66_128 eq'!AA48","v":0},{"$f":"'66_128 eq'!AB48","v":""},null,{"$f":"'66_128 eq'!AD48","v":""}]
[{"$f":"'66_128 eq'!B17","v":12},{"$f":"'66_128 eq'!W17","v":0},{"$f":"'66_128 eq'!X17","v":""},null,{"$f":"'66_128 eq'!Z17","v":""},{"$f":"'66_128 eq'!AA17","v":0},{"$f":"'66_128 eq'!AB17","v":""},null,{"$f":"'66_128 eq'!AD17","v":""},{"$f":"'66_128 eq'!B49","v":44},{"$f":"'66_128 eq'!W49","v":0},{"$f":"'66_128 eq'!X49","v":""},null,{"$f":"'66_128 eq'!Z49","v":""},{"$f":"'66_128 eq'!AA49","v":0},{"$f":"'66_128 eq'!AB49","v":""},null,{"$f":"'66_128 eq'!AD49","v":""}]
[{"$f":"'66_128 eq'!B18","v":13},{"$f":"'66_128 eq'!W18","v":0},{"$f":"'66_128 eq'!X18","v":""},null,{"$f":"'66_128 eq'!Z18","v":""},{"$f":"'66_128 eq'!AA18","v":0},{"$f":"'66_128 eq'!AB18","v":""},null,{"$f":"'66_128 eq'!AD18","v":""},{"$f":"'66_128 eq'!B50","v":45},{"$f":"'66_128 eq'!W50","v":0},{"$f":"'66_128 eq'!X50","v":""},null,{"$f":"'66_128 eq'!Z50","v":""},{"$f":"'66_128 eq'!AA50","v":0},{"$f":"'66_128 eq'!AB50","v":""},null,{"$f":"'66_128 eq'!AD50","v":""}]
[{"$f":"'66_128 eq'!B19","v":14},{"$f":"'66_128 eq'!W19","v":0},{"$f":"'66_128 eq'!X19","v":""},null,{"$f":"'66_128 eq'!Z19","v":""},{"$f":"'66_128 eq'!AA19","v":0},{"$f":"'66_128 eq'!AB19","v":""},null,{"$f":"'66_128 eq'!AD19","v":""},{"$f":"'66_128 eq'!B51","v":46},{"$f":"'66_128 eq'!W51","v":0},{"$f":"'66_128 eq'!X51","v":""},null,{"$f":"'66_128 eq'!Z51","v":""},{"$f":"'66_128 eq'!AA51","v":0},{"$f":"'66_128 eq'!AB51","v":""},null,{"$f":"'66_128 eq'!AD51","v":""}]
[{"$f":"'66_128 eq'!B20","v":15},{"$f":"'66_128 eq'!W20","v":0},{"$f":"'66_128 eq'!X20","v":""},null,{"$f":"'66_128 eq'!Z20","v":""},{"$f":"'66_128 eq'!AA20","v":0},{"$f":"'66_128 eq'!AB20","v":""},null,{"$f":"'66_128 eq'!AD20","v":""},{"$f":"'66_128 eq'!B52","v":47},{"$f":"'66_128 eq'!W52","v":0},{"$f":"'66_128 eq'!X52","v":""},null,{"$f":"'66_128 eq'!Z52","v":""},{"$f":"'66_128 eq'!AA52","v":0},{"$f":"'66_128 eq'!AB52","v":""},null,{"$f":"'66_128 eq'!AD52","v":""}]
[{"$f":"'66_128 eq'!B21","v":16},{"$f":"'66_128 eq'!W21","v":0},{"$f":"'66_128 eq'!X21","v":""},null,{"$f":"'66_128 eq'!Z21","v":""},{"$f":"'66_128 eq'!AA21","v":0},{"$f":"'66_128 eq'!AB21","v":""},null,{"$f":"'66_128 eq'!AD21","v":""},{"$f":"'66_128 eq'!B53","v":48},{"$f":"'66_128 eq'!W53","v":0},{"$f":"'66_128 eq'!X53","v":""},null,{"$f":"'66_128 eq'!Z53","v":""},{"$f":"'66_128 eq'!AA53","v":0},{"$f":"'66_128 eq'!AB53","v":""},null,{"$f":"'66_128 eq'!AD53","v":""}]
[{"$f":"'66_128 eq'!B22","v":17},{"$f":"'66_128 eq'!W22","v":0},{"$f":"'66_128 eq'!X22","v":""},null,{"$f":"'66_128 eq'!Z22","v":""},{"$f":"'66_128 eq'!AA22","v":0},{"$f":"'66_128 eq'!AB22","v":""},null,{"$f":"'66_128 eq'!AD22","v":""},{"$f":"'66_128 eq'!B54","v":49},{"$f":"'66_128 eq'!W54","v":0},{"$f":"'66_128 eq'!X54","v":""},null,{"$f":"'66_128 eq'!Z54","v":""},{"$f":"'66_128 eq'!AA54","v":0},{"$f":"'66_128 eq'!AB54","v":""},null,{"$f":"'66_128 eq'!AD54","v":""}]
[{"$f":"'66_128 eq'!B23","v":18},{"$f":"'66_128 eq'!W23","v":0},{"$f":"'66_128 eq'!X23","v":""},null,{"$f":"'66_128 eq'!Z23","v":""},{"$f":"'66_128 eq'!AA23","v":0},{"$f":"'66_128 eq'!AB23","v":""},null,{"$f":"'66_128 eq'!AD23","v":""},{"$f":"'66_128 eq'!B55","v":50},{"$f":"'66_128 eq'!W55","v":0},{"$f":"'66_128 eq'!X55","v":""},null,{"$f":"'66_128 eq'!Z55","v":""},{"$f":"'66_128 eq'!AA55","v":0},{"$f":"'66_128 eq'!AB55","v":""},null,{"$f":"'66_128 eq'!AD55","v":""}]
[{"$f":"'66_128 eq'!B24","v":19},{"$f":"'66_128 eq'!W24","v":0},{"$f":"'66_128 eq'!X24","v":""},null,{"$f":"'66_128 eq'!Z24","v":""},{"$f":"'66_128 eq'!AA24","v":0},{"$f":"'66_128 eq'!AB24","v":""},null,{"$f":"'66_128 eq'!AD24","v":""},{"$f":"'66_128 eq'!B56","v":51},{"$f":"'66_128 eq'!W56","v":0},{"$f":"'66_128 eq'!X56","v":""},null,{"$f":"'66_128 eq'!Z56","v":""},{"$f":"'66_128 eq'!AA56","v":0},{"$f":"'66_128 eq'!AB56","v":""},null,{"$f":"'66_128 eq'!AD56","v":""}]
[{"$f":"'66_128 eq'!B25","v":20},{"$f":"'66_128 eq'!W25","v":0},{"$f":"'66_128 eq'!X25","v":""},null,{"$f":"'66_128 eq'!Z25","v":""},{"$f":"'66_128 eq'!AA25","v":0},{"$f":"'66_128 eq'!AB25","v":""},null,{"$f":"'66_128 eq'!AD25","v":""},{"$f":"'66_128 eq'!B57","v":52},{"$f":"'66_128 eq'!W57","v":0},{"$f":"'66_128 eq'!X57","v":""},null,{"$f":"'66_128 eq'!Z57","v":""},{"$f":"'66_128 eq'!AA57","v":0},{"$f":"'66_128 eq'!AB57","v":""},null,{"$f":"'66_128 eq'!AD57","v":""}]
[{"$f":"'66_128 eq'!B26","v":21},{"$f":"'66_128 eq'!W26","v":0},{"$f":"'66_128 eq'!X26","v":""},null,{"$f":"'66_128 eq'!Z26","v":""},{"$f":"'66_128 eq'!AA26","v":0},{"$f":"'66_128 eq'!AB26","v":""},null,{"$f":"'66_128 eq'!AD26","v":""},{"$f":"'66_128 eq'!B58","v":53},{"$f":"'66_128 eq'!W58","v":0},{"$f":"'66_128 eq'!X58","v":""},null,{"$f":"'66_128 eq'!Z58","v":""},{"$f":"'66_128 eq'!AA58","v":0},{"$f":"'66_128 eq'!AB58","v":""},null,{"$f":"'66_128 eq'!AD58","v":""}]
[{"$f":"'66_128 eq'!B27","v":22},{"$f":"'66_128 eq'!W27","v":0},{"$f":"'66_128 eq'!X27","v":""},null,{"$f":"'66_128 eq'!Z27","v":""},{"$f":"'66_128 eq'!AA27","v":0},{"$f":"'66_128 eq'!AB27","v":""},null,{"$f":"'66_128 eq'!AD27","v":""},{"$f":"'66_128 eq'!B59","v":54},{"$f":"'66_128 eq'!W59","v":0},{"$f":"'66_128 eq'!X59","v":""},null,{"$f":"'66_128 eq'!Z59","v":""},{"$f":"'66_128 eq'!AA59","v":0},{"$f":"'66_128 eq'!AB59","v":""},null,{"$f":"'66_128 eq'!AD59","v":""}]
[{"$f":"'66_128 eq'!B28","v":23},{"$f":"'66_128 eq'!W28","v":0},{"$f":"'66_128 eq'!X28","v":""},null,{"$f":"'66_128 eq'!Z28","v":""},{"$f":"'66_128 eq'!AA28","v":0},{"$f":"'66_128 eq'!AB28","v":""},null,{"$f":"'66_128 eq'!AD28","v":""},{"$f":"'66_128 eq'!B60","v":55},{"$f":"'66_128 eq'!W60","v":0},{"$f":"'66_128 eq'!X60","v":""},null,{"$f":"'66_128 eq'!Z60","v":""},{"$f":"'66_128 eq'!AA60","v":0},{"$f":"'66_128 eq'!AB60","v":""},null,{"$f":"'66_128 eq'!AD60","v":""}]
[{"$f":"'66_128 eq'!B29","v":24},{"$f":"'66_128 eq'!W29","v":0},{"$f":"'66_128 eq'!X29","v":""},null,{"$f":"'66_128 eq'!Z29","v":""},{"$f":"'66_128 eq'!AA29","v":0},{"$f":"'66_128 eq'!AB29","v":""},null,{"$f":"'66_128 eq'!AD29","v":""},{"$f":"'66_128 eq'!B61","v":56},{"$f":"'66_128 eq'!W61","v":0},{"$f":"'66_128 eq'!X61","v":""},null,{"$f":"'66_128 eq'!Z61","v":""},{"$f":"'66_128 eq'!AA61","v":0},{"$f":"'66_128 eq'!AB61","v":""},null,{"$f":"'66_128 eq'!AD61","v":""}]
[{"$f":"'66_128 eq'!B30","v":25},{"$f":"'66_128 eq'!W30","v":0},{"$f":"'66_128 eq'!X30","v":""},null,{"$f":"'66_128 eq'!Z30","v":""},{"$f":"'66_128 eq'!AA30","v":0},{"$f":"'66_128 eq'!AB30","v":""},null,{"$f":"'66_128 eq'!AD30","v":""},{"$f":"'66_128 eq'!B62","v":57},{"$f":"'66_128 eq'!W62","v":0},{"$f":"'66_128 eq'!X62","v":""},null,{"$f":"'66_128 eq'!Z62","v":""},{"$f":"'66_128 eq'!AA62","v":0},{"$f":"'66_128 eq'!AB62","v":""},null,{"$f":"'66_128 eq'!AD62","v":""}]
[{"$f":"'66_128 eq'!B31","v":26},{"$f":"'66_128 eq'!W31","v":0},{"$f":"'66_128 eq'!X31","v":""},null,{"$f":"'66_128 eq'!Z31","v":""},{"$f":"'66_128 eq'!AA31","v":0},{"$f":"'66_128 eq'!AB31","v":""},null,{"$f":"'66_128 eq'!AD31","v":""},{"$f":"'66_128 eq'!B63","v":58},{"$f":"'66_128 eq'!W63","v":0},{"$f":"'66_128 eq'!X63","v":""},null,{"$f":"'66_128 eq'!Z63","v":""},{"$f":"'66_128 eq'!AA63","v":0},{"$f":"'66_128 eq'!AB63","v":""},null,{"$f":"'66_128 eq'!AD63","v":""}]
[{"$f":"'66_128 eq'!B32","v":27},{"$f":"'66_128 eq'!W32","v":0},{"$f":"'66_128 eq'!X32","v":""},null,{"$f":"'66_128 eq'!Z32","v":""},{"$f":"'66_128 eq'!AA32","v":0},{"$f":"'66_128 eq'!AB32","v":""},null,{"$f":"'66_128 eq'!AD32","v":""},{"$f":"'66_128 eq'!B64","v":59},{"$f":"'66_128 eq'!W64","v":0},{"$f":"'66_128 eq'!X64","v":""},null,{"$f":"'66_128 eq'!Z64","v":""},{"$f":"'66_128 eq'!AA64","v":0},{"$f":"'66_128 eq'!AB64","v":""},null,{"$f":"'66_128 eq'!AD64","v":""}]
[{"$f":"'66_128 eq'!B33","v":28},{"$f":"'66_128 eq'!W33","v":0},{"$f":"'66_128 eq'!X33","v":""},null,{"$f":"'66_128 eq'!Z33","v":""},{"$f":"'66_128 eq'!AA33","v":0},{"$f":"'66_128 eq'!AB33","v":""},null,{"$f":"'66_128 eq'!AD33","v":""},{"$f":"'66_128 eq'!B65","v":60},{"$f":"'66_128 eq'!W65","v":0},{"$f":"'66_128 eq'!X65","v":""},null,{"$f":"'66_128 eq'!Z65","v":""},{"$f":"'66_128 eq'!AA65","v":0},{"$f":"'66_128 eq'!AB65","v":""},null,{"$f":"'66_128 eq'!AD65","v":""}]
[{"$f":"'66_128 eq'!B34","v":29},{"$f":"'66_128 eq'!W34","v":0},{"$f":"'66_128 eq'!X34","v":""},null,{"$f":"'66_128 eq'!Z34","v":""},{"$f":"'66_128 eq'!AA34","v":0},{"$f":"'66_128 eq'!AB34","v":""},null,{"$f":"'66_128 eq'!AD34","v":""},{"$f":"'66_128 eq'!B66","v":61},{"$f":"'66_128 eq'!W66","v":0},{"$f":"'66_128 eq'!X66","v":""},null,{"$f":"'66_128 eq'!Z66","v":""},{"$f":"'66_128 eq'!AA66","v":0},{"$f":"'66_128 eq'!AB66","v":""},null,{"$f":"'66_128 eq'!AD66","v":""}]
[{"$f":"'66_128 eq'!B35","v":30},{"$f":"'66_128 eq'!W35","v":0},{"$f":"'66_128 eq'!X35","v":""},null,{"$f":"'66_128 eq'!Z35","v":""},{"$f":"'66_128 eq'!AA35","v":0},{"$f":"'66_128 eq'!AB35","v":""},null,{"$f":"'66_128 eq'!AD35","v":""},{"$f":"'66_128 eq'!B67","v":62},{"$f":"'66_128 eq'!W67","v":0},{"$f":"'66_128 eq'!X67","v":""},null,{"$f":"'66_128 eq'!Z67","v":""},{"$f":"'66_128 eq'!AA67","v":0},{"$f":"'66_128 eq'!AB67","v":""},null,{"$f":"'66_128 eq'!AD67","v":""}]
[{"$f":"'66_128 eq'!B36","v":31},{"$f":"'66_128 eq'!W36","v":0},{"$f":"'66_128 eq'!X36","v":""},null,{"$f":"'66_128 eq'!Z36","v":""},{"$f":"'66_128 eq'!AA36","v":0},{"$f":"'66_128 eq'!AB36","v":""},null,{"$f":"'66_128 eq'!AD36","v":""},{"$f":"'66_128 eq'!B68","v":63},{"$f":"'66_128 eq'!W68","v":0},{"$f":"'66_128 eq'!X68","v":""},null,{"$f":"'66_128 eq'!Z68","v":""},{"$f":"'66_128 eq'!AA68","v":0},{"$f":"'66_128 eq'!AB68","v":""},null,{"$f":"'66_128 eq'!AD68","v":""}]
[{"$f":"'66_128 eq'!B37","v":32},{"$f":"'66_128 eq'!W37","v":0},{"$f":"'66_128 eq'!X37","v":""},null,{"$f":"'66_128 eq'!Z37","v":""},{"$f":"'66_128 eq'!AA37","v":0},{"$f":"'66_128 eq'!AB37","v":""},null,{"$f":"'66_128 eq'!AD37","v":""},{"$f":"'66_128 eq'!B69","v":64},{"$f":"'66_128 eq'!W69","v":0},{"$f":"'66_128 eq'!X69","v":""},null,{"$f":"'66_128 eq'!Z69","v":""},{"$f":"'66_128 eq'!AA69","v":0},{"$f":"'66_128 eq'!AB69","v":""},null,{"$f":"'66_128 eq'!AD69","v":""}]
[]
[]
[]
["                                      4 è    tOUR                                                                       4 è    tOUR"]
["Terrain",null,null,null,null,null,null,null,null,"Terrain"]
[{"$f":"'66_128 eq'!B6","v":1},{"$f":"'66_128 eq'!AG6","v":0},{"$f":"'66_128 eq'!AH6","v":""},null,{"$f":"'66_128 eq'!AJ6","v":""},{"$f":"'66_128 eq'!AK6","v":0},{"$f":"'66_128 eq'!AL6","v":""},null,{"$f":"'66_128 eq'!AN6","v":""},{"$f":"'66_128 eq'!B38","v":33},{"$f":"'66_128 eq'!AG38","v":0},{"$f":"'66_128 eq'!AH38","v":""},null,{"$f":"'66_128 eq'!AJ38","v":""},{"$f":"'66_128 eq'!AK38","v":0},{"$f":"'66_128 eq'!AL38","v":""},{"$f":"'66_128 eq'!I149","v":0},{"$f":"'66_128 eq'!AN38","v":""}]
[{"$f":"'66_128 eq'!B7","v":2},{"$f":"'66_128 eq'!AG7","v":0},{"$f":"'66_128 eq'!AH7","v":""},null,{"$f":"'66_128 eq'!AJ7","v":""},{"$f":"'66_128 eq'!AK7","v":0},{"$f":"'66_128 eq'!AL7","v":""},null,{"$f":"'66_128 eq'!AN7","v":""},{"$f":"'66_128 eq'!B39","v":34},{"$f":"'66_128 eq'!AG39","v":0},{"$f":"'66_128 eq'!AH39","v":""},null,{"$f":"'66_128 eq'!AJ39","v":""},{"$f":"'66_128 eq'!AK39","v":0},{"$f":"'66_128 eq'!AL39","v":""},{"$f":"'66_128 eq'!I150","v":0},{"$f":"'66_128 eq'!AN39","v":""}]
[{"$f":"'66_128 eq'!B8","v":3},{"$f":"'66_128 eq'!AG8","v":0},{"$f":"'66_128 eq'!AH8","v":""},null,{"$f":"'66_128 eq'!AJ8","v":""},{"$f":"'66_128 eq'!AK8","v":0},{"$f":"'66_128 eq'!AL8","v":""},null,{"$f":"'66_128 eq'!AN8","v":""},{"$f":"'66_128 eq'!B40","v":35},{"$f":"'66_128 eq'!AG40","v":0},{"$f":"'66_128 eq'!AH40","v":""},null,{"$f":"'66_128 eq'!AJ40","v":""},{"$f":"'66_128 eq'!AK40","v":0},{"$f":"'66_128 eq'!AL40","v":""},{"$f":"'66_128 eq'!I151","v":0},{"$f":"'66_128 eq'!AN40","v":""}]
[{"$f":"'66_128 eq'!B9","v":4},{"$f":"'66_128 eq'!AG9","v":0},{"$f":"'66_128 eq'!AH9","v":""},null,{"$f":"'66_128 eq'!AJ9","v":""},{"$f":"'66_128 eq'!AK9","v":0},{"$f":"'66_128 eq'!AL9","v":""},null,{"$f":"'66_128 eq'!AN9","v":""},{"$f":"'66_128 eq'!B41","v":36},{"$f":"'66_128 eq'!AG41","v":0},{"$f":"'66_128 eq'!AH41","v":""},null,{"$f":"'66_128 eq'!AJ41","v":""},{"$f":"'66_128 eq'!AK41","v":0},{"$f":"'66_128 eq'!AL41","v":""},{"$f":"'66_128 eq'!I152","v":0},{"$f":"'66_128 eq'!AN41","v":""}]
[{"$f":"'66_128 eq'!B10","v":5},{"$f":"'66_128 eq'!AG10","v":0},{"$f":"'66_128 eq'!AH10","v":""},null,{"$f":"'66_128 eq'!AJ10","v":""},{"$f":"'66_128 eq'!AK10","v":0},{"$f":"'66_128 eq'!AL10","v":""},null,{"$f":"'66_128 eq'!AN10","v":""},{"$f":"'66_128 eq'!B42","v":37},{"$f":"'66_128 eq'!AG42","v":0},{"$f":"'66_128 eq'!AH42","v":""},null,{"$f":"'66_128 eq'!AJ42","v":""},{"$f":"'66_128 eq'!AK42","v":0},{"$f":"'66_128 eq'!AL42","v":""},{"$f":"'66_128 eq'!I153","v":0},{"$f":"'66_128 eq'!AN42","v":""}]
[{"$f":"'66_128 eq'!B11","v":6},{"$f":"'66_128 eq'!AG11","v":0},{"$f":"'66_128 eq'!AH11","v":""},null,{"$f":"'66_128 eq'!AJ11","v":""},{"$f":"'66_128 eq'!AK11","v":0},{"$f":"'66_128 eq'!AL11","v":""},null,{"$f":"'66_128 eq'!AN11","v":""},{"$f":"'66_128 eq'!B43","v":38},{"$f":"'66_128 eq'!AG43","v":0},{"$f":"'66_128 eq'!AH43","v":""},null,{"$f":"'66_128 eq'!AJ43","v":""},{"$f":"'66_128 eq'!AK43","v":0},{"$f":"'66_128 eq'!AL43","v":""},{"$f":"'66_128 eq'!I154","v":0},{"$f":"'66_128 eq'!AN43","v":""}]
[{"$f":"'66_128 eq'!B12","v":7},{"$f":"'66_128 eq'!AG12","v":0},{"$f":"'66_128 eq'!AH12","v":""},null,{"$f":"'66_128 eq'!AJ12","v":""},{"$f":"'66_128 eq'!AK12","v":0},{"$f":"'66_128 eq'!AL12","v":""},null,{"$f":"'66_128 eq'!AN12","v":""},{"$f":"'66_128 eq'!B44","v":39},{"$f":"'66_128 eq'!AG44","v":0},{"$f":"'66_128 eq'!AH44","v":""},null,{"$f":"'66_128 eq'!AJ44","v":""},{"$f":"'66_128 eq'!AK44","v":0},{"$f":"'66_128 eq'!AL44","v":""},{"$f":"'66_128 eq'!I155","v":0},{"$f":"'66_128 eq'!AN44","v":""}]
[{"$f":"'66_128 eq'!B13","v":8},{"$f":"'66_128 eq'!AG13","v":0},{"$f":"'66_128 eq'!AH13","v":""},null,{"$f":"'66_128 eq'!AJ13","v":""},{"$f":"'66_128 eq'!AK13","v":0},{"$f":"'66_128 eq'!AL13","v":""},null,{"$f":"'66_128 eq'!AN13","v":""},{"$f":"'66_128 eq'!B45","v":40},{"$f":"'66_128 eq'!AG45","v":0},{"$f":"'66_128 eq'!AH45","v":""},null,{"$f":"'66_128 eq'!AJ45","v":""},{"$f":"'66_128 eq'!AK45","v":0},{"$f":"'66_128 eq'!AL45","v":""},{"$f":"'66_128 eq'!I156","v":0},{"$f":"'66_128 eq'!AN45","v":""}]
[{"$f":"'66_128 eq'!B14","v":9},{"$f":"'66_128 eq'!AG14","v":0},{"$f":"'66_128 eq'!AH14","v":""},null,{"$f":"'66_128 eq'!AJ14","v":""},{"$f":"'66_128 eq'!AK14","v":0},{"$f":"'66_128 eq'!AL14","v":""},null,{"$f":"'66_128 eq'!AN14","v":""},{"$f":"'66_128 eq'!B46","v":41},{"$f":"'66_128 eq'!AG46","v":0},{"$f":"'66_128 eq'!AH46","v":""},null,{"$f":"'66_128 eq'!AJ46","v":""},{"$f":"'66_128 eq'!AK46","v":0},{"$f":"'66_128 eq'!AL46","v":""},{"$f":"'66_128 eq'!I157","v":0},{"$f":"'66_128 eq'!AN46","v":""}]
[{"$f":"'66_128 eq'!B15","v":10},{"$f":"'66_128 eq'!AG15","v":0},{"$f":"'66_128 eq'!AH15","v":""},null,{"$f":"'66_128 eq'!AJ15","v":""},{"$f":"'66_128 eq'!AK15","v":0},{"$f":"'66_128 eq'!AL15","v":""},null,{"$f":"'66_128 eq'!AN15","v":""},{"$f":"'66_128 eq'!B47","v":42},{"$f":"'66_128 eq'!AG47","v":0},{"$f":"'66_128 eq'!AH47","v":""},null,{"$f":"'66_128 eq'!AJ47","v":""},{"$f":"'66_128 eq'!AK47","v":0},{"$f":"'66_128 eq'!AL47","v":""},{"$f":"'66_128 eq'!I158","v":0},{"$f":"'66_128 eq'!AN47","v":""}]
[{"$f":"'66_128 eq'!B16","v":11},{"$f":"'66_128 eq'!AG16","v":0},{"$f":"'66_128 eq'!AH16","v":""},null,{"$f":"'66_128 eq'!AJ16","v":""},{"$f":"'66_128 eq'!AK16","v":0},{"$f":"'66_128 eq'!AL16","v":""},null,{"$f":"'66_128 eq'!AN16","v":""},{"$f":"'66_128 eq'!B48","v":43},{"$f":"'66_128 eq'!AG48","v":0},{"$f":"'66_128 eq'!AH48","v":""},null,{"$f":"'66_128 eq'!AJ48","v":""},{"$f":"'66_128 eq'!AK48","v":0},{"$f":"'66_128 eq'!AL48","v":""},{"$f":"'66_128 eq'!I159","v":0},{"$f":"'66_128 eq'!AN48","v":""}]
[{"$f":"'66_128 eq'!B17","v":12},{"$f":"'66_128 eq'!AG17","v":0},{"$f":"'66_128 eq'!AH17","v":""},null,{"$f":"'66_128 eq'!AJ17","v":""},{"$f":"'66_128 eq'!AK17","v":0},{"$f":"'66_128 eq'!AL17","v":""},null,{"$f":"'66_128 eq'!AN17","v":""},{"$f":"'66_128 eq'!B49","v":44},{"$f":"'66_128 eq'!AG49","v":0},{"$f":"'66_128 eq'!AH49","v":""},null,{"$f":"'66_128 eq'!AJ49","v":""},{"$f":"'66_128 eq'!AK49","v":0},{"$f":"'66_128 eq'!AL49","v":""},{"$f":"'66_128 eq'!I160","v":0},{"$f":"'66_128 eq'!AN49","v":""}]
[{"$f":"'66_128 eq'!B18","v":13},{"$f":"'66_128 eq'!AG18","v":0},{"$f":"'66_128 eq'!AH18","v":""},null,{"$f":"'66_128 eq'!AJ18","v":""},{"$f":"'66_128 eq'!AK18","v":0},{"$f":"'66_128 eq'!AL18","v":""},null,{"$f":"'66_128 eq'!AN18","v":""},{"$f":"'66_128 eq'!B50","v":45},{"$f":"'66_128 eq'!AG50","v":0},{"$f":"'66_128 eq'!AH50","v":""},null,{"$f":"'66_128 eq'!AJ50","v":""},{"$f":"'66_128 eq'!AK50","v":0},{"$f":"'66_128 eq'!AL50","v":""},{"$f":"'66_128 eq'!I161","v":0},{"$f":"'66_128 eq'!AN50","v":""}]
[{"$f":"'66_128 eq'!B19","v":14},{"$f":"'66_128 eq'!AG19","v":0},{"$f":"'66_128 eq'!AH19","v":""},null,{"$f":"'66_128 eq'!AJ19","v":""},{"$f":"'66_128 eq'!AK19","v":0},{"$f":"'66_128 eq'!AL19","v":""},null,{"$f":"'66_128 eq'!AN19","v":""},{"$f":"'66_128 eq'!B51","v":46},{"$f":"'66_128 eq'!AG51","v":0},{"$f":"'66_128 eq'!AH51","v":""},null,{"$f":"'66_128 eq'!AJ51","v":""},{"$f":"'66_128 eq'!AK51","v":0},{"$f":"'66_128 eq'!AL51","v":""},{"$f":"'66_128 eq'!I162","v":0},{"$f":"'66_128 eq'!AN51","v":""}]
[{"$f":"'66_128 eq'!B20","v":15},{"$f":"'66_128 eq'!AG20","v":0},{"$f":"'66_128 eq'!AH20","v":""},null,{"$f":"'66_128 eq'!AJ20","v":""},{"$f":"'66_128 eq'!AK20","v":0},{"$f":"'66_128 eq'!AL20","v":""},null,{"$f":"'66_128 eq'!AN20","v":""},{"$f":"'66_128 eq'!B52","v":47},{"$f":"'66_128 eq'!AG52","v":0},{"$f":"'66_128 eq'!AH52","v":""},null,{"$f":"'66_128 eq'!AJ52","v":""},{"$f":"'66_128 eq'!AK52","v":0},{"$f":"'66_128 eq'!AL52","v":""},{"$f":"'66_128 eq'!I163","v":0},{"$f":"'66_128 eq'!AN52","v":""}]
[{"$f":"'66_128 eq'!B21","v":16},{"$f":"'66_128 eq'!AG21","v":0},{"$f":"'66_128 eq'!AH21","v":""},null,{"$f":"'66_128 eq'!AJ21","v":""},{"$f":"'66_128 eq'!AK21","v":0},{"$f":"'66_128 eq'!AL21","v":""},null,{"$f":"'66_128 eq'!AN21","v":""},{"$f":"'66_128 eq'!B53","v":48},{"$f":"'66_128 eq'!AG53","v":0},{"$f":"'66_128 eq'!AH53","v":""},null,{"$f":"'66_128 eq'!AJ53","v":""},{"$f":"'66_128 eq'!AK53","v":0},{"$f":"'66_128 eq'!AL53","v":""},{"$f":"'66_128 eq'!I164","v":0},{"$f":"'66_128 eq'!AN53","v":""}]
[{"$f":"'66_128 eq'!B22","v":17},{"$f":"'66_128 eq'!AG22","v":0},{"$f":"'66_128 eq'!AH22","v":""},null,{"$f":"'66_128 eq'!AJ22","v":""},{"$f":"'66_128 eq'!AK22","v":0},{"$f":"'66_128 eq'!AL22","v":""},null,{"$f":"'66_128 eq'!AN22","v":""},{"$f":"'66_128 eq'!B54","v":49},{"$f":"'66_128 eq'!AG54","v":0},{"$f":"'66_128 eq'!AH54","v":""},null,{"$f":"'66_128 eq'!AJ54","v":""},{"$f":"'66_128 eq'!AK54","v":0},{"$f":"'66_128 eq'!AL54","v":""},{"$f":"'66_128 eq'!I165","v":0},{"$f":"'66_128 eq'!AN54","v":""}]
[{"$f":"'66_128 eq'!B23","v":18},{"$f":"'66_128 eq'!AG23","v":0},{"$f":"'66_128 eq'!AH23","v":""},null,{"$f":"'66_128 eq'!AJ23","v":""},{"$f":"'66_128 eq'!AK23","v":0},{"$f":"'66_128 eq'!AL23","v":""},null,{"$f":"'66_128 eq'!AN23","v":""},{"$f":"'66_128 eq'!B55","v":50},{"$f":"'66_128 eq'!AG55","v":0},{"$f":"'66_128 eq'!AH55","v":""},null,{"$f":"'66_128 eq'!AJ55","v":""},{"$f":"'66_128 eq'!AK55","v":0},{"$f":"'66_128 eq'!AL55","v":""},{"$f":"'66_128 eq'!I166","v":0},{"$f":"'66_128 eq'!AN55","v":""}]
[{"$f":"'66_128 eq'!B24","v":19},{"$f":"'66_128 eq'!AG24","v":0},{"$f":"'66_128 eq'!AH24","v":""},null,{"$f":"'66_128 eq'!AJ24","v":""},{"$f":"'66_128 eq'!AK24","v":0},{"$f":"'66_128 eq'!AL24","v":""},null,{"$f":"'66_128 eq'!AN24","v":""},{"$f":"'66_128 eq'!B56","v":51},{"$f":"'66_128 eq'!AG56","v":0},{"$f":"'66_128 eq'!AH56","v":""},null,{"$f":"'66_128 eq'!AJ56","v":""},{"$f":"'66_128 eq'!AK56","v":0},{"$f":"'66_128 eq'!AL56","v":""},{"$f":"'66_128 eq'!I167","v":0},{"$f":"'66_128 eq'!AN56","v":""}]
[{"$f":"'66_128 eq'!B25","v":20},{"$f":"'66_128 eq'!AG25","v":0},{"$f":"'66_128 eq'!AH25","v":""},null,{"$f":"'66_128 eq'!AJ25","v":""},{"$f":"'66_128 eq'!AK25","v":0},{"$f":"'66_128 eq'!AL25","v":""},null,{"$f":"'66_128 eq'!AN25","v":""},{"$f":"'66_128 eq'!B57","v":52},{"$f":"'66_128 eq'!AG57","v":0},{"$f":"'66_128 eq'!AH57","v":""},null,{"$f":"'66_128 eq'!AJ57","v":""},{"$f":"'66_128 eq'!AK57","v":0},{"$f":"'66_128 eq'!AL57","v":""},{"$f":"'66_128 eq'!I168","v":0},{"$f":"'66_128 eq'!AN57","v":""}]
[{"$f":"'66_128 eq'!B26","v":21},{"$f":"'66_128 eq'!AG26","v":0},{"$f":"'66_128 eq'!AH26","v":""},null,{"$f":"'66_128 eq'!AJ26","v":""},{"$f":"'66_128 eq'!AK26","v":0},{"$f":"'66_128 eq'!AL26","v":""},null,{"$f":"'66_128 eq'!AN26","v":""},{"$f":"'66_128 eq'!B58","v":53},{"$f":"'66_128 eq'!AG58","v":0},{"$f":"'66_128 eq'!AH58","v":""},null,{"$f":"'66_128 eq'!AJ58","v":""},{"$f":"'66_128 eq'!AK58","v":0},{"$f":"'66_128 eq'!AL58","v":""},{"$f":"'66_128 eq'!I169","v":0},{"$f":"'66_128 eq'!AN58","v":""}]
[{"$f":"'66_128 eq'!B27","v":22},{"$f":"'66_128 eq'!AG27","v":0},{"$f":"'66_128 eq'!AH27","v":""},null,{"$f":"'66_128 eq'!AJ27","v":""},{"$f":"'66_128 eq'!AK27","v":0},{"$f":"'66_128 eq'!AL27","v":""},null,{"$f":"'66_128 eq'!AN27","v":""},{"$f":"'66_128 eq'!B59","v":54},{"$f":"'66_128 eq'!AG59","v":0},{"$f":"'66_128 eq'!AH59","v":""},null,{"$f":"'66_128 eq'!AJ59","v":""},{"$f":"'66_128 eq'!AK59","v":0},{"$f":"'66_128 eq'!AL59","v":""},{"$f":"'66_128 eq'!I170","v":0},{"$f":"'66_128 eq'!AN59","v":""}]
[{"$f":"'66_128 eq'!B28","v":23},{"$f":"'66_128 eq'!AG28","v":0},{"$f":"'66_128 eq'!AH28","v":""},null,{"$f":"'66_128 eq'!AJ28","v":""},{"$f":"'66_128 eq'!AK28","v":0},{"$f":"'66_128 eq'!AL28","v":""},null,{"$f":"'66_128 eq'!AN28","v":""},{"$f":"'66_128 eq'!B60","v":55},{"$f":"'66_128 eq'!AG60","v":0},{"$f":"'66_128 eq'!AH60","v":""},null,{"$f":"'66_128 eq'!AJ60","v":""},{"$f":"'66_128 eq'!AK60","v":0},{"$f":"'66_128 eq'!AL60","v":""},{"$f":"'66_128 eq'!I171","v":0},{"$f":"'66_128 eq'!AN60","v":""}]
[{"$f":"'66_128 eq'!B29","v":24},{"$f":"'66_128 eq'!AG29","v":0},{"$f":"'66_128 eq'!AH29","v":""},null,{"$f":"'66_128 eq'!AJ29","v":""},{"$f":"'66_128 eq'!AK29","v":0},{"$f":"'66_128 eq'!AL29","v":""},null,{"$f":"'66_128 eq'!AN29","v":""},{"$f":"'66_128 eq'!B61","v":56},{"$f":"'66_128 eq'!AG61","v":0},{"$f":"'66_128 eq'!AH61","v":""},null,{"$f":"'66_128 eq'!AJ61","v":""},{"$f":"'66_128 eq'!AK61","v":0},{"$f":"'66_128 eq'!AL61","v":""},{"$f":"'66_128 eq'!I172","v":0},{"$f":"'66_128 eq'!AN61","v":""}]
[{"$f":"'66_128 eq'!B30","v":25},{"$f":"'66_128 eq'!AG30","v":0},{"$f":"'66_128 eq'!AH30","v":""},null,{"$f":"'66_128 eq'!AJ30","v":""},{"$f":"'66_128 eq'!AK30","v":0},{"$f":"'66_128 eq'!AL30","v":""},null,{"$f":"'66_128 eq'!AN30","v":""},{"$f":"'66_128 eq'!B62","v":57},{"$f":"'66_128 eq'!AG62","v":0},{"$f":"'66_128 eq'!AH62","v":""},null,{"$f":"'66_128 eq'!AJ62","v":""},{"$f":"'66_128 eq'!AK62","v":0},{"$f":"'66_128 eq'!AL62","v":""},{"$f":"'66_128 eq'!I173","v":0},{"$f":"'66_128 eq'!AN62","v":""}]
[{"$f":"'66_128 eq'!B31","v":26},{"$f":"'66_128 eq'!AG31","v":0},{"$f":"'66_128 eq'!AH31","v":""},null,{"$f":"'66_128 eq'!AJ31","v":""},{"$f":"'66_128 eq'!AK31","v":0},{"$f":"'66_128 eq'!AL31","v":""},null,{"$f":"'66_128 eq'!AN31","v":""},{"$f":"'66_128 eq'!B63","v":58},{"$f":"'66_128 eq'!AG63","v":0},{"$f":"'66_128 eq'!AH63","v":""},null,{"$f":"'66_128 eq'!AJ63","v":""},{"$f":"'66_128 eq'!AK63","v":0},{"$f":"'66_128 eq'!AL63","v":""},{"$f":"'66_128 eq'!I174","v":0},{"$f":"'66_128 eq'!AN63","v":""}]
[{"$f":"'66_128 eq'!B32","v":27},{"$f":"'66_128 eq'!AG32","v":0},{"$f":"'66_128 eq'!AH32","v":""},null,{"$f":"'66_128 eq'!AJ32","v":""},{"$f":"'66_128 eq'!AK32","v":0},{"$f":"'66_128 eq'!AL32","v":""},null,{"$f":"'66_128 eq'!AN32","v":""},{"$f":"'66_128 eq'!B64","v":59},{"$f":"'66_128 eq'!AG64","v":0},{"$f":"'66_128 eq'!AH64","v":""},null,{"$f":"'66_128 eq'!AJ64","v":""},{"$f":"'66_128 eq'!AK64","v":0},{"$f":"'66_128 eq'!AL64","v":""},{"$f":"'66_128 eq'!I175","v":0},{"$f":"'66_128 eq'!AN64","v":""}]
[{"$f":"'66_128 eq'!B33","v":28},{"$f":"'66_128 eq'!AG33","v":0},{"$f":"'66_128 eq'!AH33","v":""},null,{"$f":"'66_128 eq'!AJ33","v":""},{"$f":"'66_128 eq'!AK33","v":0},{"$f":"'66_128 eq'!AL33","v":""},null,{"$f":"'66_128 eq'!AN33","v":""},{"$f":"'66_128 eq'!B65","v":60},{"$f":"'66_128 eq'!AG65","v":0},{"$f":"'66_128 eq'!AH65","v":""},null,{"$f":"'66_128 eq'!AJ65","v":""},{"$f":"'66_128 eq'!AK65","v":0},{"$f":"'66_128 eq'!AL65","v":""},{"$f":"'66_128 eq'!I176","v":0},{"$f":"'66_128 eq'!AN65","v":""}]
[{"$f":"'66_128 eq'!B34","v":29},{"$f":"'66_128 eq'!AG34","v":0},{"$f":"'66_128 eq'!AH34","v":""},null,{"$f":"'66_128 eq'!AJ34","v":""},{"$f":"'66_128 eq'!AK34","v":0},{"$f":"'66_128 eq'!AL34","v":""},null,{"$f":"'66_128 eq'!AN34","v":""},{"$f":"'66_128 eq'!B66","v":61},{"$f":"'66_128 eq'!AG66","v":0},{"$f":"'66_128 eq'!AH66","v":""},null,{"$f":"'66_128 eq'!AJ66","v":""},{"$f":"'66_128 eq'!AK66","v":0},{"$f":"'66_128 eq'!AL66","v":""},{"$f":"'66_128 eq'!I177","v":0},{"$f":"'66_128 eq'!AN66","v":""}]
[{"$f":"'66_128 eq'!B35","v":30},{"$f":"'66_128 eq'!AG35","v":0},{"$f":"'66_128 eq'!AH35","v":""},null,{"$f":"'66_128 eq'!AJ35","v":""},{"$f":"'66_128 eq'!AK35","v":0},{"$f":"'66_128 eq'!AL35","v":""},null,{"$f":"'66_128 eq'!AN35","v":""},{"$f":"'66_128 eq'!B67","v":62},{"$f":"'66_128 eq'!AG67","v":0},{"$f":"'66_128 eq'!AH67","v":""},null,{"$f":"'66_128 eq'!AJ67","v":""},{"$f":"'66_128 eq'!AK67","v":0},{"$f":"'66_128 eq'!AL67","v":""},{"$f":"'66_128 eq'!I178","v":0},{"$f":"'66_128 eq'!AN67","v":""}]
[{"$f":"'66_128 eq'!B36","v":31},{"$f":"'66_128 eq'!AG36","v":0},{"$f":"'66_128 eq'!AH36","v":""},null,{"$f":"'66_128 eq'!AJ36","v":""},{"$f":"'66_128 eq'!AK36","v":0},{"$f":"'66_128 eq'!AL36","v":""},null,{"$f":"'66_128 eq'!AN36","v":""},{"$f":"'66_128 eq'!B68","v":63},{"$f":"'66_128 eq'!AG68","v":0},{"$f":"'66_128 eq'!AH68","v":""},null,{"$f":"'66_128 eq'!AJ68","v":""},{"$f":"'66_128 eq'!AK68","v":0},{"$f":"'66_128 eq'!AL68","v":""},{"$f":"'66_128 eq'!I179","v":0},{"$f":"'66_128 eq'!AN68","v":""}]
[{"$f":"'66_128 eq'!B37","v":32},{"$f":"'66_128 eq'!AG37","v":0},{"$f":"'66_128 eq'!AH37","v":""},null,{"$f":"'66_128 eq'!AJ37","v":""},{"$f":"'66_128 eq'!AK37","v":0},{"$f":"'66_128 eq'!AL37","v":""},null,{"$f":"'66_128 eq'!AN37","v":""},{"$f":"'66_128 eq'!B69","v":64},{"$f":"'66_128 eq'!AG69","v":0},{"$f":"'66_128 eq'!AH69","v":""},null,{"$f":"'66_128 eq'!AJ69","v":""},{"$f":"'66_128 eq'!AK69","v":0},{"$f":"'66_128 eq'!AL69","v":""},{"$f":"'66_128 eq'!I180","v":0},{"$f":"'66_128 eq'!AN69","v":""}]
[]
[]
[]
["                                       5 è    tOUR                                                                               5 è    tOUR"]
["Terrain",null,null,null,null,null,null,null,null,"Terrain"]
[{"$f":"'66_128 eq'!B6","v":1},{"$f":"'66_128 eq'!AQ6","v":0},{"$f":"'66_128 eq'!AR6","v":""},null,{"$f":"'66_128 eq'!AT6","v":""},{"$f":"'66_128 eq'!AU6","v":0},{"$f":"'66_128 eq'!AV6","v":""},null,{"$f":"'66_128 eq'!AX6","v":""},{"$f":"'66_128 eq'!B38","v":33},{"$f":"'66_128 eq'!AQ38","v":0},{"$f":"'66_128 eq'!AR38","v":""},null,{"$f":"'66_128 eq'!AT38","v":""},{"$f":"'66_128 eq'!AU38","v":0},{"$f":"'66_128 eq'!AV38","v":""},{"$f":"'66_128 eq'!I186","v":0},{"$f":"'66_128 eq'!AX38","v":""}]
[{"$f":"'66_128 eq'!B7","v":2},{"$f":"'66_128 eq'!AQ7","v":0},{"$f":"'66_128 eq'!AR7","v":""},null,{"$f":"'66_128 eq'!AT7","v":""},{"$f":"'66_128 eq'!AU7","v":0},{"$f":"'66_128 eq'!AV7","v":""},null,{"$f":"'66_128 eq'!AX7","v":""},{"$f":"'66_128 eq'!B39","v":34},{"$f":"'66_128 eq'!AQ39","v":0},{"$f":"'66_128 eq'!AR39","v":""},null,{"$f":"'66_128 eq'!AT39","v":""},{"$f":"'66_128 eq'!AU39","v":0},{"$f":"'66_128 eq'!AV39","v":""},{"$f":"'66_128 eq'!I187","v":0},{"$f":"'66_128 eq'!AX39","v":""}]
[{"$f":"'66_128 eq'!B8","v":3},{"$f":"'66_128 eq'!AQ8","v":0},{"$f":"'66_128 eq'!AR8","v":""},null,{"$f":"'66_128 eq'!AT8","v":""},{"$f":"'66_128 eq'!AU8","v":0},{"$f":"'66_128 eq'!AV8","v":""},null,{"$f":"'66_128 eq'!AX8","v":""},{"$f":"'66_128 eq'!B40","v":35},{"$f":"'66_128 eq'!AQ40","v":0},{"$f":"'66_128 eq'!AR40","v":""},null,{"$f":"'66_128 eq'!AT40","v":""},{"$f":"'66_128 eq'!AU40","v":0},{"$f":"'66_128 eq'!AV40","v":""},{"$f":"'66_128 eq'!I188","v":0},{"$f":"'66_128 eq'!AX40","v":""}]
[{"$f":"'66_128 eq'!B9","v":4},{"$f":"'66_128 eq'!AQ9","v":0},{"$f":"'66_128 eq'!AR9","v":""},null,{"$f":"'66_128 eq'!AT9","v":""},{"$f":"'66_128 eq'!AU9","v":0},{"$f":"'66_128 eq'!AV9","v":""},null,{"$f":"'66_128 eq'!AX9","v":""},{"$f":"'66_128 eq'!B41","v":36},{"$f":"'66_128 eq'!AQ41","v":0},{"$f":"'66_128 eq'!AR41","v":""},null,{"$f":"'66_128 eq'!AT41","v":""},{"$f":"'66_128 eq'!AU41","v":0},{"$f":"'66_128 eq'!AV41","v":""},{"$f":"'66_128 eq'!I189","v":0},{"$f":"'66_128 eq'!AX41","v":""}]
[{"$f":"'66_128 eq'!B10","v":5},{"$f":"'66_128 eq'!AQ10","v":0},{"$f":"'66_128 eq'!AR10","v":""},null,{"$f":"'66_128 eq'!AT10","v":""},{"$f":"'66_128 eq'!AU10","v":0},{"$f":"'66_128 eq'!AV10","v":""},null,{"$f":"'66_128 eq'!AX10","v":""},{"$f":"'66_128 eq'!B42","v":37},{"$f":"'66_128 eq'!AQ42","v":0},{"$f":"'66_128 eq'!AR42","v":""},null,{"$f":"'66_128 eq'!AT42","v":""},{"$f":"'66_128 eq'!AU42","v":0},{"$f":"'66_128 eq'!AV42","v":""},{"$f":"'66_128 eq'!I190","v":0},{"$f":"'66_128 eq'!AX42","v":""}]
[{"$f":"'66_128 eq'!B11","v":6},{"$f":"'66_128 eq'!AQ11","v":0},{"$f":"'66_128 eq'!AR11","v":""},null,{"$f":"'66_128 eq'!AT11","v":""},{"$f":"'66_128 eq'!AU11","v":0},{"$f":"'66_128 eq'!AV11","v":""},null,{"$f":"'66_128 eq'!AX11","v":""},{"$f":"'66_128 eq'!B43","v":38},{"$f":"'66_128 eq'!AQ43","v":0},{"$f":"'66_128 eq'!AR43","v":""},null,{"$f":"'66_128 eq'!AT43","v":""},{"$f":"'66_128 eq'!AU43","v":0},{"$f":"'66_128 eq'!AV43","v":""},{"$f":"'66_128 eq'!I191","v":0},{"$f":"'66_128 eq'!AX43","v":""}]
[{"$f":"'66_128 eq'!B12","v":7},{"$f":"'66_128 eq'!AQ12","v":0},{"$f":"'66_128 eq'!AR12","v":""},null,{"$f":"'66_128 eq'!AT12","v":""},{"$f":"'66_128 eq'!AU12","v":0},{"$f":"'66_128 eq'!AV12","v":""},null,{"$f":"'66_128 eq'!AX12","v":""},{"$f":"'66_128 eq'!B44","v":39},{"$f":"'66_128 eq'!AQ44","v":0},{"$f":"'66_128 eq'!AR44","v":""},null,{"$f":"'66_128 eq'!AT44","v":""},{"$f":"'66_128 eq'!AU44","v":0},{"$f":"'66_128 eq'!AV44","v":""},{"$f":"'66_128 eq'!I192","v":0},{"$f":"'66_128 eq'!AX44","v":""}]
[{"$f":"'66_128 eq'!B13","v":8},{"$f":"'66_128 eq'!AQ13","v":0},{"$f":"'66_128 eq'!AR13","v":""},null,{"$f":"'66_128 eq'!AT13","v":""},{"$f":"'66_128 eq'!AU13","v":0},{"$f":"'66_128 eq'!AV13","v":""},null,{"$f":"'66_128 eq'!AX13","v":""},{"$f":"'66_128 eq'!B45","v":40},{"$f":"'66_128 eq'!AQ45","v":0},{"$f":"'66_128 eq'!AR45","v":""},null,{"$f":"'66_128 eq'!AT45","v":""},{"$f":"'66_128 eq'!AU45","v":0},{"$f":"'66_128 eq'!AV45","v":""},{"$f":"'66_128 eq'!I193","v":0},{"$f":"'66_128 eq'!AX45","v":""}]
[{"$f":"'66_128 eq'!B14","v":9},{"$f":"'66_128 eq'!AQ14","v":0},{"$f":"'66_128 eq'!AR14","v":""},null,{"$f":"'66_128 eq'!AT14","v":""},{"$f":"'66_128 eq'!AU14","v":0},{"$f":"'66_128 eq'!AV14","v":""},null,{"$f":"'66_128 eq'!AX14","v":""},{"$f":"'66_128 eq'!B46","v":41},{"$f":"'66_128 eq'!AQ46","v":0},{"$f":"'66_128 eq'!AR46","v":""},null,{"$f":"'66_128 eq'!AT46","v":""},{"$f":"'66_128 eq'!AU46","v":0},{"$f":"'66_128 eq'!AV46","v":""},{"$f":"'66_128 eq'!I194","v":0},{"$f":"'66_128 eq'!AX46","v":""}]
[{"$f":"'66_128 eq'!B15","v":10},{"$f":"'66_128 eq'!AQ15","v":0},{"$f":"'66_128 eq'!AR15","v":""},null,{"$f":"'66_128 eq'!AT15","v":""},{"$f":"'66_128 eq'!AU15","v":0},{"$f":"'66_128 eq'!AV15","v":""},null,{"$f":"'66_128 eq'!AX15","v":""},{"$f":"'66_128 eq'!B47","v":42},{"$f":"'66_128 eq'!AQ47","v":0},{"$f":"'66_128 eq'!AR47","v":""},null,{"$f":"'66_128 eq'!AT47","v":""},{"$f":"'66_128 eq'!AU47","v":0},{"$f":"'66_128 eq'!AV47","v":""},{"$f":"'66_128 eq'!I195","v":0},{"$f":"'66_128 eq'!AX47","v":""}]
[{"$f":"'66_128 eq'!B16","v":11},{"$f":"'66_128 eq'!AQ16","v":0},{"$f":"'66_128 eq'!AR16","v":""},null,{"$f":"'66_128 eq'!AT16","v":""},{"$f":"'66_128 eq'!AU16","v":0},{"$f":"'66_128 eq'!AV16","v":""},null,{"$f":"'66_128 eq'!AX16","v":""},{"$f":"'66_128 eq'!B48","v":43},{"$f":"'66_128 eq'!AQ48","v":0},{"$f":"'66_128 eq'!AR48","v":""},null,{"$f":"'66_128 eq'!AT48","v":""},{"$f":"'66_128 eq'!AU48","v":0},{"$f":"'66_128 eq'!AV48","v":""},{"$f":"'66_128 eq'!I196","v":0},{"$f":"'66_128 eq'!AX48","v":""}]
[{"$f":"'66_128 eq'!B17","v":12},{"$f":"'66_128 eq'!AQ17","v":0},{"$f":"'66_128 eq'!AR17","v":""},null,{"$f":"'66_128 eq'!AT17","v":""},{"$f":"'66_128 eq'!AU17","v":0},{"$f":"'66_128 eq'!AV17","v":""},null,{"$f":"'66_128 eq'!AX17","v":""},{"$f":"'66_128 eq'!B49","v":44},{"$f":"'66_128 eq'!AQ49","v":0},{"$f":"'66_128 eq'!AR49","v":""},null,{"$f":"'66_128 eq'!AT49","v":""},{"$f":"'66_128 eq'!AU49","v":0},{"$f":"'66_128 eq'!AV49","v":""},{"$f":"'66_128 eq'!I197","v":0},{"$f":"'66_128 eq'!AX49","v":""}]
[{"$f":"'66_128 eq'!B18","v":13},{"$f":"'66_128 eq'!AQ18","v":0},{"$f":"'66_128 eq'!AR18","v":""},null,{"$f":"'66_128 eq'!AT18","v":""},{"$f":"'66_128 eq'!AU18","v":0},{"$f":"'66_128 eq'!AV18","v":""},null,{"$f":"'66_128 eq'!AX18","v":""},{"$f":"'66_128 eq'!B50","v":45},{"$f":"'66_128 eq'!AQ50","v":0},{"$f":"'66_128 eq'!AR50","v":""},null,{"$f":"'66_128 eq'!AT50","v":""},{"$f":"'66_128 eq'!AU50","v":0},{"$f":"'66_128 eq'!AV50","v":""},{"$f":"'66_128 eq'!I198","v":0},{"$f":"'66_128 eq'!AX50","v":""}]
[{"$f":"'66_128 eq'!B19","v":14},{"$f":"'66_128 eq'!AQ19","v":0},{"$f":"'66_128 eq'!AR19","v":""},null,{"$f":"'66_128 eq'!AT19","v":""},{"$f":"'66_128 eq'!AU19","v":0},{"$f":"'66_128 eq'!AV19","v":""},null,{"$f":"'66_128 eq'!AX19","v":""},{"$f":"'66_128 eq'!B51","v":46},{"$f":"'66_128 eq'!AQ51","v":0},{"$f":"'66_128 eq'!AR51","v":""},null,{"$f":"'66_128 eq'!AT51","v":""},{"$f":"'66_128 eq'!AU51","v":0},{"$f":"'66_128 eq'!AV51","v":""},{"$f":"'66_128 eq'!I199","v":0},{"$f":"'66_128 eq'!AX51","v":""}]
[{"$f":"'66_128 eq'!B20","v":15},{"$f":"'66_128 eq'!AQ20","v":0},{"$f":"'66_128 eq'!AR20","v":""},null,{"$f":"'66_128 eq'!AT20","v":""},{"$f":"'66_128 eq'!AU20","v":0},{"$f":"'66_128 eq'!AV20","v":""},null,{"$f":"'66_128 eq'!AX20","v":""},{"$f":"'66_128 eq'!B52","v":47},{"$f":"'66_128 eq'!AQ52","v":0},{"$f":"'66_128 eq'!AR52","v":""},null,{"$f":"'66_128 eq'!AT52","v":""},{"$f":"'66_128 eq'!AU52","v":0},{"$f":"'66_128 eq'!AV52","v":""},{"$f":"'66_128 eq'!I200","v":0},{"$f":"'66_128 eq'!AX52","v":""}]
[{"$f":"'66_128 eq'!B21","v":16},{"$f":"'66_128 eq'!AQ21","v":0},{"$f":"'66_128 eq'!AR21","v":""},null,{"$f":"'66_128 eq'!AT21","v":""},{"$f":"'66_128 eq'!AU21","v":0},{"$f":"'66_128 eq'!AV21","v":""},null,{"$f":"'66_128 eq'!AX21","v":""},{"$f":"'66_128 eq'!B53","v":48},{"$f":"'66_128 eq'!AQ53","v":0},{"$f":"'66_128 eq'!AR53","v":""},null,{"$f":"'66_128 eq'!AT53","v":""},{"$f":"'66_128 eq'!AU53","v":0},{"$f":"'66_128 eq'!AV53","v":""},{"$f":"'66_128 eq'!I201","v":0},{"$f":"'66_128 eq'!AX53","v":""}]
[{"$f":"'66_128 eq'!B22","v":17},{"$f":"'66_128 eq'!AQ22","v":0},{"$f":"'66_128 eq'!AR22","v":""},null,{"$f":"'66_128 eq'!AT22","v":""},{"$f":"'66_128 eq'!AU22","v":0},{"$f":"'66_128 eq'!AV22","v":""},null,{"$f":"'66_128 eq'!AX22","v":""},{"$f":"'66_128 eq'!B54","v":49},{"$f":"'66_128 eq'!AQ54","v":0},{"$f":"'66_128 eq'!AR54","v":""},null,{"$f":"'66_128 eq'!AT54","v":""},{"$f":"'66_128 eq'!AU54","v":0},{"$f":"'66_128 eq'!AV54","v":""},{"$f":"'66_128 eq'!I202","v":0},{"$f":"'66_128 eq'!AX54","v":""}]
[{"$f":"'66_128 eq'!B23","v":18},{"$f":"'66_128 eq'!AQ23","v":0},{"$f":"'66_128 eq'!AR23","v":""},null,{"$f":"'66_128 eq'!AT23","v":""},{"$f":"'66_128 eq'!AU23","v":0},{"$f":"'66_128 eq'!AV23","v":""},null,{"$f":"'66_128 eq'!AX23","v":""},{"$f":"'66_128 eq'!B55","v":50},{"$f":"'66_128 eq'!AQ55","v":0},{"$f":"'66_128 eq'!AR55","v":""},null,{"$f":"'66_128 eq'!AT55","v":""},{"$f":"'66_128 eq'!AU55","v":0},{"$f":"'66_128 eq'!AV55","v":""},{"$f":"'66_128 eq'!I203","v":0},{"$f":"'66_128 eq'!AX55","v":""}]
[{"$f":"'66_128 eq'!B24","v":19},{"$f":"'66_128 eq'!AQ24","v":0},{"$f":"'66_128 eq'!AR24","v":""},null,{"$f":"'66_128 eq'!AT24","v":""},{"$f":"'66_128 eq'!AU24","v":0},{"$f":"'66_128 eq'!AV24","v":""},null,{"$f":"'66_128 eq'!AX24","v":""},{"$f":"'66_128 eq'!B56","v":51},{"$f":"'66_128 eq'!AQ56","v":0},{"$f":"'66_128 eq'!AR56","v":""},null,{"$f":"'66_128 eq'!AT56","v":""},{"$f":"'66_128 eq'!AU56","v":0},{"$f":"'66_128 eq'!AV56","v":""},{"$f":"'66_128 eq'!I204","v":0},{"$f":"'66_128 eq'!AX56","v":""}]
[{"$f":"'66_128 eq'!B25","v":20},{"$f":"'66_128 eq'!AQ25","v":0},{"$f":"'66_128 eq'!AR25","v":""},null,{"$f":"'66_128 eq'!AT25","v":""},{"$f":"'66_128 eq'!AU25","v":0},{"$f":"'66_128 eq'!AV25","v":""},null,{"$f":"'66_128 eq'!AX25","v":""},{"$f":"'66_128 eq'!B57","v":52},{"$f":"'66_128 eq'!AQ57","v":0},{"$f":"'66_128 eq'!AR57","v":""},null,{"$f":"'66_128 eq'!AT57","v":""},{"$f":"'66_128 eq'!AU57","v":0},{"$f":"'66_128 eq'!AV57","v":""},{"$f":"'66_128 eq'!I205","v":0},{"$f":"'66_128 eq'!AX57","v":""}]
[{"$f":"'66_128 eq'!B26","v":21},{"$f":"'66_128 eq'!AQ26","v":0},{"$f":"'66_128 eq'!AR26","v":""},null,{"$f":"'66_128 eq'!AT26","v":""},{"$f":"'66_128 eq'!AU26","v":0},{"$f":"'66_128 eq'!AV26","v":""},null,{"$f":"'66_128 eq'!AX26","v":""},{"$f":"'66_128 eq'!B58","v":53},{"$f":"'66_128 eq'!AQ58","v":0},{"$f":"'66_128 eq'!AR58","v":""},null,{"$f":"'66_128 eq'!AT58","v":""},{"$f":"'66_128 eq'!AU58","v":0},{"$f":"'66_128 eq'!AV58","v":""},{"$f":"'66_128 eq'!I206","v":0},{"$f":"'66_128 eq'!AX58","v":""}]
[{"$f":"'66_128 eq'!B27","v":22},{"$f":"'66_128 eq'!AQ27","v":0},{"$f":"'66_128 eq'!AR27","v":""},null,{"$f":"'66_128 eq'!AT27","v":""},{"$f":"'66_128 eq'!AU27","v":0},{"$f":"'66_128 eq'!AV27","v":""},null,{"$f":"'66_128 eq'!AX27","v":""},{"$f":"'66_128 eq'!B59","v":54},{"$f":"'66_128 eq'!AQ59","v":0},{"$f":"'66_128 eq'!AR59","v":""},null,{"$f":"'66_128 eq'!AT59","v":""},{"$f":"'66_128 eq'!AU59","v":0},{"$f":"'66_128 eq'!AV59","v":""},{"$f":"'66_128 eq'!I207","v":0},{"$f":"'66_128 eq'!AX59","v":""}]
[{"$f":"'66_128 eq'!B28","v":23},{"$f":"'66_128 eq'!AQ28","v":0},{"$f":"'66_128 eq'!AR28","v":""},null,{"$f":"'66_128 eq'!AT28","v":""},{"$f":"'66_128 eq'!AU28","v":0},{"$f":"'66_128 eq'!AV28","v":""},null,{"$f":"'66_128 eq'!AX28","v":""},{"$f":"'66_128 eq'!B60","v":55},{"$f":"'66_128 eq'!AQ60","v":0},{"$f":"'66_128 eq'!AR60","v":""},null,{"$f":"'66_128 eq'!AT60","v":""},{"$f":"'66_128 eq'!AU60","v":0},{"$f":"'66_128 eq'!AV60","v":""},{"$f":"'66_128 eq'!I208","v":0},{"$f":"'66_128 eq'!AX60","v":""}]
[{"$f":"'66_128 eq'!B29","v":24},{"$f":"'66_128 eq'!AQ29","v":0},{"$f":"'66_128 eq'!AR29","v":""},null,{"$f":"'66_128 eq'!AT29","v":""},{"$f":"'66_128 eq'!AU29","v":0},{"$f":"'66_128 eq'!AV29","v":""},null,{"$f":"'66_128 eq'!AX29","v":""},{"$f":"'66_128 eq'!B61","v":56},{"$f":"'66_128 eq'!AQ61","v":0},{"$f":"'66_128 eq'!AR61","v":""},null,{"$f":"'66_128 eq'!AT61","v":""},{"$f":"'66_128 eq'!AU61","v":0},{"$f":"'66_128 eq'!AV61","v":""},{"$f":"'66_128 eq'!I209","v":0},{"$f":"'66_128 eq'!AX61","v":""}]
[{"$f":"'66_128 eq'!B30","v":25},{"$f":"'66_128 eq'!AQ30","v":0},{"$f":"'66_128 eq'!AR30","v":""},null,{"$f":"'66_128 eq'!AT30","v":""},{"$f":"'66_128 eq'!AU30","v":0},{"$f":"'66_128 eq'!AV30","v":""},null,{"$f":"'66_128 eq'!AX30","v":""},{"$f":"'66_128 eq'!B62","v":57},{"$f":"'66_128 eq'!AQ62","v":0},{"$f":"'66_128 eq'!AR62","v":""},null,{"$f":"'66_128 eq'!AT62","v":""},{"$f":"'66_128 eq'!AU62","v":0},{"$f":"'66_128 eq'!AV62","v":""},{"$f":"'66_128 eq'!I210","v":0},{"$f":"'66_128 eq'!AX62","v":""}]
[{"$f":"'66_128 eq'!B31","v":26},{"$f":"'66_128 eq'!AQ31","v":0},{"$f":"'66_128 eq'!AR31","v":""},null,{"$f":"'66_128 eq'!AT31","v":""},{"$f":"'66_128 eq'!AU31","v":0},{"$f":"'66_128 eq'!AV31","v":""},null,{"$f":"'66_128 eq'!AX31","v":""},{"$f":"'66_128 eq'!B63","v":58},{"$f":"'66_128 eq'!AQ63","v":0},{"$f":"'66_128 eq'!AR63","v":""},null,{"$f":"'66_128 eq'!AT63","v":""},{"$f":"'66_128 eq'!AU63","v":0},{"$f":"'66_128 eq'!AV63","v":""},{"$f":"'66_128 eq'!I211","v":0},{"$f":"'66_128 eq'!AX63","v":""}]
[{"$f":"'66_128 eq'!B32","v":27},{"$f":"'66_128 eq'!AQ32","v":0},{"$f":"'66_128 eq'!AR32","v":""},null,{"$f":"'66_128 eq'!AT32","v":""},{"$f":"'66_128 eq'!AU32","v":0},{"$f":"'66_128 eq'!AV32","v":""},null,{"$f":"'66_128 eq'!AX32","v":""},{"$f":"'66_128 eq'!B64","v":59},{"$f":"'66_128 eq'!AQ64","v":0},{"$f":"'66_128 eq'!AR64","v":""},null,{"$f":"'66_128 eq'!AT64","v":""},{"$f":"'66_128 eq'!AU64","v":0},{"$f":"'66_128 eq'!AV64","v":""},{"$f":"'66_128 eq'!I212","v":0},{"$f":"'66_128 eq'!AX64","v":""}]
[{"$f":"'66_128 eq'!B33","v":28},{"$f":"'66_128 eq'!AQ33","v":0},{"$f":"'66_128 eq'!AR33","v":""},null,{"$f":"'66_128 eq'!AT33","v":""},{"$f":"'66_128 eq'!AU33","v":0},{"$f":"'66_128 eq'!AV33","v":""},null,{"$f":"'66_128 eq'!AX33","v":""},{"$f":"'66_128 eq'!B65","v":60},{"$f":"'66_128 eq'!AQ65","v":0},{"$f":"'66_128 eq'!AR65","v":""},null,{"$f":"'66_128 eq'!AT65","v":""},{"$f":"'66_128 eq'!AU65","v":0},{"$f":"'66_128 eq'!AV65","v":""},{"$f":"'66_128 eq'!I213","v":0},{"$f":"'66_128 eq'!AX65","v":""}]
[{"$f":"'66_128 eq'!B34","v":29},{"$f":"'66_128 eq'!AQ34","v":0},{"$f":"'66_128 eq'!AR34","v":""},null,{"$f":"'66_128 eq'!AT34","v":""},{"$f":"'66_128 eq'!AU34","v":0},{"$f":"'66_128 eq'!AV34","v":""},null,{"$f":"'66_128 eq'!AX34","v":""},{"$f":"'66_128 eq'!B66","v":61},{"$f":"'66_128 eq'!AQ66","v":0},{"$f":"'66_128 eq'!AR66","v":""},null,{"$f":"'66_128 eq'!AT66","v":""},{"$f":"'66_128 eq'!AU66","v":0},{"$f":"'66_128 eq'!AV66","v":""},{"$f":"'66_128 eq'!I214","v":0},{"$f":"'66_128 eq'!AX66","v":""}]
[{"$f":"'66_128 eq'!B35","v":30},{"$f":"'66_128 eq'!AQ35","v":0},{"$f":"'66_128 eq'!AR35","v":""},null,{"$f":"'66_128 eq'!AT35","v":""},{"$f":"'66_128 eq'!AU35","v":0},{"$f":"'66_128 eq'!AV35","v":""},null,{"$f":"'66_128 eq'!AX35","v":""},{"$f":"'66_128 eq'!B67","v":62},{"$f":"'66_128 eq'!AQ67","v":0},{"$f":"'66_128 eq'!AR67","v":""},null,{"$f":"'66_128 eq'!AT67","v":""},{"$f":"'66_128 eq'!AU67","v":0},{"$f":"'66_128 eq'!AV67","v":""},{"$f":"'66_128 eq'!I215","v":0},{"$f":"'66_128 eq'!AX67","v":""}]
[{"$f":"'66_128 eq'!B36","v":31},{"$f":"'66_128 eq'!AQ36","v":0},{"$f":"'66_128 eq'!AR36","v":""},null,{"$f":"'66_128 eq'!AT36","v":""},{"$f":"'66_128 eq'!AU36","v":0},{"$f":"'66_128 eq'!AV36","v":""},null,{"$f":"'66_128 eq'!AX36","v":""},{"$f":"'66_128 eq'!B68","v":63},{"$f":"'66_128 eq'!AQ68","v":0},{"$f":"'66_128 eq'!AR68","v":""},null,{"$f":"'66_128 eq'!AT68","v":""},{"$f":"'66_128 eq'!AU68","v":0},{"$f":"'66_128 eq'!AV68","v":""},{"$f":"'66_128 eq'!I216","v":0},{"$f":"'66_128 eq'!AX68","v":""}]
[{"$f":"'66_128 eq'!B37","v":32},{"$f":"'66_128 eq'!AQ37","v":0},{"$f":"'66_128 eq'!AR37","v":""},null,{"$f":"'66_128 eq'!AT37","v":""},{"$f":"'66_128 eq'!AU37","v":0},{"$f":"'66_128 eq'!AV37","v":""},null,{"$f":"'66_128 eq'!AX37","v":""},{"$f":"'66_128 eq'!B69","v":64},{"$f":"'66_128 eq'!AQ69","v":0},{"$f":"'66_128 eq'!AR69","v":""},null,{"$f":"'66_128 eq'!AT69","v":""},{"$f":"'66_128 eq'!AU69","v":0},{"$f":"'66_128 eq'!AV69","v":""},{"$f":"'66_128 eq'!I217","v":0},{"$f":"'66_128 eq'!AX69","v":""}]
[]
[]
[]
["                                          6 è   tOUR                                                                             6 è    tOUR"]
["Terrain",null,null,null,null,null,null,null,null,"Terrain"]
[{"$f":" '66_128 eq'!B6","v":1},{"$f":"'66_128 eq'!BA6","v":0},{"$f":"'66_128 eq'!BB6","v":""},null,{"$f":"'66_128 eq'!BD6","v":""},{"$f":"'66_128 eq'!BE6","v":0},{"$f":"'66_128 eq'!BF6","v":""},null,{"$f":"'66_128 eq'!BH6","v":""},{"$f":"'66_128 eq'!B38","v":33},{"$f":"'66_128 eq'!BA38","v":0},{"$f":"'66_128 eq'!BB38","v":""},null,{"$f":"'66_128 eq'!BD38","v":""},{"$f":"'66_128 eq'!BE38","v":0},{"$f":"'66_128 eq'!BF38","v":""},{"$f":"'66_128 eq'!I223","v":0},{"$f":"'66_128 eq'!BH38","v":""}]
[{"$f":"'66_128 eq'!B192","v":0},{"$f":"'66_128 eq'!BA7","v":0},{"$f":"'66_128 eq'!BB7","v":""},null,{"$f":"'66_128 eq'!BD7","v":""},{"$f":"'66_128 eq'!BE7","v":0},{"$f":"'66_128 eq'!BF7","v":""},null,{"$f":"'66_128 eq'!BH7","v":""},{"$f":"'66_128 eq'!B39","v":34},{"$f":"'66_128 eq'!BA39","v":0},{"$f":"'66_128 eq'!BB39","v":""},null,{"$f":"'66_128 eq'!BD39","v":""},{"$f":"'66_128 eq'!BE39","v":0},{"$f":"'66_128 eq'!BF39","v":""},{"$f":"'66_128 eq'!I224","v":0},{"$f":"'66_128 eq'!BH39","v":""}]
[{"$f":"'66_128 eq'!B193","v":0},{"$f":"'66_128 eq'!BA8","v":0},{"$f":"'66_128 eq'!BB8","v":""},null,{"$f":"'66_128 eq'!BD8","v":""},{"$f":"'66_128 eq'!BE8","v":0},{"$f":"'66_128 eq'!BF8","v":""},null,{"$f":"'66_128 eq'!BH8","v":""},{"$f":"'66_128 eq'!B40","v":35},{"$f":"'66_128 eq'!BA40","v":0},{"$f":"'66_128 eq'!BB40","v":""},null,{"$f":"'66_128 eq'!BD40","v":""},{"$f":"'66_128 eq'!BE40","v":0},{"$f":"'66_128 eq'!BF40","v":""},{"$f":"'66_128 eq'!I225","v":0},{"$f":"'66_128 eq'!BH40","v":""}]
[{"$f":"'66_128 eq'!B194","v":0},{"$f":"'66_128 eq'!BA9","v":0},{"$f":"'66_128 eq'!BB9","v":""},null,{"$f":"'66_128 eq'!BD9","v":""},{"$f":"'66_128 eq'!BE9","v":0},{"$f":"'66_128 eq'!BF9","v":""},null,{"$f":"'66_128 eq'!BH9","v":""},{"$f":"'66_128 eq'!B41","v":36},{"$f":"'66_128 eq'!BA41","v":0},{"$f":"'66_128 eq'!BB41","v":""},null,{"$f":"'66_128 eq'!BD41","v":""},{"$f":"'66_128 eq'!BE41","v":0},{"$f":"'66_128 eq'!BF41","v":""},{"$f":"'66_128 eq'!I226","v":0},{"$f":"'66_128 eq'!BH41","v":""}]
[{"$f":"'66_128 eq'!B195","v":0},{"$f":"'66_128 eq'!BA10","v":0},{"$f":"'66_128 eq'!BB10","v":""},null,{"$f":"'66_128 eq'!BD10","v":""},{"$f":"'66_128 eq'!BE10","v":0},{"$f":"'66_128 eq'!BF10","v":""},null,{"$f":"'66_128 eq'!BH10","v":""},{"$f":"'66_128 eq'!B42","v":37},{"$f":"'66_128 eq'!BA42","v":0},{"$f":"'66_128 eq'!BB42","v":""},null,{"$f":"'66_128 eq'!BD42","v":""},{"$f":"'66_128 eq'!BE42","v":0},{"$f":"'66_128 eq'!BF42","v":""},{"$f":"'66_128 eq'!I227","v":0},{"$f":"'66_128 eq'!BH42","v":""}]
[{"$f":"'66_128 eq'!B196","v":0},{"$f":"'66_128 eq'!BA11","v":0},{"$f":"'66_128 eq'!BB11","v":""},null,{"$f":"'66_128 eq'!BD11","v":""},{"$f":"'66_128 eq'!BE11","v":0},{"$f":"'66_128 eq'!BF11","v":""},null,{"$f":"'66_128 eq'!BH11","v":""},{"$f":"'66_128 eq'!B43","v":38},{"$f":"'66_128 eq'!BA43","v":0},{"$f":"'66_128 eq'!BB43","v":""},null,{"$f":"'66_128 eq'!BD43","v":""},{"$f":"'66_128 eq'!BE43","v":0},{"$f":"'66_128 eq'!BF43","v":""},{"$f":"'66_128 eq'!I228","v":0},{"$f":"'66_128 eq'!BH43","v":""}]
[{"$f":"'66_128 eq'!B197","v":0},{"$f":"'66_128 eq'!BA12","v":0},{"$f":"'66_128 eq'!BB12","v":""},null,{"$f":"'66_128 eq'!BD12","v":""},{"$f":"'66_128 eq'!BE12","v":0},{"$f":"'66_128 eq'!BF12","v":""},null,{"$f":"'66_128 eq'!BH12","v":""},{"$f":"'66_128 eq'!B44","v":39},{"$f":"'66_128 eq'!BA44","v":0},{"$f":"'66_128 eq'!BB44","v":""},null,{"$f":"'66_128 eq'!BD44","v":""},{"$f":"'66_128 eq'!BE44","v":0},{"$f":"'66_128 eq'!BF44","v":""},{"$f":"'66_128 eq'!I229","v":0},{"$f":"'66_128 eq'!BH44","v":""}]
[{"$f":"'66_128 eq'!B198","v":0},{"$f":"'66_128 eq'!BA13","v":0},{"$f":"'66_128 eq'!BB13","v":""},null,{"$f":"'66_128 eq'!BD13","v":""},{"$f":"'66_128 eq'!BE13","v":0},{"$f":"'66_128 eq'!BF13","v":""},null,{"$f":"'66_128 eq'!BH13","v":""},{"$f":"'66_128 eq'!B45","v":40},{"$f":"'66_128 eq'!BA45","v":0},{"$f":"'66_128 eq'!BB45","v":""},null,{"$f":"'66_128 eq'!BD45","v":""},{"$f":"'66_128 eq'!BE45","v":0},{"$f":"'66_128 eq'!BF45","v":""},{"$f":"'66_128 eq'!I230","v":0},{"$f":"'66_128 eq'!BH45","v":""}]
[{"$f":"'66_128 eq'!B199","v":0},{"$f":"'66_128 eq'!BA14","v":0},{"$f":"'66_128 eq'!BB14","v":""},null,{"$f":"'66_128 eq'!BD14","v":""},{"$f":"'66_128 eq'!BE14","v":0},{"$f":"'66_128 eq'!BF14","v":""},null,{"$f":"'66_128 eq'!BH14","v":""},{"$f":"'66_128 eq'!B46","v":41},{"$f":"'66_128 eq'!BA46","v":0},{"$f":"'66_128 eq'!BB46","v":""},null,{"$f":"'66_128 eq'!BD46","v":""},{"$f":"'66_128 eq'!BE46","v":0},{"$f":"'66_128 eq'!BF46","v":""},{"$f":"'66_128 eq'!I231","v":0},{"$f":"'66_128 eq'!BH46","v":""}]
[{"$f":"'66_128 eq'!B200","v":0},{"$f":"'66_128 eq'!BA15","v":0},{"$f":"'66_128 eq'!BB15","v":""},null,{"$f":"'66_128 eq'!BD15","v":""},{"$f":"'66_128 eq'!BE15","v":0},{"$f":"'66_128 eq'!BF15","v":""},null,{"$f":"'66_128 eq'!BH15","v":""},{"$f":"'66_128 eq'!B47","v":42},{"$f":"'66_128 eq'!BA47","v":0},{"$f":"'66_128 eq'!BB47","v":""},null,{"$f":"'66_128 eq'!BD47","v":""},{"$f":"'66_128 eq'!BE47","v":0},{"$f":"'66_128 eq'!BF47","v":""},{"$f":"'66_128 eq'!I232","v":0},{"$f":"'66_128 eq'!BH47","v":""}]
[{"$f":"'66_128 eq'!B201","v":0},{"$f":"'66_128 eq'!BA16","v":0},{"$f":"'66_128 eq'!BB16","v":""},null,{"$f":"'66_128 eq'!BD16","v":""},{"$f":"'66_128 eq'!BE16","v":0},{"$f":"'66_128 eq'!BF16","v":""},null,{"$f":"'66_128 eq'!BH16","v":""},{"$f":"'66_128 eq'!B48","v":43},{"$f":"'66_128 eq'!BA48","v":0},{"$f":"'66_128 eq'!BB48","v":""},null,{"$f":"'66_128 eq'!BD48","v":""},{"$f":"'66_128 eq'!BE48","v":0},{"$f":"'66_128 eq'!BF48","v":""},{"$f":"'66_128 eq'!I233","v":0},{"$f":"'66_128 eq'!BH48","v":""}]
[{"$f":"'66_128 eq'!B202","v":0},{"$f":"'66_128 eq'!BA17","v":0},{"$f":"'66_128 eq'!BB17","v":""},null,{"$f":"'66_128 eq'!BD17","v":""},{"$f":"'66_128 eq'!BE17","v":0},{"$f":"'66_128 eq'!BF17","v":""},null,{"$f":"'66_128 eq'!BH17","v":""},{"$f":"'66_128 eq'!B49","v":44},{"$f":"'66_128 eq'!BA49","v":0},{"$f":"'66_128 eq'!BB49","v":""},null,{"$f":"'66_128 eq'!BD49","v":""},{"$f":"'66_128 eq'!BE49","v":0},{"$f":"'66_128 eq'!BF49","v":""},{"$f":"'66_128 eq'!I234","v":0},{"$f":"'66_128 eq'!BH49","v":""}]
[{"$f":"'66_128 eq'!B203","v":0},{"$f":"'66_128 eq'!BA18","v":0},{"$f":"'66_128 eq'!BB18","v":""},null,{"$f":"'66_128 eq'!BD18","v":""},{"$f":"'66_128 eq'!BE18","v":0},{"$f":"'66_128 eq'!BF18","v":""},null,{"$f":"'66_128 eq'!BH18","v":""},{"$f":"'66_128 eq'!B50","v":45},{"$f":"'66_128 eq'!BA50","v":0},{"$f":"'66_128 eq'!BB50","v":""},null,{"$f":"'66_128 eq'!BD50","v":""},{"$f":"'66_128 eq'!BE50","v":0},{"$f":"'66_128 eq'!BF50","v":""},{"$f":"'66_128 eq'!I235","v":0},{"$f":"'66_128 eq'!BH50","v":""}]
[{"$f":"'66_128 eq'!B204","v":0},{"$f":"'66_128 eq'!BA19","v":0},{"$f":"'66_128 eq'!BB19","v":""},null,{"$f":"'66_128 eq'!BD19","v":""},{"$f":"'66_128 eq'!BE19","v":0},{"$f":"'66_128 eq'!BF19","v":""},null,{"$f":"'66_128 eq'!BH19","v":""},{"$f":"'66_128 eq'!B51","v":46},{"$f":"'66_128 eq'!BA51","v":0},{"$f":"'66_128 eq'!BB51","v":""},null,{"$f":"'66_128 eq'!BD51","v":""},{"$f":"'66_128 eq'!BE51","v":0},{"$f":"'66_128 eq'!BF51","v":""},{"$f":"'66_128 eq'!I236","v":0},{"$f":"'66_128 eq'!BH51","v":""}]
[{"$f":"'66_128 eq'!B205","v":0},{"$f":"'66_128 eq'!BA20","v":0},{"$f":"'66_128 eq'!BB20","v":""},null,{"$f":"'66_128 eq'!BD20","v":""},{"$f":"'66_128 eq'!BE20","v":0},{"$f":"'66_128 eq'!BF20","v":""},null,{"$f":"'66_128 eq'!BH20","v":""},{"$f":"'66_128 eq'!B52","v":47},{"$f":"'66_128 eq'!BA52","v":0},{"$f":"'66_128 eq'!BB52","v":""},null,{"$f":"'66_128 eq'!BD52","v":""},{"$f":"'66_128 eq'!BE52","v":0},{"$f":"'66_128 eq'!BF52","v":""},{"$f":"'66_128 eq'!I237","v":0},{"$f":"'66_128 eq'!BH52","v":""}]
[{"$f":"'66_128 eq'!B206","v":0},{"$f":"'66_128 eq'!BA21","v":0},{"$f":"'66_128 eq'!BB21","v":""},null,{"$f":"'66_128 eq'!BD21","v":""},{"$f":"'66_128 eq'!BE21","v":0},{"$f":"'66_128 eq'!BF21","v":""},null,{"$f":"'66_128 eq'!BH21","v":""},{"$f":"'66_128 eq'!B53","v":48},{"$f":"'66_128 eq'!BA53","v":0},{"$f":"'66_128 eq'!BB53","v":""},null,{"$f":"'66_128 eq'!BD53","v":""},{"$f":"'66_128 eq'!BE53","v":0},{"$f":"'66_128 eq'!BF53","v":""},{"$f":"'66_128 eq'!I238","v":0},{"$f":"'66_128 eq'!BH53","v":""}]
[{"$f":"'66_128 eq'!B207","v":0},{"$f":"'66_128 eq'!BA22","v":0},{"$f":"'66_128 eq'!BB22","v":""},null,{"$f":"'66_128 eq'!BD22","v":""},{"$f":"'66_128 eq'!BE22","v":0},{"$f":"'66_128 eq'!BF22","v":""},null,{"$f":"'66_128 eq'!BH22","v":""},{"$f":"'66_128 eq'!B54","v":49},{"$f":"'66_128 eq'!BA54","v":0},{"$f":"'66_128 eq'!BB54","v":""},null,{"$f":"'66_128 eq'!BD54","v":""},{"$f":"'66_128 eq'!BE54","v":0},{"$f":"'66_128 eq'!BF54","v":""},{"$f":"'66_128 eq'!I239","v":0},{"$f":"'66_128 eq'!BH54","v":""}]
[{"$f":"'66_128 eq'!B208","v":0},{"$f":"'66_128 eq'!BA23","v":0},{"$f":"'66_128 eq'!BB23","v":""},null,{"$f":"'66_128 eq'!BD23","v":""},{"$f":"'66_128 eq'!BE23","v":0},{"$f":"'66_128 eq'!BF23","v":""},null,{"$f":"'66_128 eq'!BH23","v":""},{"$f":"'66_128 eq'!B55","v":50},{"$f":"'66_128 eq'!BA55","v":0},{"$f":"'66_128 eq'!BB55","v":""},null,{"$f":"'66_128 eq'!BD55","v":""},{"$f":"'66_128 eq'!BE55","v":0},{"$f":"'66_128 eq'!BF55","v":""},{"$f":"'66_128 eq'!I240","v":0},{"$f":"'66_128 eq'!BH55","v":""}]
[{"$f":"'66_128 eq'!B209","v":0},{"$f":"'66_128 eq'!BA24","v":0},{"$f":"'66_128 eq'!BB24","v":""},null,{"$f":"'66_128 eq'!BD24","v":""},{"$f":"'66_128 eq'!BE24","v":0},{"$f":"'66_128 eq'!BF24","v":""},null,{"$f":"'66_128 eq'!BH24","v":""},{"$f":"'66_128 eq'!B56","v":51},{"$f":"'66_128 eq'!BA56","v":0},{"$f":"'66_128 eq'!BB56","v":""},null,{"$f":"'66_128 eq'!BD56","v":""},{"$f":"'66_128 eq'!BE56","v":0},{"$f":"'66_128 eq'!BF56","v":""},{"$f":"'66_128 eq'!I241","v":0},{"$f":"'66_128 eq'!BH56","v":""}]
[{"$f":"'66_128 eq'!B210","v":0},{"$f":"'66_128 eq'!BA25","v":0},{"$f":"'66_128 eq'!BB25","v":""},null,{"$f":"'66_128 eq'!BD25","v":""},{"$f":"'66_128 eq'!BE25","v":0},{"$f":"'66_128 eq'!BF25","v":""},null,{"$f":"'66_128 eq'!BH25","v":""},{"$f":"'66_128 eq'!B57","v":52},{"$f":"'66_128 eq'!BA57","v":0},{"$f":"'66_128 eq'!BB57","v":""},null,{"$f":"'66_128 eq'!BD57","v":""},{"$f":"'66_128 eq'!BE57","v":0},{"$f":"'66_128 eq'!BF57","v":""},{"$f":"'66_128 eq'!I242","v":0},{"$f":"'66_128 eq'!BH57","v":""}]
[{"$f":"'66_128 eq'!B211","v":0},{"$f":"'66_128 eq'!BA26","v":0},{"$f":"'66_128 eq'!BB26","v":""},null,{"$f":"'66_128 eq'!BD26","v":""},{"$f":"'66_128 eq'!BE26","v":0},{"$f":"'66_128 eq'!BF26","v":""},null,{"$f":"'66_128 eq'!BH26","v":""},{"$f":"'66_128 eq'!B58","v":53},{"$f":"'66_128 eq'!BA58","v":0},{"$f":"'66_128 eq'!BB58","v":""},null,{"$f":"'66_128 eq'!BD58","v":""},{"$f":"'66_128 eq'!BE58","v":0},{"$f":"'66_128 eq'!BF58","v":""},{"$f":"'66_128 eq'!I243","v":0},{"$f":"'66_128 eq'!BH58","v":""}]
[{"$f":"'66_128 eq'!B212","v":0},{"$f":"'66_128 eq'!BA27","v":0},{"$f":"'66_128 eq'!BB27","v":""},null,{"$f":"'66_128 eq'!BD27","v":""},{"$f":"'66_128 eq'!BE27","v":0},{"$f":"'66_128 eq'!BF27","v":""},null,{"$f":"'66_128 eq'!BH27","v":""},{"$f":"'66_128 eq'!B59","v":54},{"$f":"'66_128 eq'!BA59","v":0},{"$f":"'66_128 eq'!BB59","v":""},null,{"$f":"'66_128 eq'!BD59","v":""},{"$f":"'66_128 eq'!BE59","v":0},{"$f":"'66_128 eq'!BF59","v":""},{"$f":"'66_128 eq'!I244","v":0},{"$f":"'66_128 eq'!BH59","v":""}]
[{"$f":"'66_128 eq'!B213","v":0},{"$f":"'66_128 eq'!BA28","v":0},{"$f":"'66_128 eq'!BB28","v":""},null,{"$f":"'66_128 eq'!BD28","v":""},{"$f":"'66_128 eq'!BE28","v":0},{"$f":"'66_128 eq'!BF28","v":""},null,{"$f":"'66_128 eq'!BH28","v":""},{"$f":"'66_128 eq'!B60","v":55},{"$f":"'66_128 eq'!BA60","v":0},{"$f":"'66_128 eq'!BB60","v":""},null,{"$f":"'66_128 eq'!BD60","v":""},{"$f":"'66_128 eq'!BE60","v":0},{"$f":"'66_128 eq'!BF60","v":""},{"$f":"'66_128 eq'!I245","v":0},{"$f":"'66_128 eq'!BH60","v":""}]
[{"$f":"'66_128 eq'!B214","v":0},{"$f":"'66_128 eq'!BA29","v":0},{"$f":"'66_128 eq'!BB29","v":""},null,{"$f":"'66_128 eq'!BD29","v":""},{"$f":"'66_128 eq'!BE29","v":0},{"$f":"'66_128 eq'!BF29","v":""},null,{"$f":"'66_128 eq'!BH29","v":""},{"$f":"'66_128 eq'!B61","v":56},{"$f":"'66_128 eq'!BA61","v":0},{"$f":"'66_128 eq'!BB61","v":""},null,{"$f":"'66_128 eq'!BD61","v":""},{"$f":"'66_128 eq'!BE61","v":0},{"$f":"'66_128 eq'!BF61","v":""},{"$f":"'66_128 eq'!I246","v":0},{"$f":"'66_128 eq'!BH61","v":""}]
[{"$f":"'66_128 eq'!B215","v":0},{"$f":"'66_128 eq'!BA30","v":0},{"$f":"'66_128 eq'!BB30","v":""},null,{"$f":"'66_128 eq'!BD30","v":""},{"$f":"'66_128 eq'!BE30","v":0},{"$f":"'66_128 eq'!BF30","v":""},null,{"$f":"'66_128 eq'!BH30","v":""},{"$f":"'66_128 eq'!B62","v":57},{"$f":"'66_128 eq'!BA62","v":0},{"$f":"'66_128 eq'!BB62","v":""},null,{"$f":"'66_128 eq'!BD62","v":""},{"$f":"'66_128 eq'!BE62","v":0},{"$f":"'66_128 eq'!BF62","v":""},{"$f":"'66_128 eq'!I247","v":0},{"$f":"'66_128 eq'!BH62","v":""}]
[{"$f":"'66_128 eq'!B216","v":0},{"$f":"'66_128 eq'!BA31","v":0},{"$f":"'66_128 eq'!BB31","v":""},null,{"$f":"'66_128 eq'!BD31","v":""},{"$f":"'66_128 eq'!BE31","v":0},{"$f":"'66_128 eq'!BF31","v":""},null,{"$f":"'66_128 eq'!BH31","v":""},{"$f":"'66_128 eq'!B63","v":58},{"$f":"'66_128 eq'!BA63","v":0},{"$f":"'66_128 eq'!BB63","v":""},null,{"$f":"'66_128 eq'!BD63","v":""},{"$f":"'66_128 eq'!BE63","v":0},{"$f":"'66_128 eq'!BF63","v":""},{"$f":"'66_128 eq'!I248","v":0},{"$f":"'66_128 eq'!BH63","v":""}]
[{"$f":"'66_128 eq'!B217","v":0},{"$f":"'66_128 eq'!BA32","v":0},{"$f":"'66_128 eq'!BB32","v":""},null,{"$f":"'66_128 eq'!BD32","v":""},{"$f":"'66_128 eq'!BE32","v":0},{"$f":"'66_128 eq'!BF32","v":""},null,{"$f":"'66_128 eq'!BH32","v":""},{"$f":"'66_128 eq'!B64","v":59},{"$f":"'66_128 eq'!BA64","v":0},{"$f":"'66_128 eq'!BB64","v":""},null,{"$f":"'66_128 eq'!BD64","v":""},{"$f":"'66_128 eq'!BE64","v":0},{"$f":"'66_128 eq'!BF64","v":""},{"$f":"'66_128 eq'!I249","v":0},{"$f":"'66_128 eq'!BH64","v":""}]
[{"$f":"'66_128 eq'!B218","v":0},{"$f":"'66_128 eq'!BA33","v":0},{"$f":"'66_128 eq'!BB33","v":""},null,{"$f":"'66_128 eq'!BD33","v":""},{"$f":"'66_128 eq'!BE33","v":0},{"$f":"'66_128 eq'!BF33","v":""},null,{"$f":"'66_128 eq'!BH33","v":""},{"$f":"'66_128 eq'!B65","v":60},{"$f":"'66_128 eq'!BA65","v":0},{"$f":"'66_128 eq'!BB65","v":""},null,{"$f":"'66_128 eq'!BD65","v":""},{"$f":"'66_128 eq'!BE65","v":0},{"$f":"'66_128 eq'!BF65","v":""},{"$f":"'66_128 eq'!I250","v":0},{"$f":"'66_128 eq'!BH65","v":""}]
[{"$f":"'66_128 eq'!B219","v":0},{"$f":"'66_128 eq'!BA34","v":0},{"$f":"'66_128 eq'!BB34","v":""},null,{"$f":"'66_128 eq'!BD34","v":""},{"$f":"'66_128 eq'!BE34","v":0},{"$f":"'66_128 eq'!BF34","v":""},null,{"$f":"'66_128 eq'!BH34","v":""},{"$f":"'66_128 eq'!B66","v":61},{"$f":"'66_128 eq'!BA66","v":0},{"$f":"'66_128 eq'!BB66","v":""},null,{"$f":"'66_128 eq'!BD66","v":""},{"$f":"'66_128 eq'!BE66","v":0},{"$f":"'66_128 eq'!BF66","v":""},{"$f":"'66_128 eq'!I251","v":0},{"$f":"'66_128 eq'!BH66","v":""}]
[{"$f":"'66_128 eq'!B220","v":0},{"$f":"'66_128 eq'!BA35","v":0},{"$f":"'66_128 eq'!BB35","v":""},null,{"$f":"'66_128 eq'!BD35","v":""},{"$f":"'66_128 eq'!BE35","v":0},{"$f":"'66_128 eq'!BF35","v":""},null,{"$f":"'66_128 eq'!BH35","v":""},{"$f":"'66_128 eq'!B67","v":62},{"$f":"'66_128 eq'!BA67","v":0},{"$f":"'66_128 eq'!BB67","v":""},null,{"$f":"'66_128 eq'!BD67","v":""},{"$f":"'66_128 eq'!BE67","v":0},{"$f":"'66_128 eq'!BF67","v":""},{"$f":"'66_128 eq'!I252","v":0},{"$f":"'66_128 eq'!BH67","v":""}]
[{"$f":"'66_128 eq'!B221","v":0},{"$f":"'66_128 eq'!BA36","v":0},{"$f":"'66_128 eq'!BB36","v":""},null,{"$f":"'66_128 eq'!BD36","v":""},{"$f":"'66_128 eq'!BE36","v":0},{"$f":"'66_128 eq'!BF36","v":""},null,{"$f":"'66_128 eq'!BH36","v":""},{"$f":"'66_128 eq'!B68","v":63},{"$f":"'66_128 eq'!BA68","v":0},{"$f":"'66_128 eq'!BB68","v":""},null,{"$f":"'66_128 eq'!BD68","v":""},{"$f":"'66_128 eq'!BE68","v":0},{"$f":"'66_128 eq'!BF68","v":""},{"$f":"'66_128 eq'!I253","v":0},{"$f":"'66_128 eq'!BH68","v":""}]
[{"$f":"'66_128 eq'!B222","v":0},{"$f":"'66_128 eq'!BA37","v":0},{"$f":"'66_128 eq'!BB37","v":""},null,{"$f":"'66_128 eq'!BD37","v":""},{"$f":"'66_128 eq'!BE37","v":0},{"$f":"'66_128 eq'!BF37","v":""},null,{"$f":"'66_128 eq'!BH37","v":""},{"$f":"'66_128 eq'!B69","v":64},{"$f":"'66_128 eq'!BA69","v":0},{"$f":"'66_128 eq'!BB69","v":""},null,{"$f":"'66_128 eq'!BD69","v":""},{"$f":"'66_128 eq'!BE69","v":0},{"$f":"'66_128 eq'!BF69","v":""},{"$f":"'66_128 eq'!I254","v":0},{"$f":"'66_128 eq'!BH69","v":""}]

{"sheet":"copie_tira","index":8,"n_rows":134,"n_cols":21,"rows_kept":134,"cut":false,"hidden":false,"merged":[]}
[null,null,"Julot",null,"Julot",null,13,4,null,120,13,4,13]
[null,"2016-05-29","Francis",null,"Francis",null,13,7,null,66,13,4,13]
[null,null,"marco",null,"marco",null,13,6,null,null,13,4,13]
[null,null,"Denise",null,"Denise",null,13,2,null,null,13,4,13]
[null,null,"yvon",null,"yvon",null,5,13,null,null,13,4,13]
[null,null,"jacques",null,"jacques",null,13,8,null,null,13,4,13]
[null,null,"Pierre",null,"Pierre",null,1,13,null,null,13,4,13,null,null,null,null,null,null,null,"﮲"]
[null,null,"Marcel",null,"Marcel",null,8,13,null,null,13,4,13]
[null,null,"Sébastien",null,"Sébastien",null,13,5,null,null,13,4,13]
[null,null,"Florian",null,"Florian",null,13,6,null,"Ͱ",13,4,13]
[null,null,"Eric / Yvonnick",null,"Eric / Yvonnick",null,13,0,null,"͢",13,4,13]
[null,null,"Alain / Joël",null,"Alain / Joël",null,0,13,null,null,13,4,13]
[null,null,"L'archi / Jean-Pierre",null,"L'archi / Jean-Pierre",null,5,13,null,null,13,4,13]
[null,null,"Alain / Christophe",null,"Alain / Christophe",null,13,8,null,null,13,4,13]
[null,null,"Ben / Jimmy",null,"Ben / Jimmy",null,13,9,null,null,13,4,13]
[null,null,"Le Suisse / Yoyo",null,"Le Suisse / Yoyo",null,12,13,null,null,13,4,13]
[null,null,"Laurent / Mickaël",null,"Laurent / Mickaël",null,13,5,null,null,13,4,13]
[null,null,"Charles/ Nénesse",null,"Charles/ Nénesse",null,4,13,null,null,13,4,13]
[null,null,"Sylvain / Julien",null,"Sylvain / Julien",null,13,5,null,null,13,4,13]
[null,null,"Fanfan / Jonathan",null,"Fanfan / Jonathan",null,6,13,null,null,13,4,13]
[null,null,"Gégé / Eric",null,"Gégé / Eric",null,13,2,null,null,13,4,13]
[null,null,"Landry / Martial",null,"Landry / Martial",null,13,5,null,null,13,4,13]
[null,null,"Mickaël / Freddy",null,"Mickaël / Freddy",null,8,13,null,null,13,4,13]
[null,null,"Jacques / Michel",null,"Jacques / Michel",null,13,8,null,null,13,4,13]
[null,null,"Aurélien / Didier",null,"Aurélien / Didier",null,5,13,null,null,13,4,13]
[null,null,"Thierry / Damien",null,"Thierry / Damien",null,13,6,null,null,13,4,13]
[null,null,"Phillipe / Michel",null,"Phillipe / Michel",null,9,13,null,null,13,4,13]
[null,null,"René / Robert",null,"René / Robert",null,null,null,null,null,13,4,13]
[null,null,"Yoann / Christian",null,"Yoann / Christian",null,null,null,null,null,13,4,13]
[null,null,"Patrick / Roger",null,"Patrick / Roger",null,null,null,null,null,13,4,13]
[null,null,"Gérard / Edouard",null,"Gérard / Edouard",null,null,null,null,null,13,4,13]
[null,null,"Adeline / Mathieu",null,"Adeline / Mathieu",null,null,null,null,null,13,4,13]
[null,null,"Bruno/Philippe",null,"Bruno/Philippe"]
[null,null,"Joe/Geo",null,"Joe/Geo"]
[null,null,"Frères MARTIN",null,"Frères MARTIN"]
[null,null,"Alcide/ Henri",null,"Alcide/ Henri"]
[null,null,"Clément/Charles",null,"Clément/Charles"]
[null,null,"Romain/Florian",null,"Romain/Florian"]
[null,null,"Philippe/Nico",null,"Philippe/Nico"]
[null,null,"Vincent/François",null,"Vincent/François"]
[null,null,"Jean/Etienne",null,"Jean/Etienne"]
[null,null,"Freddy/Benoit",null,"Freddy/Benoit"]
[null,null,"Frères ALLAIRE",null,"Frères ALLAIRE",null,null,null,{"$f":"#REF!","v":{"$error":"#REF!"}},null,null,null,{"$f":"#REF!","v":{"$error":"#REF!"}}]
[null,null,"Guy/Jean BARREAU",null,"Guy/Jean BARREAU",null,null,null,{"$f":"#REF!","v":{"$error":"#REF!"}},null,null,null,{"$f":"#REF!","v":{"$error":"#REF!"}}]
[null,null,"Carl/Edouard",null,"Carl/Edouard",null,null,null,{"$f":"#REF!","v":{"$error":"#REF!"}},null,null,null,{"$f":"#REF!","v":{"$error":"#REF!"}}]
[null,null,"Serge/Philippe",null,"Serge/Philippe",null,null,null,{"$f":"#REF!","v":{"$error":"#REF!"}},null,null,null,{"$f":"#REF!","v":{"$error":"#REF!"}}]
[null,null,"Boubou",null,"Boubou",null,null,null,{"$f":"#REF!","v":{"$error":"#REF!"}},null,null,null,{"$f":"#REF!","v":{"$error":"#REF!"}}]
[null,null,"Luc",null,"Luc",null,null,null,{"$f":"#REF!","v":{"$error":"#REF!"}},null,null,null,{"$f":"#REF!","v":{"$error":"#REF!"}}]
[null,null,"Jacky/Olivier",null,"Jacky/Olivier",null,null,null,{"$f":"#REF!","v":{"$error":"#REF!"}},null,null,null,{"$f":"#REF!","v":{"$error":"#REF!"}}]
[null,null,"Adeline / Mathieu",null,"Adeline / Mathieu",null,null,null,{"$f":"#REF!","v":{"$error":"#REF!"}},null,null,null,{"$f":"#REF!","v":{"$error":"#REF!"}}]
[null,null,"Mickaël / Freddy",null,"Mickaël / Freddy",null,null,null,{"$f":"#REF!","v":{"$error":"#REF!"}},null,null,null,{"$f":"#REF!","v":{"$error":"#REF!"}}]
[null,null,"Jacques / Michel",null,"Jacques / Michel",null,null,null,{"$f":"#REF!","v":{"$error":"#REF!"}},null,null,null,{"$f":"#REF!","v":{"$error":"#REF!"}}]
[null,null,"Aurélien / Didier",null,"Aurélien / Didier",null,null,null,{"$f":"#REF!","v":{"$error":"#REF!"}},null,null,null,{"$f":"#REF!","v":{"$error":"#REF!"}}]
[null,null,"Thierry / Damien",null,"Thierry / Damien",null,null,null,{"$f":"#REF!","v":{"$error":"#REF!"}},null,null,null,{"$f":"#REF!","v":{"$error":"#REF!"}}]
[null,null,"Phillipe / Michel",null,"Phillipe / Michel",null,null,null,{"$f":"#REF!","v":{"$error":"#REF!"}},null,null,null,{"$f":"#REF!","v":{"$error":"#REF!"}}]
[null,null,"René / Robert",null,"René / Robert",null,null,null,{"$f":"#REF!","v":{"$error":"#REF!"}},null,null,null,{"$f":"#REF!","v":{"$error":"#REF!"}}]
[null,null,"Yoann / Christian",null,"Julot",null,null,null,{"$f":"#REF!","v":{"$error":"#REF!"}},null,null,null,{"$f":"#REF!","v":{"$error":"#REF!"}}]
[null,null,"Patrick / Roger",null,"Francis",null,null,null,{"$f":"#REF!","v":{"$error":"#REF!"}},null,null,null,{"$f":"#REF!","v":{"$error":"#REF!"}}]
[null,null,"Gérard / Edouard",null,"marco",null,null,null,{"$f":"#REF!","v":{"$error":"#REF!"}},null,null,null,{"$f":"#REF!","v":{"$error":"#REF!"}}]
[null,null,"Adeline / Mathieu",null,"Denise"]
[null,null,null,null,"yvon"]
[null,null,null,null,"jacques"]
[null,null,null,null,"Pierre"]
[null,null,null,null,"Marcel"]
[null,null,null,null,"Sébastien"]
[null,null,null,null,"Florian"]
[null,null,null,null,"Eric / Yvonnick"]
[null,null,null,null,"Alain / Joël"]
[null,null,null,null,"L'archi / Jean-Pierre"]
[null,null,null,null,"Alain / Christophe"]
[null,null,null,null,"Ben / Jimmy"]
[null,null,null,null,"Le Suisse / Yoyo"]
[null,null,null,null,"Laurent / Mickaël"]
[null,null,null,null,"Charles/ Nénesse"]
[null,null,null,null,"Sylvain / Julien"]
[null,null,null,null,"Fanfan / Jonathan"]
[null,null,null,null,"Gégé / Eric"]
[null,null,null,null,"Landry / Martial"]
[null,null,null,null,"Mickaël / Freddy"]
[null,null,null,null,"Jacques / Michel"]
[null,null,null,null,"Aurélien / Didier"]
[null,null,null,null,"Thierry / Damien"]
[null,null,null,null,"Phillipe / Michel"]
[null,null,null,null,"René / Robert"]
[null,null,null,null,"Yoann / Christian"]
[null,null,null,null,"Patrick / Roger"]
[null,null,null,null,"Gérard / Edouard"]
[null,null,null,null,"Adeline / Mathieu"]
[null,null,null,null,"Bruno/Philippe"]
[null,null,null,null,"Joe/Geo"]
[null,null,null,null,"Frères MARTIN"]
[null,null,null,null,"Alcide/ Henri"]
[null,null,null,null,"Clément/Charles"]
[null,null,null,null,"Romain/Florian"]
[null,null,null,null,"Philippe/Nico"]
[null,null,null,null,"Vincent/François"]
[null,null,null,null,"Jean/Etienne"]
[null,null,null,null,"Freddy/Benoit"]
[null,null,null,null,"Frères ALLAIRE"]
[null,null,null,null,"Guy/Jean BARREAU"]
[null,null,null,null,"Carl/Edouard"]
[null,null,null,null,"Serge/Philippe"]
[null,null,null,null,"Boubou"]
[null,null,null,null,"Luc"]
[null,null,null,null,"Jacky/Olivier"]
[null,null,null,null,"Adeline / Mathieu"]
[null,null,null,null,"Julot"]
[null,null,null,null,"Francis"]
[null,null,null,null,"marco"]
[null,null,null,null,"Denise"]
[null,null,null,null,"yvon"]
[null,null,null,null,"jacques"]
[null,null,null,null,"Pierre"]
[null,null,null,null,"Marcel"]
[null,null,null,null,"Sébastien"]
[null,null,null,null,"Florian"]
[null,null,null,null,"Eric / Yvonnick"]
[null,null,null,null,"Alain / Joël"]
[null,null,null,null,"L'archi / Jean-Pierre"]
[null,null,null,null,"Alain / Christophe"]
[null,null,null,null,"Ben / Jimmy"]
[null,null,null,null,"Le Suisse / Yoyo"]
[null,null,null,null,"Laurent / Mickaël"]
[null,null,null,null,"Charles/ Nénesse"]
[null,null,null,null,"Sylvain / Julien"]
[null,null,null,null,"Fanfan / Jonathan"]
[null,null,null,null,"Gégé / Eric"]
[null,null,null,null,"Landry / Martial"]
[]
[]
[]
[]
[]
[null,null,{"$f":"copie_tira!C6","v":"jacques"}]